{"text_format":"1","workbook":"xlsx","n_sheets":5,"sheets":["README","Sample Data - Lock","Data - Lock","Locks","Users"],"not_rendered":{"charts":0,"images":0,"macros":0,"external_links":0,"defined_names":2,"comments":0,"pivot_tables":0},"unopened":[],"bounds":{"document_bytes":16777216,"sheet_cells":100000,"rows_first":2000,"rows_last":500,"rows_between":2000,"halvings":0,"cell_chars":16384,"cell_head_chars":4096},"cells_cut":0,"cells_raw":0,"read":"whole","date_system":"1900"}

{"sheet":"README","index":0,"n_rows":25,"n_cols":2,"rows_kept":25,"cut":false,"hidden":false,"merged":[]}
[]
[null,"PREPARE THE WORKBOOK"]
[null,"Download the locks list from the dashboard"]
[null,"Download the users list from the dashboard"]
[null,"Copy the data from the downloaded locks list and overwrite the data in the Locks sheet in this workbook"]
[null,"Copy the data from the downloaded users list and overwrite the data into the Users sheet in this workbook "]
[]
[null,"ENTER BLUETOOTH KEY DETAILS (LOCK)"]
[null,"To create Bluetooth key by lock, go to the \"Data - Lock\" sheet "]
[null,"Select the user under User Display Name"]
[null,"Select the lock under Lock Display Name"]
[null,"Enter the start and end date, the format should be yyyy-mm-dd"]
[null,"Enter the start and end time, the format should be hh:mm in 24 hour time "]
[null,"Select \"Yes\" or \"No\" for Bluetooth Unlock and Sync, depending on the permissions required for the key."]
[]
[null,"CREATE CSV FILE FOR UPLOAD"]
[null,"On the \"Data- Lock\" sheet, click on File -> Save As"]
[null,"Under File format, select CSV UTF-8 (Comma-delimited) (.csv)"]
[]
[null,"NOTES"]
[null,"Only 1000 keys supported per CSV file (up to row 1001)"]
[null,"Start and end date have to be on the day of or later than the date of upload. Bluetooth keys cannot start or end in the past."]
[null,"Please do not unprotect protected columns."]
[null,"Either Bluetooth Unlock or Bluetooth Sync must be a \"Yes\""]
[null,"Please Enable Macros when prompted."]

{"sheet":"Sample Data - Lock","index":1,"n_rows":1001,"n_cols":12,"rows_kept":1001,"cut":false,"hidden":false,"merged":[]}
["User display name","User ID","Lock display name","Lock ID","Timezone","Start date","Start time","End date","End time","Bluetooth Unlock","Bluetooth Sync","Firmware Update"]
["Alex:alex@email.com:+1234567",{"$f":"IF(COUNTBLANK(A2)=0,VLOOKUP(A2,Users!A:E,5,FALSE),\"\")","v":"00001"},"Storage rooms:Store room 1:IGB4-12345",{"$f":"IF(COUNTBLANK(C2)=0,VLOOKUP(C2,Locks!A:D,5,FALSE),\"\")","v":"#REF!"},"UTC+8","2020-01-31","15:00:00","2020-02-20","18:00:00","Yes","Yes"]
["Brandy:brandy@email.com:+1234568",{"$f":"IF(COUNTBLANK(A3)=0,VLOOKUP(A3,Users!A:E,5,FALSE),\"\")","v":"00002"},"Meeting rooms:Meeting room 1:IGB4-12347",{"$f":"IF(COUNTBLANK(C3)=0,VLOOKUP(C3,Locks!A:D,5,FALSE),\"\")","v":"#REF!"},"UTC+8","2020-02-01","09:00:00","2020-12-31","10:00:00","Yes","No"]
[]
[]
[]
[]
[null,{"$f":"IF(COUNTBLANK(A8)=0,VLOOKUP(A8,Users!A:E,5,FALSE),\"\")","v":""},null,{"$f":"IF(COUNTBLANK(C8)=0,VLOOKUP(C8,Locks!A:D,5,FALSE),\"\")","v":""},{"$f":"IF(COUNTBLANK(C8)=0,VLOOKUP(C8,Locks!A:E,6,FALSE),\"\")","v":""}]
[null,{"$f":"IF(COUNTBLANK(A9)=0,VLOOKUP(A9,Users!A:E,5,FALSE),\"\")","v":""},null,{"$f":"IF(COUNTBLANK(C9)=0,VLOOKUP(C9,Locks!A:D,5,FALSE),\"\")","v":""},{"$f":"IF(COUNTBLANK(C9)=0,VLOOKUP(C9,Locks!A:E,6,FALSE),\"\")","v":""}]
[null,{"$f":"IF(COUNTBLANK(A10)=0,VLOOKUP(A10,Users!A:E,5,FALSE),\"\")","v":""},null,{"$f":"IF(COUNTBLANK(C10)=0,VLOOKUP(C10,Locks!A:D,5,FALSE),\"\")","v":""},{"$f":"IF(COUNTBLANK(C10)=0,VLOOKUP(C10,Locks!A:E,6,FALSE),\"\")","v":""}]
[null,{"$f":"IF(COUNTBLANK(A11)=0,VLOOKUP(A11,Users!A:E,5,FALSE),\"\")","v":""},null,{"$f":"IF(COUNTBLANK(C11)=0,VLOOKUP(C11,Locks!A:D,5,FALSE),\"\")","v":""},{"$f":"IF(COUNTBLANK(C11)=0,VLOOKUP(C11,Locks!A:E,6,FALSE),\"\")","v":""}]
[null,{"$f":"IF(COUNTBLANK(A12)=0,VLOOKUP(A12,Users!A:E,5,FALSE),\"\")","v":""},null,{"$f":"IF(COUNTBLANK(C12)=0,VLOOKUP(C12,Locks!A:D,5,FALSE),\"\")","v":""},{"$f":"IF(COUNTBLANK(C12)=0,VLOOKUP(C12,Locks!A:E,6,FALSE),\"\")","v":""}]
[null,{"$f":"IF(COUNTBLANK(A13)=0,VLOOKUP(A13,Users!A:E,5,FALSE),\"\")","v":""},null,{"$f":"IF(COUNTBLANK(C13)=0,VLOOKUP(C13,Locks!A:D,5,FALSE),\"\")","v":""},{"$f":"IF(COUNTBLANK(C13)=0,VLOOKUP(C13,Locks!A:E,6,FALSE),\"\")","v":""}]
[null,{"$f":"IF(COUNTBLANK(A14)=0,VLOOKUP(A14,Users!A:E,5,FALSE),\"\")","v":""},null,{"$f":"IF(COUNTBLANK(C14)=0,VLOOKUP(C14,Locks!A:D,5,FALSE),\"\")","v":""},{"$f":"IF(COUNTBLANK(C14)=0,VLOOKUP(C14,Locks!A:E,6,FALSE),\"\")","v":""}]
[null,{"$f":"IF(COUNTBLANK(A15)=0,VLOOKUP(A15,Users!A:E,5,FALSE),\"\")","v":""}]
[null,{"$f":"IF(COUNTBLANK(A16)=0,VLOOKUP(A16,Users!A:E,5,FALSE),\"\")","v":""},null,{"$f":"IF(COUNTBLANK(C16)=0,VLOOKUP(C16,Locks!A:D,5,FALSE),\"\")","v":""},{"$f":"IF(COUNTBLANK(C16)=0,VLOOKUP(C16,Locks!A:E,6,FALSE),\"\")","v":""}]
[null,{"$f":"IF(COUNTBLANK(A17)=0,VLOOKUP(A17,Users!A:E,5,FALSE),\"\")","v":""},null,{"$f":"IF(COUNTBLANK(C17)=0,VLOOKUP(C17,Locks!A:D,5,FALSE),\"\")","v":""},{"$f":"IF(COUNTBLANK(C17)=0,VLOOKUP(C17,Locks!A:E,6,FALSE),\"\")","v":""}]
[null,{"$f":"IF(COUNTBLANK(A18)=0,VLOOKUP(A18,Users!A:E,5,FALSE),\"\")","v":""},null,{"$f":"IF(COUNTBLANK(C18)=0,VLOOKUP(C18,Locks!A:D,5,FALSE),\"\")","v":""},{"$f":"IF(COUNTBLANK(C18)=0,VLOOKUP(C18,Locks!A:E,6,FALSE),\"\")","v":""}]
[null,{"$f":"IF(COUNTBLANK(A19)=0,VLOOKUP(A19,Users!A:E,5,FALSE),\"\")","v":""},null,{"$f":"IF(COUNTBLANK(C19)=0,VLOOKUP(C19,Locks!A:D,5,FALSE),\"\")","v":""},{"$f":"IF(COUNTBLANK(C19)=0,VLOOKUP(C19,Locks!A:E,6,FALSE),\"\")","v":""}]
[null,{"$f":"IF(COUNTBLANK(A20)=0,VLOOKUP(A20,Users!A:E,5,FALSE),\"\")","v":""},null,{"$f":"IF(COUNTBLANK(C20)=0,VLOOKUP(C20,Locks!A:D,5,FALSE),\"\")","v":""},{"$f":"IF(COUNTBLANK(C20)=0,VLOOKUP(C20,Locks!A:E,6,FALSE),\"\")","v":""}]
[null,{"$f":"IF(COUNTBLANK(A21)=0,VLOOKUP(A21,Users!A:E,5,FALSE),\"\")","v":""},null,{"$f":"IF(COUNTBLANK(C21)=0,VLOOKUP(C21,Locks!A:D,5,FALSE),\"\")","v":""},{"$f":"IF(COUNTBLANK(C21)=0,VLOOKUP(C21,Locks!A:E,6,FALSE),\"\")","v":""}]
[null,{"$f":"IF(COUNTBLANK(A22)=0,VLOOKUP(A22,Users!A:E,5,FALSE),\"\")","v":""},null,{"$f":"IF(COUNTBLANK(C22)=0,VLOOKUP(C22,Locks!A:D,5,FALSE),\"\")","v":""},{"$f":"IF(COUNTBLANK(C22)=0,VLOOKUP(C22,Locks!A:E,6,FALSE),\"\")","v":""}]
[null,{"$f":"IF(COUNTBLANK(A23)=0,VLOOKUP(A23,Users!A:E,5,FALSE),\"\")","v":""},null,{"$f":"IF(COUNTBLANK(C23)=0,VLOOKUP(C23,Locks!A:D,5,FALSE),\"\")","v":""},{"$f":"IF(COUNTBLANK(C23)=0,VLOOKUP(C23,Locks!A:E,6,FALSE),\"\")","v":""}]
[null,{"$f":"IF(COUNTBLANK(A24)=0,VLOOKUP(A24,Users!A:E,5,FALSE),\"\")","v":""},null,{"$f":"IF(COUNTBLANK(C24)=0,VLOOKUP(C24,Locks!A:D,5,FALSE),\"\")","v":""},{"$f":"IF(COUNTBLANK(C24)=0,VLOOKUP(C24,Locks!A:E,6,FALSE),\"\")","v":""}]
[null,{"$f":"IF(COUNTBLANK(A25)=0,VLOOKUP(A25,Users!A:E,5,FALSE),\"\")","v":""},null,{"$f":"IF(COUNTBLANK(C25)=0,VLOOKUP(C25,Locks!A:D,5,FALSE),\"\")","v":""},{"$f":"IF(COUNTBLANK(C25)=0,VLOOKUP(C25,Locks!A:E,6,FALSE),\"\")","v":""}]
[null,{"$f":"IF(COUNTBLANK(A26)=0,VLOOKUP(A26,Users!A:E,5,FALSE),\"\")","v":""},null,{"$f":"IF(COUNTBLANK(C26)=0,VLOOKUP(C26,Locks!A:D,5,FALSE),\"\")","v":""},{"$f":"IF(COUNTBLANK(C26)=0,VLOOKUP(C26,Locks!A:E,6,FALSE),\"\")","v":""}]
[null,{"$f":"IF(COUNTBLANK(A27)=0,VLOOKUP(A27,Users!A:E,5,FALSE),\"\")","v":""},null,{"$f":"IF(COUNTBLANK(C27)=0,VLOOKUP(C27,Locks!A:D,5,FALSE),\"\")","v":""},{"$f":"IF(COUNTBLANK(C27)=0,VLOOKUP(C27,Locks!A:E,6,FALSE),\"\")","v":""}]
[null,{"$f":"IF(COUNTBLANK(A28)=0,VLOOKUP(A28,Users!A:E,5,FALSE),\"\")","v":""},null,{"$f":"IF(COUNTBLANK(C28)=0,VLOOKUP(C28,Locks!A:D,5,FALSE),\"\")","v":""},{"$f":"IF(COUNTBLANK(C28)=0,VLOOKUP(C28,Locks!A:E,6,FALSE),\"\")","v":""}]
[null,{"$f":"IF(COUNTBLANK(A29)=0,VLOOKUP(A29,Users!A:E,5,FALSE),\"\")","v":""},null,{"$f":"IF(COUNTBLANK(C29)=0,VLOOKUP(C29,Locks!A:D,5,FALSE),\"\")","v":""},{"$f":"IF(COUNTBLANK(C29)=0,VLOOKUP(C29,Locks!A:E,6,FALSE),\"\")","v":""}]
[null,{"$f":"IF(COUNTBLANK(A30)=0,VLOOKUP(A30,Users!A:E,5,FALSE),\"\")","v":""},null,{"$f":"IF(COUNTBLANK(C30)=0,VLOOKUP(C30,Locks!A:D,5,FALSE),\"\")","v":""},{"$f":"IF(COUNTBLANK(C30)=0,VLOOKUP(C30,Locks!A:E,6,FALSE),\"\")","v":""}]
[null,{"$f":"IF(COUNTBLANK(A31)=0,VLOOKUP(A31,Users!A:E,5,FALSE),\"\")","v":""},null,{"$f":"IF(COUNTBLANK(C31)=0,VLOOKUP(C31,Locks!A:D,5,FALSE),\"\")","v":""},{"$f":"IF(COUNTBLANK(C31)=0,VLOOKUP(C31,Locks!A:E,6,FALSE),\"\")","v":""}]
[null,{"$f":"IF(COUNTBLANK(A32)=0,VLOOKUP(A32,Users!A:E,5,FALSE),\"\")","v":""},null,{"$f":"IF(COUNTBLANK(C32)=0,VLOOKUP(C32,Locks!A:D,5,FALSE),\"\")","v":""},{"$f":"IF(COUNTBLANK(C32)=0,VLOOKUP(C32,Locks!A:E,6,FALSE),\"\")","v":""}]
[null,{"$f":"IF(COUNTBLANK(A33)=0,VLOOKUP(A33,Users!A:E,5,FALSE),\"\")","v":""},null,{"$f":"IF(COUNTBLANK(C33)=0,VLOOKUP(C33,Locks!A:D,5,FALSE),\"\")","v":""},{"$f":"IF(COUNTBLANK(C33)=0,VLOOKUP(C33,Locks!A:E,6,FALSE),\"\")","v":""}]
[null,{"$f":"IF(COUNTBLANK(A34)=0,VLOOKUP(A34,Users!A:E,5,FALSE),\"\")","v":""},null,{"$f":"IF(COUNTBLANK(C34)=0,VLOOKUP(C34,Locks!A:D,5,FALSE),\"\")","v":""},{"$f":"IF(COUNTBLANK(C34)=0,VLOOKUP(C34,Locks!A:E,6,FALSE),\"\")","v":""}]
[null,{"$f":"IF(COUNTBLANK(A35)=0,VLOOKUP(A35,Users!A:E,5,FALSE),\"\")","v":""},null,{"$f":"IF(COUNTBLANK(C35)=0,VLOOKUP(C35,Locks!A:D,5,FALSE),\"\")","v":""},{"$f":"IF(COUNTBLANK(C35)=0,VLOOKUP(C35,Locks!A:E,6,FALSE),\"\")","v":""}]
[null,{"$f":"IF(COUNTBLANK(A36)=0,VLOOKUP(A36,Users!A:E,5,FALSE),\"\")","v":""},null,{"$f":"IF(COUNTBLANK(C36)=0,VLOOKUP(C36,Locks!A:D,5,FALSE),\"\")","v":""},{"$f":"IF(COUNTBLANK(C36)=0,VLOOKUP(C36,Locks!A:E,6,FALSE),\"\")","v":""}]
[null,{"$f":"IF(COUNTBLANK(A37)=0,VLOOKUP(A37,Users!A:E,5,FALSE),\"\")","v":""},null,{"$f":"IF(COUNTBLANK(C37)=0,VLOOKUP(C37,Locks!A:D,5,FALSE),\"\")","v":""},{"$f":"IF(COUNTBLANK(C37)=0,VLOOKUP(C37,Locks!A:E,6,FALSE),\"\")","v":""}]
[null,{"$f":"IF(COUNTBLANK(A38)=0,VLOOKUP(A38,Users!A:E,5,FALSE),\"\")","v":""},null,{"$f":"IF(COUNTBLANK(C38)=0,VLOOKUP(C38,Locks!A:D,5,FALSE),\"\")","v":""},{"$f":"IF(COUNTBLANK(C38)=0,VLOOKUP(C38,Locks!A:E,6,FALSE),\"\")","v":""}]
[null,{"$f":"IF(COUNTBLANK(A39)=0,VLOOKUP(A39,Users!A:E,5,FALSE),\"\")","v":""},null,{"$f":"IF(COUNTBLANK(C39)=0,VLOOKUP(C39,Locks!A:D,5,FALSE),\"\")","v":""},{"$f":"IF(COUNTBLANK(C39)=0,VLOOKUP(C39,Locks!A:E,6,FALSE),\"\")","v":""}]
[null,{"$f":"IF(COUNTBLANK(A40)=0,VLOOKUP(A40,Users!A:E,5,FALSE),\"\")","v":""},null,{"$f":"IF(COUNTBLANK(C40)=0,VLOOKUP(C40,Locks!A:D,5,FALSE),\"\")","v":""},{"$f":"IF(COUNTBLANK(C40)=0,VLOOKUP(C40,Locks!A:E,6,FALSE),\"\")","v":""}]
[null,{"$f":"IF(COUNTBLANK(A41)=0,VLOOKUP(A41,Users!A:E,5,FALSE),\"\")","v":""},null,{"$f":"IF(COUNTBLANK(C41)=0,VLOOKUP(C41,Locks!A:D,5,FALSE),\"\")","v":""},{"$f":"IF(COUNTBLANK(C41)=0,VLOOKUP(C41,Locks!A:E,6,FALSE),\"\")","v":""}]
[null,{"$f":"IF(COUNTBLANK(A42)=0,VLOOKUP(A42,Users!A:E,5,FALSE),\"\")","v":""},null,{"$f":"IF(COUNTBLANK(C42)=0,VLOOKUP(C42,Locks!A:D,5,FALSE),\"\")","v":""},{"$f":"IF(COUNTBLANK(C42)=0,VLOOKUP(C42,Locks!A:E,6,FALSE),\"\")","v":""}]
[null,{"$f":"IF(COUNTBLANK(A43)=0,VLOOKUP(A43,Users!A:E,5,FALSE),\"\")","v":""},null,{"$f":"IF(COUNTBLANK(C43)=0,VLOOKUP(C43,Locks!A:D,5,FALSE),\"\")","v":""},{"$f":"IF(COUNTBLANK(C43)=0,VLOOKUP(C43,Locks!A:E,6,FALSE),\"\")","v":""}]
[null,{"$f":"IF(COUNTBLANK(A44)=0,VLOOKUP(A44,Users!A:E,5,FALSE),\"\")","v":""},null,{"$f":"IF(COUNTBLANK(C44)=0,VLOOKUP(C44,Locks!A:D,5,FALSE),\"\")","v":""},{"$f":"IF(COUNTBLANK(C44)=0,VLOOKUP(C44,Locks!A:E,6,FALSE),\"\")","v":""}]
[null,{"$f":"IF(COUNTBLANK(A45)=0,VLOOKUP(A45,Users!A:E,5,FALSE),\"\")","v":""},null,{"$f":"IF(COUNTBLANK(C45)=0,VLOOKUP(C45,Locks!A:D,5,FALSE),\"\")","v":""},{"$f":"IF(COUNTBLANK(C45)=0,VLOOKUP(C45,Locks!A:E,6,FALSE),\"\")","v":""}]
[null,{"$f":"IF(COUNTBLANK(A46)=0,VLOOKUP(A46,Users!A:E,5,FALSE),\"\")","v":""},null,{"$f":"IF(COUNTBLANK(C46)=0,VLOOKUP(C46,Locks!A:D,5,FALSE),\"\")","v":""},{"$f":"IF(COUNTBLANK(C46)=0,VLOOKUP(C46,Locks!A:E,6,FALSE),\"\")","v":""}]
[null,{"$f":"IF(COUNTBLANK(A47)=0,VLOOKUP(A47,Users!A:E,5,FALSE),\"\")","v":""},null,{"$f":"IF(COUNTBLANK(C47)=0,VLOOKUP(C47,Locks!A:D,5,FALSE),\"\")","v":""},{"$f":"IF(COUNTBLANK(C47)=0,VLOOKUP(C47,Locks!A:E,6,FALSE),\"\")","v":""}]
[null,{"$f":"IF(COUNTBLANK(A48)=0,VLOOKUP(A48,Users!A:E,5,FALSE),\"\")","v":""},null,{"$f":"IF(COUNTBLANK(C48)=0,VLOOKUP(C48,Locks!A:D,5,FALSE),\"\")","v":""},{"$f":"IF(COUNTBLANK(C48)=0,VLOOKUP(C48,Locks!A:E,6,FALSE),\"\")","v":""}]
[null,{"$f":"IF(COUNTBLANK(A49)=0,VLOOKUP(A49,Users!A:E,5,FALSE),\"\")","v":""},null,{"$f":"IF(COUNTBLANK(C49)=0,VLOOKUP(C49,Locks!A:D,5,FALSE),\"\")","v":""},{"$f":"IF(COUNTBLANK(C49)=0,VLOOKUP(C49,Locks!A:E,6,FALSE),\"\")","v":""}]
[null,{"$f":"IF(COUNTBLANK(A50)=0,VLOOKUP(A50,Users!A:E,5,FALSE),\"\")","v":""},null,{"$f":"IF(COUNTBLANK(C50)=0,VLOOKUP(C50,Locks!A:D,5,FALSE),\"\")","v":""},{"$f":"IF(COUNTBLANK(C50)=0,VLOOKUP(C50,Locks!A:E,6,FALSE),\"\")","v":""}]
[null,{"$f":"IF(COUNTBLANK(A51)=0,VLOOKUP(A51,Users!A:E,5,FALSE),\"\")","v":""},null,{"$f":"IF(COUNTBLANK(C51)=0,VLOOKUP(C51,Locks!A:D,5,FALSE),\"\")","v":""},{"$f":"IF(COUNTBLANK(C51)=0,VLOOKUP(C51,Locks!A:E,6,FALSE),\"\")","v":""}]
[null,{"$f":"IF(COUNTBLANK(A52)=0,VLOOKUP(A52,Users!A:E,5,FALSE),\"\")","v":""},null,{"$f":"IF(COUNTBLANK(C52)=0,VLOOKUP(C52,Locks!A:D,5,FALSE),\"\")","v":""},{"$f":"IF(COUNTBLANK(C52)=0,VLOOKUP(C52,Locks!A:E,6,FALSE),\"\")","v":""}]
[null,{"$f":"IF(COUNTBLANK(A53)=0,VLOOKUP(A53,Users!A:E,5,FALSE),\"\")","v":""},null,{"$f":"IF(COUNTBLANK(C53)=0,VLOOKUP(C53,Locks!A:D,5,FALSE),\"\")","v":""},{"$f":"IF(COUNTBLANK(C53)=0,VLOOKUP(C53,Locks!A:E,6,FALSE),\"\")","v":""}]
[null,{"$f":"IF(COUNTBLANK(A54)=0,VLOOKUP(A54,Users!A:E,5,FALSE),\"\")","v":""},null,{"$f":"IF(COUNTBLANK(C54)=0,VLOOKUP(C54,Locks!A:D,5,FALSE),\"\")","v":""},{"$f":"IF(COUNTBLANK(C54)=0,VLOOKUP(C54,Locks!A:E,6,FALSE),\"\")","v":""}]
[null,{"$f":"IF(COUNTBLANK(A55)=0,VLOOKUP(A55,Users!A:E,5,FALSE),\"\")","v":""},null,{"$f":"IF(COUNTBLANK(C55)=0,VLOOKUP(C55,Locks!A:D,5,FALSE),\"\")","v":""},{"$f":"IF(COUNTBLANK(C55)=0,VLOOKUP(C55,Locks!A:E,6,FALSE),\"\")","v":""}]
[null,{"$f":"IF(COUNTBLANK(A56)=0,VLOOKUP(A56,Users!A:E,5,FALSE),\"\")","v":""},null,{"$f":"IF(COUNTBLANK(C56)=0,VLOOKUP(C56,Locks!A:D,5,FALSE),\"\")","v":""},{"$f":"IF(COUNTBLANK(C56)=0,VLOOKUP(C56,Locks!A:E,6,FALSE),\"\")","v":""}]
[null,{"$f":"IF(COUNTBLANK(A57)=0,VLOOKUP(A57,Users!A:E,5,FALSE),\"\")","v":""},null,{"$f":"IF(COUNTBLANK(C57)=0,VLOOKUP(C57,Locks!A:D,5,FALSE),\"\")","v":""},{"$f":"IF(COUNTBLANK(C57)=0,VLOOKUP(C57,Locks!A:E,6,FALSE),\"\")","v":""}]
[null,{"$f":"IF(COUNTBLANK(A58)=0,VLOOKUP(A58,Users!A:E,5,FALSE),\"\")","v":""},null,{"$f":"IF(COUNTBLANK(C58)=0,VLOOKUP(C58,Locks!A:D,5,FALSE),\"\")","v":""},{"$f":"IF(COUNTBLANK(C58)=0,VLOOKUP(C58,Locks!A:E,6,FALSE),\"\")","v":""}]
[null,{"$f":"IF(COUNTBLANK(A59)=0,VLOOKUP(A59,Users!A:E,5,FALSE),\"\")","v":""},null,{"$f":"IF(COUNTBLANK(C59)=0,VLOOKUP(C59,Locks!A:D,5,FALSE),\"\")","v":""},{"$f":"IF(COUNTBLANK(C59)=0,VLOOKUP(C59,Locks!A:E,6,FALSE),\"\")","v":""}]
[null,{"$f":"IF(COUNTBLANK(A60)=0,VLOOKUP(A60,Users!A:E,5,FALSE),\"\")","v":""},null,{"$f":"IF(COUNTBLANK(C60)=0,VLOOKUP(C60,Locks!A:D,5,FALSE),\"\")","v":""},{"$f":"IF(COUNTBLANK(C60)=0,VLOOKUP(C60,Locks!A:E,6,FALSE),\"\")","v":""}]
[null,{"$f":"IF(COUNTBLANK(A61)=0,VLOOKUP(A61,Users!A:E,5,FALSE),\"\")","v":""},null,{"$f":"IF(COUNTBLANK(C61)=0,VLOOKUP(C61,Locks!A:D,5,FALSE),\"\")","v":""},{"$f":"IF(COUNTBLANK(C61)=0,VLOOKUP(C61,Locks!A:E,6,FALSE),\"\")","v":""}]
[null,{"$f":"IF(COUNTBLANK(A62)=0,VLOOKUP(A62,Users!A:E,5,FALSE),\"\")","v":""},null,{"$f":"IF(COUNTBLANK(C62)=0,VLOOKUP(C62,Locks!A:D,5,FALSE),\"\")","v":""},{"$f":"IF(COUNTBLANK(C62)=0,VLOOKUP(C62,Locks!A:E,6,FALSE),\"\")","v":""}]
[null,{"$f":"IF(COUNTBLANK(A63)=0,VLOOKUP(A63,Users!A:E,5,FALSE),\"\")","v":""},null,{"$f":"IF(COUNTBLANK(C63)=0,VLOOKUP(C63,Locks!A:D,5,FALSE),\"\")","v":""},{"$f":"IF(COUNTBLANK(C63)=0,VLOOKUP(C63,Locks!A:E,6,FALSE),\"\")","v":""}]
[null,{"$f":"IF(COUNTBLANK(A64)=0,VLOOKUP(A64,Users!A:E,5,FALSE),\"\")","v":""},null,{"$f":"IF(COUNTBLANK(C64)=0,VLOOKUP(C64,Locks!A:D,5,FALSE),\"\")","v":""},{"$f":"IF(COUNTBLANK(C64)=0,VLOOKUP(C64,Locks!A:E,6,FALSE),\"\")","v":""}]
[null,{"$f":"IF(COUNTBLANK(A65)=0,VLOOKUP(A65,Users!A:E,5,FALSE),\"\")","v":""},null,{"$f":"IF(COUNTBLANK(C65)=0,VLOOKUP(C65,Locks!A:D,5,FALSE),\"\")","v":""},{"$f":"IF(COUNTBLANK(C65)=0,VLOOKUP(C65,Locks!A:E,6,FALSE),\"\")","v":""}]
[null,{"$f":"IF(COUNTBLANK(A66)=0,VLOOKUP(A66,Users!A:E,5,FALSE),\"\")","v":""},null,{"$f":"IF(COUNTBLANK(C66)=0,VLOOKUP(C66,Locks!A:D,5,FALSE),\"\")","v":""},{"$f":"IF(COUNTBLANK(C66)=0,VLOOKUP(C66,Locks!A:E,6,FALSE),\"\")","v":""}]
[null,{"$f":"IF(COUNTBLANK(A67)=0,VLOOKUP(A67,Users!A:E,5,FALSE),\"\")","v":""},null,{"$f":"IF(COUNTBLANK(C67)=0,VLOOKUP(C67,Locks!A:D,5,FALSE),\"\")","v":""},{"$f":"IF(COUNTBLANK(C67)=0,VLOOKUP(C67,Locks!A:E,6,FALSE),\"\")","v":""}]
[null,{"$f":"IF(COUNTBLANK(A68)=0,VLOOKUP(A68,Users!A:E,5,FALSE),\"\")","v":""},null,{"$f":"IF(COUNTBLANK(C68)=0,VLOOKUP(C68,Locks!A:D,5,FALSE),\"\")","v":""},{"$f":"IF(COUNTBLANK(C68)=0,VLOOKUP(C68,Locks!A:E,6,FALSE),\"\")","v":""}]
[null,{"$f":"IF(COUNTBLANK(A69)=0,VLOOKUP(A69,Users!A:E,5,FALSE),\"\")","v":""},null,{"$f":"IF(COUNTBLANK(C69)=0,VLOOKUP(C69,Locks!A:D,5,FALSE),\"\")","v":""},{"$f":"IF(COUNTBLANK(C69)=0,VLOOKUP(C69,Locks!A:E,6,FALSE),\"\")","v":""}]
[null,{"$f":"IF(COUNTBLANK(A70)=0,VLOOKUP(A70,Users!A:E,5,FALSE),\"\")","v":""},null,{"$f":"IF(COUNTBLANK(C70)=0,VLOOKUP(C70,Locks!A:D,5,FALSE),\"\")","v":""},{"$f":"IF(COUNTBLANK(C70)=0,VLOOKUP(C70,Locks!A:E,6,FALSE),\"\")","v":""}]
[null,{"$f":"IF(COUNTBLANK(A71)=0,VLOOKUP(A71,Users!A:E,5,FALSE),\"\")","v":""},null,{"$f":"IF(COUNTBLANK(C71)=0,VLOOKUP(C71,Locks!A:D,5,FALSE),\"\")","v":""},{"$f":"IF(COUNTBLANK(C71)=0,VLOOKUP(C71,Locks!A:E,6,FALSE),\"\")","v":""}]
[null,{"$f":"IF(COUNTBLANK(A72)=0,VLOOKUP(A72,Users!A:E,5,FALSE),\"\")","v":""},null,{"$f":"IF(COUNTBLANK(C72)=0,VLOOKUP(C72,Locks!A:D,5,FALSE),\"\")","v":""},{"$f":"IF(COUNTBLANK(C72)=0,VLOOKUP(C72,Locks!A:E,6,FALSE),\"\")","v":""}]
[null,{"$f":"IF(COUNTBLANK(A73)=0,VLOOKUP(A73,Users!A:E,5,FALSE),\"\")","v":""},null,{"$f":"IF(COUNTBLANK(C73)=0,VLOOKUP(C73,Locks!A:D,5,FALSE),\"\")","v":""},{"$f":"IF(COUNTBLANK(C73)=0,VLOOKUP(C73,Locks!A:E,6,FALSE),\"\")","v":""}]
[null,{"$f":"IF(COUNTBLANK(A74)=0,VLOOKUP(A74,Users!A:E,5,FALSE),\"\")","v":""},null,{"$f":"IF(COUNTBLANK(C74)=0,VLOOKUP(C74,Locks!A:D,5,FALSE),\"\")","v":""},{"$f":"IF(COUNTBLANK(C74)=0,VLOOKUP(C74,Locks!A:E,6,FALSE),\"\")","v":""}]
[null,{"$f":"IF(COUNTBLANK(A75)=0,VLOOKUP(A75,Users!A:E,5,FALSE),\"\")","v":""},null,{"$f":"IF(COUNTBLANK(C75)=0,VLOOKUP(C75,Locks!A:D,5,FALSE),\"\")","v":""},{"$f":"IF(COUNTBLANK(C75)=0,VLOOKUP(C75,Locks!A:E,6,FALSE),\"\")","v":""}]
[null,{"$f":"IF(COUNTBLANK(A76)=0,VLOOKUP(A76,Users!A:E,5,FALSE),\"\")","v":""},null,{"$f":"IF(COUNTBLANK(C76)=0,VLOOKUP(C76,Locks!A:D,5,FALSE),\"\")","v":""},{"$f":"IF(COUNTBLANK(C76)=0,VLOOKUP(C76,Locks!A:E,6,FALSE),\"\")","v":""}]
[null,{"$f":"IF(COUNTBLANK(A77)=0,VLOOKUP(A77,Users!A:E,5,FALSE),\"\")","v":""},null,{"$f":"IF(COUNTBLANK(C77)=0,VLOOKUP(C77,Locks!A:D,5,FALSE),\"\")","v":""},{"$f":"IF(COUNTBLANK(C77)=0,VLOOKUP(C77,Locks!A:E,6,FALSE),\"\")","v":""}]
[null,{"$f":"IF(COUNTBLANK(A78)=0,VLOOKUP(A78,Users!A:E,5,FALSE),\"\")","v":""},null,{"$f":"IF(COUNTBLANK(C78)=0,VLOOKUP(C78,Locks!A:D,5,FALSE),\"\")","v":""},{"$f":"IF(COUNTBLANK(C78)=0,VLOOKUP(C78,Locks!A:E,6,FALSE),\"\")","v":""}]
[null,{"$f":"IF(COUNTBLANK(A79)=0,VLOOKUP(A79,Users!A:E,5,FALSE),\"\")","v":""},null,{"$f":"IF(COUNTBLANK(C79)=0,VLOOKUP(C79,Locks!A:D,5,FALSE),\"\")","v":""},{"$f":"IF(COUNTBLANK(C79)=0,VLOOKUP(C79,Locks!A:E,6,FALSE),\"\")","v":""}]
[null,{"$f":"IF(COUNTBLANK(A80)=0,VLOOKUP(A80,Users!A:E,5,FALSE),\"\")","v":""},null,{"$f":"IF(COUNTBLANK(C80)=0,VLOOKUP(C80,Locks!A:D,5,FALSE),\"\")","v":""},{"$f":"IF(COUNTBLANK(C80)=0,VLOOKUP(C80,Locks!A:E,6,FALSE),\"\")","v":""}]
[null,{"$f":"IF(COUNTBLANK(A81)=0,VLOOKUP(A81,Users!A:E,5,FALSE),\"\")","v":""},null,{"$f":"IF(COUNTBLANK(C81)=0,VLOOKUP(C81,Locks!A:D,5,FALSE),\"\")","v":""},{"$f":"IF(COUNTBLANK(C81)=0,VLOOKUP(C81,Locks!A:E,6,FALSE),\"\")","v":""}]
[null,{"$f":"IF(COUNTBLANK(A82)=0,VLOOKUP(A82,Users!A:E,5,FALSE),\"\")","v":""},null,{"$f":"IF(COUNTBLANK(C82)=0,VLOOKUP(C82,Locks!A:D,5,FALSE),\"\")","v":""},{"$f":"IF(COUNTBLANK(C82)=0,VLOOKUP(C82,Locks!A:E,6,FALSE),\"\")","v":""}]
[null,{"$f":"IF(COUNTBLANK(A83)=0,VLOOKUP(A83,Users!A:E,5,FALSE),\"\")","v":""},null,{"$f":"IF(COUNTBLANK(C83)=0,VLOOKUP(C83,Locks!A:D,5,FALSE),\"\")","v":""},{"$f":"IF(COUNTBLANK(C83)=0,VLOOKUP(C83,Locks!A:E,6,FALSE),\"\")","v":""}]
[null,{"$f":"IF(COUNTBLANK(A84)=0,VLOOKUP(A84,Users!A:E,5,FALSE),\"\")","v":""},null,{"$f":"IF(COUNTBLANK(C84)=0,VLOOKUP(C84,Locks!A:D,5,FALSE),\"\")","v":""},{"$f":"IF(COUNTBLANK(C84)=0,VLOOKUP(C84,Locks!A:E,6,FALSE),\"\")","v":""}]
[null,{"$f":"IF(COUNTBLANK(A85)=0,VLOOKUP(A85,Users!A:E,5,FALSE),\"\")","v":""},null,{"$f":"IF(COUNTBLANK(C85)=0,VLOOKUP(C85,Locks!A:D,5,FALSE),\"\")","v":""},{"$f":"IF(COUNTBLANK(C85)=0,VLOOKUP(C85,Locks!A:E,6,FALSE),\"\")","v":""}]
[null,{"$f":"IF(COUNTBLANK(A86)=0,VLOOKUP(A86,Users!A:E,5,FALSE),\"\")","v":""},null,{"$f":"IF(COUNTBLANK(C86)=0,VLOOKUP(C86,Locks!A:D,5,FALSE),\"\")","v":""},{"$f":"IF(COUNTBLANK(C86)=0,VLOOKUP(C86,Locks!A:E,6,FALSE),\"\")","v":""}]
[null,{"$f":"IF(COUNTBLANK(A87)=0,VLOOKUP(A87,Users!A:E,5,FALSE),\"\")","v":""},null,{"$f":"IF(COUNTBLANK(C87)=0,VLOOKUP(C87,Locks!A:D,5,FALSE),\"\")","v":""},{"$f":"IF(COUNTBLANK(C87)=0,VLOOKUP(C87,Locks!A:E,6,FALSE),\"\")","v":""}]
[null,{"$f":"IF(COUNTBLANK(A88)=0,VLOOKUP(A88,Users!A:E,5,FALSE),\"\")","v":""},null,{"$f":"IF(COUNTBLANK(C88)=0,VLOOKUP(C88,Locks!A:D,5,FALSE),\"\")","v":""},{"$f":"IF(COUNTBLANK(C88)=0,VLOOKUP(C88,Locks!A:E,6,FALSE),\"\")","v":""}]
[null,{"$f":"IF(COUNTBLANK(A89)=0,VLOOKUP(A89,Users!A:E,5,FALSE),\"\")","v":""},null,{"$f":"IF(COUNTBLANK(C89)=0,VLOOKUP(C89,Locks!A:D,5,FALSE),\"\")","v":""},{"$f":"IF(COUNTBLANK(C89)=0,VLOOKUP(C89,Locks!A:E,6,FALSE),\"\")","v":""}]
[null,{"$f":"IF(COUNTBLANK(A90)=0,VLOOKUP(A90,Users!A:E,5,FALSE),\"\")","v":""},null,{"$f":"IF(COUNTBLANK(C90)=0,VLOOKUP(C90,Locks!A:D,5,FALSE),\"\")","v":""},{"$f":"IF(COUNTBLANK(C90)=0,VLOOKUP(C90,Locks!A:E,6,FALSE),\"\")","v":""}]
[null,{"$f":"IF(COUNTBLANK(A91)=0,VLOOKUP(A91,Users!A:E,5,FALSE),\"\")","v":""},null,{"$f":"IF(COUNTBLANK(C91)=0,VLOOKUP(C91,Locks!A:D,5,FALSE),\"\")","v":""},{"$f":"IF(COUNTBLANK(C91)=0,VLOOKUP(C91,Locks!A:E,6,FALSE),\"\")","v":""}]
[null,{"$f":"IF(COUNTBLANK(A92)=0,VLOOKUP(A92,Users!A:E,5,FALSE),\"\")","v":""},null,{"$f":"IF(COUNTBLANK(C92)=0,VLOOKUP(C92,Locks!A:D,5,FALSE),\"\")","v":""},{"$f":"IF(COUNTBLANK(C92)=0,VLOOKUP(C92,Locks!A:E,6,FALSE),\"\")","v":""}]
[null,{"$f":"IF(COUNTBLANK(A93)=0,VLOOKUP(A93,Users!A:E,5,FALSE),\"\")","v":""},null,{"$f":"IF(COUNTBLANK(C93)=0,VLOOKUP(C93,Locks!A:D,5,FALSE),\"\")","v":""},{"$f":"IF(COUNTBLANK(C93)=0,VLOOKUP(C93,Locks!A:E,6,FALSE),\"\")","v":""}]
[null,{"$f":"IF(COUNTBLANK(A94)=0,VLOOKUP(A94,Users!A:E,5,FALSE),\"\")","v":""},null,{"$f":"IF(COUNTBLANK(C94)=0,VLOOKUP(C94,Locks!A:D,5,FALSE),\"\")","v":""},{"$f":"IF(COUNTBLANK(C94)=0,VLOOKUP(C94,Locks!A:E,6,FALSE),\"\")","v":""}]
[null,{"$f":"IF(COUNTBLANK(A95)=0,VLOOKUP(A95,Users!A:E,5,FALSE),\"\")","v":""},null,{"$f":"IF(COUNTBLANK(C95)=0,VLOOKUP(C95,Locks!A:D,5,FALSE),\"\")","v":""},{"$f":"IF(COUNTBLANK(C95)=0,VLOOKUP(C95,Locks!A:E,6,FALSE),\"\")","v":""}]
[null,{"$f":"IF(COUNTBLANK(A96)=0,VLOOKUP(A96,Users!A:E,5,FALSE),\"\")","v":""},null,{"$f":"IF(COUNTBLANK(C96)=0,VLOOKUP(C96,Locks!A:D,5,FALSE),\"\")","v":""},{"$f":"IF(COUNTBLANK(C96)=0,VLOOKUP(C96,Locks!A:E,6,FALSE),\"\")","v":""}]
[null,{"$f":"IF(COUNTBLANK(A97)=0,VLOOKUP(A97,Users!A:E,5,FALSE),\"\")","v":""},null,{"$f":"IF(COUNTBLANK(C97)=0,VLOOKUP(C97,Locks!A:D,5,FALSE),\"\")","v":""},{"$f":"IF(COUNTBLANK(C97)=0,VLOOKUP(C97,Locks!A:E,6,FALSE),\"\")","v":""}]
[null,{"$f":"IF(COUNTBLANK(A98)=0,VLOOKUP(A98,Users!A:E,5,FALSE),\"\")","v":""},null,{"$f":"IF(COUNTBLANK(C98)=0,VLOOKUP(C98,Locks!A:D,5,FALSE),\"\")","v":""},{"$f":"IF(COUNTBLANK(C98)=0,VLOOKUP(C98,Locks!A:E,6,FALSE),\"\")","v":""}]
[null,{"$f":"IF(COUNTBLANK(A99)=0,VLOOKUP(A99,Users!A:E,5,FALSE),\"\")","v":""},null,{"$f":"IF(COUNTBLANK(C99)=0,VLOOKUP(C99,Locks!A:D,5,FALSE),\"\")","v":""},{"$f":"IF(COUNTBLANK(C99)=0,VLOOKUP(C99,Locks!A:E,6,FALSE),\"\")","v":""}]
[null,{"$f":"IF(COUNTBLANK(A100)=0,VLOOKUP(A100,Users!A:E,5,FALSE),\"\")","v":""},null,{"$f":"IF(COUNTBLANK(C100)=0,VLOOKUP(C100,Locks!A:D,5,FALSE),\"\")","v":""},{"$f":"IF(COUNTBLANK(C100)=0,VLOOKUP(C100,Locks!A:E,6,FALSE),\"\")","v":""}]
[null,{"$f":"IF(COUNTBLANK(A101)=0,VLOOKUP(A101,Users!A:E,5,FALSE),\"\")","v":""},null,{"$f":"IF(COUNTBLANK(C101)=0,VLOOKUP(C101,Locks!A:D,5,FALSE),\"\")","v":""},{"$f":"IF(COUNTBLANK(C101)=0,VLOOKUP(C101,Locks!A:E,6,FALSE),\"\")","v":""}]
[null,{"$f":"IF(COUNTBLANK(A102)=0,VLOOKUP(A102,Users!A:E,5,FALSE),\"\")","v":""},null,{"$f":"IF(COUNTBLANK(C102)=0,VLOOKUP(C102,Locks!A:D,5,FALSE),\"\")","v":""},{"$f":"IF(COUNTBLANK(C102)=0,VLOOKUP(C102,Locks!A:E,6,FALSE),\"\")","v":""}]
[null,{"$f":"IF(COUNTBLANK(A103)=0,VLOOKUP(A103,Users!A:E,5,FALSE),\"\")","v":""},null,{"$f":"IF(COUNTBLANK(C103)=0,VLOOKUP(C103,Locks!A:D,5,FALSE),\"\")","v":""},{"$f":"IF(COUNTBLANK(C103)=0,VLOOKUP(C103,Locks!A:E,6,FALSE),\"\")","v":""}]
[null,{"$f":"IF(COUNTBLANK(A104)=0,VLOOKUP(A104,Users!A:E,5,FALSE),\"\")","v":""},null,{"$f":"IF(COUNTBLANK(C104)=0,VLOOKUP(C104,Locks!A:D,5,FALSE),\"\")","v":""},{"$f":"IF(COUNTBLANK(C104)=0,VLOOKUP(C104,Locks!A:E,6,FALSE),\"\")","v":""}]
[null,{"$f":"IF(COUNTBLANK(A105)=0,VLOOKUP(A105,Users!A:E,5,FALSE),\"\")","v":""},null,{"$f":"IF(COUNTBLANK(C105)=0,VLOOKUP(C105,Locks!A:D,5,FALSE),\"\")","v":""},{"$f":"IF(COUNTBLANK(C105)=0,VLOOKUP(C105,Locks!A:E,6,FALSE),\"\")","v":""}]
[null,{"$f":"IF(COUNTBLANK(A106)=0,VLOOKUP(A106,Users!A:E,5,FALSE),\"\")","v":""},null,{"$f":"IF(COUNTBLANK(C106)=0,VLOOKUP(C106,Locks!A:D,5,FALSE),\"\")","v":""},{"$f":"IF(COUNTBLANK(C106)=0,VLOOKUP(C106,Locks!A:E,6,FALSE),\"\")","v":""}]
[null,{"$f":"IF(COUNTBLANK(A107)=0,VLOOKUP(A107,Users!A:E,5,FALSE),\"\")","v":""},null,{"$f":"IF(COUNTBLANK(C107)=0,VLOOKUP(C107,Locks!A:D,5,FALSE),\"\")","v":""},{"$f":"IF(COUNTBLANK(C107)=0,VLOOKUP(C107,Locks!A:E,6,FALSE),\"\")","v":""}]
[null,{"$f":"IF(COUNTBLANK(A108)=0,VLOOKUP(A108,Users!A:E,5,FALSE),\"\")","v":""},null,{"$f":"IF(COUNTBLANK(C108)=0,VLOOKUP(C108,Locks!A:D,5,FALSE),\"\")","v":""},{"$f":"IF(COUNTBLANK(C108)=0,VLOOKUP(C108,Locks!A:E,6,FALSE),\"\")","v":""}]
[null,{"$f":"IF(COUNTBLANK(A109)=0,VLOOKUP(A109,Users!A:E,5,FALSE),\"\")","v":""},null,{"$f":"IF(COUNTBLANK(C109)=0,VLOOKUP(C109,Locks!A:D,5,FALSE),\"\")","v":""},{"$f":"IF(COUNTBLANK(C109)=0,VLOOKUP(C109,Locks!A:E,6,FALSE),\"\")","v":""}]
[null,{"$f":"IF(COUNTBLANK(A110)=0,VLOOKUP(A110,Users!A:E,5,FALSE),\"\")","v":""},null,{"$f":"IF(COUNTBLANK(C110)=0,VLOOKUP(C110,Locks!A:D,5,FALSE),\"\")","v":""},{"$f":"IF(COUNTBLANK(C110)=0,VLOOKUP(C110,Locks!A:E,6,FALSE),\"\")","v":""}]
[null,{"$f":"IF(COUNTBLANK(A111)=0,VLOOKUP(A111,Users!A:E,5,FALSE),\"\")","v":""},null,{"$f":"IF(COUNTBLANK(C111)=0,VLOOKUP(C111,Locks!A:D,5,FALSE),\"\")","v":""},{"$f":"IF(COUNTBLANK(C111)=0,VLOOKUP(C111,Locks!A:E,6,FALSE),\"\")","v":""}]
[null,{"$f":"IF(COUNTBLANK(A112)=0,VLOOKUP(A112,Users!A:E,5,FALSE),\"\")","v":""},null,{"$f":"IF(COUNTBLANK(C112)=0,VLOOKUP(C112,Locks!A:D,5,FALSE),\"\")","v":""},{"$f":"IF(COUNTBLANK(C112)=0,VLOOKUP(C112,Locks!A:E,6,FALSE),\"\")","v":""}]
[null,{"$f":"IF(COUNTBLANK(A113)=0,VLOOKUP(A113,Users!A:E,5,FALSE),\"\")","v":""},null,{"$f":"IF(COUNTBLANK(C113)=0,VLOOKUP(C113,Locks!A:D,5,FALSE),\"\")","v":""},{"$f":"IF(COUNTBLANK(C113)=0,VLOOKUP(C113,Locks!A:E,6,FALSE),\"\")","v":""}]
[null,{"$f":"IF(COUNTBLANK(A114)=0,VLOOKUP(A114,Users!A:E,5,FALSE),\"\")","v":""},null,{"$f":"IF(COUNTBLANK(C114)=0,VLOOKUP(C114,Locks!A:D,5,FALSE),\"\")","v":""},{"$f":"IF(COUNTBLANK(C114)=0,VLOOKUP(C114,Locks!A:E,6,FALSE),\"\")","v":""}]
[null,{"$f":"IF(COUNTBLANK(A115)=0,VLOOKUP(A115,Users!A:E,5,FALSE),\"\")","v":""},null,{"$f":"IF(COUNTBLANK(C115)=0,VLOOKUP(C115,Locks!A:D,5,FALSE),\"\")","v":""},{"$f":"IF(COUNTBLANK(C115)=0,VLOOKUP(C115,Locks!A:E,6,FALSE),\"\")","v":""}]
[null,{"$f":"IF(COUNTBLANK(A116)=0,VLOOKUP(A116,Users!A:E,5,FALSE),\"\")","v":""},null,{"$f":"IF(COUNTBLANK(C116)=0,VLOOKUP(C116,Locks!A:D,5,FALSE),\"\")","v":""},{"$f":"IF(COUNTBLANK(C116)=0,VLOOKUP(C116,Locks!A:E,6,FALSE),\"\")","v":""}]
[null,{"$f":"IF(COUNTBLANK(A117)=0,VLOOKUP(A117,Users!A:E,5,FALSE),\"\")","v":""},null,{"$f":"IF(COUNTBLANK(C117)=0,VLOOKUP(C117,Locks!A:D,5,FALSE),\"\")","v":""},{"$f":"IF(COUNTBLANK(C117)=0,VLOOKUP(C117,Locks!A:E,6,FALSE),\"\")","v":""}]
[null,{"$f":"IF(COUNTBLANK(A118)=0,VLOOKUP(A118,Users!A:E,5,FALSE),\"\")","v":""},null,{"$f":"IF(COUNTBLANK(C118)=0,VLOOKUP(C118,Locks!A:D,5,FALSE),\"\")","v":""},{"$f":"IF(COUNTBLANK(C118)=0,VLOOKUP(C118,Locks!A:E,6,FALSE),\"\")","v":""}]
[null,{"$f":"IF(COUNTBLANK(A119)=0,VLOOKUP(A119,Users!A:E,5,FALSE),\"\")","v":""},null,{"$f":"IF(COUNTBLANK(C119)=0,VLOOKUP(C119,Locks!A:D,5,FALSE),\"\")","v":""},{"$f":"IF(COUNTBLANK(C119)=0,VLOOKUP(C119,Locks!A:E,6,FALSE),\"\")","v":""}]
[null,{"$f":"IF(COUNTBLANK(A120)=0,VLOOKUP(A120,Users!A:E,5,FALSE),\"\")","v":""},null,{"$f":"IF(COUNTBLANK(C120)=0,VLOOKUP(C120,Locks!A:D,5,FALSE),\"\")","v":""},{"$f":"IF(COUNTBLANK(C120)=0,VLOOKUP(C120,Locks!A:E,6,FALSE),\"\")","v":""}]
[null,{"$f":"IF(COUNTBLANK(A121)=0,VLOOKUP(A121,Users!A:E,5,FALSE),\"\")","v":""},null,{"$f":"IF(COUNTBLANK(C121)=0,VLOOKUP(C121,Locks!A:D,5,FALSE),\"\")","v":""},{"$f":"IF(COUNTBLANK(C121)=0,VLOOKUP(C121,Locks!A:E,6,FALSE),\"\")","v":""}]
[null,{"$f":"IF(COUNTBLANK(A122)=0,VLOOKUP(A122,Users!A:E,5,FALSE),\"\")","v":""},null,{"$f":"IF(COUNTBLANK(C122)=0,VLOOKUP(C122,Locks!A:D,5,FALSE),\"\")","v":""},{"$f":"IF(COUNTBLANK(C122)=0,VLOOKUP(C122,Locks!A:E,6,FALSE),\"\")","v":""}]
[null,{"$f":"IF(COUNTBLANK(A123)=0,VLOOKUP(A123,Users!A:E,5,FALSE),\"\")","v":""},null,{"$f":"IF(COUNTBLANK(C123)=0,VLOOKUP(C123,Locks!A:D,5,FALSE),\"\")","v":""},{"$f":"IF(COUNTBLANK(C123)=0,VLOOKUP(C123,Locks!A:E,6,FALSE),\"\")","v":""}]
[null,{"$f":"IF(COUNTBLANK(A124)=0,VLOOKUP(A124,Users!A:E,5,FALSE),\"\")","v":""},null,{"$f":"IF(COUNTBLANK(C124)=0,VLOOKUP(C124,Locks!A:D,5,FALSE),\"\")","v":""},{"$f":"IF(COUNTBLANK(C124)=0,VLOOKUP(C124,Locks!A:E,6,FALSE),\"\")","v":""}]
[null,{"$f":"IF(COUNTBLANK(A125)=0,VLOOKUP(A125,Users!A:E,5,FALSE),\"\")","v":""},null,{"$f":"IF(COUNTBLANK(C125)=0,VLOOKUP(C125,Locks!A:D,5,FALSE),\"\")","v":""},{"$f":"IF(COUNTBLANK(C125)=0,VLOOKUP(C125,Locks!A:E,6,FALSE),\"\")","v":""}]
[null,{"$f":"IF(COUNTBLANK(A126)=0,VLOOKUP(A126,Users!A:E,5,FALSE),\"\")","v":""},null,{"$f":"IF(COUNTBLANK(C126)=0,VLOOKUP(C126,Locks!A:D,5,FALSE),\"\")","v":""},{"$f":"IF(COUNTBLANK(C126)=0,VLOOKUP(C126,Locks!A:E,6,FALSE),\"\")","v":""}]
[null,{"$f":"IF(COUNTBLANK(A127)=0,VLOOKUP(A127,Users!A:E,5,FALSE),\"\")","v":""},null,{"$f":"IF(COUNTBLANK(C127)=0,VLOOKUP(C127,Locks!A:D,5,FALSE),\"\")","v":""},{"$f":"IF(COUNTBLANK(C127)=0,VLOOKUP(C127,Locks!A:E,6,FALSE),\"\")","v":""}]
[null,{"$f":"IF(COUNTBLANK(A128)=0,VLOOKUP(A128,Users!A:E,5,FALSE),\"\")","v":""},null,{"$f":"IF(COUNTBLANK(C128)=0,VLOOKUP(C128,Locks!A:D,5,FALSE),\"\")","v":""},{"$f":"IF(COUNTBLANK(C128)=0,VLOOKUP(C128,Locks!A:E,6,FALSE),\"\")","v":""}]
[null,{"$f":"IF(COUNTBLANK(A129)=0,VLOOKUP(A129,Users!A:E,5,FALSE),\"\")","v":""},null,{"$f":"IF(COUNTBLANK(C129)=0,VLOOKUP(C129,Locks!A:D,5,FALSE),\"\")","v":""},{"$f":"IF(COUNTBLANK(C129)=0,VLOOKUP(C129,Locks!A:E,6,FALSE),\"\")","v":""}]
[null,{"$f":"IF(COUNTBLANK(A130)=0,VLOOKUP(A130,Users!A:E,5,FALSE),\"\")","v":""},null,{"$f":"IF(COUNTBLANK(C130)=0,VLOOKUP(C130,Locks!A:D,5,FALSE),\"\")","v":""},{"$f":"IF(COUNTBLANK(C130)=0,VLOOKUP(C130,Locks!A:E,6,FALSE),\"\")","v":""}]
[null,{"$f":"IF(COUNTBLANK(A131)=0,VLOOKUP(A131,Users!A:E,5,FALSE),\"\")","v":""},null,{"$f":"IF(COUNTBLANK(C131)=0,VLOOKUP(C131,Locks!A:D,5,FALSE),\"\")","v":""},{"$f":"IF(COUNTBLANK(C131)=0,VLOOKUP(C131,Locks!A:E,6,FALSE),\"\")","v":""}]
[null,{"$f":"IF(COUNTBLANK(A132)=0,VLOOKUP(A132,Users!A:E,5,FALSE),\"\")","v":""},null,{"$f":"IF(COUNTBLANK(C132)=0,VLOOKUP(C132,Locks!A:D,5,FALSE),\"\")","v":""},{"$f":"IF(COUNTBLANK(C132)=0,VLOOKUP(C132,Locks!A:E,6,FALSE),\"\")","v":""}]
[null,{"$f":"IF(COUNTBLANK(A133)=0,VLOOKUP(A133,Users!A:E,5,FALSE),\"\")","v":""},null,{"$f":"IF(COUNTBLANK(C133)=0,VLOOKUP(C133,Locks!A:D,5,FALSE),\"\")","v":""},{"$f":"IF(COUNTBLANK(C133)=0,VLOOKUP(C133,Locks!A:E,6,FALSE),\"\")","v":""}]
[null,{"$f":"IF(COUNTBLANK(A134)=0,VLOOKUP(A134,Users!A:E,5,FALSE),\"\")","v":""},null,{"$f":"IF(COUNTBLANK(C134)=0,VLOOKUP(C134,Locks!A:D,5,FALSE),\"\")","v":""},{"$f":"IF(COUNTBLANK(C134)=0,VLOOKUP(C134,Locks!A:E,6,FALSE),\"\")","v":""}]
[null,{"$f":"IF(COUNTBLANK(A135)=0,VLOOKUP(A135,Users!A:E,5,FALSE),\"\")","v":""},null,{"$f":"IF(COUNTBLANK(C135)=0,VLOOKUP(C135,Locks!A:D,5,FALSE),\"\")","v":""},{"$f":"IF(COUNTBLANK(C135)=0,VLOOKUP(C135,Locks!A:E,6,FALSE),\"\")","v":""}]
[null,{"$f":"IF(COUNTBLANK(A136)=0,VLOOKUP(A136,Users!A:E,5,FALSE),\"\")","v":""},null,{"$f":"IF(COUNTBLANK(C136)=0,VLOOKUP(C136,Locks!A:D,5,FALSE),\"\")","v":""},{"$f":"IF(COUNTBLANK(C136)=0,VLOOKUP(C136,Locks!A:E,6,FALSE),\"\")","v":""}]
[null,{"$f":"IF(COUNTBLANK(A137)=0,VLOOKUP(A137,Users!A:E,5,FALSE),\"\")","v":""},null,{"$f":"IF(COUNTBLANK(C137)=0,VLOOKUP(C137,Locks!A:D,5,FALSE),\"\")","v":""},{"$f":"IF(COUNTBLANK(C137)=0,VLOOKUP(C137,Locks!A:E,6,FALSE),\"\")","v":""}]
[null,{"$f":"IF(COUNTBLANK(A138)=0,VLOOKUP(A138,Users!A:E,5,FALSE),\"\")","v":""},null,{"$f":"IF(COUNTBLANK(C138)=0,VLOOKUP(C138,Locks!A:D,5,FALSE),\"\")","v":""},{"$f":"IF(COUNTBLANK(C138)=0,VLOOKUP(C138,Locks!A:E,6,FALSE),\"\")","v":""}]
[null,{"$f":"IF(COUNTBLANK(A139)=0,VLOOKUP(A139,Users!A:E,5,FALSE),\"\")","v":""},null,{"$f":"IF(COUNTBLANK(C139)=0,VLOOKUP(C139,Locks!A:D,5,FALSE),\"\")","v":""},{"$f":"IF(COUNTBLANK(C139)=0,VLOOKUP(C139,Locks!A:E,6,FALSE),\"\")","v":""}]
[null,{"$f":"IF(COUNTBLANK(A140)=0,VLOOKUP(A140,Users!A:E,5,FALSE),\"\")","v":""},null,{"$f":"IF(COUNTBLANK(C140)=0,VLOOKUP(C140,Locks!A:D,5,FALSE),\"\")","v":""},{"$f":"IF(COUNTBLANK(C140)=0,VLOOKUP(C140,Locks!A:E,6,FALSE),\"\")","v":""}]
[null,{"$f":"IF(COUNTBLANK(A141)=0,VLOOKUP(A141,Users!A:E,5,FALSE),\"\")","v":""},null,{"$f":"IF(COUNTBLANK(C141)=0,VLOOKUP(C141,Locks!A:D,5,FALSE),\"\")","v":""},{"$f":"IF(COUNTBLANK(C141)=0,VLOOKUP(C141,Locks!A:E,6,FALSE),\"\")","v":""}]
[null,{"$f":"IF(COUNTBLANK(A142)=0,VLOOKUP(A142,Users!A:E,5,FALSE),\"\")","v":""},null,{"$f":"IF(COUNTBLANK(C142)=0,VLOOKUP(C142,Locks!A:D,5,FALSE),\"\")","v":""},{"$f":"IF(COUNTBLANK(C142)=0,VLOOKUP(C142,Locks!A:E,6,FALSE),\"\")","v":""}]
[null,{"$f":"IF(COUNTBLANK(A143)=0,VLOOKUP(A143,Users!A:E,5,FALSE),\"\")","v":""},null,{"$f":"IF(COUNTBLANK(C143)=0,VLOOKUP(C143,Locks!A:D,5,FALSE),\"\")","v":""},{"$f":"IF(COUNTBLANK(C143)=0,VLOOKUP(C143,Locks!A:E,6,FALSE),\"\")","v":""}]
[null,{"$f":"IF(COUNTBLANK(A144)=0,VLOOKUP(A144,Users!A:E,5,FALSE),\"\")","v":""},null,{"$f":"IF(COUNTBLANK(C144)=0,VLOOKUP(C144,Locks!A:D,5,FALSE),\"\")","v":""},{"$f":"IF(COUNTBLANK(C144)=0,VLOOKUP(C144,Locks!A:E,6,FALSE),\"\")","v":""}]
[null,{"$f":"IF(COUNTBLANK(A145)=0,VLOOKUP(A145,Users!A:E,5,FALSE),\"\")","v":""},null,{"$f":"IF(COUNTBLANK(C145)=0,VLOOKUP(C145,Locks!A:D,5,FALSE),\"\")","v":""},{"$f":"IF(COUNTBLANK(C145)=0,VLOOKUP(C145,Locks!A:E,6,FALSE),\"\")","v":""}]
[null,{"$f":"IF(COUNTBLANK(A146)=0,VLOOKUP(A146,Users!A:E,5,FALSE),\"\")","v":""},null,{"$f":"IF(COUNTBLANK(C146)=0,VLOOKUP(C146,Locks!A:D,5,FALSE),\"\")","v":""},{"$f":"IF(COUNTBLANK(C146)=0,VLOOKUP(C146,Locks!A:E,6,FALSE),\"\")","v":""}]
[null,{"$f":"IF(COUNTBLANK(A147)=0,VLOOKUP(A147,Users!A:E,5,FALSE),\"\")","v":""},null,{"$f":"IF(COUNTBLANK(C147)=0,VLOOKUP(C147,Locks!A:D,5,FALSE),\"\")","v":""},{"$f":"IF(COUNTBLANK(C147)=0,VLOOKUP(C147,Locks!A:E,6,FALSE),\"\")","v":""}]
[null,{"$f":"IF(COUNTBLANK(A148)=0,VLOOKUP(A148,Users!A:E,5,FALSE),\"\")","v":""},null,{"$f":"IF(COUNTBLANK(C148)=0,VLOOKUP(C148,Locks!A:D,5,FALSE),\"\")","v":""},{"$f":"IF(COUNTBLANK(C148)=0,VLOOKUP(C148,Locks!A:E,6,FALSE),\"\")","v":""}]
[null,{"$f":"IF(COUNTBLANK(A149)=0,VLOOKUP(A149,Users!A:E,5,FALSE),\"\")","v":""},null,{"$f":"IF(COUNTBLANK(C149)=0,VLOOKUP(C149,Locks!A:D,5,FALSE),\"\")","v":""},{"$f":"IF(COUNTBLANK(C149)=0,VLOOKUP(C149,Locks!A:E,6,FALSE),\"\")","v":""}]
[null,{"$f":"IF(COUNTBLANK(A150)=0,VLOOKUP(A150,Users!A:E,5,FALSE),\"\")","v":""},null,{"$f":"IF(COUNTBLANK(C150)=0,VLOOKUP(C150,Locks!A:D,5,FALSE),\"\")","v":""},{"$f":"IF(COUNTBLANK(C150)=0,VLOOKUP(C150,Locks!A:E,6,FALSE),\"\")","v":""}]
[null,{"$f":"IF(COUNTBLANK(A151)=0,VLOOKUP(A151,Users!A:E,5,FALSE),\"\")","v":""},null,{"$f":"IF(COUNTBLANK(C151)=0,VLOOKUP(C151,Locks!A:D,5,FALSE),\"\")","v":""},{"$f":"IF(COUNTBLANK(C151)=0,VLOOKUP(C151,Locks!A:E,6,FALSE),\"\")","v":""}]
[null,{"$f":"IF(COUNTBLANK(A152)=0,VLOOKUP(A152,Users!A:E,5,FALSE),\"\")","v":""},null,{"$f":"IF(COUNTBLANK(C152)=0,VLOOKUP(C152,Locks!A:D,5,FALSE),\"\")","v":""},{"$f":"IF(COUNTBLANK(C152)=0,VLOOKUP(C152,Locks!A:E,6,FALSE),\"\")","v":""}]
[null,{"$f":"IF(COUNTBLANK(A153)=0,VLOOKUP(A153,Users!A:E,5,FALSE),\"\")","v":""},null,{"$f":"IF(COUNTBLANK(C153)=0,VLOOKUP(C153,Locks!A:D,5,FALSE),\"\")","v":""},{"$f":"IF(COUNTBLANK(C153)=0,VLOOKUP(C153,Locks!A:E,6,FALSE),\"\")","v":""}]
[null,{"$f":"IF(COUNTBLANK(A154)=0,VLOOKUP(A154,Users!A:E,5,FALSE),\"\")","v":""},null,{"$f":"IF(COUNTBLANK(C154)=0,VLOOKUP(C154,Locks!A:D,5,FALSE),\"\")","v":""},{"$f":"IF(COUNTBLANK(C154)=0,VLOOKUP(C154,Locks!A:E,6,FALSE),\"\")","v":""}]
[null,{"$f":"IF(COUNTBLANK(A155)=0,VLOOKUP(A155,Users!A:E,5,FALSE),\"\")","v":""},null,{"$f":"IF(COUNTBLANK(C155)=0,VLOOKUP(C155,Locks!A:D,5,FALSE),\"\")","v":""},{"$f":"IF(COUNTBLANK(C155)=0,VLOOKUP(C155,Locks!A:E,6,FALSE),\"\")","v":""}]
[null,{"$f":"IF(COUNTBLANK(A156)=0,VLOOKUP(A156,Users!A:E,5,FALSE),\"\")","v":""},null,{"$f":"IF(COUNTBLANK(C156)=0,VLOOKUP(C156,Locks!A:D,5,FALSE),\"\")","v":""},{"$f":"IF(COUNTBLANK(C156)=0,VLOOKUP(C156,Locks!A:E,6,FALSE),\"\")","v":""}]
[null,{"$f":"IF(COUNTBLANK(A157)=0,VLOOKUP(A157,Users!A:E,5,FALSE),\"\")","v":""},null,{"$f":"IF(COUNTBLANK(C157)=0,VLOOKUP(C157,Locks!A:D,5,FALSE),\"\")","v":""},{"$f":"IF(COUNTBLANK(C157)=0,VLOOKUP(C157,Locks!A:E,6,FALSE),\"\")","v":""}]
[null,{"$f":"IF(COUNTBLANK(A158)=0,VLOOKUP(A158,Users!A:E,5,FALSE),\"\")","v":""},null,{"$f":"IF(COUNTBLANK(C158)=0,VLOOKUP(C158,Locks!A:D,5,FALSE),\"\")","v":""},{"$f":"IF(COUNTBLANK(C158)=0,VLOOKUP(C158,Locks!A:E,6,FALSE),\"\")","v":""}]
[null,{"$f":"IF(COUNTBLANK(A159)=0,VLOOKUP(A159,Users!A:E,5,FALSE),\"\")","v":""},null,{"$f":"IF(COUNTBLANK(C159)=0,VLOOKUP(C159,Locks!A:D,5,FALSE),\"\")","v":""},{"$f":"IF(COUNTBLANK(C159)=0,VLOOKUP(C159,Locks!A:E,6,FALSE),\"\")","v":""}]
[null,{"$f":"IF(COUNTBLANK(A160)=0,VLOOKUP(A160,Users!A:E,5,FALSE),\"\")","v":""},null,{"$f":"IF(COUNTBLANK(C160)=0,VLOOKUP(C160,Locks!A:D,5,FALSE),\"\")","v":""},{"$f":"IF(COUNTBLANK(C160)=0,VLOOKUP(C160,Locks!A:E,6,FALSE),\"\")","v":""}]
[null,{"$f":"IF(COUNTBLANK(A161)=0,VLOOKUP(A161,Users!A:E,5,FALSE),\"\")","v":""},null,{"$f":"IF(COUNTBLANK(C161)=0,VLOOKUP(C161,Locks!A:D,5,FALSE),\"\")","v":""},{"$f":"IF(COUNTBLANK(C161)=0,VLOOKUP(C161,Locks!A:E,6,FALSE),\"\")","v":""}]
[null,{"$f":"IF(COUNTBLANK(A162)=0,VLOOKUP(A162,Users!A:E,5,FALSE),\"\")","v":""},null,{"$f":"IF(COUNTBLANK(C162)=0,VLOOKUP(C162,Locks!A:D,5,FALSE),\"\")","v":""},{"$f":"IF(COUNTBLANK(C162)=0,VLOOKUP(C162,Locks!A:E,6,FALSE),\"\")","v":""}]
[null,{"$f":"IF(COUNTBLANK(A163)=0,VLOOKUP(A163,Users!A:E,5,FALSE),\"\")","v":""},null,{"$f":"IF(COUNTBLANK(C163)=0,VLOOKUP(C163,Locks!A:D,5,FALSE),\"\")","v":""},{"$f":"IF(COUNTBLANK(C163)=0,VLOOKUP(C163,Locks!A:E,6,FALSE),\"\")","v":""}]
[null,{"$f":"IF(COUNTBLANK(A164)=0,VLOOKUP(A164,Users!A:E,5,FALSE),\"\")","v":""},null,{"$f":"IF(COUNTBLANK(C164)=0,VLOOKUP(C164,Locks!A:D,5,FALSE),\"\")","v":""},{"$f":"IF(COUNTBLANK(C164)=0,VLOOKUP(C164,Locks!A:E,6,FALSE),\"\")","v":""}]
[null,{"$f":"IF(COUNTBLANK(A165)=0,VLOOKUP(A165,Users!A:E,5,FALSE),\"\")","v":""},null,{"$f":"IF(COUNTBLANK(C165)=0,VLOOKUP(C165,Locks!A:D,5,FALSE),\"\")","v":""},{"$f":"IF(COUNTBLANK(C165)=0,VLOOKUP(C165,Locks!A:E,6,FALSE),\"\")","v":""}]
[null,{"$f":"IF(COUNTBLANK(A166)=0,VLOOKUP(A166,Users!A:E,5,FALSE),\"\")","v":""},null,{"$f":"IF(COUNTBLANK(C166)=0,VLOOKUP(C166,Locks!A:D,5,FALSE),\"\")","v":""},{"$f":"IF(COUNTBLANK(C166)=0,VLOOKUP(C166,Locks!A:E,6,FALSE),\"\")","v":""}]
[null,{"$f":"IF(COUNTBLANK(A167)=0,VLOOKUP(A167,Users!A:E,5,FALSE),\"\")","v":""},null,{"$f":"IF(COUNTBLANK(C167)=0,VLOOKUP(C167,Locks!A:D,5,FALSE),\"\")","v":""},{"$f":"IF(COUNTBLANK(C167)=0,VLOOKUP(C167,Locks!A:E,6,FALSE),\"\")","v":""}]
[null,{"$f":"IF(COUNTBLANK(A168)=0,VLOOKUP(A168,Users!A:E,5,FALSE),\"\")","v":""},null,{"$f":"IF(COUNTBLANK(C168)=0,VLOOKUP(C168,Locks!A:D,5,FALSE),\"\")","v":""},{"$f":"IF(COUNTBLANK(C168)=0,VLOOKUP(C168,Locks!A:E,6,FALSE),\"\")","v":""}]
[null,{"$f":"IF(COUNTBLANK(A169)=0,VLOOKUP(A169,Users!A:E,5,FALSE),\"\")","v":""},null,{"$f":"IF(COUNTBLANK(C169)=0,VLOOKUP(C169,Locks!A:D,5,FALSE),\"\")","v":""},{"$f":"IF(COUNTBLANK(C169)=0,VLOOKUP(C169,Locks!A:E,6,FALSE),\"\")","v":""}]
[null,{"$f":"IF(COUNTBLANK(A170)=0,VLOOKUP(A170,Users!A:E,5,FALSE),\"\")","v":""},null,{"$f":"IF(COUNTBLANK(C170)=0,VLOOKUP(C170,Locks!A:D,5,FALSE),\"\")","v":""},{"$f":"IF(COUNTBLANK(C170)=0,VLOOKUP(C170,Locks!A:E,6,FALSE),\"\")","v":""}]
[null,{"$f":"IF(COUNTBLANK(A171)=0,VLOOKUP(A171,Users!A:E,5,FALSE),\"\")","v":""},null,{"$f":"IF(COUNTBLANK(C171)=0,VLOOKUP(C171,Locks!A:D,5,FALSE),\"\")","v":""},{"$f":"IF(COUNTBLANK(C171)=0,VLOOKUP(C171,Locks!A:E,6,FALSE),\"\")","v":""}]
[null,{"$f":"IF(COUNTBLANK(A172)=0,VLOOKUP(A172,Users!A:E,5,FALSE),\"\")","v":""},null,{"$f":"IF(COUNTBLANK(C172)=0,VLOOKUP(C172,Locks!A:D,5,FALSE),\"\")","v":""},{"$f":"IF(COUNTBLANK(C172)=0,VLOOKUP(C172,Locks!A:E,6,FALSE),\"\")","v":""}]
[null,{"$f":"IF(COUNTBLANK(A173)=0,VLOOKUP(A173,Users!A:E,5,FALSE),\"\")","v":""},null,{"$f":"IF(COUNTBLANK(C173)=0,VLOOKUP(C173,Locks!A:D,5,FALSE),\"\")","v":""},{"$f":"IF(COUNTBLANK(C173)=0,VLOOKUP(C173,Locks!A:E,6,FALSE),\"\")","v":""}]
[null,{"$f":"IF(COUNTBLANK(A174)=0,VLOOKUP(A174,Users!A:E,5,FALSE),\"\")","v":""},null,{"$f":"IF(COUNTBLANK(C174)=0,VLOOKUP(C174,Locks!A:D,5,FALSE),\"\")","v":""},{"$f":"IF(COUNTBLANK(C174)=0,VLOOKUP(C174,Locks!A:E,6,FALSE),\"\")","v":""}]
[null,{"$f":"IF(COUNTBLANK(A175)=0,VLOOKUP(A175,Users!A:E,5,FALSE),\"\")","v":""},null,{"$f":"IF(COUNTBLANK(C175)=0,VLOOKUP(C175,Locks!A:D,5,FALSE),\"\")","v":""},{"$f":"IF(COUNTBLANK(C175)=0,VLOOKUP(C175,Locks!A:E,6,FALSE),\"\")","v":""}]
[null,{"$f":"IF(COUNTBLANK(A176)=0,VLOOKUP(A176,Users!A:E,5,FALSE),\"\")","v":""},null,{"$f":"IF(COUNTBLANK(C176)=0,VLOOKUP(C176,Locks!A:D,5,FALSE),\"\")","v":""},{"$f":"IF(COUNTBLANK(C176)=0,VLOOKUP(C176,Locks!A:E,6,FALSE),\"\")","v":""}]
[null,{"$f":"IF(COUNTBLANK(A177)=0,VLOOKUP(A177,Users!A:E,5,FALSE),\"\")","v":""},null,{"$f":"IF(COUNTBLANK(C177)=0,VLOOKUP(C177,Locks!A:D,5,FALSE),\"\")","v":""},{"$f":"IF(COUNTBLANK(C177)=0,VLOOKUP(C177,Locks!A:E,6,FALSE),\"\")","v":""}]
[null,{"$f":"IF(COUNTBLANK(A178)=0,VLOOKUP(A178,Users!A:E,5,FALSE),\"\")","v":""},null,{"$f":"IF(COUNTBLANK(C178)=0,VLOOKUP(C178,Locks!A:D,5,FALSE),\"\")","v":""},{"$f":"IF(COUNTBLANK(C178)=0,VLOOKUP(C178,Locks!A:E,6,FALSE),\"\")","v":""}]
[null,{"$f":"IF(COUNTBLANK(A179)=0,VLOOKUP(A179,Users!A:E,5,FALSE),\"\")","v":""},null,{"$f":"IF(COUNTBLANK(C179)=0,VLOOKUP(C179,Locks!A:D,5,FALSE),\"\")","v":""},{"$f":"IF(COUNTBLANK(C179)=0,VLOOKUP(C179,Locks!A:E,6,FALSE),\"\")","v":""}]
[null,{"$f":"IF(COUNTBLANK(A180)=0,VLOOKUP(A180,Users!A:E,5,FALSE),\"\")","v":""},null,{"$f":"IF(COUNTBLANK(C180)=0,VLOOKUP(C180,Locks!A:D,5,FALSE),\"\")","v":""},{"$f":"IF(COUNTBLANK(C180)=0,VLOOKUP(C180,Locks!A:E,6,FALSE),\"\")","v":""}]
[null,{"$f":"IF(COUNTBLANK(A181)=0,VLOOKUP(A181,Users!A:E,5,FALSE),\"\")","v":""},null,{"$f":"IF(COUNTBLANK(C181)=0,VLOOKUP(C181,Locks!A:D,5,FALSE),\"\")","v":""},{"$f":"IF(COUNTBLANK(C181)=0,VLOOKUP(C181,Locks!A:E,6,FALSE),\"\")","v":""}]
[null,{"$f":"IF(COUNTBLANK(A182)=0,VLOOKUP(A182,Users!A:E,5,FALSE),\"\")","v":""},null,{"$f":"IF(COUNTBLANK(C182)=0,VLOOKUP(C182,Locks!A:D,5,FALSE),\"\")","v":""},{"$f":"IF(COUNTBLANK(C182)=0,VLOOKUP(C182,Locks!A:E,6,FALSE),\"\")","v":""}]
[null,{"$f":"IF(COUNTBLANK(A183)=0,VLOOKUP(A183,Users!A:E,5,FALSE),\"\")","v":""},null,{"$f":"IF(COUNTBLANK(C183)=0,VLOOKUP(C183,Locks!A:D,5,FALSE),\"\")","v":""},{"$f":"IF(COUNTBLANK(C183)=0,VLOOKUP(C183,Locks!A:E,6,FALSE),\"\")","v":""}]
[null,{"$f":"IF(COUNTBLANK(A184)=0,VLOOKUP(A184,Users!A:E,5,FALSE),\"\")","v":""},null,{"$f":"IF(COUNTBLANK(C184)=0,VLOOKUP(C184,Locks!A:D,5,FALSE),\"\")","v":""},{"$f":"IF(COUNTBLANK(C184)=0,VLOOKUP(C184,Locks!A:E,6,FALSE),\"\")","v":""}]
[null,{"$f":"IF(COUNTBLANK(A185)=0,VLOOKUP(A185,Users!A:E,5,FALSE),\"\")","v":""},null,{"$f":"IF(COUNTBLANK(C185)=0,VLOOKUP(C185,Locks!A:D,5,FALSE),\"\")","v":""},{"$f":"IF(COUNTBLANK(C185)=0,VLOOKUP(C185,Locks!A:E,6,FALSE),\"\")","v":""}]
[null,{"$f":"IF(COUNTBLANK(A186)=0,VLOOKUP(A186,Users!A:E,5,FALSE),\"\")","v":""},null,{"$f":"IF(COUNTBLANK(C186)=0,VLOOKUP(C186,Locks!A:D,5,FALSE),\"\")","v":""},{"$f":"IF(COUNTBLANK(C186)=0,VLOOKUP(C186,Locks!A:E,6,FALSE),\"\")","v":""}]
[null,{"$f":"IF(COUNTBLANK(A187)=0,VLOOKUP(A187,Users!A:E,5,FALSE),\"\")","v":""},null,{"$f":"IF(COUNTBLANK(C187)=0,VLOOKUP(C187,Locks!A:D,5,FALSE),\"\")","v":""},{"$f":"IF(COUNTBLANK(C187)=0,VLOOKUP(C187,Locks!A:E,6,FALSE),\"\")","v":""}]
[null,{"$f":"IF(COUNTBLANK(A188)=0,VLOOKUP(A188,Users!A:E,5,FALSE),\"\")","v":""},null,{"$f":"IF(COUNTBLANK(C188)=0,VLOOKUP(C188,Locks!A:D,5,FALSE),\"\")","v":""},{"$f":"IF(COUNTBLANK(C188)=0,VLOOKUP(C188,Locks!A:E,6,FALSE),\"\")","v":""}]
[null,{"$f":"IF(COUNTBLANK(A189)=0,VLOOKUP(A189,Users!A:E,5,FALSE),\"\")","v":""},null,{"$f":"IF(COUNTBLANK(C189)=0,VLOOKUP(C189,Locks!A:D,5,FALSE),\"\")","v":""},{"$f":"IF(COUNTBLANK(C189)=0,VLOOKUP(C189,Locks!A:E,6,FALSE),\"\")","v":""}]
[null,{"$f":"IF(COUNTBLANK(A190)=0,VLOOKUP(A190,Users!A:E,5,FALSE),\"\")","v":""},null,{"$f":"IF(COUNTBLANK(C190)=0,VLOOKUP(C190,Locks!A:D,5,FALSE),\"\")","v":""},{"$f":"IF(COUNTBLANK(C190)=0,VLOOKUP(C190,Locks!A:E,6,FALSE),\"\")","v":""}]
[null,{"$f":"IF(COUNTBLANK(A191)=0,VLOOKUP(A191,Users!A:E,5,FALSE),\"\")","v":""},null,{"$f":"IF(COUNTBLANK(C191)=0,VLOOKUP(C191,Locks!A:D,5,FALSE),\"\")","v":""},{"$f":"IF(COUNTBLANK(C191)=0,VLOOKUP(C191,Locks!A:E,6,FALSE),\"\")","v":""}]
[null,{"$f":"IF(COUNTBLANK(A192)=0,VLOOKUP(A192,Users!A:E,5,FALSE),\"\")","v":""},null,{"$f":"IF(COUNTBLANK(C192)=0,VLOOKUP(C192,Locks!A:D,5,FALSE),\"\")","v":""},{"$f":"IF(COUNTBLANK(C192)=0,VLOOKUP(C192,Locks!A:E,6,FALSE),\"\")","v":""}]
[null,{"$f":"IF(COUNTBLANK(A193)=0,VLOOKUP(A193,Users!A:E,5,FALSE),\"\")","v":""},null,{"$f":"IF(COUNTBLANK(C193)=0,VLOOKUP(C193,Locks!A:D,5,FALSE),\"\")","v":""},{"$f":"IF(COUNTBLANK(C193)=0,VLOOKUP(C193,Locks!A:E,6,FALSE),\"\")","v":""}]
[null,{"$f":"IF(COUNTBLANK(A194)=0,VLOOKUP(A194,Users!A:E,5,FALSE),\"\")","v":""},null,{"$f":"IF(COUNTBLANK(C194)=0,VLOOKUP(C194,Locks!A:D,5,FALSE),\"\")","v":""},{"$f":"IF(COUNTBLANK(C194)=0,VLOOKUP(C194,Locks!A:E,6,FALSE),\"\")","v":""}]
[null,{"$f":"IF(COUNTBLANK(A195)=0,VLOOKUP(A195,Users!A:E,5,FALSE),\"\")","v":""},null,{"$f":"IF(COUNTBLANK(C195)=0,VLOOKUP(C195,Locks!A:D,5,FALSE),\"\")","v":""},{"$f":"IF(COUNTBLANK(C195)=0,VLOOKUP(C195,Locks!A:E,6,FALSE),\"\")","v":""}]
[null,{"$f":"IF(COUNTBLANK(A196)=0,VLOOKUP(A196,Users!A:E,5,FALSE),\"\")","v":""},null,{"$f":"IF(COUNTBLANK(C196)=0,VLOOKUP(C196,Locks!A:D,5,FALSE),\"\")","v":""},{"$f":"IF(COUNTBLANK(C196)=0,VLOOKUP(C196,Locks!A:E,6,FALSE),\"\")","v":""}]
[null,{"$f":"IF(COUNTBLANK(A197)=0,VLOOKUP(A197,Users!A:E,5,FALSE),\"\")","v":""},null,{"$f":"IF(COUNTBLANK(C197)=0,VLOOKUP(C197,Locks!A:D,5,FALSE),\"\")","v":""},{"$f":"IF(COUNTBLANK(C197)=0,VLOOKUP(C197,Locks!A:E,6,FALSE),\"\")","v":""}]
[null,{"$f":"IF(COUNTBLANK(A198)=0,VLOOKUP(A198,Users!A:E,5,FALSE),\"\")","v":""},null,{"$f":"IF(COUNTBLANK(C198)=0,VLOOKUP(C198,Locks!A:D,5,FALSE),\"\")","v":""},{"$f":"IF(COUNTBLANK(C198)=0,VLOOKUP(C198,Locks!A:E,6,FALSE),\"\")","v":""}]
[null,{"$f":"IF(COUNTBLANK(A199)=0,VLOOKUP(A199,Users!A:E,5,FALSE),\"\")","v":""},null,{"$f":"IF(COUNTBLANK(C199)=0,VLOOKUP(C199,Locks!A:D,5,FALSE),\"\")","v":""},{"$f":"IF(COUNTBLANK(C199)=0,VLOOKUP(C199,Locks!A:E,6,FALSE),\"\")","v":""}]
[null,{"$f":"IF(COUNTBLANK(A200)=0,VLOOKUP(A200,Users!A:E,5,FALSE),\"\")","v":""},null,{"$f":"IF(COUNTBLANK(C200)=0,VLOOKUP(C200,Locks!A:D,5,FALSE),\"\")","v":""},{"$f":"IF(COUNTBLANK(C200)=0,VLOOKUP(C200,Locks!A:E,6,FALSE),\"\")","v":""}]
[null,{"$f":"IF(COUNTBLANK(A201)=0,VLOOKUP(A201,Users!A:E,5,FALSE),\"\")","v":""},null,{"$f":"IF(COUNTBLANK(C201)=0,VLOOKUP(C201,Locks!A:D,5,FALSE),\"\")","v":""},{"$f":"IF(COUNTBLANK(C201)=0,VLOOKUP(C201,Locks!A:E,6,FALSE),\"\")","v":""}]
[null,{"$f":"IF(COUNTBLANK(A202)=0,VLOOKUP(A202,Users!A:E,5,FALSE),\"\")","v":""},null,{"$f":"IF(COUNTBLANK(C202)=0,VLOOKUP(C202,Locks!A:D,5,FALSE),\"\")","v":""},{"$f":"IF(COUNTBLANK(C202)=0,VLOOKUP(C202,Locks!A:E,6,FALSE),\"\")","v":""}]
[null,{"$f":"IF(COUNTBLANK(A203)=0,VLOOKUP(A203,Users!A:E,5,FALSE),\"\")","v":""},null,{"$f":"IF(COUNTBLANK(C203)=0,VLOOKUP(C203,Locks!A:D,5,FALSE),\"\")","v":""},{"$f":"IF(COUNTBLANK(C203)=0,VLOOKUP(C203,Locks!A:E,6,FALSE),\"\")","v":""}]
[null,{"$f":"IF(COUNTBLANK(A204)=0,VLOOKUP(A204,Users!A:E,5,FALSE),\"\")","v":""},null,{"$f":"IF(COUNTBLANK(C204)=0,VLOOKUP(C204,Locks!A:D,5,FALSE),\"\")","v":""},{"$f":"IF(COUNTBLANK(C204)=0,VLOOKUP(C204,Locks!A:E,6,FALSE),\"\")","v":""}]
[null,{"$f":"IF(COUNTBLANK(A205)=0,VLOOKUP(A205,Users!A:E,5,FALSE),\"\")","v":""},null,{"$f":"IF(COUNTBLANK(C205)=0,VLOOKUP(C205,Locks!A:D,5,FALSE),\"\")","v":""},{"$f":"IF(COUNTBLANK(C205)=0,VLOOKUP(C205,Locks!A:E,6,FALSE),\"\")","v":""}]
[null,{"$f":"IF(COUNTBLANK(A206)=0,VLOOKUP(A206,Users!A:E,5,FALSE),\"\")","v":""},null,{"$f":"IF(COUNTBLANK(C206)=0,VLOOKUP(C206,Locks!A:D,5,FALSE),\"\")","v":""},{"$f":"IF(COUNTBLANK(C206)=0,VLOOKUP(C206,Locks!A:E,6,FALSE),\"\")","v":""}]
[null,{"$f":"IF(COUNTBLANK(A207)=0,VLOOKUP(A207,Users!A:E,5,FALSE),\"\")","v":""},null,{"$f":"IF(COUNTBLANK(C207)=0,VLOOKUP(C207,Locks!A:D,5,FALSE),\"\")","v":""},{"$f":"IF(COUNTBLANK(C207)=0,VLOOKUP(C207,Locks!A:E,6,FALSE),\"\")","v":""}]
[null,{"$f":"IF(COUNTBLANK(A208)=0,VLOOKUP(A208,Users!A:E,5,FALSE),\"\")","v":""},null,{"$f":"IF(COUNTBLANK(C208)=0,VLOOKUP(C208,Locks!A:D,5,FALSE),\"\")","v":""},{"$f":"IF(COUNTBLANK(C208)=0,VLOOKUP(C208,Locks!A:E,6,FALSE),\"\")","v":""}]
[null,{"$f":"IF(COUNTBLANK(A209)=0,VLOOKUP(A209,Users!A:E,5,FALSE),\"\")","v":""},null,{"$f":"IF(COUNTBLANK(C209)=0,VLOOKUP(C209,Locks!A:D,5,FALSE),\"\")","v":""},{"$f":"IF(COUNTBLANK(C209)=0,VLOOKUP(C209,Locks!A:E,6,FALSE),\"\")","v":""}]
[null,{"$f":"IF(COUNTBLANK(A210)=0,VLOOKUP(A210,Users!A:E,5,FALSE),\"\")","v":""},null,{"$f":"IF(COUNTBLANK(C210)=0,VLOOKUP(C210,Locks!A:D,5,FALSE),\"\")","v":""},{"$f":"IF(COUNTBLANK(C210)=0,VLOOKUP(C210,Locks!A:E,6,FALSE),\"\")","v":""}]
[null,{"$f":"IF(COUNTBLANK(A211)=0,VLOOKUP(A211,Users!A:E,5,FALSE),\"\")","v":""},null,{"$f":"IF(COUNTBLANK(C211)=0,VLOOKUP(C211,Locks!A:D,5,FALSE),\"\")","v":""},{"$f":"IF(COUNTBLANK(C211)=0,VLOOKUP(C211,Locks!A:E,6,FALSE),\"\")","v":""}]
[null,{"$f":"IF(COUNTBLANK(A212)=0,VLOOKUP(A212,Users!A:E,5,FALSE),\"\")","v":""},null,{"$f":"IF(COUNTBLANK(C212)=0,VLOOKUP(C212,Locks!A:D,5,FALSE),\"\")","v":""},{"$f":"IF(COUNTBLANK(C212)=0,VLOOKUP(C212,Locks!A:E,6,FALSE),\"\")","v":""}]
[null,{"$f":"IF(COUNTBLANK(A213)=0,VLOOKUP(A213,Users!A:E,5,FALSE),\"\")","v":""},null,{"$f":"IF(COUNTBLANK(C213)=0,VLOOKUP(C213,Locks!A:D,5,FALSE),\"\")","v":""},{"$f":"IF(COUNTBLANK(C213)=0,VLOOKUP(C213,Locks!A:E,6,FALSE),\"\")","v":""}]
[null,{"$f":"IF(COUNTBLANK(A214)=0,VLOOKUP(A214,Users!A:E,5,FALSE),\"\")","v":""},null,{"$f":"IF(COUNTBLANK(C214)=0,VLOOKUP(C214,Locks!A:D,5,FALSE),\"\")","v":""},{"$f":"IF(COUNTBLANK(C214)=0,VLOOKUP(C214,Locks!A:E,6,FALSE),\"\")","v":""}]
[null,{"$f":"IF(COUNTBLANK(A215)=0,VLOOKUP(A215,Users!A:E,5,FALSE),\"\")","v":""},null,{"$f":"IF(COUNTBLANK(C215)=0,VLOOKUP(C215,Locks!A:D,5,FALSE),\"\")","v":""},{"$f":"IF(COUNTBLANK(C215)=0,VLOOKUP(C215,Locks!A:E,6,FALSE),\"\")","v":""}]
[null,{"$f":"IF(COUNTBLANK(A216)=0,VLOOKUP(A216,Users!A:E,5,FALSE),\"\")","v":""},null,{"$f":"IF(COUNTBLANK(C216)=0,VLOOKUP(C216,Locks!A:D,5,FALSE),\"\")","v":""},{"$f":"IF(COUNTBLANK(C216)=0,VLOOKUP(C216,Locks!A:E,6,FALSE),\"\")","v":""}]
[null,{"$f":"IF(COUNTBLANK(A217)=0,VLOOKUP(A217,Users!A:E,5,FALSE),\"\")","v":""},null,{"$f":"IF(COUNTBLANK(C217)=0,VLOOKUP(C217,Locks!A:D,5,FALSE),\"\")","v":""},{"$f":"IF(COUNTBLANK(C217)=0,VLOOKUP(C217,Locks!A:E,6,FALSE),\"\")","v":""}]
[null,{"$f":"IF(COUNTBLANK(A218)=0,VLOOKUP(A218,Users!A:E,5,FALSE),\"\")","v":""},null,{"$f":"IF(COUNTBLANK(C218)=0,VLOOKUP(C218,Locks!A:D,5,FALSE),\"\")","v":""},{"$f":"IF(COUNTBLANK(C218)=0,VLOOKUP(C218,Locks!A:E,6,FALSE),\"\")","v":""}]
[null,{"$f":"IF(COUNTBLANK(A219)=0,VLOOKUP(A219,Users!A:E,5,FALSE),\"\")","v":""},null,{"$f":"IF(COUNTBLANK(C219)=0,VLOOKUP(C219,Locks!A:D,5,FALSE),\"\")","v":""},{"$f":"IF(COUNTBLANK(C219)=0,VLOOKUP(C219,Locks!A:E,6,FALSE),\"\")","v":""}]
[null,{"$f":"IF(COUNTBLANK(A220)=0,VLOOKUP(A220,Users!A:E,5,FALSE),\"\")","v":""},null,{"$f":"IF(COUNTBLANK(C220)=0,VLOOKUP(C220,Locks!A:D,5,FALSE),\"\")","v":""},{"$f":"IF(COUNTBLANK(C220)=0,VLOOKUP(C220,Locks!A:E,6,FALSE),\"\")","v":""}]
[null,{"$f":"IF(COUNTBLANK(A221)=0,VLOOKUP(A221,Users!A:E,5,FALSE),\"\")","v":""},null,{"$f":"IF(COUNTBLANK(C221)=0,VLOOKUP(C221,Locks!A:D,5,FALSE),\"\")","v":""},{"$f":"IF(COUNTBLANK(C221)=0,VLOOKUP(C221,Locks!A:E,6,FALSE),\"\")","v":""}]
[null,{"$f":"IF(COUNTBLANK(A222)=0,VLOOKUP(A222,Users!A:E,5,FALSE),\"\")","v":""},null,{"$f":"IF(COUNTBLANK(C222)=0,VLOOKUP(C222,Locks!A:D,5,FALSE),\"\")","v":""},{"$f":"IF(COUNTBLANK(C222)=0,VLOOKUP(C222,Locks!A:E,6,FALSE),\"\")","v":""}]
[null,{"$f":"IF(COUNTBLANK(A223)=0,VLOOKUP(A223,Users!A:E,5,FALSE),\"\")","v":""},null,{"$f":"IF(COUNTBLANK(C223)=0,VLOOKUP(C223,Locks!A:D,5,FALSE),\"\")","v":""},{"$f":"IF(COUNTBLANK(C223)=0,VLOOKUP(C223,Locks!A:E,6,FALSE),\"\")","v":""}]
[null,{"$f":"IF(COUNTBLANK(A224)=0,VLOOKUP(A224,Users!A:E,5,FALSE),\"\")","v":""},null,{"$f":"IF(COUNTBLANK(C224)=0,VLOOKUP(C224,Locks!A:D,5,FALSE),\"\")","v":""},{"$f":"IF(COUNTBLANK(C224)=0,VLOOKUP(C224,Locks!A:E,6,FALSE),\"\")","v":""}]
[null,{"$f":"IF(COUNTBLANK(A225)=0,VLOOKUP(A225,Users!A:E,5,FALSE),\"\")","v":""},null,{"$f":"IF(COUNTBLANK(C225)=0,VLOOKUP(C225,Locks!A:D,5,FALSE),\"\")","v":""},{"$f":"IF(COUNTBLANK(C225)=0,VLOOKUP(C225,Locks!A:E,6,FALSE),\"\")","v":""}]
[null,{"$f":"IF(COUNTBLANK(A226)=0,VLOOKUP(A226,Users!A:E,5,FALSE),\"\")","v":""},null,{"$f":"IF(COUNTBLANK(C226)=0,VLOOKUP(C226,Locks!A:D,5,FALSE),\"\")","v":""},{"$f":"IF(COUNTBLANK(C226)=0,VLOOKUP(C226,Locks!A:E,6,FALSE),\"\")","v":""}]
[null,{"$f":"IF(COUNTBLANK(A227)=0,VLOOKUP(A227,Users!A:E,5,FALSE),\"\")","v":""},null,{"$f":"IF(COUNTBLANK(C227)=0,VLOOKUP(C227,Locks!A:D,5,FALSE),\"\")","v":""},{"$f":"IF(COUNTBLANK(C227)=0,VLOOKUP(C227,Locks!A:E,6,FALSE),\"\")","v":""}]
[null,{"$f":"IF(COUNTBLANK(A228)=0,VLOOKUP(A228,Users!A:E,5,FALSE),\"\")","v":""},null,{"$f":"IF(COUNTBLANK(C228)=0,VLOOKUP(C228,Locks!A:D,5,FALSE),\"\")","v":""},{"$f":"IF(COUNTBLANK(C228)=0,VLOOKUP(C228,Locks!A:E,6,FALSE),\"\")","v":""}]
[null,{"$f":"IF(COUNTBLANK(A229)=0,VLOOKUP(A229,Users!A:E,5,FALSE),\"\")","v":""},null,{"$f":"IF(COUNTBLANK(C229)=0,VLOOKUP(C229,Locks!A:D,5,FALSE),\"\")","v":""},{"$f":"IF(COUNTBLANK(C229)=0,VLOOKUP(C229,Locks!A:E,6,FALSE),\"\")","v":""}]
[null,{"$f":"IF(COUNTBLANK(A230)=0,VLOOKUP(A230,Users!A:E,5,FALSE),\"\")","v":""},null,{"$f":"IF(COUNTBLANK(C230)=0,VLOOKUP(C230,Locks!A:D,5,FALSE),\"\")","v":""},{"$f":"IF(COUNTBLANK(C230)=0,VLOOKUP(C230,Locks!A:E,6,FALSE),\"\")","v":""}]
[null,{"$f":"IF(COUNTBLANK(A231)=0,VLOOKUP(A231,Users!A:E,5,FALSE),\"\")","v":""},null,{"$f":"IF(COUNTBLANK(C231)=0,VLOOKUP(C231,Locks!A:D,5,FALSE),\"\")","v":""},{"$f":"IF(COUNTBLANK(C231)=0,VLOOKUP(C231,Locks!A:E,6,FALSE),\"\")","v":""}]
[null,{"$f":"IF(COUNTBLANK(A232)=0,VLOOKUP(A232,Users!A:E,5,FALSE),\"\")","v":""},null,{"$f":"IF(COUNTBLANK(C232)=0,VLOOKUP(C232,Locks!A:D,5,FALSE),\"\")","v":""},{"$f":"IF(COUNTBLANK(C232)=0,VLOOKUP(C232,Locks!A:E,6,FALSE),\"\")","v":""}]
[null,{"$f":"IF(COUNTBLANK(A233)=0,VLOOKUP(A233,Users!A:E,5,FALSE),\"\")","v":""},null,{"$f":"IF(COUNTBLANK(C233)=0,VLOOKUP(C233,Locks!A:D,5,FALSE),\"\")","v":""},{"$f":"IF(COUNTBLANK(C233)=0,VLOOKUP(C233,Locks!A:E,6,FALSE),\"\")","v":""}]
[null,{"$f":"IF(COUNTBLANK(A234)=0,VLOOKUP(A234,Users!A:E,5,FALSE),\"\")","v":""},null,{"$f":"IF(COUNTBLANK(C234)=0,VLOOKUP(C234,Locks!A:D,5,FALSE),\"\")","v":""},{"$f":"IF(COUNTBLANK(C234)=0,VLOOKUP(C234,Locks!A:E,6,FALSE),\"\")","v":""}]
[null,{"$f":"IF(COUNTBLANK(A235)=0,VLOOKUP(A235,Users!A:E,5,FALSE),\"\")","v":""},null,{"$f":"IF(COUNTBLANK(C235)=0,VLOOKUP(C235,Locks!A:D,5,FALSE),\"\")","v":""},{"$f":"IF(COUNTBLANK(C235)=0,VLOOKUP(C235,Locks!A:E,6,FALSE),\"\")","v":""}]
[null,{"$f":"IF(COUNTBLANK(A236)=0,VLOOKUP(A236,Users!A:E,5,FALSE),\"\")","v":""},null,{"$f":"IF(COUNTBLANK(C236)=0,VLOOKUP(C236,Locks!A:D,5,FALSE),\"\")","v":""},{"$f":"IF(COUNTBLANK(C236)=0,VLOOKUP(C236,Locks!A:E,6,FALSE),\"\")","v":""}]
[null,{"$f":"IF(COUNTBLANK(A237)=0,VLOOKUP(A237,Users!A:E,5,FALSE),\"\")","v":""},null,{"$f":"IF(COUNTBLANK(C237)=0,VLOOKUP(C237,Locks!A:D,5,FALSE),\"\")","v":""},{"$f":"IF(COUNTBLANK(C237)=0,VLOOKUP(C237,Locks!A:E,6,FALSE),\"\")","v":""}]
[null,{"$f":"IF(COUNTBLANK(A238)=0,VLOOKUP(A238,Users!A:E,5,FALSE),\"\")","v":""},null,{"$f":"IF(COUNTBLANK(C238)=0,VLOOKUP(C238,Locks!A:D,5,FALSE),\"\")","v":""},{"$f":"IF(COUNTBLANK(C238)=0,VLOOKUP(C238,Locks!A:E,6,FALSE),\"\")","v":""}]
[null,{"$f":"IF(COUNTBLANK(A239)=0,VLOOKUP(A239,Users!A:E,5,FALSE),\"\")","v":""},null,{"$f":"IF(COUNTBLANK(C239)=0,VLOOKUP(C239,Locks!A:D,5,FALSE),\"\")","v":""},{"$f":"IF(COUNTBLANK(C239)=0,VLOOKUP(C239,Locks!A:E,6,FALSE),\"\")","v":""}]
[null,{"$f":"IF(COUNTBLANK(A240)=0,VLOOKUP(A240,Users!A:E,5,FALSE),\"\")","v":""},null,{"$f":"IF(COUNTBLANK(C240)=0,VLOOKUP(C240,Locks!A:D,5,FALSE),\"\")","v":""},{"$f":"IF(COUNTBLANK(C240)=0,VLOOKUP(C240,Locks!A:E,6,FALSE),\"\")","v":""}]
[null,{"$f":"IF(COUNTBLANK(A241)=0,VLOOKUP(A241,Users!A:E,5,FALSE),\"\")","v":""},null,{"$f":"IF(COUNTBLANK(C241)=0,VLOOKUP(C241,Locks!A:D,5,FALSE),\"\")","v":""},{"$f":"IF(COUNTBLANK(C241)=0,VLOOKUP(C241,Locks!A:E,6,FALSE),\"\")","v":""}]
[null,{"$f":"IF(COUNTBLANK(A242)=0,VLOOKUP(A242,Users!A:E,5,FALSE),\"\")","v":""},null,{"$f":"IF(COUNTBLANK(C242)=0,VLOOKUP(C242,Locks!A:D,5,FALSE),\"\")","v":""},{"$f":"IF(COUNTBLANK(C242)=0,VLOOKUP(C242,Locks!A:E,6,FALSE),\"\")","v":""}]
[null,{"$f":"IF(COUNTBLANK(A243)=0,VLOOKUP(A243,Users!A:E,5,FALSE),\"\")","v":""},null,{"$f":"IF(COUNTBLANK(C243)=0,VLOOKUP(C243,Locks!A:D,5,FALSE),\"\")","v":""},{"$f":"IF(COUNTBLANK(C243)=0,VLOOKUP(C243,Locks!A:E,6,FALSE),\"\")","v":""}]
[null,{"$f":"IF(COUNTBLANK(A244)=0,VLOOKUP(A244,Users!A:E,5,FALSE),\"\")","v":""},null,{"$f":"IF(COUNTBLANK(C244)=0,VLOOKUP(C244,Locks!A:D,5,FALSE),\"\")","v":""},{"$f":"IF(COUNTBLANK(C244)=0,VLOOKUP(C244,Locks!A:E,6,FALSE),\"\")","v":""}]
[null,{"$f":"IF(COUNTBLANK(A245)=0,VLOOKUP(A245,Users!A:E,5,FALSE),\"\")","v":""},null,{"$f":"IF(COUNTBLANK(C245)=0,VLOOKUP(C245,Locks!A:D,5,FALSE),\"\")","v":""},{"$f":"IF(COUNTBLANK(C245)=0,VLOOKUP(C245,Locks!A:E,6,FALSE),\"\")","v":""}]
[null,{"$f":"IF(COUNTBLANK(A246)=0,VLOOKUP(A246,Users!A:E,5,FALSE),\"\")","v":""},null,{"$f":"IF(COUNTBLANK(C246)=0,VLOOKUP(C246,Locks!A:D,5,FALSE),\"\")","v":""},{"$f":"IF(COUNTBLANK(C246)=0,VLOOKUP(C246,Locks!A:E,6,FALSE),\"\")","v":""}]
[null,{"$f":"IF(COUNTBLANK(A247)=0,VLOOKUP(A247,Users!A:E,5,FALSE),\"\")","v":""},null,{"$f":"IF(COUNTBLANK(C247)=0,VLOOKUP(C247,Locks!A:D,5,FALSE),\"\")","v":""},{"$f":"IF(COUNTBLANK(C247)=0,VLOOKUP(C247,Locks!A:E,6,FALSE),\"\")","v":""}]
[null,{"$f":"IF(COUNTBLANK(A248)=0,VLOOKUP(A248,Users!A:E,5,FALSE),\"\")","v":""},null,{"$f":"IF(COUNTBLANK(C248)=0,VLOOKUP(C248,Locks!A:D,5,FALSE),\"\")","v":""},{"$f":"IF(COUNTBLANK(C248)=0,VLOOKUP(C248,Locks!A:E,6,FALSE),\"\")","v":""}]
[null,{"$f":"IF(COUNTBLANK(A249)=0,VLOOKUP(A249,Users!A:E,5,FALSE),\"\")","v":""},null,{"$f":"IF(COUNTBLANK(C249)=0,VLOOKUP(C249,Locks!A:D,5,FALSE),\"\")","v":""},{"$f":"IF(COUNTBLANK(C249)=0,VLOOKUP(C249,Locks!A:E,6,FALSE),\"\")","v":""}]
[null,{"$f":"IF(COUNTBLANK(A250)=0,VLOOKUP(A250,Users!A:E,5,FALSE),\"\")","v":""},null,{"$f":"IF(COUNTBLANK(C250)=0,VLOOKUP(C250,Locks!A:D,5,FALSE),\"\")","v":""},{"$f":"IF(COUNTBLANK(C250)=0,VLOOKUP(C250,Locks!A:E,6,FALSE),\"\")","v":""}]
[null,{"$f":"IF(COUNTBLANK(A251)=0,VLOOKUP(A251,Users!A:E,5,FALSE),\"\")","v":""},null,{"$f":"IF(COUNTBLANK(C251)=0,VLOOKUP(C251,Locks!A:D,5,FALSE),\"\")","v":""},{"$f":"IF(COUNTBLANK(C251)=0,VLOOKUP(C251,Locks!A:E,6,FALSE),\"\")","v":""}]
[null,{"$f":"IF(COUNTBLANK(A252)=0,VLOOKUP(A252,Users!A:E,5,FALSE),\"\")","v":""},null,{"$f":"IF(COUNTBLANK(C252)=0,VLOOKUP(C252,Locks!A:D,5,FALSE),\"\")","v":""},{"$f":"IF(COUNTBLANK(C252)=0,VLOOKUP(C252,Locks!A:E,6,FALSE),\"\")","v":""}]
[null,{"$f":"IF(COUNTBLANK(A253)=0,VLOOKUP(A253,Users!A:E,5,FALSE),\"\")","v":""},null,{"$f":"IF(COUNTBLANK(C253)=0,VLOOKUP(C253,Locks!A:D,5,FALSE),\"\")","v":""},{"$f":"IF(COUNTBLANK(C253)=0,VLOOKUP(C253,Locks!A:E,6,FALSE),\"\")","v":""}]
[null,{"$f":"IF(COUNTBLANK(A254)=0,VLOOKUP(A254,Users!A:E,5,FALSE),\"\")","v":""},null,{"$f":"IF(COUNTBLANK(C254)=0,VLOOKUP(C254,Locks!A:D,5,FALSE),\"\")","v":""},{"$f":"IF(COUNTBLANK(C254)=0,VLOOKUP(C254,Locks!A:E,6,FALSE),\"\")","v":""}]
[null,{"$f":"IF(COUNTBLANK(A255)=0,VLOOKUP(A255,Users!A:E,5,FALSE),\"\")","v":""},null,{"$f":"IF(COUNTBLANK(C255)=0,VLOOKUP(C255,Locks!A:D,5,FALSE),\"\")","v":""},{"$f":"IF(COUNTBLANK(C255)=0,VLOOKUP(C255,Locks!A:E,6,FALSE),\"\")","v":""}]
[null,{"$f":"IF(COUNTBLANK(A256)=0,VLOOKUP(A256,Users!A:E,5,FALSE),\"\")","v":""},null,{"$f":"IF(COUNTBLANK(C256)=0,VLOOKUP(C256,Locks!A:D,5,FALSE),\"\")","v":""},{"$f":"IF(COUNTBLANK(C256)=0,VLOOKUP(C256,Locks!A:E,6,FALSE),\"\")","v":""}]
[null,{"$f":"IF(COUNTBLANK(A257)=0,VLOOKUP(A257,Users!A:E,5,FALSE),\"\")","v":""},null,{"$f":"IF(COUNTBLANK(C257)=0,VLOOKUP(C257,Locks!A:D,5,FALSE),\"\")","v":""},{"$f":"IF(COUNTBLANK(C257)=0,VLOOKUP(C257,Locks!A:E,6,FALSE),\"\")","v":""}]
[null,{"$f":"IF(COUNTBLANK(A258)=0,VLOOKUP(A258,Users!A:E,5,FALSE),\"\")","v":""},null,{"$f":"IF(COUNTBLANK(C258)=0,VLOOKUP(C258,Locks!A:D,5,FALSE),\"\")","v":""},{"$f":"IF(COUNTBLANK(C258)=0,VLOOKUP(C258,Locks!A:E,6,FALSE),\"\")","v":""}]
[null,{"$f":"IF(COUNTBLANK(A259)=0,VLOOKUP(A259,Users!A:E,5,FALSE),\"\")","v":""},null,{"$f":"IF(COUNTBLANK(C259)=0,VLOOKUP(C259,Locks!A:D,5,FALSE),\"\")","v":""},{"$f":"IF(COUNTBLANK(C259)=0,VLOOKUP(C259,Locks!A:E,6,FALSE),\"\")","v":""}]
[null,{"$f":"IF(COUNTBLANK(A260)=0,VLOOKUP(A260,Users!A:E,5,FALSE),\"\")","v":""},null,{"$f":"IF(COUNTBLANK(C260)=0,VLOOKUP(C260,Locks!A:D,5,FALSE),\"\")","v":""},{"$f":"IF(COUNTBLANK(C260)=0,VLOOKUP(C260,Locks!A:E,6,FALSE),\"\")","v":""}]
[null,{"$f":"IF(COUNTBLANK(A261)=0,VLOOKUP(A261,Users!A:E,5,FALSE),\"\")","v":""},null,{"$f":"IF(COUNTBLANK(C261)=0,VLOOKUP(C261,Locks!A:D,5,FALSE),\"\")","v":""},{"$f":"IF(COUNTBLANK(C261)=0,VLOOKUP(C261,Locks!A:E,6,FALSE),\"\")","v":""}]
[null,{"$f":"IF(COUNTBLANK(A262)=0,VLOOKUP(A262,Users!A:E,5,FALSE),\"\")","v":""},null,{"$f":"IF(COUNTBLANK(C262)=0,VLOOKUP(C262,Locks!A:D,5,FALSE),\"\")","v":""},{"$f":"IF(COUNTBLANK(C262)=0,VLOOKUP(C262,Locks!A:E,6,FALSE),\"\")","v":""}]
[null,{"$f":"IF(COUNTBLANK(A263)=0,VLOOKUP(A263,Users!A:E,5,FALSE),\"\")","v":""},null,{"$f":"IF(COUNTBLANK(C263)=0,VLOOKUP(C263,Locks!A:D,5,FALSE),\"\")","v":""},{"$f":"IF(COUNTBLANK(C263)=0,VLOOKUP(C263,Locks!A:E,6,FALSE),\"\")","v":""}]
[null,{"$f":"IF(COUNTBLANK(A264)=0,VLOOKUP(A264,Users!A:E,5,FALSE),\"\")","v":""},null,{"$f":"IF(COUNTBLANK(C264)=0,VLOOKUP(C264,Locks!A:D,5,FALSE),\"\")","v":""},{"$f":"IF(COUNTBLANK(C264)=0,VLOOKUP(C264,Locks!A:E,6,FALSE),\"\")","v":""}]
[null,{"$f":"IF(COUNTBLANK(A265)=0,VLOOKUP(A265,Users!A:E,5,FALSE),\"\")","v":""},null,{"$f":"IF(COUNTBLANK(C265)=0,VLOOKUP(C265,Locks!A:D,5,FALSE),\"\")","v":""},{"$f":"IF(COUNTBLANK(C265)=0,VLOOKUP(C265,Locks!A:E,6,FALSE),\"\")","v":""}]
[null,{"$f":"IF(COUNTBLANK(A266)=0,VLOOKUP(A266,Users!A:E,5,FALSE),\"\")","v":""},null,{"$f":"IF(COUNTBLANK(C266)=0,VLOOKUP(C266,Locks!A:D,5,FALSE),\"\")","v":""},{"$f":"IF(COUNTBLANK(C266)=0,VLOOKUP(C266,Locks!A:E,6,FALSE),\"\")","v":""}]
[null,{"$f":"IF(COUNTBLANK(A267)=0,VLOOKUP(A267,Users!A:E,5,FALSE),\"\")","v":""},null,{"$f":"IF(COUNTBLANK(C267)=0,VLOOKUP(C267,Locks!A:D,5,FALSE),\"\")","v":""},{"$f":"IF(COUNTBLANK(C267)=0,VLOOKUP(C267,Locks!A:E,6,FALSE),\"\")","v":""}]
[null,{"$f":"IF(COUNTBLANK(A268)=0,VLOOKUP(A268,Users!A:E,5,FALSE),\"\")","v":""},null,{"$f":"IF(COUNTBLANK(C268)=0,VLOOKUP(C268,Locks!A:D,5,FALSE),\"\")","v":""},{"$f":"IF(COUNTBLANK(C268)=0,VLOOKUP(C268,Locks!A:E,6,FALSE),\"\")","v":""}]
[null,{"$f":"IF(COUNTBLANK(A269)=0,VLOOKUP(A269,Users!A:E,5,FALSE),\"\")","v":""},null,{"$f":"IF(COUNTBLANK(C269)=0,VLOOKUP(C269,Locks!A:D,5,FALSE),\"\")","v":""},{"$f":"IF(COUNTBLANK(C269)=0,VLOOKUP(C269,Locks!A:E,6,FALSE),\"\")","v":""}]
[null,{"$f":"IF(COUNTBLANK(A270)=0,VLOOKUP(A270,Users!A:E,5,FALSE),\"\")","v":""},null,{"$f":"IF(COUNTBLANK(C270)=0,VLOOKUP(C270,Locks!A:D,5,FALSE),\"\")","v":""},{"$f":"IF(COUNTBLANK(C270)=0,VLOOKUP(C270,Locks!A:E,6,FALSE),\"\")","v":""}]
[null,{"$f":"IF(COUNTBLANK(A271)=0,VLOOKUP(A271,Users!A:E,5,FALSE),\"\")","v":""},null,{"$f":"IF(COUNTBLANK(C271)=0,VLOOKUP(C271,Locks!A:D,5,FALSE),\"\")","v":""},{"$f":"IF(COUNTBLANK(C271)=0,VLOOKUP(C271,Locks!A:E,6,FALSE),\"\")","v":""}]
[null,{"$f":"IF(COUNTBLANK(A272)=0,VLOOKUP(A272,Users!A:E,5,FALSE),\"\")","v":""},null,{"$f":"IF(COUNTBLANK(C272)=0,VLOOKUP(C272,Locks!A:D,5,FALSE),\"\")","v":""},{"$f":"IF(COUNTBLANK(C272)=0,VLOOKUP(C272,Locks!A:E,6,FALSE),\"\")","v":""}]
[null,{"$f":"IF(COUNTBLANK(A273)=0,VLOOKUP(A273,Users!A:E,5,FALSE),\"\")","v":""},null,{"$f":"IF(COUNTBLANK(C273)=0,VLOOKUP(C273,Locks!A:D,5,FALSE),\"\")","v":""},{"$f":"IF(COUNTBLANK(C273)=0,VLOOKUP(C273,Locks!A:E,6,FALSE),\"\")","v":""}]
[null,{"$f":"IF(COUNTBLANK(A274)=0,VLOOKUP(A274,Users!A:E,5,FALSE),\"\")","v":""},null,{"$f":"IF(COUNTBLANK(C274)=0,VLOOKUP(C274,Locks!A:D,5,FALSE),\"\")","v":""},{"$f":"IF(COUNTBLANK(C274)=0,VLOOKUP(C274,Locks!A:E,6,FALSE),\"\")","v":""}]
[null,{"$f":"IF(COUNTBLANK(A275)=0,VLOOKUP(A275,Users!A:E,5,FALSE),\"\")","v":""},null,{"$f":"IF(COUNTBLANK(C275)=0,VLOOKUP(C275,Locks!A:D,5,FALSE),\"\")","v":""},{"$f":"IF(COUNTBLANK(C275)=0,VLOOKUP(C275,Locks!A:E,6,FALSE),\"\")","v":""}]
[null,{"$f":"IF(COUNTBLANK(A276)=0,VLOOKUP(A276,Users!A:E,5,FALSE),\"\")","v":""},null,{"$f":"IF(COUNTBLANK(C276)=0,VLOOKUP(C276,Locks!A:D,5,FALSE),\"\")","v":""},{"$f":"IF(COUNTBLANK(C276)=0,VLOOKUP(C276,Locks!A:E,6,FALSE),\"\")","v":""}]
[null,{"$f":"IF(COUNTBLANK(A277)=0,VLOOKUP(A277,Users!A:E,5,FALSE),\"\")","v":""},null,{"$f":"IF(COUNTBLANK(C277)=0,VLOOKUP(C277,Locks!A:D,5,FALSE),\"\")","v":""},{"$f":"IF(COUNTBLANK(C277)=0,VLOOKUP(C277,Locks!A:E,6,FALSE),\"\")","v":""}]
[null,{"$f":"IF(COUNTBLANK(A278)=0,VLOOKUP(A278,Users!A:E,5,FALSE),\"\")","v":""},null,{"$f":"IF(COUNTBLANK(C278)=0,VLOOKUP(C278,Locks!A:D,5,FALSE),\"\")","v":""},{"$f":"IF(COUNTBLANK(C278)=0,VLOOKUP(C278,Locks!A:E,6,FALSE),\"\")","v":""}]
[null,{"$f":"IF(COUNTBLANK(A279)=0,VLOOKUP(A279,Users!A:E,5,FALSE),\"\")","v":""},null,{"$f":"IF(COUNTBLANK(C279)=0,VLOOKUP(C279,Locks!A:D,5,FALSE),\"\")","v":""},{"$f":"IF(COUNTBLANK(C279)=0,VLOOKUP(C279,Locks!A:E,6,FALSE),\"\")","v":""}]
[null,{"$f":"IF(COUNTBLANK(A280)=0,VLOOKUP(A280,Users!A:E,5,FALSE),\"\")","v":""},null,{"$f":"IF(COUNTBLANK(C280)=0,VLOOKUP(C280,Locks!A:D,5,FALSE),\"\")","v":""},{"$f":"IF(COUNTBLANK(C280)=0,VLOOKUP(C280,Locks!A:E,6,FALSE),\"\")","v":""}]
[null,{"$f":"IF(COUNTBLANK(A281)=0,VLOOKUP(A281,Users!A:E,5,FALSE),\"\")","v":""},null,{"$f":"IF(COUNTBLANK(C281)=0,VLOOKUP(C281,Locks!A:D,5,FALSE),\"\")","v":""},{"$f":"IF(COUNTBLANK(C281)=0,VLOOKUP(C281,Locks!A:E,6,FALSE),\"\")","v":""}]
[null,{"$f":"IF(COUNTBLANK(A282)=0,VLOOKUP(A282,Users!A:E,5,FALSE),\"\")","v":""},null,{"$f":"IF(COUNTBLANK(C282)=0,VLOOKUP(C282,Locks!A:D,5,FALSE),\"\")","v":""},{"$f":"IF(COUNTBLANK(C282)=0,VLOOKUP(C282,Locks!A:E,6,FALSE),\"\")","v":""}]
[null,{"$f":"IF(COUNTBLANK(A283)=0,VLOOKUP(A283,Users!A:E,5,FALSE),\"\")","v":""},null,{"$f":"IF(COUNTBLANK(C283)=0,VLOOKUP(C283,Locks!A:D,5,FALSE),\"\")","v":""},{"$f":"IF(COUNTBLANK(C283)=0,VLOOKUP(C283,Locks!A:E,6,FALSE),\"\")","v":""}]
[null,{"$f":"IF(COUNTBLANK(A284)=0,VLOOKUP(A284,Users!A:E,5,FALSE),\"\")","v":""},null,{"$f":"IF(COUNTBLANK(C284)=0,VLOOKUP(C284,Locks!A:D,5,FALSE),\"\")","v":""},{"$f":"IF(COUNTBLANK(C284)=0,VLOOKUP(C284,Locks!A:E,6,FALSE),\"\")","v":""}]
[null,{"$f":"IF(COUNTBLANK(A285)=0,VLOOKUP(A285,Users!A:E,5,FALSE),\"\")","v":""},null,{"$f":"IF(COUNTBLANK(C285)=0,VLOOKUP(C285,Locks!A:D,5,FALSE),\"\")","v":""},{"$f":"IF(COUNTBLANK(C285)=0,VLOOKUP(C285,Locks!A:E,6,FALSE),\"\")","v":""}]
[null,{"$f":"IF(COUNTBLANK(A286)=0,VLOOKUP(A286,Users!A:E,5,FALSE),\"\")","v":""},null,{"$f":"IF(COUNTBLANK(C286)=0,VLOOKUP(C286,Locks!A:D,5,FALSE),\"\")","v":""},{"$f":"IF(COUNTBLANK(C286)=0,VLOOKUP(C286,Locks!A:E,6,FALSE),\"\")","v":""}]
[null,{"$f":"IF(COUNTBLANK(A287)=0,VLOOKUP(A287,Users!A:E,5,FALSE),\"\")","v":""},null,{"$f":"IF(COUNTBLANK(C287)=0,VLOOKUP(C287,Locks!A:D,5,FALSE),\"\")","v":""},{"$f":"IF(COUNTBLANK(C287)=0,VLOOKUP(C287,Locks!A:E,6,FALSE),\"\")","v":""}]
[null,{"$f":"IF(COUNTBLANK(A288)=0,VLOOKUP(A288,Users!A:E,5,FALSE),\"\")","v":""},null,{"$f":"IF(COUNTBLANK(C288)=0,VLOOKUP(C288,Locks!A:D,5,FALSE),\"\")","v":""},{"$f":"IF(COUNTBLANK(C288)=0,VLOOKUP(C288,Locks!A:E,6,FALSE),\"\")","v":""}]
[null,{"$f":"IF(COUNTBLANK(A289)=0,VLOOKUP(A289,Users!A:E,5,FALSE),\"\")","v":""},null,{"$f":"IF(COUNTBLANK(C289)=0,VLOOKUP(C289,Locks!A:D,5,FALSE),\"\")","v":""},{"$f":"IF(COUNTBLANK(C289)=0,VLOOKUP(C289,Locks!A:E,6,FALSE),\"\")","v":""}]
[null,{"$f":"IF(COUNTBLANK(A290)=0,VLOOKUP(A290,Users!A:E,5,FALSE),\"\")","v":""},null,{"$f":"IF(COUNTBLANK(C290)=0,VLOOKUP(C290,Locks!A:D,5,FALSE),\"\")","v":""},{"$f":"IF(COUNTBLANK(C290)=0,VLOOKUP(C290,Locks!A:E,6,FALSE),\"\")","v":""}]
[null,{"$f":"IF(COUNTBLANK(A291)=0,VLOOKUP(A291,Users!A:E,5,FALSE),\"\")","v":""},null,{"$f":"IF(COUNTBLANK(C291)=0,VLOOKUP(C291,Locks!A:D,5,FALSE),\"\")","v":""},{"$f":"IF(COUNTBLANK(C291)=0,VLOOKUP(C291,Locks!A:E,6,FALSE),\"\")","v":""}]
[null,{"$f":"IF(COUNTBLANK(A292)=0,VLOOKUP(A292,Users!A:E,5,FALSE),\"\")","v":""},null,{"$f":"IF(COUNTBLANK(C292)=0,VLOOKUP(C292,Locks!A:D,5,FALSE),\"\")","v":""},{"$f":"IF(COUNTBLANK(C292)=0,VLOOKUP(C292,Locks!A:E,6,FALSE),\"\")","v":""}]
[null,{"$f":"IF(COUNTBLANK(A293)=0,VLOOKUP(A293,Users!A:E,5,FALSE),\"\")","v":""},null,{"$f":"IF(COUNTBLANK(C293)=0,VLOOKUP(C293,Locks!A:D,5,FALSE),\"\")","v":""},{"$f":"IF(COUNTBLANK(C293)=0,VLOOKUP(C293,Locks!A:E,6,FALSE),\"\")","v":""}]
[null,{"$f":"IF(COUNTBLANK(A294)=0,VLOOKUP(A294,Users!A:E,5,FALSE),\"\")","v":""},null,{"$f":"IF(COUNTBLANK(C294)=0,VLOOKUP(C294,Locks!A:D,5,FALSE),\"\")","v":""},{"$f":"IF(COUNTBLANK(C294)=0,VLOOKUP(C294,Locks!A:E,6,FALSE),\"\")","v":""}]
[null,{"$f":"IF(COUNTBLANK(A295)=0,VLOOKUP(A295,Users!A:E,5,FALSE),\"\")","v":""},null,{"$f":"IF(COUNTBLANK(C295)=0,VLOOKUP(C295,Locks!A:D,5,FALSE),\"\")","v":""},{"$f":"IF(COUNTBLANK(C295)=0,VLOOKUP(C295,Locks!A:E,6,FALSE),\"\")","v":""}]
[null,{"$f":"IF(COUNTBLANK(A296)=0,VLOOKUP(A296,Users!A:E,5,FALSE),\"\")","v":""},null,{"$f":"IF(COUNTBLANK(C296)=0,VLOOKUP(C296,Locks!A:D,5,FALSE),\"\")","v":""},{"$f":"IF(COUNTBLANK(C296)=0,VLOOKUP(C296,Locks!A:E,6,FALSE),\"\")","v":""}]
[null,{"$f":"IF(COUNTBLANK(A297)=0,VLOOKUP(A297,Users!A:E,5,FALSE),\"\")","v":""},null,{"$f":"IF(COUNTBLANK(C297)=0,VLOOKUP(C297,Locks!A:D,5,FALSE),\"\")","v":""},{"$f":"IF(COUNTBLANK(C297)=0,VLOOKUP(C297,Locks!A:E,6,FALSE),\"\")","v":""}]
[null,{"$f":"IF(COUNTBLANK(A298)=0,VLOOKUP(A298,Users!A:E,5,FALSE),\"\")","v":""},null,{"$f":"IF(COUNTBLANK(C298)=0,VLOOKUP(C298,Locks!A:D,5,FALSE),\"\")","v":""},{"$f":"IF(COUNTBLANK(C298)=0,VLOOKUP(C298,Locks!A:E,6,FALSE),\"\")","v":""}]
[null,{"$f":"IF(COUNTBLANK(A299)=0,VLOOKUP(A299,Users!A:E,5,FALSE),\"\")","v":""},null,{"$f":"IF(COUNTBLANK(C299)=0,VLOOKUP(C299,Locks!A:D,5,FALSE),\"\")","v":""},{"$f":"IF(COUNTBLANK(C299)=0,VLOOKUP(C299,Locks!A:E,6,FALSE),\"\")","v":""}]
[null,{"$f":"IF(COUNTBLANK(A300)=0,VLOOKUP(A300,Users!A:E,5,FALSE),\"\")","v":""},null,{"$f":"IF(COUNTBLANK(C300)=0,VLOOKUP(C300,Locks!A:D,5,FALSE),\"\")","v":""},{"$f":"IF(COUNTBLANK(C300)=0,VLOOKUP(C300,Locks!A:E,6,FALSE),\"\")","v":""}]
[null,{"$f":"IF(COUNTBLANK(A301)=0,VLOOKUP(A301,Users!A:E,5,FALSE),\"\")","v":""},null,{"$f":"IF(COUNTBLANK(C301)=0,VLOOKUP(C301,Locks!A:D,5,FALSE),\"\")","v":""},{"$f":"IF(COUNTBLANK(C301)=0,VLOOKUP(C301,Locks!A:E,6,FALSE),\"\")","v":""}]
[null,{"$f":"IF(COUNTBLANK(A302)=0,VLOOKUP(A302,Users!A:E,5,FALSE),\"\")","v":""},null,{"$f":"IF(COUNTBLANK(C302)=0,VLOOKUP(C302,Locks!A:D,5,FALSE),\"\")","v":""},{"$f":"IF(COUNTBLANK(C302)=0,VLOOKUP(C302,Locks!A:E,6,FALSE),\"\")","v":""}]
[null,{"$f":"IF(COUNTBLANK(A303)=0,VLOOKUP(A303,Users!A:E,5,FALSE),\"\")","v":""},null,{"$f":"IF(COUNTBLANK(C303)=0,VLOOKUP(C303,Locks!A:D,5,FALSE),\"\")","v":""},{"$f":"IF(COUNTBLANK(C303)=0,VLOOKUP(C303,Locks!A:E,6,FALSE),\"\")","v":""}]
[null,{"$f":"IF(COUNTBLANK(A304)=0,VLOOKUP(A304,Users!A:E,5,FALSE),\"\")","v":""},null,{"$f":"IF(COUNTBLANK(C304)=0,VLOOKUP(C304,Locks!A:D,5,FALSE),\"\")","v":""},{"$f":"IF(COUNTBLANK(C304)=0,VLOOKUP(C304,Locks!A:E,6,FALSE),\"\")","v":""}]
[null,{"$f":"IF(COUNTBLANK(A305)=0,VLOOKUP(A305,Users!A:E,5,FALSE),\"\")","v":""},null,{"$f":"IF(COUNTBLANK(C305)=0,VLOOKUP(C305,Locks!A:D,5,FALSE),\"\")","v":""},{"$f":"IF(COUNTBLANK(C305)=0,VLOOKUP(C305,Locks!A:E,6,FALSE),\"\")","v":""}]
[null,{"$f":"IF(COUNTBLANK(A306)=0,VLOOKUP(A306,Users!A:E,5,FALSE),\"\")","v":""},null,{"$f":"IF(COUNTBLANK(C306)=0,VLOOKUP(C306,Locks!A:D,5,FALSE),\"\")","v":""},{"$f":"IF(COUNTBLANK(C306)=0,VLOOKUP(C306,Locks!A:E,6,FALSE),\"\")","v":""}]
[null,{"$f":"IF(COUNTBLANK(A307)=0,VLOOKUP(A307,Users!A:E,5,FALSE),\"\")","v":""},null,{"$f":"IF(COUNTBLANK(C307)=0,VLOOKUP(C307,Locks!A:D,5,FALSE),\"\")","v":""},{"$f":"IF(COUNTBLANK(C307)=0,VLOOKUP(C307,Locks!A:E,6,FALSE),\"\")","v":""}]
[null,{"$f":"IF(COUNTBLANK(A308)=0,VLOOKUP(A308,Users!A:E,5,FALSE),\"\")","v":""},null,{"$f":"IF(COUNTBLANK(C308)=0,VLOOKUP(C308,Locks!A:D,5,FALSE),\"\")","v":""},{"$f":"IF(COUNTBLANK(C308)=0,VLOOKUP(C308,Locks!A:E,6,FALSE),\"\")","v":""}]
[null,{"$f":"IF(COUNTBLANK(A309)=0,VLOOKUP(A309,Users!A:E,5,FALSE),\"\")","v":""},null,{"$f":"IF(COUNTBLANK(C309)=0,VLOOKUP(C309,Locks!A:D,5,FALSE),\"\")","v":""},{"$f":"IF(COUNTBLANK(C309)=0,VLOOKUP(C309,Locks!A:E,6,FALSE),\"\")","v":""}]
[null,{"$f":"IF(COUNTBLANK(A310)=0,VLOOKUP(A310,Users!A:E,5,FALSE),\"\")","v":""},null,{"$f":"IF(COUNTBLANK(C310)=0,VLOOKUP(C310,Locks!A:D,5,FALSE),\"\")","v":""},{"$f":"IF(COUNTBLANK(C310)=0,VLOOKUP(C310,Locks!A:E,6,FALSE),\"\")","v":""}]
[null,{"$f":"IF(COUNTBLANK(A311)=0,VLOOKUP(A311,Users!A:E,5,FALSE),\"\")","v":""},null,{"$f":"IF(COUNTBLANK(C311)=0,VLOOKUP(C311,Locks!A:D,5,FALSE),\"\")","v":""},{"$f":"IF(COUNTBLANK(C311)=0,VLOOKUP(C311,Locks!A:E,6,FALSE),\"\")","v":""}]
[null,{"$f":"IF(COUNTBLANK(A312)=0,VLOOKUP(A312,Users!A:E,5,FALSE),\"\")","v":""},null,{"$f":"IF(COUNTBLANK(C312)=0,VLOOKUP(C312,Locks!A:D,5,FALSE),\"\")","v":""},{"$f":"IF(COUNTBLANK(C312)=0,VLOOKUP(C312,Locks!A:E,6,FALSE),\"\")","v":""}]
[null,{"$f":"IF(COUNTBLANK(A313)=0,VLOOKUP(A313,Users!A:E,5,FALSE),\"\")","v":""},null,{"$f":"IF(COUNTBLANK(C313)=0,VLOOKUP(C313,Locks!A:D,5,FALSE),\"\")","v":""},{"$f":"IF(COUNTBLANK(C313)=0,VLOOKUP(C313,Locks!A:E,6,FALSE),\"\")","v":""}]
[null,{"$f":"IF(COUNTBLANK(A314)=0,VLOOKUP(A314,Users!A:E,5,FALSE),\"\")","v":""},null,{"$f":"IF(COUNTBLANK(C314)=0,VLOOKUP(C314,Locks!A:D,5,FALSE),\"\")","v":""},{"$f":"IF(COUNTBLANK(C314)=0,VLOOKUP(C314,Locks!A:E,6,FALSE),\"\")","v":""}]
[null,{"$f":"IF(COUNTBLANK(A315)=0,VLOOKUP(A315,Users!A:E,5,FALSE),\"\")","v":""},null,{"$f":"IF(COUNTBLANK(C315)=0,VLOOKUP(C315,Locks!A:D,5,FALSE),\"\")","v":""},{"$f":"IF(COUNTBLANK(C315)=0,VLOOKUP(C315,Locks!A:E,6,FALSE),\"\")","v":""}]
[null,{"$f":"IF(COUNTBLANK(A316)=0,VLOOKUP(A316,Users!A:E,5,FALSE),\"\")","v":""},null,{"$f":"IF(COUNTBLANK(C316)=0,VLOOKUP(C316,Locks!A:D,5,FALSE),\"\")","v":""},{"$f":"IF(COUNTBLANK(C316)=0,VLOOKUP(C316,Locks!A:E,6,FALSE),\"\")","v":""}]
[null,{"$f":"IF(COUNTBLANK(A317)=0,VLOOKUP(A317,Users!A:E,5,FALSE),\"\")","v":""},null,{"$f":"IF(COUNTBLANK(C317)=0,VLOOKUP(C317,Locks!A:D,5,FALSE),\"\")","v":""},{"$f":"IF(COUNTBLANK(C317)=0,VLOOKUP(C317,Locks!A:E,6,FALSE),\"\")","v":""}]
[null,{"$f":"IF(COUNTBLANK(A318)=0,VLOOKUP(A318,Users!A:E,5,FALSE),\"\")","v":""},null,{"$f":"IF(COUNTBLANK(C318)=0,VLOOKUP(C318,Locks!A:D,5,FALSE),\"\")","v":""},{"$f":"IF(COUNTBLANK(C318)=0,VLOOKUP(C318,Locks!A:E,6,FALSE),\"\")","v":""}]
[null,{"$f":"IF(COUNTBLANK(A319)=0,VLOOKUP(A319,Users!A:E,5,FALSE),\"\")","v":""},null,{"$f":"IF(COUNTBLANK(C319)=0,VLOOKUP(C319,Locks!A:D,5,FALSE),\"\")","v":""},{"$f":"IF(COUNTBLANK(C319)=0,VLOOKUP(C319,Locks!A:E,6,FALSE),\"\")","v":""}]
[null,{"$f":"IF(COUNTBLANK(A320)=0,VLOOKUP(A320,Users!A:E,5,FALSE),\"\")","v":""},null,{"$f":"IF(COUNTBLANK(C320)=0,VLOOKUP(C320,Locks!A:D,5,FALSE),\"\")","v":""},{"$f":"IF(COUNTBLANK(C320)=0,VLOOKUP(C320,Locks!A:E,6,FALSE),\"\")","v":""}]
[null,{"$f":"IF(COUNTBLANK(A321)=0,VLOOKUP(A321,Users!A:E,5,FALSE),\"\")","v":""},null,{"$f":"IF(COUNTBLANK(C321)=0,VLOOKUP(C321,Locks!A:D,5,FALSE),\"\")","v":""},{"$f":"IF(COUNTBLANK(C321)=0,VLOOKUP(C321,Locks!A:E,6,FALSE),\"\")","v":""}]
[null,{"$f":"IF(COUNTBLANK(A322)=0,VLOOKUP(A322,Users!A:E,5,FALSE),\"\")","v":""},null,{"$f":"IF(COUNTBLANK(C322)=0,VLOOKUP(C322,Locks!A:D,5,FALSE),\"\")","v":""},{"$f":"IF(COUNTBLANK(C322)=0,VLOOKUP(C322,Locks!A:E,6,FALSE),\"\")","v":""}]
[null,{"$f":"IF(COUNTBLANK(A323)=0,VLOOKUP(A323,Users!A:E,5,FALSE),\"\")","v":""},null,{"$f":"IF(COUNTBLANK(C323)=0,VLOOKUP(C323,Locks!A:D,5,FALSE),\"\")","v":""},{"$f":"IF(COUNTBLANK(C323)=0,VLOOKUP(C323,Locks!A:E,6,FALSE),\"\")","v":""}]
[null,{"$f":"IF(COUNTBLANK(A324)=0,VLOOKUP(A324,Users!A:E,5,FALSE),\"\")","v":""},null,{"$f":"IF(COUNTBLANK(C324)=0,VLOOKUP(C324,Locks!A:D,5,FALSE),\"\")","v":""},{"$f":"IF(COUNTBLANK(C324)=0,VLOOKUP(C324,Locks!A:E,6,FALSE),\"\")","v":""}]
[null,{"$f":"IF(COUNTBLANK(A325)=0,VLOOKUP(A325,Users!A:E,5,FALSE),\"\")","v":""},null,{"$f":"IF(COUNTBLANK(C325)=0,VLOOKUP(C325,Locks!A:D,5,FALSE),\"\")","v":""},{"$f":"IF(COUNTBLANK(C325)=0,VLOOKUP(C325,Locks!A:E,6,FALSE),\"\")","v":""}]
[null,{"$f":"IF(COUNTBLANK(A326)=0,VLOOKUP(A326,Users!A:E,5,FALSE),\"\")","v":""},null,{"$f":"IF(COUNTBLANK(C326)=0,VLOOKUP(C326,Locks!A:D,5,FALSE),\"\")","v":""},{"$f":"IF(COUNTBLANK(C326)=0,VLOOKUP(C326,Locks!A:E,6,FALSE),\"\")","v":""}]
[null,{"$f":"IF(COUNTBLANK(A327)=0,VLOOKUP(A327,Users!A:E,5,FALSE),\"\")","v":""},null,{"$f":"IF(COUNTBLANK(C327)=0,VLOOKUP(C327,Locks!A:D,5,FALSE),\"\")","v":""},{"$f":"IF(COUNTBLANK(C327)=0,VLOOKUP(C327,Locks!A:E,6,FALSE),\"\")","v":""}]
[null,{"$f":"IF(COUNTBLANK(A328)=0,VLOOKUP(A328,Users!A:E,5,FALSE),\"\")","v":""},null,{"$f":"IF(COUNTBLANK(C328)=0,VLOOKUP(C328,Locks!A:D,5,FALSE),\"\")","v":""},{"$f":"IF(COUNTBLANK(C328)=0,VLOOKUP(C328,Locks!A:E,6,FALSE),\"\")","v":""}]
[null,{"$f":"IF(COUNTBLANK(A329)=0,VLOOKUP(A329,Users!A:E,5,FALSE),\"\")","v":""},null,{"$f":"IF(COUNTBLANK(C329)=0,VLOOKUP(C329,Locks!A:D,5,FALSE),\"\")","v":""},{"$f":"IF(COUNTBLANK(C329)=0,VLOOKUP(C329,Locks!A:E,6,FALSE),\"\")","v":""}]
[null,{"$f":"IF(COUNTBLANK(A330)=0,VLOOKUP(A330,Users!A:E,5,FALSE),\"\")","v":""},null,{"$f":"IF(COUNTBLANK(C330)=0,VLOOKUP(C330,Locks!A:D,5,FALSE),\"\")","v":""},{"$f":"IF(COUNTBLANK(C330)=0,VLOOKUP(C330,Locks!A:E,6,FALSE),\"\")","v":""}]
[null,{"$f":"IF(COUNTBLANK(A331)=0,VLOOKUP(A331,Users!A:E,5,FALSE),\"\")","v":""},null,{"$f":"IF(COUNTBLANK(C331)=0,VLOOKUP(C331,Locks!A:D,5,FALSE),\"\")","v":""},{"$f":"IF(COUNTBLANK(C331)=0,VLOOKUP(C331,Locks!A:E,6,FALSE),\"\")","v":""}]
[null,{"$f":"IF(COUNTBLANK(A332)=0,VLOOKUP(A332,Users!A:E,5,FALSE),\"\")","v":""},null,{"$f":"IF(COUNTBLANK(C332)=0,VLOOKUP(C332,Locks!A:D,5,FALSE),\"\")","v":""},{"$f":"IF(COUNTBLANK(C332)=0,VLOOKUP(C332,Locks!A:E,6,FALSE),\"\")","v":""}]
[null,{"$f":"IF(COUNTBLANK(A333)=0,VLOOKUP(A333,Users!A:E,5,FALSE),\"\")","v":""},null,{"$f":"IF(COUNTBLANK(C333)=0,VLOOKUP(C333,Locks!A:D,5,FALSE),\"\")","v":""},{"$f":"IF(COUNTBLANK(C333)=0,VLOOKUP(C333,Locks!A:E,6,FALSE),\"\")","v":""}]
[null,{"$f":"IF(COUNTBLANK(A334)=0,VLOOKUP(A334,Users!A:E,5,FALSE),\"\")","v":""},null,{"$f":"IF(COUNTBLANK(C334)=0,VLOOKUP(C334,Locks!A:D,5,FALSE),\"\")","v":""},{"$f":"IF(COUNTBLANK(C334)=0,VLOOKUP(C334,Locks!A:E,6,FALSE),\"\")","v":""}]
[null,{"$f":"IF(COUNTBLANK(A335)=0,VLOOKUP(A335,Users!A:E,5,FALSE),\"\")","v":""},null,{"$f":"IF(COUNTBLANK(C335)=0,VLOOKUP(C335,Locks!A:D,5,FALSE),\"\")","v":""},{"$f":"IF(COUNTBLANK(C335)=0,VLOOKUP(C335,Locks!A:E,6,FALSE),\"\")","v":""}]
[null,{"$f":"IF(COUNTBLANK(A336)=0,VLOOKUP(A336,Users!A:E,5,FALSE),\"\")","v":""},null,{"$f":"IF(COUNTBLANK(C336)=0,VLOOKUP(C336,Locks!A:D,5,FALSE),\"\")","v":""},{"$f":"IF(COUNTBLANK(C336)=0,VLOOKUP(C336,Locks!A:E,6,FALSE),\"\")","v":""}]
[null,{"$f":"IF(COUNTBLANK(A337)=0,VLOOKUP(A337,Users!A:E,5,FALSE),\"\")","v":""},null,{"$f":"IF(COUNTBLANK(C337)=0,VLOOKUP(C337,Locks!A:D,5,FALSE),\"\")","v":""},{"$f":"IF(COUNTBLANK(C337)=0,VLOOKUP(C337,Locks!A:E,6,FALSE),\"\")","v":""}]
[null,{"$f":"IF(COUNTBLANK(A338)=0,VLOOKUP(A338,Users!A:E,5,FALSE),\"\")","v":""},null,{"$f":"IF(COUNTBLANK(C338)=0,VLOOKUP(C338,Locks!A:D,5,FALSE),\"\")","v":""},{"$f":"IF(COUNTBLANK(C338)=0,VLOOKUP(C338,Locks!A:E,6,FALSE),\"\")","v":""}]
[null,{"$f":"IF(COUNTBLANK(A339)=0,VLOOKUP(A339,Users!A:E,5,FALSE),\"\")","v":""},null,{"$f":"IF(COUNTBLANK(C339)=0,VLOOKUP(C339,Locks!A:D,5,FALSE),\"\")","v":""},{"$f":"IF(COUNTBLANK(C339)=0,VLOOKUP(C339,Locks!A:E,6,FALSE),\"\")","v":""}]
[null,{"$f":"IF(COUNTBLANK(A340)=0,VLOOKUP(A340,Users!A:E,5,FALSE),\"\")","v":""},null,{"$f":"IF(COUNTBLANK(C340)=0,VLOOKUP(C340,Locks!A:D,5,FALSE),\"\")","v":""},{"$f":"IF(COUNTBLANK(C340)=0,VLOOKUP(C340,Locks!A:E,6,FALSE),\"\")","v":""}]
[null,{"$f":"IF(COUNTBLANK(A341)=0,VLOOKUP(A341,Users!A:E,5,FALSE),\"\")","v":""},null,{"$f":"IF(COUNTBLANK(C341)=0,VLOOKUP(C341,Locks!A:D,5,FALSE),\"\")","v":""},{"$f":"IF(COUNTBLANK(C341)=0,VLOOKUP(C341,Locks!A:E,6,FALSE),\"\")","v":""}]
[null,{"$f":"IF(COUNTBLANK(A342)=0,VLOOKUP(A342,Users!A:E,5,FALSE),\"\")","v":""},null,{"$f":"IF(COUNTBLANK(C342)=0,VLOOKUP(C342,Locks!A:D,5,FALSE),\"\")","v":""},{"$f":"IF(COUNTBLANK(C342)=0,VLOOKUP(C342,Locks!A:E,6,FALSE),\"\")","v":""}]
[null,{"$f":"IF(COUNTBLANK(A343)=0,VLOOKUP(A343,Users!A:E,5,FALSE),\"\")","v":""},null,{"$f":"IF(COUNTBLANK(C343)=0,VLOOKUP(C343,Locks!A:D,5,FALSE),\"\")","v":""},{"$f":"IF(COUNTBLANK(C343)=0,VLOOKUP(C343,Locks!A:E,6,FALSE),\"\")","v":""}]
[null,{"$f":"IF(COUNTBLANK(A344)=0,VLOOKUP(A344,Users!A:E,5,FALSE),\"\")","v":""},null,{"$f":"IF(COUNTBLANK(C344)=0,VLOOKUP(C344,Locks!A:D,5,FALSE),\"\")","v":""},{"$f":"IF(COUNTBLANK(C344)=0,VLOOKUP(C344,Locks!A:E,6,FALSE),\"\")","v":""}]
[null,{"$f":"IF(COUNTBLANK(A345)=0,VLOOKUP(A345,Users!A:E,5,FALSE),\"\")","v":""},null,{"$f":"IF(COUNTBLANK(C345)=0,VLOOKUP(C345,Locks!A:D,5,FALSE),\"\")","v":""},{"$f":"IF(COUNTBLANK(C345)=0,VLOOKUP(C345,Locks!A:E,6,FALSE),\"\")","v":""}]
[null,{"$f":"IF(COUNTBLANK(A346)=0,VLOOKUP(A346,Users!A:E,5,FALSE),\"\")","v":""},null,{"$f":"IF(COUNTBLANK(C346)=0,VLOOKUP(C346,Locks!A:D,5,FALSE),\"\")","v":""},{"$f":"IF(COUNTBLANK(C346)=0,VLOOKUP(C346,Locks!A:E,6,FALSE),\"\")","v":""}]
[null,{"$f":"IF(COUNTBLANK(A347)=0,VLOOKUP(A347,Users!A:E,5,FALSE),\"\")","v":""},null,{"$f":"IF(COUNTBLANK(C347)=0,VLOOKUP(C347,Locks!A:D,5,FALSE),\"\")","v":""},{"$f":"IF(COUNTBLANK(C347)=0,VLOOKUP(C347,Locks!A:E,6,FALSE),\"\")","v":""}]
[null,{"$f":"IF(COUNTBLANK(A348)=0,VLOOKUP(A348,Users!A:E,5,FALSE),\"\")","v":""},null,{"$f":"IF(COUNTBLANK(C348)=0,VLOOKUP(C348,Locks!A:D,5,FALSE),\"\")","v":""},{"$f":"IF(COUNTBLANK(C348)=0,VLOOKUP(C348,Locks!A:E,6,FALSE),\"\")","v":""}]
[null,{"$f":"IF(COUNTBLANK(A349)=0,VLOOKUP(A349,Users!A:E,5,FALSE),\"\")","v":""},null,{"$f":"IF(COUNTBLANK(C349)=0,VLOOKUP(C349,Locks!A:D,5,FALSE),\"\")","v":""},{"$f":"IF(COUNTBLANK(C349)=0,VLOOKUP(C349,Locks!A:E,6,FALSE),\"\")","v":""}]
[null,{"$f":"IF(COUNTBLANK(A350)=0,VLOOKUP(A350,Users!A:E,5,FALSE),\"\")","v":""},null,{"$f":"IF(COUNTBLANK(C350)=0,VLOOKUP(C350,Locks!A:D,5,FALSE),\"\")","v":""},{"$f":"IF(COUNTBLANK(C350)=0,VLOOKUP(C350,Locks!A:E,6,FALSE),\"\")","v":""}]
[null,{"$f":"IF(COUNTBLANK(A351)=0,VLOOKUP(A351,Users!A:E,5,FALSE),\"\")","v":""},null,{"$f":"IF(COUNTBLANK(C351)=0,VLOOKUP(C351,Locks!A:D,5,FALSE),\"\")","v":""},{"$f":"IF(COUNTBLANK(C351)=0,VLOOKUP(C351,Locks!A:E,6,FALSE),\"\")","v":""}]
[null,{"$f":"IF(COUNTBLANK(A352)=0,VLOOKUP(A352,Users!A:E,5,FALSE),\"\")","v":""},null,{"$f":"IF(COUNTBLANK(C352)=0,VLOOKUP(C352,Locks!A:D,5,FALSE),\"\")","v":""},{"$f":"IF(COUNTBLANK(C352)=0,VLOOKUP(C352,Locks!A:E,6,FALSE),\"\")","v":""}]
[null,{"$f":"IF(COUNTBLANK(A353)=0,VLOOKUP(A353,Users!A:E,5,FALSE),\"\")","v":""},null,{"$f":"IF(COUNTBLANK(C353)=0,VLOOKUP(C353,Locks!A:D,5,FALSE),\"\")","v":""},{"$f":"IF(COUNTBLANK(C353)=0,VLOOKUP(C353,Locks!A:E,6,FALSE),\"\")","v":""}]
[null,{"$f":"IF(COUNTBLANK(A354)=0,VLOOKUP(A354,Users!A:E,5,FALSE),\"\")","v":""},null,{"$f":"IF(COUNTBLANK(C354)=0,VLOOKUP(C354,Locks!A:D,5,FALSE),\"\")","v":""},{"$f":"IF(COUNTBLANK(C354)=0,VLOOKUP(C354,Locks!A:E,6,FALSE),\"\")","v":""}]
[null,{"$f":"IF(COUNTBLANK(A355)=0,VLOOKUP(A355,Users!A:E,5,FALSE),\"\")","v":""},null,{"$f":"IF(COUNTBLANK(C355)=0,VLOOKUP(C355,Locks!A:D,5,FALSE),\"\")","v":""},{"$f":"IF(COUNTBLANK(C355)=0,VLOOKUP(C355,Locks!A:E,6,FALSE),\"\")","v":""}]
[null,{"$f":"IF(COUNTBLANK(A356)=0,VLOOKUP(A356,Users!A:E,5,FALSE),\"\")","v":""},null,{"$f":"IF(COUNTBLANK(C356)=0,VLOOKUP(C356,Locks!A:D,5,FALSE),\"\")","v":""},{"$f":"IF(COUNTBLANK(C356)=0,VLOOKUP(C356,Locks!A:E,6,FALSE),\"\")","v":""}]
[null,{"$f":"IF(COUNTBLANK(A357)=0,VLOOKUP(A357,Users!A:E,5,FALSE),\"\")","v":""},null,{"$f":"IF(COUNTBLANK(C357)=0,VLOOKUP(C357,Locks!A:D,5,FALSE),\"\")","v":""},{"$f":"IF(COUNTBLANK(C357)=0,VLOOKUP(C357,Locks!A:E,6,FALSE),\"\")","v":""}]
[null,{"$f":"IF(COUNTBLANK(A358)=0,VLOOKUP(A358,Users!A:E,5,FALSE),\"\")","v":""},null,{"$f":"IF(COUNTBLANK(C358)=0,VLOOKUP(C358,Locks!A:D,5,FALSE),\"\")","v":""},{"$f":"IF(COUNTBLANK(C358)=0,VLOOKUP(C358,Locks!A:E,6,FALSE),\"\")","v":""}]
[null,{"$f":"IF(COUNTBLANK(A359)=0,VLOOKUP(A359,Users!A:E,5,FALSE),\"\")","v":""},null,{"$f":"IF(COUNTBLANK(C359)=0,VLOOKUP(C359,Locks!A:D,5,FALSE),\"\")","v":""},{"$f":"IF(COUNTBLANK(C359)=0,VLOOKUP(C359,Locks!A:E,6,FALSE),\"\")","v":""}]
[null,{"$f":"IF(COUNTBLANK(A360)=0,VLOOKUP(A360,Users!A:E,5,FALSE),\"\")","v":""},null,{"$f":"IF(COUNTBLANK(C360)=0,VLOOKUP(C360,Locks!A:D,5,FALSE),\"\")","v":""},{"$f":"IF(COUNTBLANK(C360)=0,VLOOKUP(C360,Locks!A:E,6,FALSE),\"\")","v":""}]
[null,{"$f":"IF(COUNTBLANK(A361)=0,VLOOKUP(A361,Users!A:E,5,FALSE),\"\")","v":""},null,{"$f":"IF(COUNTBLANK(C361)=0,VLOOKUP(C361,Locks!A:D,5,FALSE),\"\")","v":""},{"$f":"IF(COUNTBLANK(C361)=0,VLOOKUP(C361,Locks!A:E,6,FALSE),\"\")","v":""}]
[null,{"$f":"IF(COUNTBLANK(A362)=0,VLOOKUP(A362,Users!A:E,5,FALSE),\"\")","v":""},null,{"$f":"IF(COUNTBLANK(C362)=0,VLOOKUP(C362,Locks!A:D,5,FALSE),\"\")","v":""},{"$f":"IF(COUNTBLANK(C362)=0,VLOOKUP(C362,Locks!A:E,6,FALSE),\"\")","v":""}]
[null,{"$f":"IF(COUNTBLANK(A363)=0,VLOOKUP(A363,Users!A:E,5,FALSE),\"\")","v":""},null,{"$f":"IF(COUNTBLANK(C363)=0,VLOOKUP(C363,Locks!A:D,5,FALSE),\"\")","v":""},{"$f":"IF(COUNTBLANK(C363)=0,VLOOKUP(C363,Locks!A:E,6,FALSE),\"\")","v":""}]
[null,{"$f":"IF(COUNTBLANK(A364)=0,VLOOKUP(A364,Users!A:E,5,FALSE),\"\")","v":""},null,{"$f":"IF(COUNTBLANK(C364)=0,VLOOKUP(C364,Locks!A:D,5,FALSE),\"\")","v":""},{"$f":"IF(COUNTBLANK(C364)=0,VLOOKUP(C364,Locks!A:E,6,FALSE),\"\")","v":""}]
[null,{"$f":"IF(COUNTBLANK(A365)=0,VLOOKUP(A365,Users!A:E,5,FALSE),\"\")","v":""},null,{"$f":"IF(COUNTBLANK(C365)=0,VLOOKUP(C365,Locks!A:D,5,FALSE),\"\")","v":""},{"$f":"IF(COUNTBLANK(C365)=0,VLOOKUP(C365,Locks!A:E,6,FALSE),\"\")","v":""}]
[null,{"$f":"IF(COUNTBLANK(A366)=0,VLOOKUP(A366,Users!A:E,5,FALSE),\"\")","v":""},null,{"$f":"IF(COUNTBLANK(C366)=0,VLOOKUP(C366,Locks!A:D,5,FALSE),\"\")","v":""},{"$f":"IF(COUNTBLANK(C366)=0,VLOOKUP(C366,Locks!A:E,6,FALSE),\"\")","v":""}]
[null,{"$f":"IF(COUNTBLANK(A367)=0,VLOOKUP(A367,Users!A:E,5,FALSE),\"\")","v":""},null,{"$f":"IF(COUNTBLANK(C367)=0,VLOOKUP(C367,Locks!A:D,5,FALSE),\"\")","v":""},{"$f":"IF(COUNTBLANK(C367)=0,VLOOKUP(C367,Locks!A:E,6,FALSE),\"\")","v":""}]
[null,{"$f":"IF(COUNTBLANK(A368)=0,VLOOKUP(A368,Users!A:E,5,FALSE),\"\")","v":""},null,{"$f":"IF(COUNTBLANK(C368)=0,VLOOKUP(C368,Locks!A:D,5,FALSE),\"\")","v":""},{"$f":"IF(COUNTBLANK(C368)=0,VLOOKUP(C368,Locks!A:E,6,FALSE),\"\")","v":""}]
[null,{"$f":"IF(COUNTBLANK(A369)=0,VLOOKUP(A369,Users!A:E,5,FALSE),\"\")","v":""},null,{"$f":"IF(COUNTBLANK(C369)=0,VLOOKUP(C369,Locks!A:D,5,FALSE),\"\")","v":""},{"$f":"IF(COUNTBLANK(C369)=0,VLOOKUP(C369,Locks!A:E,6,FALSE),\"\")","v":""}]
[null,{"$f":"IF(COUNTBLANK(A370)=0,VLOOKUP(A370,Users!A:E,5,FALSE),\"\")","v":""},null,{"$f":"IF(COUNTBLANK(C370)=0,VLOOKUP(C370,Locks!A:D,5,FALSE),\"\")","v":""},{"$f":"IF(COUNTBLANK(C370)=0,VLOOKUP(C370,Locks!A:E,6,FALSE),\"\")","v":""}]
[null,{"$f":"IF(COUNTBLANK(A371)=0,VLOOKUP(A371,Users!A:E,5,FALSE),\"\")","v":""},null,{"$f":"IF(COUNTBLANK(C371)=0,VLOOKUP(C371,Locks!A:D,5,FALSE),\"\")","v":""},{"$f":"IF(COUNTBLANK(C371)=0,VLOOKUP(C371,Locks!A:E,6,FALSE),\"\")","v":""}]
[null,{"$f":"IF(COUNTBLANK(A372)=0,VLOOKUP(A372,Users!A:E,5,FALSE),\"\")","v":""},null,{"$f":"IF(COUNTBLANK(C372)=0,VLOOKUP(C372,Locks!A:D,5,FALSE),\"\")","v":""},{"$f":"IF(COUNTBLANK(C372)=0,VLOOKUP(C372,Locks!A:E,6,FALSE),\"\")","v":""}]
[null,{"$f":"IF(COUNTBLANK(A373)=0,VLOOKUP(A373,Users!A:E,5,FALSE),\"\")","v":""},null,{"$f":"IF(COUNTBLANK(C373)=0,VLOOKUP(C373,Locks!A:D,5,FALSE),\"\")","v":""},{"$f":"IF(COUNTBLANK(C373)=0,VLOOKUP(C373,Locks!A:E,6,FALSE),\"\")","v":""}]
[null,{"$f":"IF(COUNTBLANK(A374)=0,VLOOKUP(A374,Users!A:E,5,FALSE),\"\")","v":""},null,{"$f":"IF(COUNTBLANK(C374)=0,VLOOKUP(C374,Locks!A:D,5,FALSE),\"\")","v":""},{"$f":"IF(COUNTBLANK(C374)=0,VLOOKUP(C374,Locks!A:E,6,FALSE),\"\")","v":""}]
[null,{"$f":"IF(COUNTBLANK(A375)=0,VLOOKUP(A375,Users!A:E,5,FALSE),\"\")","v":""},null,{"$f":"IF(COUNTBLANK(C375)=0,VLOOKUP(C375,Locks!A:D,5,FALSE),\"\")","v":""},{"$f":"IF(COUNTBLANK(C375)=0,VLOOKUP(C375,Locks!A:E,6,FALSE),\"\")","v":""}]
[null,{"$f":"IF(COUNTBLANK(A376)=0,VLOOKUP(A376,Users!A:E,5,FALSE),\"\")","v":""},null,{"$f":"IF(COUNTBLANK(C376)=0,VLOOKUP(C376,Locks!A:D,5,FALSE),\"\")","v":""},{"$f":"IF(COUNTBLANK(C376)=0,VLOOKUP(C376,Locks!A:E,6,FALSE),\"\")","v":""}]
[null,{"$f":"IF(COUNTBLANK(A377)=0,VLOOKUP(A377,Users!A:E,5,FALSE),\"\")","v":""},null,{"$f":"IF(COUNTBLANK(C377)=0,VLOOKUP(C377,Locks!A:D,5,FALSE),\"\")","v":""},{"$f":"IF(COUNTBLANK(C377)=0,VLOOKUP(C377,Locks!A:E,6,FALSE),\"\")","v":""}]
[null,{"$f":"IF(COUNTBLANK(A378)=0,VLOOKUP(A378,Users!A:E,5,FALSE),\"\")","v":""},null,{"$f":"IF(COUNTBLANK(C378)=0,VLOOKUP(C378,Locks!A:D,5,FALSE),\"\")","v":""},{"$f":"IF(COUNTBLANK(C378)=0,VLOOKUP(C378,Locks!A:E,6,FALSE),\"\")","v":""}]
[null,{"$f":"IF(COUNTBLANK(A379)=0,VLOOKUP(A379,Users!A:E,5,FALSE),\"\")","v":""},null,{"$f":"IF(COUNTBLANK(C379)=0,VLOOKUP(C379,Locks!A:D,5,FALSE),\"\")","v":""},{"$f":"IF(COUNTBLANK(C379)=0,VLOOKUP(C379,Locks!A:E,6,FALSE),\"\")","v":""}]
[null,{"$f":"IF(COUNTBLANK(A380)=0,VLOOKUP(A380,Users!A:E,5,FALSE),\"\")","v":""},null,{"$f":"IF(COUNTBLANK(C380)=0,VLOOKUP(C380,Locks!A:D,5,FALSE),\"\")","v":""},{"$f":"IF(COUNTBLANK(C380)=0,VLOOKUP(C380,Locks!A:E,6,FALSE),\"\")","v":""}]
[null,{"$f":"IF(COUNTBLANK(A381)=0,VLOOKUP(A381,Users!A:E,5,FALSE),\"\")","v":""},null,{"$f":"IF(COUNTBLANK(C381)=0,VLOOKUP(C381,Locks!A:D,5,FALSE),\"\")","v":""},{"$f":"IF(COUNTBLANK(C381)=0,VLOOKUP(C381,Locks!A:E,6,FALSE),\"\")","v":""}]
[null,{"$f":"IF(COUNTBLANK(A382)=0,VLOOKUP(A382,Users!A:E,5,FALSE),\"\")","v":""},null,{"$f":"IF(COUNTBLANK(C382)=0,VLOOKUP(C382,Locks!A:D,5,FALSE),\"\")","v":""},{"$f":"IF(COUNTBLANK(C382)=0,VLOOKUP(C382,Locks!A:E,6,FALSE),\"\")","v":""}]
[null,{"$f":"IF(COUNTBLANK(A383)=0,VLOOKUP(A383,Users!A:E,5,FALSE),\"\")","v":""},null,{"$f":"IF(COUNTBLANK(C383)=0,VLOOKUP(C383,Locks!A:D,5,FALSE),\"\")","v":""},{"$f":"IF(COUNTBLANK(C383)=0,VLOOKUP(C383,Locks!A:E,6,FALSE),\"\")","v":""}]
[null,{"$f":"IF(COUNTBLANK(A384)=0,VLOOKUP(A384,Users!A:E,5,FALSE),\"\")","v":""},null,{"$f":"IF(COUNTBLANK(C384)=0,VLOOKUP(C384,Locks!A:D,5,FALSE),\"\")","v":""},{"$f":"IF(COUNTBLANK(C384)=0,VLOOKUP(C384,Locks!A:E,6,FALSE),\"\")","v":""}]
[null,{"$f":"IF(COUNTBLANK(A385)=0,VLOOKUP(A385,Users!A:E,5,FALSE),\"\")","v":""},null,{"$f":"IF(COUNTBLANK(C385)=0,VLOOKUP(C385,Locks!A:D,5,FALSE),\"\")","v":""},{"$f":"IF(COUNTBLANK(C385)=0,VLOOKUP(C385,Locks!A:E,6,FALSE),\"\")","v":""}]
[null,{"$f":"IF(COUNTBLANK(A386)=0,VLOOKUP(A386,Users!A:E,5,FALSE),\"\")","v":""},null,{"$f":"IF(COUNTBLANK(C386)=0,VLOOKUP(C386,Locks!A:D,5,FALSE),\"\")","v":""},{"$f":"IF(COUNTBLANK(C386)=0,VLOOKUP(C386,Locks!A:E,6,FALSE),\"\")","v":""}]
[null,{"$f":"IF(COUNTBLANK(A387)=0,VLOOKUP(A387,Users!A:E,5,FALSE),\"\")","v":""},null,{"$f":"IF(COUNTBLANK(C387)=0,VLOOKUP(C387,Locks!A:D,5,FALSE),\"\")","v":""},{"$f":"IF(COUNTBLANK(C387)=0,VLOOKUP(C387,Locks!A:E,6,FALSE),\"\")","v":""}]
[null,{"$f":"IF(COUNTBLANK(A388)=0,VLOOKUP(A388,Users!A:E,5,FALSE),\"\")","v":""},null,{"$f":"IF(COUNTBLANK(C388)=0,VLOOKUP(C388,Locks!A:D,5,FALSE),\"\")","v":""},{"$f":"IF(COUNTBLANK(C388)=0,VLOOKUP(C388,Locks!A:E,6,FALSE),\"\")","v":""}]
[null,{"$f":"IF(COUNTBLANK(A389)=0,VLOOKUP(A389,Users!A:E,5,FALSE),\"\")","v":""},null,{"$f":"IF(COUNTBLANK(C389)=0,VLOOKUP(C389,Locks!A:D,5,FALSE),\"\")","v":""},{"$f":"IF(COUNTBLANK(C389)=0,VLOOKUP(C389,Locks!A:E,6,FALSE),\"\")","v":""}]
[null,{"$f":"IF(COUNTBLANK(A390)=0,VLOOKUP(A390,Users!A:E,5,FALSE),\"\")","v":""},null,{"$f":"IF(COUNTBLANK(C390)=0,VLOOKUP(C390,Locks!A:D,5,FALSE),\"\")","v":""},{"$f":"IF(COUNTBLANK(C390)=0,VLOOKUP(C390,Locks!A:E,6,FALSE),\"\")","v":""}]
[null,{"$f":"IF(COUNTBLANK(A391)=0,VLOOKUP(A391,Users!A:E,5,FALSE),\"\")","v":""},null,{"$f":"IF(COUNTBLANK(C391)=0,VLOOKUP(C391,Locks!A:D,5,FALSE),\"\")","v":""},{"$f":"IF(COUNTBLANK(C391)=0,VLOOKUP(C391,Locks!A:E,6,FALSE),\"\")","v":""}]
[null,{"$f":"IF(COUNTBLANK(A392)=0,VLOOKUP(A392,Users!A:E,5,FALSE),\"\")","v":""},null,{"$f":"IF(COUNTBLANK(C392)=0,VLOOKUP(C392,Locks!A:D,5,FALSE),\"\")","v":""},{"$f":"IF(COUNTBLANK(C392)=0,VLOOKUP(C392,Locks!A:E,6,FALSE),\"\")","v":""}]
[null,{"$f":"IF(COUNTBLANK(A393)=0,VLOOKUP(A393,Users!A:E,5,FALSE),\"\")","v":""},null,{"$f":"IF(COUNTBLANK(C393)=0,VLOOKUP(C393,Locks!A:D,5,FALSE),\"\")","v":""},{"$f":"IF(COUNTBLANK(C393)=0,VLOOKUP(C393,Locks!A:E,6,FALSE),\"\")","v":""}]
[null,{"$f":"IF(COUNTBLANK(A394)=0,VLOOKUP(A394,Users!A:E,5,FALSE),\"\")","v":""},null,{"$f":"IF(COUNTBLANK(C394)=0,VLOOKUP(C394,Locks!A:D,5,FALSE),\"\")","v":""},{"$f":"IF(COUNTBLANK(C394)=0,VLOOKUP(C394,Locks!A:E,6,FALSE),\"\")","v":""}]
[null,{"$f":"IF(COUNTBLANK(A395)=0,VLOOKUP(A395,Users!A:E,5,FALSE),\"\")","v":""},null,{"$f":"IF(COUNTBLANK(C395)=0,VLOOKUP(C395,Locks!A:D,5,FALSE),\"\")","v":""},{"$f":"IF(COUNTBLANK(C395)=0,VLOOKUP(C395,Locks!A:E,6,FALSE),\"\")","v":""}]
[null,{"$f":"IF(COUNTBLANK(A396)=0,VLOOKUP(A396,Users!A:E,5,FALSE),\"\")","v":""},null,{"$f":"IF(COUNTBLANK(C396)=0,VLOOKUP(C396,Locks!A:D,5,FALSE),\"\")","v":""},{"$f":"IF(COUNTBLANK(C396)=0,VLOOKUP(C396,Locks!A:E,6,FALSE),\"\")","v":""}]
[null,{"$f":"IF(COUNTBLANK(A397)=0,VLOOKUP(A397,Users!A:E,5,FALSE),\"\")","v":""},null,{"$f":"IF(COUNTBLANK(C397)=0,VLOOKUP(C397,Locks!A:D,5,FALSE),\"\")","v":""},{"$f":"IF(COUNTBLANK(C397)=0,VLOOKUP(C397,Locks!A:E,6,FALSE),\"\")","v":""}]
[null,{"$f":"IF(COUNTBLANK(A398)=0,VLOOKUP(A398,Users!A:E,5,FALSE),\"\")","v":""},null,{"$f":"IF(COUNTBLANK(C398)=0,VLOOKUP(C398,Locks!A:D,5,FALSE),\"\")","v":""},{"$f":"IF(COUNTBLANK(C398)=0,VLOOKUP(C398,Locks!A:E,6,FALSE),\"\")","v":""}]
[null,{"$f":"IF(COUNTBLANK(A399)=0,VLOOKUP(A399,Users!A:E,5,FALSE),\"\")","v":""},null,{"$f":"IF(COUNTBLANK(C399)=0,VLOOKUP(C399,Locks!A:D,5,FALSE),\"\")","v":""},{"$f":"IF(COUNTBLANK(C399)=0,VLOOKUP(C399,Locks!A:E,6,FALSE),\"\")","v":""}]
[null,{"$f":"IF(COUNTBLANK(A400)=0,VLOOKUP(A400,Users!A:E,5,FALSE),\"\")","v":""},null,{"$f":"IF(COUNTBLANK(C400)=0,VLOOKUP(C400,Locks!A:D,5,FALSE),\"\")","v":""},{"$f":"IF(COUNTBLANK(C400)=0,VLOOKUP(C400,Locks!A:E,6,FALSE),\"\")","v":""}]
[null,{"$f":"IF(COUNTBLANK(A401)=0,VLOOKUP(A401,Users!A:E,5,FALSE),\"\")","v":""},null,{"$f":"IF(COUNTBLANK(C401)=0,VLOOKUP(C401,Locks!A:D,5,FALSE),\"\")","v":""},{"$f":"IF(COUNTBLANK(C401)=0,VLOOKUP(C401,Locks!A:E,6,FALSE),\"\")","v":""}]
[null,{"$f":"IF(COUNTBLANK(A402)=0,VLOOKUP(A402,Users!A:E,5,FALSE),\"\")","v":""},null,{"$f":"IF(COUNTBLANK(C402)=0,VLOOKUP(C402,Locks!A:D,5,FALSE),\"\")","v":""},{"$f":"IF(COUNTBLANK(C402)=0,VLOOKUP(C402,Locks!A:E,6,FALSE),\"\")","v":""}]
[null,{"$f":"IF(COUNTBLANK(A403)=0,VLOOKUP(A403,Users!A:E,5,FALSE),\"\")","v":""},null,{"$f":"IF(COUNTBLANK(C403)=0,VLOOKUP(C403,Locks!A:D,5,FALSE),\"\")","v":""},{"$f":"IF(COUNTBLANK(C403)=0,VLOOKUP(C403,Locks!A:E,6,FALSE),\"\")","v":""}]
[null,{"$f":"IF(COUNTBLANK(A404)=0,VLOOKUP(A404,Users!A:E,5,FALSE),\"\")","v":""},null,{"$f":"IF(COUNTBLANK(C404)=0,VLOOKUP(C404,Locks!A:D,5,FALSE),\"\")","v":""},{"$f":"IF(COUNTBLANK(C404)=0,VLOOKUP(C404,Locks!A:E,6,FALSE),\"\")","v":""}]
[null,{"$f":"IF(COUNTBLANK(A405)=0,VLOOKUP(A405,Users!A:E,5,FALSE),\"\")","v":""},null,{"$f":"IF(COUNTBLANK(C405)=0,VLOOKUP(C405,Locks!A:D,5,FALSE),\"\")","v":""},{"$f":"IF(COUNTBLANK(C405)=0,VLOOKUP(C405,Locks!A:E,6,FALSE),\"\")","v":""}]
[null,{"$f":"IF(COUNTBLANK(A406)=0,VLOOKUP(A406,Users!A:E,5,FALSE),\"\")","v":""},null,{"$f":"IF(COUNTBLANK(C406)=0,VLOOKUP(C406,Locks!A:D,5,FALSE),\"\")","v":""},{"$f":"IF(COUNTBLANK(C406)=0,VLOOKUP(C406,Locks!A:E,6,FALSE),\"\")","v":""}]
[null,{"$f":"IF(COUNTBLANK(A407)=0,VLOOKUP(A407,Users!A:E,5,FALSE),\"\")","v":""},null,{"$f":"IF(COUNTBLANK(C407)=0,VLOOKUP(C407,Locks!A:D,5,FALSE),\"\")","v":""},{"$f":"IF(COUNTBLANK(C407)=0,VLOOKUP(C407,Locks!A:E,6,FALSE),\"\")","v":""}]
[null,{"$f":"IF(COUNTBLANK(A408)=0,VLOOKUP(A408,Users!A:E,5,FALSE),\"\")","v":""},null,{"$f":"IF(COUNTBLANK(C408)=0,VLOOKUP(C408,Locks!A:D,5,FALSE),\"\")","v":""},{"$f":"IF(COUNTBLANK(C408)=0,VLOOKUP(C408,Locks!A:E,6,FALSE),\"\")","v":""}]
[null,{"$f":"IF(COUNTBLANK(A409)=0,VLOOKUP(A409,Users!A:E,5,FALSE),\"\")","v":""},null,{"$f":"IF(COUNTBLANK(C409)=0,VLOOKUP(C409,Locks!A:D,5,FALSE),\"\")","v":""},{"$f":"IF(COUNTBLANK(C409)=0,VLOOKUP(C409,Locks!A:E,6,FALSE),\"\")","v":""}]
[null,{"$f":"IF(COUNTBLANK(A410)=0,VLOOKUP(A410,Users!A:E,5,FALSE),\"\")","v":""},null,{"$f":"IF(COUNTBLANK(C410)=0,VLOOKUP(C410,Locks!A:D,5,FALSE),\"\")","v":""},{"$f":"IF(COUNTBLANK(C410)=0,VLOOKUP(C410,Locks!A:E,6,FALSE),\"\")","v":""}]
[null,{"$f":"IF(COUNTBLANK(A411)=0,VLOOKUP(A411,Users!A:E,5,FALSE),\"\")","v":""},null,{"$f":"IF(COUNTBLANK(C411)=0,VLOOKUP(C411,Locks!A:D,5,FALSE),\"\")","v":""},{"$f":"IF(COUNTBLANK(C411)=0,VLOOKUP(C411,Locks!A:E,6,FALSE),\"\")","v":""}]
[null,{"$f":"IF(COUNTBLANK(A412)=0,VLOOKUP(A412,Users!A:E,5,FALSE),\"\")","v":""},null,{"$f":"IF(COUNTBLANK(C412)=0,VLOOKUP(C412,Locks!A:D,5,FALSE),\"\")","v":""},{"$f":"IF(COUNTBLANK(C412)=0,VLOOKUP(C412,Locks!A:E,6,FALSE),\"\")","v":""}]
[null,{"$f":"IF(COUNTBLANK(A413)=0,VLOOKUP(A413,Users!A:E,5,FALSE),\"\")","v":""},null,{"$f":"IF(COUNTBLANK(C413)=0,VLOOKUP(C413,Locks!A:D,5,FALSE),\"\")","v":""},{"$f":"IF(COUNTBLANK(C413)=0,VLOOKUP(C413,Locks!A:E,6,FALSE),\"\")","v":""}]
[null,{"$f":"IF(COUNTBLANK(A414)=0,VLOOKUP(A414,Users!A:E,5,FALSE),\"\")","v":""},null,{"$f":"IF(COUNTBLANK(C414)=0,VLOOKUP(C414,Locks!A:D,5,FALSE),\"\")","v":""},{"$f":"IF(COUNTBLANK(C414)=0,VLOOKUP(C414,Locks!A:E,6,FALSE),\"\")","v":""}]
[null,{"$f":"IF(COUNTBLANK(A415)=0,VLOOKUP(A415,Users!A:E,5,FALSE),\"\")","v":""},null,{"$f":"IF(COUNTBLANK(C415)=0,VLOOKUP(C415,Locks!A:D,5,FALSE),\"\")","v":""},{"$f":"IF(COUNTBLANK(C415)=0,VLOOKUP(C415,Locks!A:E,6,FALSE),\"\")","v":""}]
[null,{"$f":"IF(COUNTBLANK(A416)=0,VLOOKUP(A416,Users!A:E,5,FALSE),\"\")","v":""},null,{"$f":"IF(COUNTBLANK(C416)=0,VLOOKUP(C416,Locks!A:D,5,FALSE),\"\")","v":""},{"$f":"IF(COUNTBLANK(C416)=0,VLOOKUP(C416,Locks!A:E,6,FALSE),\"\")","v":""}]
[null,{"$f":"IF(COUNTBLANK(A417)=0,VLOOKUP(A417,Users!A:E,5,FALSE),\"\")","v":""},null,{"$f":"IF(COUNTBLANK(C417)=0,VLOOKUP(C417,Locks!A:D,5,FALSE),\"\")","v":""},{"$f":"IF(COUNTBLANK(C417)=0,VLOOKUP(C417,Locks!A:E,6,FALSE),\"\")","v":""}]
[null,{"$f":"IF(COUNTBLANK(A418)=0,VLOOKUP(A418,Users!A:E,5,FALSE),\"\")","v":""},null,{"$f":"IF(COUNTBLANK(C418)=0,VLOOKUP(C418,Locks!A:D,5,FALSE),\"\")","v":""},{"$f":"IF(COUNTBLANK(C418)=0,VLOOKUP(C418,Locks!A:E,6,FALSE),\"\")","v":""}]
[null,{"$f":"IF(COUNTBLANK(A419)=0,VLOOKUP(A419,Users!A:E,5,FALSE),\"\")","v":""},null,{"$f":"IF(COUNTBLANK(C419)=0,VLOOKUP(C419,Locks!A:D,5,FALSE),\"\")","v":""},{"$f":"IF(COUNTBLANK(C419)=0,VLOOKUP(C419,Locks!A:E,6,FALSE),\"\")","v":""}]
[null,{"$f":"IF(COUNTBLANK(A420)=0,VLOOKUP(A420,Users!A:E,5,FALSE),\"\")","v":""},null,{"$f":"IF(COUNTBLANK(C420)=0,VLOOKUP(C420,Locks!A:D,5,FALSE),\"\")","v":""},{"$f":"IF(COUNTBLANK(C420)=0,VLOOKUP(C420,Locks!A:E,6,FALSE),\"\")","v":""}]
[null,{"$f":"IF(COUNTBLANK(A421)=0,VLOOKUP(A421,Users!A:E,5,FALSE),\"\")","v":""},null,{"$f":"IF(COUNTBLANK(C421)=0,VLOOKUP(C421,Locks!A:D,5,FALSE),\"\")","v":""},{"$f":"IF(COUNTBLANK(C421)=0,VLOOKUP(C421,Locks!A:E,6,FALSE),\"\")","v":""}]
[null,{"$f":"IF(COUNTBLANK(A422)=0,VLOOKUP(A422,Users!A:E,5,FALSE),\"\")","v":""},null,{"$f":"IF(COUNTBLANK(C422)=0,VLOOKUP(C422,Locks!A:D,5,FALSE),\"\")","v":""},{"$f":"IF(COUNTBLANK(C422)=0,VLOOKUP(C422,Locks!A:E,6,FALSE),\"\")","v":""}]
[null,{"$f":"IF(COUNTBLANK(A423)=0,VLOOKUP(A423,Users!A:E,5,FALSE),\"\")","v":""},null,{"$f":"IF(COUNTBLANK(C423)=0,VLOOKUP(C423,Locks!A:D,5,FALSE),\"\")","v":""},{"$f":"IF(COUNTBLANK(C423)=0,VLOOKUP(C423,Locks!A:E,6,FALSE),\"\")","v":""}]
[null,{"$f":"IF(COUNTBLANK(A424)=0,VLOOKUP(A424,Users!A:E,5,FALSE),\"\")","v":""},null,{"$f":"IF(COUNTBLANK(C424)=0,VLOOKUP(C424,Locks!A:D,5,FALSE),\"\")","v":""},{"$f":"IF(COUNTBLANK(C424)=0,VLOOKUP(C424,Locks!A:E,6,FALSE),\"\")","v":""}]
[null,{"$f":"IF(COUNTBLANK(A425)=0,VLOOKUP(A425,Users!A:E,5,FALSE),\"\")","v":""},null,{"$f":"IF(COUNTBLANK(C425)=0,VLOOKUP(C425,Locks!A:D,5,FALSE),\"\")","v":""},{"$f":"IF(COUNTBLANK(C425)=0,VLOOKUP(C425,Locks!A:E,6,FALSE),\"\")","v":""}]
[null,{"$f":"IF(COUNTBLANK(A426)=0,VLOOKUP(A426,Users!A:E,5,FALSE),\"\")","v":""},null,{"$f":"IF(COUNTBLANK(C426)=0,VLOOKUP(C426,Locks!A:D,5,FALSE),\"\")","v":""},{"$f":"IF(COUNTBLANK(C426)=0,VLOOKUP(C426,Locks!A:E,6,FALSE),\"\")","v":""}]
[null,{"$f":"IF(COUNTBLANK(A427)=0,VLOOKUP(A427,Users!A:E,5,FALSE),\"\")","v":""},null,{"$f":"IF(COUNTBLANK(C427)=0,VLOOKUP(C427,Locks!A:D,5,FALSE),\"\")","v":""},{"$f":"IF(COUNTBLANK(C427)=0,VLOOKUP(C427,Locks!A:E,6,FALSE),\"\")","v":""}]
[null,{"$f":"IF(COUNTBLANK(A428)=0,VLOOKUP(A428,Users!A:E,5,FALSE),\"\")","v":""},null,{"$f":"IF(COUNTBLANK(C428)=0,VLOOKUP(C428,Locks!A:D,5,FALSE),\"\")","v":""},{"$f":"IF(COUNTBLANK(C428)=0,VLOOKUP(C428,Locks!A:E,6,FALSE),\"\")","v":""}]
[null,{"$f":"IF(COUNTBLANK(A429)=0,VLOOKUP(A429,Users!A:E,5,FALSE),\"\")","v":""},null,{"$f":"IF(COUNTBLANK(C429)=0,VLOOKUP(C429,Locks!A:D,5,FALSE),\"\")","v":""},{"$f":"IF(COUNTBLANK(C429)=0,VLOOKUP(C429,Locks!A:E,6,FALSE),\"\")","v":""}]
[null,{"$f":"IF(COUNTBLANK(A430)=0,VLOOKUP(A430,Users!A:E,5,FALSE),\"\")","v":""},null,{"$f":"IF(COUNTBLANK(C430)=0,VLOOKUP(C430,Locks!A:D,5,FALSE),\"\")","v":""},{"$f":"IF(COUNTBLANK(C430)=0,VLOOKUP(C430,Locks!A:E,6,FALSE),\"\")","v":""}]
[null,{"$f":"IF(COUNTBLANK(A431)=0,VLOOKUP(A431,Users!A:E,5,FALSE),\"\")","v":""},null,{"$f":"IF(COUNTBLANK(C431)=0,VLOOKUP(C431,Locks!A:D,5,FALSE),\"\")","v":""},{"$f":"IF(COUNTBLANK(C431)=0,VLOOKUP(C431,Locks!A:E,6,FALSE),\"\")","v":""}]
[null,{"$f":"IF(COUNTBLANK(A432)=0,VLOOKUP(A432,Users!A:E,5,FALSE),\"\")","v":""},null,{"$f":"IF(COUNTBLANK(C432)=0,VLOOKUP(C432,Locks!A:D,5,FALSE),\"\")","v":""},{"$f":"IF(COUNTBLANK(C432)=0,VLOOKUP(C432,Locks!A:E,6,FALSE),\"\")","v":""}]
[null,{"$f":"IF(COUNTBLANK(A433)=0,VLOOKUP(A433,Users!A:E,5,FALSE),\"\")","v":""},null,{"$f":"IF(COUNTBLANK(C433)=0,VLOOKUP(C433,Locks!A:D,5,FALSE),\"\")","v":""},{"$f":"IF(COUNTBLANK(C433)=0,VLOOKUP(C433,Locks!A:E,6,FALSE),\"\")","v":""}]
[null,{"$f":"IF(COUNTBLANK(A434)=0,VLOOKUP(A434,Users!A:E,5,FALSE),\"\")","v":""},null,{"$f":"IF(COUNTBLANK(C434)=0,VLOOKUP(C434,Locks!A:D,5,FALSE),\"\")","v":""},{"$f":"IF(COUNTBLANK(C434)=0,VLOOKUP(C434,Locks!A:E,6,FALSE),\"\")","v":""}]
[null,{"$f":"IF(COUNTBLANK(A435)=0,VLOOKUP(A435,Users!A:E,5,FALSE),\"\")","v":""},null,{"$f":"IF(COUNTBLANK(C435)=0,VLOOKUP(C435,Locks!A:D,5,FALSE),\"\")","v":""},{"$f":"IF(COUNTBLANK(C435)=0,VLOOKUP(C435,Locks!A:E,6,FALSE),\"\")","v":""}]
[null,{"$f":"IF(COUNTBLANK(A436)=0,VLOOKUP(A436,Users!A:E,5,FALSE),\"\")","v":""},null,{"$f":"IF(COUNTBLANK(C436)=0,VLOOKUP(C436,Locks!A:D,5,FALSE),\"\")","v":""},{"$f":"IF(COUNTBLANK(C436)=0,VLOOKUP(C436,Locks!A:E,6,FALSE),\"\")","v":""}]
[null,{"$f":"IF(COUNTBLANK(A437)=0,VLOOKUP(A437,Users!A:E,5,FALSE),\"\")","v":""},null,{"$f":"IF(COUNTBLANK(C437)=0,VLOOKUP(C437,Locks!A:D,5,FALSE),\"\")","v":""},{"$f":"IF(COUNTBLANK(C437)=0,VLOOKUP(C437,Locks!A:E,6,FALSE),\"\")","v":""}]
[null,{"$f":"IF(COUNTBLANK(A438)=0,VLOOKUP(A438,Users!A:E,5,FALSE),\"\")","v":""},null,{"$f":"IF(COUNTBLANK(C438)=0,VLOOKUP(C438,Locks!A:D,5,FALSE),\"\")","v":""},{"$f":"IF(COUNTBLANK(C438)=0,VLOOKUP(C438,Locks!A:E,6,FALSE),\"\")","v":""}]
[null,{"$f":"IF(COUNTBLANK(A439)=0,VLOOKUP(A439,Users!A:E,5,FALSE),\"\")","v":""},null,{"$f":"IF(COUNTBLANK(C439)=0,VLOOKUP(C439,Locks!A:D,5,FALSE),\"\")","v":""},{"$f":"IF(COUNTBLANK(C439)=0,VLOOKUP(C439,Locks!A:E,6,FALSE),\"\")","v":""}]
[null,{"$f":"IF(COUNTBLANK(A440)=0,VLOOKUP(A440,Users!A:E,5,FALSE),\"\")","v":""},null,{"$f":"IF(COUNTBLANK(C440)=0,VLOOKUP(C440,Locks!A:D,5,FALSE),\"\")","v":""},{"$f":"IF(COUNTBLANK(C440)=0,VLOOKUP(C440,Locks!A:E,6,FALSE),\"\")","v":""}]
[null,{"$f":"IF(COUNTBLANK(A441)=0,VLOOKUP(A441,Users!A:E,5,FALSE),\"\")","v":""},null,{"$f":"IF(COUNTBLANK(C441)=0,VLOOKUP(C441,Locks!A:D,5,FALSE),\"\")","v":""},{"$f":"IF(COUNTBLANK(C441)=0,VLOOKUP(C441,Locks!A:E,6,FALSE),\"\")","v":""}]
[null,{"$f":"IF(COUNTBLANK(A442)=0,VLOOKUP(A442,Users!A:E,5,FALSE),\"\")","v":""},null,{"$f":"IF(COUNTBLANK(C442)=0,VLOOKUP(C442,Locks!A:D,5,FALSE),\"\")","v":""},{"$f":"IF(COUNTBLANK(C442)=0,VLOOKUP(C442,Locks!A:E,6,FALSE),\"\")","v":""}]
[null,{"$f":"IF(COUNTBLANK(A443)=0,VLOOKUP(A443,Users!A:E,5,FALSE),\"\")","v":""},null,{"$f":"IF(COUNTBLANK(C443)=0,VLOOKUP(C443,Locks!A:D,5,FALSE),\"\")","v":""},{"$f":"IF(COUNTBLANK(C443)=0,VLOOKUP(C443,Locks!A:E,6,FALSE),\"\")","v":""}]
[null,{"$f":"IF(COUNTBLANK(A444)=0,VLOOKUP(A444,Users!A:E,5,FALSE),\"\")","v":""},null,{"$f":"IF(COUNTBLANK(C444)=0,VLOOKUP(C444,Locks!A:D,5,FALSE),\"\")","v":""},{"$f":"IF(COUNTBLANK(C444)=0,VLOOKUP(C444,Locks!A:E,6,FALSE),\"\")","v":""}]
[null,{"$f":"IF(COUNTBLANK(A445)=0,VLOOKUP(A445,Users!A:E,5,FALSE),\"\")","v":""},null,{"$f":"IF(COUNTBLANK(C445)=0,VLOOKUP(C445,Locks!A:D,5,FALSE),\"\")","v":""},{"$f":"IF(COUNTBLANK(C445)=0,VLOOKUP(C445,Locks!A:E,6,FALSE),\"\")","v":""}]
[null,{"$f":"IF(COUNTBLANK(A446)=0,VLOOKUP(A446,Users!A:E,5,FALSE),\"\")","v":""},null,{"$f":"IF(COUNTBLANK(C446)=0,VLOOKUP(C446,Locks!A:D,5,FALSE),\"\")","v":""},{"$f":"IF(COUNTBLANK(C446)=0,VLOOKUP(C446,Locks!A:E,6,FALSE),\"\")","v":""}]
[null,{"$f":"IF(COUNTBLANK(A447)=0,VLOOKUP(A447,Users!A:E,5,FALSE),\"\")","v":""},null,{"$f":"IF(COUNTBLANK(C447)=0,VLOOKUP(C447,Locks!A:D,5,FALSE),\"\")","v":""},{"$f":"IF(COUNTBLANK(C447)=0,VLOOKUP(C447,Locks!A:E,6,FALSE),\"\")","v":""}]
[null,{"$f":"IF(COUNTBLANK(A448)=0,VLOOKUP(A448,Users!A:E,5,FALSE),\"\")","v":""},null,{"$f":"IF(COUNTBLANK(C448)=0,VLOOKUP(C448,Locks!A:D,5,FALSE),\"\")","v":""},{"$f":"IF(COUNTBLANK(C448)=0,VLOOKUP(C448,Locks!A:E,6,FALSE),\"\")","v":""}]
[null,{"$f":"IF(COUNTBLANK(A449)=0,VLOOKUP(A449,Users!A:E,5,FALSE),\"\")","v":""},null,{"$f":"IF(COUNTBLANK(C449)=0,VLOOKUP(C449,Locks!A:D,5,FALSE),\"\")","v":""},{"$f":"IF(COUNTBLANK(C449)=0,VLOOKUP(C449,Locks!A:E,6,FALSE),\"\")","v":""}]
[null,{"$f":"IF(COUNTBLANK(A450)=0,VLOOKUP(A450,Users!A:E,5,FALSE),\"\")","v":""},null,{"$f":"IF(COUNTBLANK(C450)=0,VLOOKUP(C450,Locks!A:D,5,FALSE),\"\")","v":""},{"$f":"IF(COUNTBLANK(C450)=0,VLOOKUP(C450,Locks!A:E,6,FALSE),\"\")","v":""}]
[null,{"$f":"IF(COUNTBLANK(A451)=0,VLOOKUP(A451,Users!A:E,5,FALSE),\"\")","v":""},null,{"$f":"IF(COUNTBLANK(C451)=0,VLOOKUP(C451,Locks!A:D,5,FALSE),\"\")","v":""},{"$f":"IF(COUNTBLANK(C451)=0,VLOOKUP(C451,Locks!A:E,6,FALSE),\"\")","v":""}]
[null,{"$f":"IF(COUNTBLANK(A452)=0,VLOOKUP(A452,Users!A:E,5,FALSE),\"\")","v":""},null,{"$f":"IF(COUNTBLANK(C452)=0,VLOOKUP(C452,Locks!A:D,5,FALSE),\"\")","v":""},{"$f":"IF(COUNTBLANK(C452)=0,VLOOKUP(C452,Locks!A:E,6,FALSE),\"\")","v":""}]
[null,{"$f":"IF(COUNTBLANK(A453)=0,VLOOKUP(A453,Users!A:E,5,FALSE),\"\")","v":""},null,{"$f":"IF(COUNTBLANK(C453)=0,VLOOKUP(C453,Locks!A:D,5,FALSE),\"\")","v":""},{"$f":"IF(COUNTBLANK(C453)=0,VLOOKUP(C453,Locks!A:E,6,FALSE),\"\")","v":""}]
[null,{"$f":"IF(COUNTBLANK(A454)=0,VLOOKUP(A454,Users!A:E,5,FALSE),\"\")","v":""},null,{"$f":"IF(COUNTBLANK(C454)=0,VLOOKUP(C454,Locks!A:D,5,FALSE),\"\")","v":""},{"$f":"IF(COUNTBLANK(C454)=0,VLOOKUP(C454,Locks!A:E,6,FALSE),\"\")","v":""}]
[null,{"$f":"IF(COUNTBLANK(A455)=0,VLOOKUP(A455,Users!A:E,5,FALSE),\"\")","v":""},null,{"$f":"IF(COUNTBLANK(C455)=0,VLOOKUP(C455,Locks!A:D,5,FALSE),\"\")","v":""},{"$f":"IF(COUNTBLANK(C455)=0,VLOOKUP(C455,Locks!A:E,6,FALSE),\"\")","v":""}]
[null,{"$f":"IF(COUNTBLANK(A456)=0,VLOOKUP(A456,Users!A:E,5,FALSE),\"\")","v":""},null,{"$f":"IF(COUNTBLANK(C456)=0,VLOOKUP(C456,Locks!A:D,5,FALSE),\"\")","v":""},{"$f":"IF(COUNTBLANK(C456)=0,VLOOKUP(C456,Locks!A:E,6,FALSE),\"\")","v":""}]
[null,{"$f":"IF(COUNTBLANK(A457)=0,VLOOKUP(A457,Users!A:E,5,FALSE),\"\")","v":""},null,{"$f":"IF(COUNTBLANK(C457)=0,VLOOKUP(C457,Locks!A:D,5,FALSE),\"\")","v":""},{"$f":"IF(COUNTBLANK(C457)=0,VLOOKUP(C457,Locks!A:E,6,FALSE),\"\")","v":""}]
[null,{"$f":"IF(COUNTBLANK(A458)=0,VLOOKUP(A458,Users!A:E,5,FALSE),\"\")","v":""},null,{"$f":"IF(COUNTBLANK(C458)=0,VLOOKUP(C458,Locks!A:D,5,FALSE),\"\")","v":""},{"$f":"IF(COUNTBLANK(C458)=0,VLOOKUP(C458,Locks!A:E,6,FALSE),\"\")","v":""}]
[null,{"$f":"IF(COUNTBLANK(A459)=0,VLOOKUP(A459,Users!A:E,5,FALSE),\"\")","v":""},null,{"$f":"IF(COUNTBLANK(C459)=0,VLOOKUP(C459,Locks!A:D,5,FALSE),\"\")","v":""},{"$f":"IF(COUNTBLANK(C459)=0,VLOOKUP(C459,Locks!A:E,6,FALSE),\"\")","v":""}]
[null,{"$f":"IF(COUNTBLANK(A460)=0,VLOOKUP(A460,Users!A:E,5,FALSE),\"\")","v":""},null,{"$f":"IF(COUNTBLANK(C460)=0,VLOOKUP(C460,Locks!A:D,5,FALSE),\"\")","v":""},{"$f":"IF(COUNTBLANK(C460)=0,VLOOKUP(C460,Locks!A:E,6,FALSE),\"\")","v":""}]
[null,{"$f":"IF(COUNTBLANK(A461)=0,VLOOKUP(A461,Users!A:E,5,FALSE),\"\")","v":""},null,{"$f":"IF(COUNTBLANK(C461)=0,VLOOKUP(C461,Locks!A:D,5,FALSE),\"\")","v":""},{"$f":"IF(COUNTBLANK(C461)=0,VLOOKUP(C461,Locks!A:E,6,FALSE),\"\")","v":""}]
[null,{"$f":"IF(COUNTBLANK(A462)=0,VLOOKUP(A462,Users!A:E,5,FALSE),\"\")","v":""},null,{"$f":"IF(COUNTBLANK(C462)=0,VLOOKUP(C462,Locks!A:D,5,FALSE),\"\")","v":""},{"$f":"IF(COUNTBLANK(C462)=0,VLOOKUP(C462,Locks!A:E,6,FALSE),\"\")","v":""}]
[null,{"$f":"IF(COUNTBLANK(A463)=0,VLOOKUP(A463,Users!A:E,5,FALSE),\"\")","v":""},null,{"$f":"IF(COUNTBLANK(C463)=0,VLOOKUP(C463,Locks!A:D,5,FALSE),\"\")","v":""},{"$f":"IF(COUNTBLANK(C463)=0,VLOOKUP(C463,Locks!A:E,6,FALSE),\"\")","v":""}]
[null,{"$f":"IF(COUNTBLANK(A464)=0,VLOOKUP(A464,Users!A:E,5,FALSE),\"\")","v":""},null,{"$f":"IF(COUNTBLANK(C464)=0,VLOOKUP(C464,Locks!A:D,5,FALSE),\"\")","v":""},{"$f":"IF(COUNTBLANK(C464)=0,VLOOKUP(C464,Locks!A:E,6,FALSE),\"\")","v":""}]
[null,{"$f":"IF(COUNTBLANK(A465)=0,VLOOKUP(A465,Users!A:E,5,FALSE),\"\")","v":""},null,{"$f":"IF(COUNTBLANK(C465)=0,VLOOKUP(C465,Locks!A:D,5,FALSE),\"\")","v":""},{"$f":"IF(COUNTBLANK(C465)=0,VLOOKUP(C465,Locks!A:E,6,FALSE),\"\")","v":""}]
[null,{"$f":"IF(COUNTBLANK(A466)=0,VLOOKUP(A466,Users!A:E,5,FALSE),\"\")","v":""},null,{"$f":"IF(COUNTBLANK(C466)=0,VLOOKUP(C466,Locks!A:D,5,FALSE),\"\")","v":""},{"$f":"IF(COUNTBLANK(C466)=0,VLOOKUP(C466,Locks!A:E,6,FALSE),\"\")","v":""}]
[null,{"$f":"IF(COUNTBLANK(A467)=0,VLOOKUP(A467,Users!A:E,5,FALSE),\"\")","v":""},null,{"$f":"IF(COUNTBLANK(C467)=0,VLOOKUP(C467,Locks!A:D,5,FALSE),\"\")","v":""},{"$f":"IF(COUNTBLANK(C467)=0,VLOOKUP(C467,Locks!A:E,6,FALSE),\"\")","v":""}]
[null,{"$f":"IF(COUNTBLANK(A468)=0,VLOOKUP(A468,Users!A:E,5,FALSE),\"\")","v":""},null,{"$f":"IF(COUNTBLANK(C468)=0,VLOOKUP(C468,Locks!A:D,5,FALSE),\"\")","v":""},{"$f":"IF(COUNTBLANK(C468)=0,VLOOKUP(C468,Locks!A:E,6,FALSE),\"\")","v":""}]
[null,{"$f":"IF(COUNTBLANK(A469)=0,VLOOKUP(A469,Users!A:E,5,FALSE),\"\")","v":""},null,{"$f":"IF(COUNTBLANK(C469)=0,VLOOKUP(C469,Locks!A:D,5,FALSE),\"\")","v":""},{"$f":"IF(COUNTBLANK(C469)=0,VLOOKUP(C469,Locks!A:E,6,FALSE),\"\")","v":""}]
[null,{"$f":"IF(COUNTBLANK(A470)=0,VLOOKUP(A470,Users!A:E,5,FALSE),\"\")","v":""},null,{"$f":"IF(COUNTBLANK(C470)=0,VLOOKUP(C470,Locks!A:D,5,FALSE),\"\")","v":""},{"$f":"IF(COUNTBLANK(C470)=0,VLOOKUP(C470,Locks!A:E,6,FALSE),\"\")","v":""}]
[null,{"$f":"IF(COUNTBLANK(A471)=0,VLOOKUP(A471,Users!A:E,5,FALSE),\"\")","v":""},null,{"$f":"IF(COUNTBLANK(C471)=0,VLOOKUP(C471,Locks!A:D,5,FALSE),\"\")","v":""},{"$f":"IF(COUNTBLANK(C471)=0,VLOOKUP(C471,Locks!A:E,6,FALSE),\"\")","v":""}]
[null,{"$f":"IF(COUNTBLANK(A472)=0,VLOOKUP(A472,Users!A:E,5,FALSE),\"\")","v":""},null,{"$f":"IF(COUNTBLANK(C472)=0,VLOOKUP(C472,Locks!A:D,5,FALSE),\"\")","v":""},{"$f":"IF(COUNTBLANK(C472)=0,VLOOKUP(C472,Locks!A:E,6,FALSE),\"\")","v":""}]
[null,{"$f":"IF(COUNTBLANK(A473)=0,VLOOKUP(A473,Users!A:E,5,FALSE),\"\")","v":""},null,{"$f":"IF(COUNTBLANK(C473)=0,VLOOKUP(C473,Locks!A:D,5,FALSE),\"\")","v":""},{"$f":"IF(COUNTBLANK(C473)=0,VLOOKUP(C473,Locks!A:E,6,FALSE),\"\")","v":""}]
[null,{"$f":"IF(COUNTBLANK(A474)=0,VLOOKUP(A474,Users!A:E,5,FALSE),\"\")","v":""},null,{"$f":"IF(COUNTBLANK(C474)=0,VLOOKUP(C474,Locks!A:D,5,FALSE),\"\")","v":""},{"$f":"IF(COUNTBLANK(C474)=0,VLOOKUP(C474,Locks!A:E,6,FALSE),\"\")","v":""}]
[null,{"$f":"IF(COUNTBLANK(A475)=0,VLOOKUP(A475,Users!A:E,5,FALSE),\"\")","v":""},null,{"$f":"IF(COUNTBLANK(C475)=0,VLOOKUP(C475,Locks!A:D,5,FALSE),\"\")","v":""},{"$f":"IF(COUNTBLANK(C475)=0,VLOOKUP(C475,Locks!A:E,6,FALSE),\"\")","v":""}]
[null,{"$f":"IF(COUNTBLANK(A476)=0,VLOOKUP(A476,Users!A:E,5,FALSE),\"\")","v":""},null,{"$f":"IF(COUNTBLANK(C476)=0,VLOOKUP(C476,Locks!A:D,5,FALSE),\"\")","v":""},{"$f":"IF(COUNTBLANK(C476)=0,VLOOKUP(C476,Locks!A:E,6,FALSE),\"\")","v":""}]
[null,{"$f":"IF(COUNTBLANK(A477)=0,VLOOKUP(A477,Users!A:E,5,FALSE),\"\")","v":""},null,{"$f":"IF(COUNTBLANK(C477)=0,VLOOKUP(C477,Locks!A:D,5,FALSE),\"\")","v":""},{"$f":"IF(COUNTBLANK(C477)=0,VLOOKUP(C477,Locks!A:E,6,FALSE),\"\")","v":""}]
[null,{"$f":"IF(COUNTBLANK(A478)=0,VLOOKUP(A478,Users!A:E,5,FALSE),\"\")","v":""},null,{"$f":"IF(COUNTBLANK(C478)=0,VLOOKUP(C478,Locks!A:D,5,FALSE),\"\")","v":""},{"$f":"IF(COUNTBLANK(C478)=0,VLOOKUP(C478,Locks!A:E,6,FALSE),\"\")","v":""}]
[null,{"$f":"IF(COUNTBLANK(A479)=0,VLOOKUP(A479,Users!A:E,5,FALSE),\"\")","v":""},null,{"$f":"IF(COUNTBLANK(C479)=0,VLOOKUP(C479,Locks!A:D,5,FALSE),\"\")","v":""},{"$f":"IF(COUNTBLANK(C479)=0,VLOOKUP(C479,Locks!A:E,6,FALSE),\"\")","v":""}]
[null,{"$f":"IF(COUNTBLANK(A480)=0,VLOOKUP(A480,Users!A:E,5,FALSE),\"\")","v":""},null,{"$f":"IF(COUNTBLANK(C480)=0,VLOOKUP(C480,Locks!A:D,5,FALSE),\"\")","v":""},{"$f":"IF(COUNTBLANK(C480)=0,VLOOKUP(C480,Locks!A:E,6,FALSE),\"\")","v":""}]
[null,{"$f":"IF(COUNTBLANK(A481)=0,VLOOKUP(A481,Users!A:E,5,FALSE),\"\")","v":""},null,{"$f":"IF(COUNTBLANK(C481)=0,VLOOKUP(C481,Locks!A:D,5,FALSE),\"\")","v":""},{"$f":"IF(COUNTBLANK(C481)=0,VLOOKUP(C481,Locks!A:E,6,FALSE),\"\")","v":""}]
[null,{"$f":"IF(COUNTBLANK(A482)=0,VLOOKUP(A482,Users!A:E,5,FALSE),\"\")","v":""},null,{"$f":"IF(COUNTBLANK(C482)=0,VLOOKUP(C482,Locks!A:D,5,FALSE),\"\")","v":""},{"$f":"IF(COUNTBLANK(C482)=0,VLOOKUP(C482,Locks!A:E,6,FALSE),\"\")","v":""}]
[null,{"$f":"IF(COUNTBLANK(A483)=0,VLOOKUP(A483,Users!A:E,5,FALSE),\"\")","v":""},null,{"$f":"IF(COUNTBLANK(C483)=0,VLOOKUP(C483,Locks!A:D,5,FALSE),\"\")","v":""},{"$f":"IF(COUNTBLANK(C483)=0,VLOOKUP(C483,Locks!A:E,6,FALSE),\"\")","v":""}]
[null,{"$f":"IF(COUNTBLANK(A484)=0,VLOOKUP(A484,Users!A:E,5,FALSE),\"\")","v":""},null,{"$f":"IF(COUNTBLANK(C484)=0,VLOOKUP(C484,Locks!A:D,5,FALSE),\"\")","v":""},{"$f":"IF(COUNTBLANK(C484)=0,VLOOKUP(C484,Locks!A:E,6,FALSE),\"\")","v":""}]
[null,{"$f":"IF(COUNTBLANK(A485)=0,VLOOKUP(A485,Users!A:E,5,FALSE),\"\")","v":""},null,{"$f":"IF(COUNTBLANK(C485)=0,VLOOKUP(C485,Locks!A:D,5,FALSE),\"\")","v":""},{"$f":"IF(COUNTBLANK(C485)=0,VLOOKUP(C485,Locks!A:E,6,FALSE),\"\")","v":""}]
[null,{"$f":"IF(COUNTBLANK(A486)=0,VLOOKUP(A486,Users!A:E,5,FALSE),\"\")","v":""},null,{"$f":"IF(COUNTBLANK(C486)=0,VLOOKUP(C486,Locks!A:D,5,FALSE),\"\")","v":""},{"$f":"IF(COUNTBLANK(C486)=0,VLOOKUP(C486,Locks!A:E,6,FALSE),\"\")","v":""}]
[null,{"$f":"IF(COUNTBLANK(A487)=0,VLOOKUP(A487,Users!A:E,5,FALSE),\"\")","v":""},null,{"$f":"IF(COUNTBLANK(C487)=0,VLOOKUP(C487,Locks!A:D,5,FALSE),\"\")","v":""},{"$f":"IF(COUNTBLANK(C487)=0,VLOOKUP(C487,Locks!A:E,6,FALSE),\"\")","v":""}]
[null,{"$f":"IF(COUNTBLANK(A488)=0,VLOOKUP(A488,Users!A:E,5,FALSE),\"\")","v":""},null,{"$f":"IF(COUNTBLANK(C488)=0,VLOOKUP(C488,Locks!A:D,5,FALSE),\"\")","v":""},{"$f":"IF(COUNTBLANK(C488)=0,VLOOKUP(C488,Locks!A:E,6,FALSE),\"\")","v":""}]
[null,{"$f":"IF(COUNTBLANK(A489)=0,VLOOKUP(A489,Users!A:E,5,FALSE),\"\")","v":""},null,{"$f":"IF(COUNTBLANK(C489)=0,VLOOKUP(C489,Locks!A:D,5,FALSE),\"\")","v":""},{"$f":"IF(COUNTBLANK(C489)=0,VLOOKUP(C489,Locks!A:E,6,FALSE),\"\")","v":""}]
[null,{"$f":"IF(COUNTBLANK(A490)=0,VLOOKUP(A490,Users!A:E,5,FALSE),\"\")","v":""},null,{"$f":"IF(COUNTBLANK(C490)=0,VLOOKUP(C490,Locks!A:D,5,FALSE),\"\")","v":""},{"$f":"IF(COUNTBLANK(C490)=0,VLOOKUP(C490,Locks!A:E,6,FALSE),\"\")","v":""}]
[null,{"$f":"IF(COUNTBLANK(A491)=0,VLOOKUP(A491,Users!A:E,5,FALSE),\"\")","v":""},null,{"$f":"IF(COUNTBLANK(C491)=0,VLOOKUP(C491,Locks!A:D,5,FALSE),\"\")","v":""},{"$f":"IF(COUNTBLANK(C491)=0,VLOOKUP(C491,Locks!A:E,6,FALSE),\"\")","v":""}]
[null,{"$f":"IF(COUNTBLANK(A492)=0,VLOOKUP(A492,Users!A:E,5,FALSE),\"\")","v":""},null,{"$f":"IF(COUNTBLANK(C492)=0,VLOOKUP(C492,Locks!A:D,5,FALSE),\"\")","v":""},{"$f":"IF(COUNTBLANK(C492)=0,VLOOKUP(C492,Locks!A:E,6,FALSE),\"\")","v":""}]
[null,{"$f":"IF(COUNTBLANK(A493)=0,VLOOKUP(A493,Users!A:E,5,FALSE),\"\")","v":""},null,{"$f":"IF(COUNTBLANK(C493)=0,VLOOKUP(C493,Locks!A:D,5,FALSE),\"\")","v":""},{"$f":"IF(COUNTBLANK(C493)=0,VLOOKUP(C493,Locks!A:E,6,FALSE),\"\")","v":""}]
[null,{"$f":"IF(COUNTBLANK(A494)=0,VLOOKUP(A494,Users!A:E,5,FALSE),\"\")","v":""},null,{"$f":"IF(COUNTBLANK(C494)=0,VLOOKUP(C494,Locks!A:D,5,FALSE),\"\")","v":""},{"$f":"IF(COUNTBLANK(C494)=0,VLOOKUP(C494,Locks!A:E,6,FALSE),\"\")","v":""}]
[null,{"$f":"IF(COUNTBLANK(A495)=0,VLOOKUP(A495,Users!A:E,5,FALSE),\"\")","v":""},null,{"$f":"IF(COUNTBLANK(C495)=0,VLOOKUP(C495,Locks!A:D,5,FALSE),\"\")","v":""},{"$f":"IF(COUNTBLANK(C495)=0,VLOOKUP(C495,Locks!A:E,6,FALSE),\"\")","v":""}]
[null,{"$f":"IF(COUNTBLANK(A496)=0,VLOOKUP(A496,Users!A:E,5,FALSE),\"\")","v":""},null,{"$f":"IF(COUNTBLANK(C496)=0,VLOOKUP(C496,Locks!A:D,5,FALSE),\"\")","v":""},{"$f":"IF(COUNTBLANK(C496)=0,VLOOKUP(C496,Locks!A:E,6,FALSE),\"\")","v":""}]
[null,{"$f":"IF(COUNTBLANK(A497)=0,VLOOKUP(A497,Users!A:E,5,FALSE),\"\")","v":""},null,{"$f":"IF(COUNTBLANK(C497)=0,VLOOKUP(C497,Locks!A:D,5,FALSE),\"\")","v":""},{"$f":"IF(COUNTBLANK(C497)=0,VLOOKUP(C497,Locks!A:E,6,FALSE),\"\")","v":""}]
[null,{"$f":"IF(COUNTBLANK(A498)=0,VLOOKUP(A498,Users!A:E,5,FALSE),\"\")","v":""},null,{"$f":"IF(COUNTBLANK(C498)=0,VLOOKUP(C498,Locks!A:D,5,FALSE),\"\")","v":""},{"$f":"IF(COUNTBLANK(C498)=0,VLOOKUP(C498,Locks!A:E,6,FALSE),\"\")","v":""}]
[null,{"$f":"IF(COUNTBLANK(A499)=0,VLOOKUP(A499,Users!A:E,5,FALSE),\"\")","v":""},null,{"$f":"IF(COUNTBLANK(C499)=0,VLOOKUP(C499,Locks!A:D,5,FALSE),\"\")","v":""},{"$f":"IF(COUNTBLANK(C499)=0,VLOOKUP(C499,Locks!A:E,6,FALSE),\"\")","v":""}]
[null,{"$f":"IF(COUNTBLANK(A500)=0,VLOOKUP(A500,Users!A:E,5,FALSE),\"\")","v":""},null,{"$f":"IF(COUNTBLANK(C500)=0,VLOOKUP(C500,Locks!A:D,5,FALSE),\"\")","v":""},{"$f":"IF(COUNTBLANK(C500)=0,VLOOKUP(C500,Locks!A:E,6,FALSE),\"\")","v":""}]
[null,{"$f":"IF(COUNTBLANK(A501)=0,VLOOKUP(A501,Users!A:E,5,FALSE),\"\")","v":""},null,{"$f":"IF(COUNTBLANK(C501)=0,VLOOKUP(C501,Locks!A:D,5,FALSE),\"\")","v":""},{"$f":"IF(COUNTBLANK(C501)=0,VLOOKUP(C501,Locks!A:E,6,FALSE),\"\")","v":""}]
[null,{"$f":"IF(COUNTBLANK(A502)=0,VLOOKUP(A502,Users!A:E,5,FALSE),\"\")","v":""},null,{"$f":"IF(COUNTBLANK(C502)=0,VLOOKUP(C502,Locks!A:D,5,FALSE),\"\")","v":""},{"$f":"IF(COUNTBLANK(C502)=0,VLOOKUP(C502,Locks!A:E,6,FALSE),\"\")","v":""}]
[null,{"$f":"IF(COUNTBLANK(A503)=0,VLOOKUP(A503,Users!A:E,5,FALSE),\"\")","v":""},null,{"$f":"IF(COUNTBLANK(C503)=0,VLOOKUP(C503,Locks!A:D,5,FALSE),\"\")","v":""},{"$f":"IF(COUNTBLANK(C503)=0,VLOOKUP(C503,Locks!A:E,6,FALSE),\"\")","v":""}]
[null,{"$f":"IF(COUNTBLANK(A504)=0,VLOOKUP(A504,Users!A:E,5,FALSE),\"\")","v":""},null,{"$f":"IF(COUNTBLANK(C504)=0,VLOOKUP(C504,Locks!A:D,5,FALSE),\"\")","v":""},{"$f":"IF(COUNTBLANK(C504)=0,VLOOKUP(C504,Locks!A:E,6,FALSE),\"\")","v":""}]
[null,{"$f":"IF(COUNTBLANK(A505)=0,VLOOKUP(A505,Users!A:E,5,FALSE),\"\")","v":""},null,{"$f":"IF(COUNTBLANK(C505)=0,VLOOKUP(C505,Locks!A:D,5,FALSE),\"\")","v":""},{"$f":"IF(COUNTBLANK(C505)=0,VLOOKUP(C505,Locks!A:E,6,FALSE),\"\")","v":""}]
[null,{"$f":"IF(COUNTBLANK(A506)=0,VLOOKUP(A506,Users!A:E,5,FALSE),\"\")","v":""},null,{"$f":"IF(COUNTBLANK(C506)=0,VLOOKUP(C506,Locks!A:D,5,FALSE),\"\")","v":""},{"$f":"IF(COUNTBLANK(C506)=0,VLOOKUP(C506,Locks!A:E,6,FALSE),\"\")","v":""}]
[null,{"$f":"IF(COUNTBLANK(A507)=0,VLOOKUP(A507,Users!A:E,5,FALSE),\"\")","v":""},null,{"$f":"IF(COUNTBLANK(C507)=0,VLOOKUP(C507,Locks!A:D,5,FALSE),\"\")","v":""},{"$f":"IF(COUNTBLANK(C507)=0,VLOOKUP(C507,Locks!A:E,6,FALSE),\"\")","v":""}]
[null,{"$f":"IF(COUNTBLANK(A508)=0,VLOOKUP(A508,Users!A:E,5,FALSE),\"\")","v":""},null,{"$f":"IF(COUNTBLANK(C508)=0,VLOOKUP(C508,Locks!A:D,5,FALSE),\"\")","v":""},{"$f":"IF(COUNTBLANK(C508)=0,VLOOKUP(C508,Locks!A:E,6,FALSE),\"\")","v":""}]
[null,{"$f":"IF(COUNTBLANK(A509)=0,VLOOKUP(A509,Users!A:E,5,FALSE),\"\")","v":""},null,{"$f":"IF(COUNTBLANK(C509)=0,VLOOKUP(C509,Locks!A:D,5,FALSE),\"\")","v":""},{"$f":"IF(COUNTBLANK(C509)=0,VLOOKUP(C509,Locks!A:E,6,FALSE),\"\")","v":""}]
[null,{"$f":"IF(COUNTBLANK(A510)=0,VLOOKUP(A510,Users!A:E,5,FALSE),\"\")","v":""},null,{"$f":"IF(COUNTBLANK(C510)=0,VLOOKUP(C510,Locks!A:D,5,FALSE),\"\")","v":""},{"$f":"IF(COUNTBLANK(C510)=0,VLOOKUP(C510,Locks!A:E,6,FALSE),\"\")","v":""}]
[null,{"$f":"IF(COUNTBLANK(A511)=0,VLOOKUP(A511,Users!A:E,5,FALSE),\"\")","v":""},null,{"$f":"IF(COUNTBLANK(C511)=0,VLOOKUP(C511,Locks!A:D,5,FALSE),\"\")","v":""},{"$f":"IF(COUNTBLANK(C511)=0,VLOOKUP(C511,Locks!A:E,6,FALSE),\"\")","v":""}]
[null,{"$f":"IF(COUNTBLANK(A512)=0,VLOOKUP(A512,Users!A:E,5,FALSE),\"\")","v":""},null,{"$f":"IF(COUNTBLANK(C512)=0,VLOOKUP(C512,Locks!A:D,5,FALSE),\"\")","v":""},{"$f":"IF(COUNTBLANK(C512)=0,VLOOKUP(C512,Locks!A:E,6,FALSE),\"\")","v":""}]
[null,{"$f":"IF(COUNTBLANK(A513)=0,VLOOKUP(A513,Users!A:E,5,FALSE),\"\")","v":""},null,{"$f":"IF(COUNTBLANK(C513)=0,VLOOKUP(C513,Locks!A:D,5,FALSE),\"\")","v":""},{"$f":"IF(COUNTBLANK(C513)=0,VLOOKUP(C513,Locks!A:E,6,FALSE),\"\")","v":""}]
[null,{"$f":"IF(COUNTBLANK(A514)=0,VLOOKUP(A514,Users!A:E,5,FALSE),\"\")","v":""},null,{"$f":"IF(COUNTBLANK(C514)=0,VLOOKUP(C514,Locks!A:D,5,FALSE),\"\")","v":""},{"$f":"IF(COUNTBLANK(C514)=0,VLOOKUP(C514,Locks!A:E,6,FALSE),\"\")","v":""}]
[null,{"$f":"IF(COUNTBLANK(A515)=0,VLOOKUP(A515,Users!A:E,5,FALSE),\"\")","v":""},null,{"$f":"IF(COUNTBLANK(C515)=0,VLOOKUP(C515,Locks!A:D,5,FALSE),\"\")","v":""},{"$f":"IF(COUNTBLANK(C515)=0,VLOOKUP(C515,Locks!A:E,6,FALSE),\"\")","v":""}]
[null,{"$f":"IF(COUNTBLANK(A516)=0,VLOOKUP(A516,Users!A:E,5,FALSE),\"\")","v":""},null,{"$f":"IF(COUNTBLANK(C516)=0,VLOOKUP(C516,Locks!A:D,5,FALSE),\"\")","v":""},{"$f":"IF(COUNTBLANK(C516)=0,VLOOKUP(C516,Locks!A:E,6,FALSE),\"\")","v":""}]
[null,{"$f":"IF(COUNTBLANK(A517)=0,VLOOKUP(A517,Users!A:E,5,FALSE),\"\")","v":""},null,{"$f":"IF(COUNTBLANK(C517)=0,VLOOKUP(C517,Locks!A:D,5,FALSE),\"\")","v":""},{"$f":"IF(COUNTBLANK(C517)=0,VLOOKUP(C517,Locks!A:E,6,FALSE),\"\")","v":""}]
[null,{"$f":"IF(COUNTBLANK(A518)=0,VLOOKUP(A518,Users!A:E,5,FALSE),\"\")","v":""},null,{"$f":"IF(COUNTBLANK(C518)=0,VLOOKUP(C518,Locks!A:D,5,FALSE),\"\")","v":""},{"$f":"IF(COUNTBLANK(C518)=0,VLOOKUP(C518,Locks!A:E,6,FALSE),\"\")","v":""}]
[null,{"$f":"IF(COUNTBLANK(A519)=0,VLOOKUP(A519,Users!A:E,5,FALSE),\"\")","v":""},null,{"$f":"IF(COUNTBLANK(C519)=0,VLOOKUP(C519,Locks!A:D,5,FALSE),\"\")","v":""},{"$f":"IF(COUNTBLANK(C519)=0,VLOOKUP(C519,Locks!A:E,6,FALSE),\"\")","v":""}]
[null,{"$f":"IF(COUNTBLANK(A520)=0,VLOOKUP(A520,Users!A:E,5,FALSE),\"\")","v":""},null,{"$f":"IF(COUNTBLANK(C520)=0,VLOOKUP(C520,Locks!A:D,5,FALSE),\"\")","v":""},{"$f":"IF(COUNTBLANK(C520)=0,VLOOKUP(C520,Locks!A:E,6,FALSE),\"\")","v":""}]
[null,{"$f":"IF(COUNTBLANK(A521)=0,VLOOKUP(A521,Users!A:E,5,FALSE),\"\")","v":""},null,{"$f":"IF(COUNTBLANK(C521)=0,VLOOKUP(C521,Locks!A:D,5,FALSE),\"\")","v":""},{"$f":"IF(COUNTBLANK(C521)=0,VLOOKUP(C521,Locks!A:E,6,FALSE),\"\")","v":""}]
[null,{"$f":"IF(COUNTBLANK(A522)=0,VLOOKUP(A522,Users!A:E,5,FALSE),\"\")","v":""},null,{"$f":"IF(COUNTBLANK(C522)=0,VLOOKUP(C522,Locks!A:D,5,FALSE),\"\")","v":""},{"$f":"IF(COUNTBLANK(C522)=0,VLOOKUP(C522,Locks!A:E,6,FALSE),\"\")","v":""}]
[null,{"$f":"IF(COUNTBLANK(A523)=0,VLOOKUP(A523,Users!A:E,5,FALSE),\"\")","v":""},null,{"$f":"IF(COUNTBLANK(C523)=0,VLOOKUP(C523,Locks!A:D,5,FALSE),\"\")","v":""},{"$f":"IF(COUNTBLANK(C523)=0,VLOOKUP(C523,Locks!A:E,6,FALSE),\"\")","v":""}]
[null,{"$f":"IF(COUNTBLANK(A524)=0,VLOOKUP(A524,Users!A:E,5,FALSE),\"\")","v":""},null,{"$f":"IF(COUNTBLANK(C524)=0,VLOOKUP(C524,Locks!A:D,5,FALSE),\"\")","v":""},{"$f":"IF(COUNTBLANK(C524)=0,VLOOKUP(C524,Locks!A:E,6,FALSE),\"\")","v":""}]
[null,{"$f":"IF(COUNTBLANK(A525)=0,VLOOKUP(A525,Users!A:E,5,FALSE),\"\")","v":""},null,{"$f":"IF(COUNTBLANK(C525)=0,VLOOKUP(C525,Locks!A:D,5,FALSE),\"\")","v":""},{"$f":"IF(COUNTBLANK(C525)=0,VLOOKUP(C525,Locks!A:E,6,FALSE),\"\")","v":""}]
[null,{"$f":"IF(COUNTBLANK(A526)=0,VLOOKUP(A526,Users!A:E,5,FALSE),\"\")","v":""},null,{"$f":"IF(COUNTBLANK(C526)=0,VLOOKUP(C526,Locks!A:D,5,FALSE),\"\")","v":""},{"$f":"IF(COUNTBLANK(C526)=0,VLOOKUP(C526,Locks!A:E,6,FALSE),\"\")","v":""}]
[null,{"$f":"IF(COUNTBLANK(A527)=0,VLOOKUP(A527,Users!A:E,5,FALSE),\"\")","v":""},null,{"$f":"IF(COUNTBLANK(C527)=0,VLOOKUP(C527,Locks!A:D,5,FALSE),\"\")","v":""},{"$f":"IF(COUNTBLANK(C527)=0,VLOOKUP(C527,Locks!A:E,6,FALSE),\"\")","v":""}]
[null,{"$f":"IF(COUNTBLANK(A528)=0,VLOOKUP(A528,Users!A:E,5,FALSE),\"\")","v":""},null,{"$f":"IF(COUNTBLANK(C528)=0,VLOOKUP(C528,Locks!A:D,5,FALSE),\"\")","v":""},{"$f":"IF(COUNTBLANK(C528)=0,VLOOKUP(C528,Locks!A:E,6,FALSE),\"\")","v":""}]
[null,{"$f":"IF(COUNTBLANK(A529)=0,VLOOKUP(A529,Users!A:E,5,FALSE),\"\")","v":""},null,{"$f":"IF(COUNTBLANK(C529)=0,VLOOKUP(C529,Locks!A:D,5,FALSE),\"\")","v":""},{"$f":"IF(COUNTBLANK(C529)=0,VLOOKUP(C529,Locks!A:E,6,FALSE),\"\")","v":""}]
[null,{"$f":"IF(COUNTBLANK(A530)=0,VLOOKUP(A530,Users!A:E,5,FALSE),\"\")","v":""},null,{"$f":"IF(COUNTBLANK(C530)=0,VLOOKUP(C530,Locks!A:D,5,FALSE),\"\")","v":""},{"$f":"IF(COUNTBLANK(C530)=0,VLOOKUP(C530,Locks!A:E,6,FALSE),\"\")","v":""}]
[null,{"$f":"IF(COUNTBLANK(A531)=0,VLOOKUP(A531,Users!A:E,5,FALSE),\"\")","v":""},null,{"$f":"IF(COUNTBLANK(C531)=0,VLOOKUP(C531,Locks!A:D,5,FALSE),\"\")","v":""},{"$f":"IF(COUNTBLANK(C531)=0,VLOOKUP(C531,Locks!A:E,6,FALSE),\"\")","v":""}]
[null,{"$f":"IF(COUNTBLANK(A532)=0,VLOOKUP(A532,Users!A:E,5,FALSE),\"\")","v":""},null,{"$f":"IF(COUNTBLANK(C532)=0,VLOOKUP(C532,Locks!A:D,5,FALSE),\"\")","v":""},{"$f":"IF(COUNTBLANK(C532)=0,VLOOKUP(C532,Locks!A:E,6,FALSE),\"\")","v":""}]
[null,{"$f":"IF(COUNTBLANK(A533)=0,VLOOKUP(A533,Users!A:E,5,FALSE),\"\")","v":""},null,{"$f":"IF(COUNTBLANK(C533)=0,VLOOKUP(C533,Locks!A:D,5,FALSE),\"\")","v":""},{"$f":"IF(COUNTBLANK(C533)=0,VLOOKUP(C533,Locks!A:E,6,FALSE),\"\")","v":""}]
[null,{"$f":"IF(COUNTBLANK(A534)=0,VLOOKUP(A534,Users!A:E,5,FALSE),\"\")","v":""},null,{"$f":"IF(COUNTBLANK(C534)=0,VLOOKUP(C534,Locks!A:D,5,FALSE),\"\")","v":""},{"$f":"IF(COUNTBLANK(C534)=0,VLOOKUP(C534,Locks!A:E,6,FALSE),\"\")","v":""}]
[null,{"$f":"IF(COUNTBLANK(A535)=0,VLOOKUP(A535,Users!A:E,5,FALSE),\"\")","v":""},null,{"$f":"IF(COUNTBLANK(C535)=0,VLOOKUP(C535,Locks!A:D,5,FALSE),\"\")","v":""},{"$f":"IF(COUNTBLANK(C535)=0,VLOOKUP(C535,Locks!A:E,6,FALSE),\"\")","v":""}]
[null,{"$f":"IF(COUNTBLANK(A536)=0,VLOOKUP(A536,Users!A:E,5,FALSE),\"\")","v":""},null,{"$f":"IF(COUNTBLANK(C536)=0,VLOOKUP(C536,Locks!A:D,5,FALSE),\"\")","v":""},{"$f":"IF(COUNTBLANK(C536)=0,VLOOKUP(C536,Locks!A:E,6,FALSE),\"\")","v":""}]
[null,{"$f":"IF(COUNTBLANK(A537)=0,VLOOKUP(A537,Users!A:E,5,FALSE),\"\")","v":""},null,{"$f":"IF(COUNTBLANK(C537)=0,VLOOKUP(C537,Locks!A:D,5,FALSE),\"\")","v":""},{"$f":"IF(COUNTBLANK(C537)=0,VLOOKUP(C537,Locks!A:E,6,FALSE),\"\")","v":""}]
[null,{"$f":"IF(COUNTBLANK(A538)=0,VLOOKUP(A538,Users!A:E,5,FALSE),\"\")","v":""},null,{"$f":"IF(COUNTBLANK(C538)=0,VLOOKUP(C538,Locks!A:D,5,FALSE),\"\")","v":""},{"$f":"IF(COUNTBLANK(C538)=0,VLOOKUP(C538,Locks!A:E,6,FALSE),\"\")","v":""}]
[null,{"$f":"IF(COUNTBLANK(A539)=0,VLOOKUP(A539,Users!A:E,5,FALSE),\"\")","v":""},null,{"$f":"IF(COUNTBLANK(C539)=0,VLOOKUP(C539,Locks!A:D,5,FALSE),\"\")","v":""},{"$f":"IF(COUNTBLANK(C539)=0,VLOOKUP(C539,Locks!A:E,6,FALSE),\"\")","v":""}]
[null,{"$f":"IF(COUNTBLANK(A540)=0,VLOOKUP(A540,Users!A:E,5,FALSE),\"\")","v":""},null,{"$f":"IF(COUNTBLANK(C540)=0,VLOOKUP(C540,Locks!A:D,5,FALSE),\"\")","v":""},{"$f":"IF(COUNTBLANK(C540)=0,VLOOKUP(C540,Locks!A:E,6,FALSE),\"\")","v":""}]
[null,{"$f":"IF(COUNTBLANK(A541)=0,VLOOKUP(A541,Users!A:E,5,FALSE),\"\")","v":""},null,{"$f":"IF(COUNTBLANK(C541)=0,VLOOKUP(C541,Locks!A:D,5,FALSE),\"\")","v":""},{"$f":"IF(COUNTBLANK(C541)=0,VLOOKUP(C541,Locks!A:E,6,FALSE),\"\")","v":""}]
[null,{"$f":"IF(COUNTBLANK(A542)=0,VLOOKUP(A542,Users!A:E,5,FALSE),\"\")","v":""},null,{"$f":"IF(COUNTBLANK(C542)=0,VLOOKUP(C542,Locks!A:D,5,FALSE),\"\")","v":""},{"$f":"IF(COUNTBLANK(C542)=0,VLOOKUP(C542,Locks!A:E,6,FALSE),\"\")","v":""}]
[null,{"$f":"IF(COUNTBLANK(A543)=0,VLOOKUP(A543,Users!A:E,5,FALSE),\"\")","v":""},null,{"$f":"IF(COUNTBLANK(C543)=0,VLOOKUP(C543,Locks!A:D,5,FALSE),\"\")","v":""},{"$f":"IF(COUNTBLANK(C543)=0,VLOOKUP(C543,Locks!A:E,6,FALSE),\"\")","v":""}]
[null,{"$f":"IF(COUNTBLANK(A544)=0,VLOOKUP(A544,Users!A:E,5,FALSE),\"\")","v":""},null,{"$f":"IF(COUNTBLANK(C544)=0,VLOOKUP(C544,Locks!A:D,5,FALSE),\"\")","v":""},{"$f":"IF(COUNTBLANK(C544)=0,VLOOKUP(C544,Locks!A:E,6,FALSE),\"\")","v":""}]
[null,{"$f":"IF(COUNTBLANK(A545)=0,VLOOKUP(A545,Users!A:E,5,FALSE),\"\")","v":""},null,{"$f":"IF(COUNTBLANK(C545)=0,VLOOKUP(C545,Locks!A:D,5,FALSE),\"\")","v":""},{"$f":"IF(COUNTBLANK(C545)=0,VLOOKUP(C545,Locks!A:E,6,FALSE),\"\")","v":""}]
[null,{"$f":"IF(COUNTBLANK(A546)=0,VLOOKUP(A546,Users!A:E,5,FALSE),\"\")","v":""},null,{"$f":"IF(COUNTBLANK(C546)=0,VLOOKUP(C546,Locks!A:D,5,FALSE),\"\")","v":""},{"$f":"IF(COUNTBLANK(C546)=0,VLOOKUP(C546,Locks!A:E,6,FALSE),\"\")","v":""}]
[null,{"$f":"IF(COUNTBLANK(A547)=0,VLOOKUP(A547,Users!A:E,5,FALSE),\"\")","v":""},null,{"$f":"IF(COUNTBLANK(C547)=0,VLOOKUP(C547,Locks!A:D,5,FALSE),\"\")","v":""},{"$f":"IF(COUNTBLANK(C547)=0,VLOOKUP(C547,Locks!A:E,6,FALSE),\"\")","v":""}]
[null,{"$f":"IF(COUNTBLANK(A548)=0,VLOOKUP(A548,Users!A:E,5,FALSE),\"\")","v":""},null,{"$f":"IF(COUNTBLANK(C548)=0,VLOOKUP(C548,Locks!A:D,5,FALSE),\"\")","v":""},{"$f":"IF(COUNTBLANK(C548)=0,VLOOKUP(C548,Locks!A:E,6,FALSE),\"\")","v":""}]
[null,{"$f":"IF(COUNTBLANK(A549)=0,VLOOKUP(A549,Users!A:E,5,FALSE),\"\")","v":""},null,{"$f":"IF(COUNTBLANK(C549)=0,VLOOKUP(C549,Locks!A:D,5,FALSE),\"\")","v":""},{"$f":"IF(COUNTBLANK(C549)=0,VLOOKUP(C549,Locks!A:E,6,FALSE),\"\")","v":""}]
[null,{"$f":"IF(COUNTBLANK(A550)=0,VLOOKUP(A550,Users!A:E,5,FALSE),\"\")","v":""},null,{"$f":"IF(COUNTBLANK(C550)=0,VLOOKUP(C550,Locks!A:D,5,FALSE),\"\")","v":""},{"$f":"IF(COUNTBLANK(C550)=0,VLOOKUP(C550,Locks!A:E,6,FALSE),\"\")","v":""}]
[null,{"$f":"IF(COUNTBLANK(A551)=0,VLOOKUP(A551,Users!A:E,5,FALSE),\"\")","v":""},null,{"$f":"IF(COUNTBLANK(C551)=0,VLOOKUP(C551,Locks!A:D,5,FALSE),\"\")","v":""},{"$f":"IF(COUNTBLANK(C551)=0,VLOOKUP(C551,Locks!A:E,6,FALSE),\"\")","v":""}]
[null,{"$f":"IF(COUNTBLANK(A552)=0,VLOOKUP(A552,Users!A:E,5,FALSE),\"\")","v":""},null,{"$f":"IF(COUNTBLANK(C552)=0,VLOOKUP(C552,Locks!A:D,5,FALSE),\"\")","v":""},{"$f":"IF(COUNTBLANK(C552)=0,VLOOKUP(C552,Locks!A:E,6,FALSE),\"\")","v":""}]
[null,{"$f":"IF(COUNTBLANK(A553)=0,VLOOKUP(A553,Users!A:E,5,FALSE),\"\")","v":""},null,{"$f":"IF(COUNTBLANK(C553)=0,VLOOKUP(C553,Locks!A:D,5,FALSE),\"\")","v":""},{"$f":"IF(COUNTBLANK(C553)=0,VLOOKUP(C553,Locks!A:E,6,FALSE),\"\")","v":""}]
[null,{"$f":"IF(COUNTBLANK(A554)=0,VLOOKUP(A554,Users!A:E,5,FALSE),\"\")","v":""},null,{"$f":"IF(COUNTBLANK(C554)=0,VLOOKUP(C554,Locks!A:D,5,FALSE),\"\")","v":""},{"$f":"IF(COUNTBLANK(C554)=0,VLOOKUP(C554,Locks!A:E,6,FALSE),\"\")","v":""}]
[null,{"$f":"IF(COUNTBLANK(A555)=0,VLOOKUP(A555,Users!A:E,5,FALSE),\"\")","v":""},null,{"$f":"IF(COUNTBLANK(C555)=0,VLOOKUP(C555,Locks!A:D,5,FALSE),\"\")","v":""},{"$f":"IF(COUNTBLANK(C555)=0,VLOOKUP(C555,Locks!A:E,6,FALSE),\"\")","v":""}]
[null,{"$f":"IF(COUNTBLANK(A556)=0,VLOOKUP(A556,Users!A:E,5,FALSE),\"\")","v":""},null,{"$f":"IF(COUNTBLANK(C556)=0,VLOOKUP(C556,Locks!A:D,5,FALSE),\"\")","v":""},{"$f":"IF(COUNTBLANK(C556)=0,VLOOKUP(C556,Locks!A:E,6,FALSE),\"\")","v":""}]
[null,{"$f":"IF(COUNTBLANK(A557)=0,VLOOKUP(A557,Users!A:E,5,FALSE),\"\")","v":""},null,{"$f":"IF(COUNTBLANK(C557)=0,VLOOKUP(C557,Locks!A:D,5,FALSE),\"\")","v":""},{"$f":"IF(COUNTBLANK(C557)=0,VLOOKUP(C557,Locks!A:E,6,FALSE),\"\")","v":""}]
[null,{"$f":"IF(COUNTBLANK(A558)=0,VLOOKUP(A558,Users!A:E,5,FALSE),\"\")","v":""},null,{"$f":"IF(COUNTBLANK(C558)=0,VLOOKUP(C558,Locks!A:D,5,FALSE),\"\")","v":""},{"$f":"IF(COUNTBLANK(C558)=0,VLOOKUP(C558,Locks!A:E,6,FALSE),\"\")","v":""}]
[null,{"$f":"IF(COUNTBLANK(A559)=0,VLOOKUP(A559,Users!A:E,5,FALSE),\"\")","v":""},null,{"$f":"IF(COUNTBLANK(C559)=0,VLOOKUP(C559,Locks!A:D,5,FALSE),\"\")","v":""},{"$f":"IF(COUNTBLANK(C559)=0,VLOOKUP(C559,Locks!A:E,6,FALSE),\"\")","v":""}]
[null,{"$f":"IF(COUNTBLANK(A560)=0,VLOOKUP(A560,Users!A:E,5,FALSE),\"\")","v":""},null,{"$f":"IF(COUNTBLANK(C560)=0,VLOOKUP(C560,Locks!A:D,5,FALSE),\"\")","v":""},{"$f":"IF(COUNTBLANK(C560)=0,VLOOKUP(C560,Locks!A:E,6,FALSE),\"\")","v":""}]
[null,{"$f":"IF(COUNTBLANK(A561)=0,VLOOKUP(A561,Users!A:E,5,FALSE),\"\")","v":""},null,{"$f":"IF(COUNTBLANK(C561)=0,VLOOKUP(C561,Locks!A:D,5,FALSE),\"\")","v":""},{"$f":"IF(COUNTBLANK(C561)=0,VLOOKUP(C561,Locks!A:E,6,FALSE),\"\")","v":""}]
[null,{"$f":"IF(COUNTBLANK(A562)=0,VLOOKUP(A562,Users!A:E,5,FALSE),\"\")","v":""},null,{"$f":"IF(COUNTBLANK(C562)=0,VLOOKUP(C562,Locks!A:D,5,FALSE),\"\")","v":""},{"$f":"IF(COUNTBLANK(C562)=0,VLOOKUP(C562,Locks!A:E,6,FALSE),\"\")","v":""}]
[null,{"$f":"IF(COUNTBLANK(A563)=0,VLOOKUP(A563,Users!A:E,5,FALSE),\"\")","v":""},null,{"$f":"IF(COUNTBLANK(C563)=0,VLOOKUP(C563,Locks!A:D,5,FALSE),\"\")","v":""},{"$f":"IF(COUNTBLANK(C563)=0,VLOOKUP(C563,Locks!A:E,6,FALSE),\"\")","v":""}]
[null,{"$f":"IF(COUNTBLANK(A564)=0,VLOOKUP(A564,Users!A:E,5,FALSE),\"\")","v":""},null,{"$f":"IF(COUNTBLANK(C564)=0,VLOOKUP(C564,Locks!A:D,5,FALSE),\"\")","v":""},{"$f":"IF(COUNTBLANK(C564)=0,VLOOKUP(C564,Locks!A:E,6,FALSE),\"\")","v":""}]
[null,{"$f":"IF(COUNTBLANK(A565)=0,VLOOKUP(A565,Users!A:E,5,FALSE),\"\")","v":""},null,{"$f":"IF(COUNTBLANK(C565)=0,VLOOKUP(C565,Locks!A:D,5,FALSE),\"\")","v":""},{"$f":"IF(COUNTBLANK(C565)=0,VLOOKUP(C565,Locks!A:E,6,FALSE),\"\")","v":""}]
[null,{"$f":"IF(COUNTBLANK(A566)=0,VLOOKUP(A566,Users!A:E,5,FALSE),\"\")","v":""},null,{"$f":"IF(COUNTBLANK(C566)=0,VLOOKUP(C566,Locks!A:D,5,FALSE),\"\")","v":""},{"$f":"IF(COUNTBLANK(C566)=0,VLOOKUP(C566,Locks!A:E,6,FALSE),\"\")","v":""}]
[null,{"$f":"IF(COUNTBLANK(A567)=0,VLOOKUP(A567,Users!A:E,5,FALSE),\"\")","v":""},null,{"$f":"IF(COUNTBLANK(C567)=0,VLOOKUP(C567,Locks!A:D,5,FALSE),\"\")","v":""},{"$f":"IF(COUNTBLANK(C567)=0,VLOOKUP(C567,Locks!A:E,6,FALSE),\"\")","v":""}]
[null,{"$f":"IF(COUNTBLANK(A568)=0,VLOOKUP(A568,Users!A:E,5,FALSE),\"\")","v":""},null,{"$f":"IF(COUNTBLANK(C568)=0,VLOOKUP(C568,Locks!A:D,5,FALSE),\"\")","v":""},{"$f":"IF(COUNTBLANK(C568)=0,VLOOKUP(C568,Locks!A:E,6,FALSE),\"\")","v":""}]
[null,{"$f":"IF(COUNTBLANK(A569)=0,VLOOKUP(A569,Users!A:E,5,FALSE),\"\")","v":""},null,{"$f":"IF(COUNTBLANK(C569)=0,VLOOKUP(C569,Locks!A:D,5,FALSE),\"\")","v":""},{"$f":"IF(COUNTBLANK(C569)=0,VLOOKUP(C569,Locks!A:E,6,FALSE),\"\")","v":""}]
[null,{"$f":"IF(COUNTBLANK(A570)=0,VLOOKUP(A570,Users!A:E,5,FALSE),\"\")","v":""},null,{"$f":"IF(COUNTBLANK(C570)=0,VLOOKUP(C570,Locks!A:D,5,FALSE),\"\")","v":""},{"$f":"IF(COUNTBLANK(C570)=0,VLOOKUP(C570,Locks!A:E,6,FALSE),\"\")","v":""}]
[null,{"$f":"IF(COUNTBLANK(A571)=0,VLOOKUP(A571,Users!A:E,5,FALSE),\"\")","v":""},null,{"$f":"IF(COUNTBLANK(C571)=0,VLOOKUP(C571,Locks!A:D,5,FALSE),\"\")","v":""},{"$f":"IF(COUNTBLANK(C571)=0,VLOOKUP(C571,Locks!A:E,6,FALSE),\"\")","v":""}]
[null,{"$f":"IF(COUNTBLANK(A572)=0,VLOOKUP(A572,Users!A:E,5,FALSE),\"\")","v":""},null,{"$f":"IF(COUNTBLANK(C572)=0,VLOOKUP(C572,Locks!A:D,5,FALSE),\"\")","v":""},{"$f":"IF(COUNTBLANK(C572)=0,VLOOKUP(C572,Locks!A:E,6,FALSE),\"\")","v":""}]
[null,{"$f":"IF(COUNTBLANK(A573)=0,VLOOKUP(A573,Users!A:E,5,FALSE),\"\")","v":""},null,{"$f":"IF(COUNTBLANK(C573)=0,VLOOKUP(C573,Locks!A:D,5,FALSE),\"\")","v":""},{"$f":"IF(COUNTBLANK(C573)=0,VLOOKUP(C573,Locks!A:E,6,FALSE),\"\")","v":""}]
[null,{"$f":"IF(COUNTBLANK(A574)=0,VLOOKUP(A574,Users!A:E,5,FALSE),\"\")","v":""},null,{"$f":"IF(COUNTBLANK(C574)=0,VLOOKUP(C574,Locks!A:D,5,FALSE),\"\")","v":""},{"$f":"IF(COUNTBLANK(C574)=0,VLOOKUP(C574,Locks!A:E,6,FALSE),\"\")","v":""}]
[null,{"$f":"IF(COUNTBLANK(A575)=0,VLOOKUP(A575,Users!A:E,5,FALSE),\"\")","v":""},null,{"$f":"IF(COUNTBLANK(C575)=0,VLOOKUP(C575,Locks!A:D,5,FALSE),\"\")","v":""},{"$f":"IF(COUNTBLANK(C575)=0,VLOOKUP(C575,Locks!A:E,6,FALSE),\"\")","v":""}]
[null,{"$f":"IF(COUNTBLANK(A576)=0,VLOOKUP(A576,Users!A:E,5,FALSE),\"\")","v":""},null,{"$f":"IF(COUNTBLANK(C576)=0,VLOOKUP(C576,Locks!A:D,5,FALSE),\"\")","v":""},{"$f":"IF(COUNTBLANK(C576)=0,VLOOKUP(C576,Locks!A:E,6,FALSE),\"\")","v":""}]
[null,{"$f":"IF(COUNTBLANK(A577)=0,VLOOKUP(A577,Users!A:E,5,FALSE),\"\")","v":""},null,{"$f":"IF(COUNTBLANK(C577)=0,VLOOKUP(C577,Locks!A:D,5,FALSE),\"\")","v":""},{"$f":"IF(COUNTBLANK(C577)=0,VLOOKUP(C577,Locks!A:E,6,FALSE),\"\")","v":""}]
[null,{"$f":"IF(COUNTBLANK(A578)=0,VLOOKUP(A578,Users!A:E,5,FALSE),\"\")","v":""},null,{"$f":"IF(COUNTBLANK(C578)=0,VLOOKUP(C578,Locks!A:D,5,FALSE),\"\")","v":""},{"$f":"IF(COUNTBLANK(C578)=0,VLOOKUP(C578,Locks!A:E,6,FALSE),\"\")","v":""}]
[null,{"$f":"IF(COUNTBLANK(A579)=0,VLOOKUP(A579,Users!A:E,5,FALSE),\"\")","v":""},null,{"$f":"IF(COUNTBLANK(C579)=0,VLOOKUP(C579,Locks!A:D,5,FALSE),\"\")","v":""},{"$f":"IF(COUNTBLANK(C579)=0,VLOOKUP(C579,Locks!A:E,6,FALSE),\"\")","v":""}]
[null,{"$f":"IF(COUNTBLANK(A580)=0,VLOOKUP(A580,Users!A:E,5,FALSE),\"\")","v":""},null,{"$f":"IF(COUNTBLANK(C580)=0,VLOOKUP(C580,Locks!A:D,5,FALSE),\"\")","v":""},{"$f":"IF(COUNTBLANK(C580)=0,VLOOKUP(C580,Locks!A:E,6,FALSE),\"\")","v":""}]
[null,{"$f":"IF(COUNTBLANK(A581)=0,VLOOKUP(A581,Users!A:E,5,FALSE),\"\")","v":""},null,{"$f":"IF(COUNTBLANK(C581)=0,VLOOKUP(C581,Locks!A:D,5,FALSE),\"\")","v":""},{"$f":"IF(COUNTBLANK(C581)=0,VLOOKUP(C581,Locks!A:E,6,FALSE),\"\")","v":""}]
[null,{"$f":"IF(COUNTBLANK(A582)=0,VLOOKUP(A582,Users!A:E,5,FALSE),\"\")","v":""},null,{"$f":"IF(COUNTBLANK(C582)=0,VLOOKUP(C582,Locks!A:D,5,FALSE),\"\")","v":""},{"$f":"IF(COUNTBLANK(C582)=0,VLOOKUP(C582,Locks!A:E,6,FALSE),\"\")","v":""}]
[null,{"$f":"IF(COUNTBLANK(A583)=0,VLOOKUP(A583,Users!A:E,5,FALSE),\"\")","v":""},null,{"$f":"IF(COUNTBLANK(C583)=0,VLOOKUP(C583,Locks!A:D,5,FALSE),\"\")","v":""},{"$f":"IF(COUNTBLANK(C583)=0,VLOOKUP(C583,Locks!A:E,6,FALSE),\"\")","v":""}]
[null,{"$f":"IF(COUNTBLANK(A584)=0,VLOOKUP(A584,Users!A:E,5,FALSE),\"\")","v":""},null,{"$f":"IF(COUNTBLANK(C584)=0,VLOOKUP(C584,Locks!A:D,5,FALSE),\"\")","v":""},{"$f":"IF(COUNTBLANK(C584)=0,VLOOKUP(C584,Locks!A:E,6,FALSE),\"\")","v":""}]
[null,{"$f":"IF(COUNTBLANK(A585)=0,VLOOKUP(A585,Users!A:E,5,FALSE),\"\")","v":""},null,{"$f":"IF(COUNTBLANK(C585)=0,VLOOKUP(C585,Locks!A:D,5,FALSE),\"\")","v":""},{"$f":"IF(COUNTBLANK(C585)=0,VLOOKUP(C585,Locks!A:E,6,FALSE),\"\")","v":""}]
[null,{"$f":"IF(COUNTBLANK(A586)=0,VLOOKUP(A586,Users!A:E,5,FALSE),\"\")","v":""},null,{"$f":"IF(COUNTBLANK(C586)=0,VLOOKUP(C586,Locks!A:D,5,FALSE),\"\")","v":""},{"$f":"IF(COUNTBLANK(C586)=0,VLOOKUP(C586,Locks!A:E,6,FALSE),\"\")","v":""}]
[null,{"$f":"IF(COUNTBLANK(A587)=0,VLOOKUP(A587,Users!A:E,5,FALSE),\"\")","v":""},null,{"$f":"IF(COUNTBLANK(C587)=0,VLOOKUP(C587,Locks!A:D,5,FALSE),\"\")","v":""},{"$f":"IF(COUNTBLANK(C587)=0,VLOOKUP(C587,Locks!A:E,6,FALSE),\"\")","v":""}]
[null,{"$f":"IF(COUNTBLANK(A588)=0,VLOOKUP(A588,Users!A:E,5,FALSE),\"\")","v":""},null,{"$f":"IF(COUNTBLANK(C588)=0,VLOOKUP(C588,Locks!A:D,5,FALSE),\"\")","v":""},{"$f":"IF(COUNTBLANK(C588)=0,VLOOKUP(C588,Locks!A:E,6,FALSE),\"\")","v":""}]
[null,{"$f":"IF(COUNTBLANK(A589)=0,VLOOKUP(A589,Users!A:E,5,FALSE),\"\")","v":""},null,{"$f":"IF(COUNTBLANK(C589)=0,VLOOKUP(C589,Locks!A:D,5,FALSE),\"\")","v":""},{"$f":"IF(COUNTBLANK(C589)=0,VLOOKUP(C589,Locks!A:E,6,FALSE),\"\")","v":""}]
[null,{"$f":"IF(COUNTBLANK(A590)=0,VLOOKUP(A590,Users!A:E,5,FALSE),\"\")","v":""},null,{"$f":"IF(COUNTBLANK(C590)=0,VLOOKUP(C590,Locks!A:D,5,FALSE),\"\")","v":""},{"$f":"IF(COUNTBLANK(C590)=0,VLOOKUP(C590,Locks!A:E,6,FALSE),\"\")","v":""}]
[null,{"$f":"IF(COUNTBLANK(A591)=0,VLOOKUP(A591,Users!A:E,5,FALSE),\"\")","v":""},null,{"$f":"IF(COUNTBLANK(C591)=0,VLOOKUP(C591,Locks!A:D,5,FALSE),\"\")","v":""},{"$f":"IF(COUNTBLANK(C591)=0,VLOOKUP(C591,Locks!A:E,6,FALSE),\"\")","v":""}]
[null,{"$f":"IF(COUNTBLANK(A592)=0,VLOOKUP(A592,Users!A:E,5,FALSE),\"\")","v":""},null,{"$f":"IF(COUNTBLANK(C592)=0,VLOOKUP(C592,Locks!A:D,5,FALSE),\"\")","v":""},{"$f":"IF(COUNTBLANK(C592)=0,VLOOKUP(C592,Locks!A:E,6,FALSE),\"\")","v":""}]
[null,{"$f":"IF(COUNTBLANK(A593)=0,VLOOKUP(A593,Users!A:E,5,FALSE),\"\")","v":""},null,{"$f":"IF(COUNTBLANK(C593)=0,VLOOKUP(C593,Locks!A:D,5,FALSE),\"\")","v":""},{"$f":"IF(COUNTBLANK(C593)=0,VLOOKUP(C593,Locks!A:E,6,FALSE),\"\")","v":""}]
[null,{"$f":"IF(COUNTBLANK(A594)=0,VLOOKUP(A594,Users!A:E,5,FALSE),\"\")","v":""},null,{"$f":"IF(COUNTBLANK(C594)=0,VLOOKUP(C594,Locks!A:D,5,FALSE),\"\")","v":""},{"$f":"IF(COUNTBLANK(C594)=0,VLOOKUP(C594,Locks!A:E,6,FALSE),\"\")","v":""}]
[null,{"$f":"IF(COUNTBLANK(A595)=0,VLOOKUP(A595,Users!A:E,5,FALSE),\"\")","v":""},null,{"$f":"IF(COUNTBLANK(C595)=0,VLOOKUP(C595,Locks!A:D,5,FALSE),\"\")","v":""},{"$f":"IF(COUNTBLANK(C595)=0,VLOOKUP(C595,Locks!A:E,6,FALSE),\"\")","v":""}]
[null,{"$f":"IF(COUNTBLANK(A596)=0,VLOOKUP(A596,Users!A:E,5,FALSE),\"\")","v":""},null,{"$f":"IF(COUNTBLANK(C596)=0,VLOOKUP(C596,Locks!A:D,5,FALSE),\"\")","v":""},{"$f":"IF(COUNTBLANK(C596)=0,VLOOKUP(C596,Locks!A:E,6,FALSE),\"\")","v":""}]
[null,{"$f":"IF(COUNTBLANK(A597)=0,VLOOKUP(A597,Users!A:E,5,FALSE),\"\")","v":""},null,{"$f":"IF(COUNTBLANK(C597)=0,VLOOKUP(C597,Locks!A:D,5,FALSE),\"\")","v":""},{"$f":"IF(COUNTBLANK(C597)=0,VLOOKUP(C597,Locks!A:E,6,FALSE),\"\")","v":""}]
[null,{"$f":"IF(COUNTBLANK(A598)=0,VLOOKUP(A598,Users!A:E,5,FALSE),\"\")","v":""},null,{"$f":"IF(COUNTBLANK(C598)=0,VLOOKUP(C598,Locks!A:D,5,FALSE),\"\")","v":""},{"$f":"IF(COUNTBLANK(C598)=0,VLOOKUP(C598,Locks!A:E,6,FALSE),\"\")","v":""}]
[null,{"$f":"IF(COUNTBLANK(A599)=0,VLOOKUP(A599,Users!A:E,5,FALSE),\"\")","v":""},null,{"$f":"IF(COUNTBLANK(C599)=0,VLOOKUP(C599,Locks!A:D,5,FALSE),\"\")","v":""},{"$f":"IF(COUNTBLANK(C599)=0,VLOOKUP(C599,Locks!A:E,6,FALSE),\"\")","v":""}]
[null,{"$f":"IF(COUNTBLANK(A600)=0,VLOOKUP(A600,Users!A:E,5,FALSE),\"\")","v":""},null,{"$f":"IF(COUNTBLANK(C600)=0,VLOOKUP(C600,Locks!A:D,5,FALSE),\"\")","v":""},{"$f":"IF(COUNTBLANK(C600)=0,VLOOKUP(C600,Locks!A:E,6,FALSE),\"\")","v":""}]
[null,{"$f":"IF(COUNTBLANK(A601)=0,VLOOKUP(A601,Users!A:E,5,FALSE),\"\")","v":""},null,{"$f":"IF(COUNTBLANK(C601)=0,VLOOKUP(C601,Locks!A:D,5,FALSE),\"\")","v":""},{"$f":"IF(COUNTBLANK(C601)=0,VLOOKUP(C601,Locks!A:E,6,FALSE),\"\")","v":""}]
[null,{"$f":"IF(COUNTBLANK(A602)=0,VLOOKUP(A602,Users!A:E,5,FALSE),\"\")","v":""},null,{"$f":"IF(COUNTBLANK(C602)=0,VLOOKUP(C602,Locks!A:D,5,FALSE),\"\")","v":""},{"$f":"IF(COUNTBLANK(C602)=0,VLOOKUP(C602,Locks!A:E,6,FALSE),\"\")","v":""}]
[null,{"$f":"IF(COUNTBLANK(A603)=0,VLOOKUP(A603,Users!A:E,5,FALSE),\"\")","v":""},null,{"$f":"IF(COUNTBLANK(C603)=0,VLOOKUP(C603,Locks!A:D,5,FALSE),\"\")","v":""},{"$f":"IF(COUNTBLANK(C603)=0,VLOOKUP(C603,Locks!A:E,6,FALSE),\"\")","v":""}]
[null,{"$f":"IF(COUNTBLANK(A604)=0,VLOOKUP(A604,Users!A:E,5,FALSE),\"\")","v":""},null,{"$f":"IF(COUNTBLANK(C604)=0,VLOOKUP(C604,Locks!A:D,5,FALSE),\"\")","v":""},{"$f":"IF(COUNTBLANK(C604)=0,VLOOKUP(C604,Locks!A:E,6,FALSE),\"\")","v":""}]
[null,{"$f":"IF(COUNTBLANK(A605)=0,VLOOKUP(A605,Users!A:E,5,FALSE),\"\")","v":""},null,{"$f":"IF(COUNTBLANK(C605)=0,VLOOKUP(C605,Locks!A:D,5,FALSE),\"\")","v":""},{"$f":"IF(COUNTBLANK(C605)=0,VLOOKUP(C605,Locks!A:E,6,FALSE),\"\")","v":""}]
[null,{"$f":"IF(COUNTBLANK(A606)=0,VLOOKUP(A606,Users!A:E,5,FALSE),\"\")","v":""},null,{"$f":"IF(COUNTBLANK(C606)=0,VLOOKUP(C606,Locks!A:D,5,FALSE),\"\")","v":""},{"$f":"IF(COUNTBLANK(C606)=0,VLOOKUP(C606,Locks!A:E,6,FALSE),\"\")","v":""}]
[null,{"$f":"IF(COUNTBLANK(A607)=0,VLOOKUP(A607,Users!A:E,5,FALSE),\"\")","v":""},null,{"$f":"IF(COUNTBLANK(C607)=0,VLOOKUP(C607,Locks!A:D,5,FALSE),\"\")","v":""},{"$f":"IF(COUNTBLANK(C607)=0,VLOOKUP(C607,Locks!A:E,6,FALSE),\"\")","v":""}]
[null,{"$f":"IF(COUNTBLANK(A608)=0,VLOOKUP(A608,Users!A:E,5,FALSE),\"\")","v":""},null,{"$f":"IF(COUNTBLANK(C608)=0,VLOOKUP(C608,Locks!A:D,5,FALSE),\"\")","v":""},{"$f":"IF(COUNTBLANK(C608)=0,VLOOKUP(C608,Locks!A:E,6,FALSE),\"\")","v":""}]
[null,{"$f":"IF(COUNTBLANK(A609)=0,VLOOKUP(A609,Users!A:E,5,FALSE),\"\")","v":""},null,{"$f":"IF(COUNTBLANK(C609)=0,VLOOKUP(C609,Locks!A:D,5,FALSE),\"\")","v":""},{"$f":"IF(COUNTBLANK(C609)=0,VLOOKUP(C609,Locks!A:E,6,FALSE),\"\")","v":""}]
[null,{"$f":"IF(COUNTBLANK(A610)=0,VLOOKUP(A610,Users!A:E,5,FALSE),\"\")","v":""},null,{"$f":"IF(COUNTBLANK(C610)=0,VLOOKUP(C610,Locks!A:D,5,FALSE),\"\")","v":""},{"$f":"IF(COUNTBLANK(C610)=0,VLOOKUP(C610,Locks!A:E,6,FALSE),\"\")","v":""}]
[null,{"$f":"IF(COUNTBLANK(A611)=0,VLOOKUP(A611,Users!A:E,5,FALSE),\"\")","v":""},null,{"$f":"IF(COUNTBLANK(C611)=0,VLOOKUP(C611,Locks!A:D,5,FALSE),\"\")","v":""},{"$f":"IF(COUNTBLANK(C611)=0,VLOOKUP(C611,Locks!A:E,6,FALSE),\"\")","v":""}]
[null,{"$f":"IF(COUNTBLANK(A612)=0,VLOOKUP(A612,Users!A:E,5,FALSE),\"\")","v":""},null,{"$f":"IF(COUNTBLANK(C612)=0,VLOOKUP(C612,Locks!A:D,5,FALSE),\"\")","v":""},{"$f":"IF(COUNTBLANK(C612)=0,VLOOKUP(C612,Locks!A:E,6,FALSE),\"\")","v":""}]
[null,{"$f":"IF(COUNTBLANK(A613)=0,VLOOKUP(A613,Users!A:E,5,FALSE),\"\")","v":""},null,{"$f":"IF(COUNTBLANK(C613)=0,VLOOKUP(C613,Locks!A:D,5,FALSE),\"\")","v":""},{"$f":"IF(COUNTBLANK(C613)=0,VLOOKUP(C613,Locks!A:E,6,FALSE),\"\")","v":""}]
[null,{"$f":"IF(COUNTBLANK(A614)=0,VLOOKUP(A614,Users!A:E,5,FALSE),\"\")","v":""},null,{"$f":"IF(COUNTBLANK(C614)=0,VLOOKUP(C614,Locks!A:D,5,FALSE),\"\")","v":""},{"$f":"IF(COUNTBLANK(C614)=0,VLOOKUP(C614,Locks!A:E,6,FALSE),\"\")","v":""}]
[null,{"$f":"IF(COUNTBLANK(A615)=0,VLOOKUP(A615,Users!A:E,5,FALSE),\"\")","v":""},null,{"$f":"IF(COUNTBLANK(C615)=0,VLOOKUP(C615,Locks!A:D,5,FALSE),\"\")","v":""},{"$f":"IF(COUNTBLANK(C615)=0,VLOOKUP(C615,Locks!A:E,6,FALSE),\"\")","v":""}]
[null,{"$f":"IF(COUNTBLANK(A616)=0,VLOOKUP(A616,Users!A:E,5,FALSE),\"\")","v":""},null,{"$f":"IF(COUNTBLANK(C616)=0,VLOOKUP(C616,Locks!A:D,5,FALSE),\"\")","v":""},{"$f":"IF(COUNTBLANK(C616)=0,VLOOKUP(C616,Locks!A:E,6,FALSE),\"\")","v":""}]
[null,{"$f":"IF(COUNTBLANK(A617)=0,VLOOKUP(A617,Users!A:E,5,FALSE),\"\")","v":""},null,{"$f":"IF(COUNTBLANK(C617)=0,VLOOKUP(C617,Locks!A:D,5,FALSE),\"\")","v":""},{"$f":"IF(COUNTBLANK(C617)=0,VLOOKUP(C617,Locks!A:E,6,FALSE),\"\")","v":""}]
[null,{"$f":"IF(COUNTBLANK(A618)=0,VLOOKUP(A618,Users!A:E,5,FALSE),\"\")","v":""},null,{"$f":"IF(COUNTBLANK(C618)=0,VLOOKUP(C618,Locks!A:D,5,FALSE),\"\")","v":""},{"$f":"IF(COUNTBLANK(C618)=0,VLOOKUP(C618,Locks!A:E,6,FALSE),\"\")","v":""}]
[null,{"$f":"IF(COUNTBLANK(A619)=0,VLOOKUP(A619,Users!A:E,5,FALSE),\"\")","v":""},null,{"$f":"IF(COUNTBLANK(C619)=0,VLOOKUP(C619,Locks!A:D,5,FALSE),\"\")","v":""},{"$f":"IF(COUNTBLANK(C619)=0,VLOOKUP(C619,Locks!A:E,6,FALSE),\"\")","v":""}]
[null,{"$f":"IF(COUNTBLANK(A620)=0,VLOOKUP(A620,Users!A:E,5,FALSE),\"\")","v":""},null,{"$f":"IF(COUNTBLANK(C620)=0,VLOOKUP(C620,Locks!A:D,5,FALSE),\"\")","v":""},{"$f":"IF(COUNTBLANK(C620)=0,VLOOKUP(C620,Locks!A:E,6,FALSE),\"\")","v":""}]
[null,{"$f":"IF(COUNTBLANK(A621)=0,VLOOKUP(A621,Users!A:E,5,FALSE),\"\")","v":""},null,{"$f":"IF(COUNTBLANK(C621)=0,VLOOKUP(C621,Locks!A:D,5,FALSE),\"\")","v":""},{"$f":"IF(COUNTBLANK(C621)=0,VLOOKUP(C621,Locks!A:E,6,FALSE),\"\")","v":""}]
[null,{"$f":"IF(COUNTBLANK(A622)=0,VLOOKUP(A622,Users!A:E,5,FALSE),\"\")","v":""},null,{"$f":"IF(COUNTBLANK(C622)=0,VLOOKUP(C622,Locks!A:D,5,FALSE),\"\")","v":""},{"$f":"IF(COUNTBLANK(C622)=0,VLOOKUP(C622,Locks!A:E,6,FALSE),\"\")","v":""}]
[null,{"$f":"IF(COUNTBLANK(A623)=0,VLOOKUP(A623,Users!A:E,5,FALSE),\"\")","v":""},null,{"$f":"IF(COUNTBLANK(C623)=0,VLOOKUP(C623,Locks!A:D,5,FALSE),\"\")","v":""},{"$f":"IF(COUNTBLANK(C623)=0,VLOOKUP(C623,Locks!A:E,6,FALSE),\"\")","v":""}]
[null,{"$f":"IF(COUNTBLANK(A624)=0,VLOOKUP(A624,Users!A:E,5,FALSE),\"\")","v":""},null,{"$f":"IF(COUNTBLANK(C624)=0,VLOOKUP(C624,Locks!A:D,5,FALSE),\"\")","v":""},{"$f":"IF(COUNTBLANK(C624)=0,VLOOKUP(C624,Locks!A:E,6,FALSE),\"\")","v":""}]
[null,{"$f":"IF(COUNTBLANK(A625)=0,VLOOKUP(A625,Users!A:E,5,FALSE),\"\")","v":""},null,{"$f":"IF(COUNTBLANK(C625)=0,VLOOKUP(C625,Locks!A:D,5,FALSE),\"\")","v":""},{"$f":"IF(COUNTBLANK(C625)=0,VLOOKUP(C625,Locks!A:E,6,FALSE),\"\")","v":""}]
[null,{"$f":"IF(COUNTBLANK(A626)=0,VLOOKUP(A626,Users!A:E,5,FALSE),\"\")","v":""},null,{"$f":"IF(COUNTBLANK(C626)=0,VLOOKUP(C626,Locks!A:D,5,FALSE),\"\")","v":""},{"$f":"IF(COUNTBLANK(C626)=0,VLOOKUP(C626,Locks!A:E,6,FALSE),\"\")","v":""}]
[null,{"$f":"IF(COUNTBLANK(A627)=0,VLOOKUP(A627,Users!A:E,5,FALSE),\"\")","v":""},null,{"$f":"IF(COUNTBLANK(C627)=0,VLOOKUP(C627,Locks!A:D,5,FALSE),\"\")","v":""},{"$f":"IF(COUNTBLANK(C627)=0,VLOOKUP(C627,Locks!A:E,6,FALSE),\"\")","v":""}]
[null,{"$f":"IF(COUNTBLANK(A628)=0,VLOOKUP(A628,Users!A:E,5,FALSE),\"\")","v":""},null,{"$f":"IF(COUNTBLANK(C628)=0,VLOOKUP(C628,Locks!A:D,5,FALSE),\"\")","v":""},{"$f":"IF(COUNTBLANK(C628)=0,VLOOKUP(C628,Locks!A:E,6,FALSE),\"\")","v":""}]
[null,{"$f":"IF(COUNTBLANK(A629)=0,VLOOKUP(A629,Users!A:E,5,FALSE),\"\")","v":""},null,{"$f":"IF(COUNTBLANK(C629)=0,VLOOKUP(C629,Locks!A:D,5,FALSE),\"\")","v":""},{"$f":"IF(COUNTBLANK(C629)=0,VLOOKUP(C629,Locks!A:E,6,FALSE),\"\")","v":""}]
[null,{"$f":"IF(COUNTBLANK(A630)=0,VLOOKUP(A630,Users!A:E,5,FALSE),\"\")","v":""},null,{"$f":"IF(COUNTBLANK(C630)=0,VLOOKUP(C630,Locks!A:D,5,FALSE),\"\")","v":""},{"$f":"IF(COUNTBLANK(C630)=0,VLOOKUP(C630,Locks!A:E,6,FALSE),\"\")","v":""}]
[null,{"$f":"IF(COUNTBLANK(A631)=0,VLOOKUP(A631,Users!A:E,5,FALSE),\"\")","v":""},null,{"$f":"IF(COUNTBLANK(C631)=0,VLOOKUP(C631,Locks!A:D,5,FALSE),\"\")","v":""},{"$f":"IF(COUNTBLANK(C631)=0,VLOOKUP(C631,Locks!A:E,6,FALSE),\"\")","v":""}]
[null,{"$f":"IF(COUNTBLANK(A632)=0,VLOOKUP(A632,Users!A:E,5,FALSE),\"\")","v":""},null,{"$f":"IF(COUNTBLANK(C632)=0,VLOOKUP(C632,Locks!A:D,5,FALSE),\"\")","v":""},{"$f":"IF(COUNTBLANK(C632)=0,VLOOKUP(C632,Locks!A:E,6,FALSE),\"\")","v":""}]
[null,{"$f":"IF(COUNTBLANK(A633)=0,VLOOKUP(A633,Users!A:E,5,FALSE),\"\")","v":""},null,{"$f":"IF(COUNTBLANK(C633)=0,VLOOKUP(C633,Locks!A:D,5,FALSE),\"\")","v":""},{"$f":"IF(COUNTBLANK(C633)=0,VLOOKUP(C633,Locks!A:E,6,FALSE),\"\")","v":""}]
[null,{"$f":"IF(COUNTBLANK(A634)=0,VLOOKUP(A634,Users!A:E,5,FALSE),\"\")","v":""},null,{"$f":"IF(COUNTBLANK(C634)=0,VLOOKUP(C634,Locks!A:D,5,FALSE),\"\")","v":""},{"$f":"IF(COUNTBLANK(C634)=0,VLOOKUP(C634,Locks!A:E,6,FALSE),\"\")","v":""}]
[null,{"$f":"IF(COUNTBLANK(A635)=0,VLOOKUP(A635,Users!A:E,5,FALSE),\"\")","v":""},null,{"$f":"IF(COUNTBLANK(C635)=0,VLOOKUP(C635,Locks!A:D,5,FALSE),\"\")","v":""},{"$f":"IF(COUNTBLANK(C635)=0,VLOOKUP(C635,Locks!A:E,6,FALSE),\"\")","v":""}]
[null,{"$f":"IF(COUNTBLANK(A636)=0,VLOOKUP(A636,Users!A:E,5,FALSE),\"\")","v":""},null,{"$f":"IF(COUNTBLANK(C636)=0,VLOOKUP(C636,Locks!A:D,5,FALSE),\"\")","v":""},{"$f":"IF(COUNTBLANK(C636)=0,VLOOKUP(C636,Locks!A:E,6,FALSE),\"\")","v":""}]
[null,{"$f":"IF(COUNTBLANK(A637)=0,VLOOKUP(A637,Users!A:E,5,FALSE),\"\")","v":""},null,{"$f":"IF(COUNTBLANK(C637)=0,VLOOKUP(C637,Locks!A:D,5,FALSE),\"\")","v":""},{"$f":"IF(COUNTBLANK(C637)=0,VLOOKUP(C637,Locks!A:E,6,FALSE),\"\")","v":""}]
[null,{"$f":"IF(COUNTBLANK(A638)=0,VLOOKUP(A638,Users!A:E,5,FALSE),\"\")","v":""},null,{"$f":"IF(COUNTBLANK(C638)=0,VLOOKUP(C638,Locks!A:D,5,FALSE),\"\")","v":""},{"$f":"IF(COUNTBLANK(C638)=0,VLOOKUP(C638,Locks!A:E,6,FALSE),\"\")","v":""}]
[null,{"$f":"IF(COUNTBLANK(A639)=0,VLOOKUP(A639,Users!A:E,5,FALSE),\"\")","v":""},null,{"$f":"IF(COUNTBLANK(C639)=0,VLOOKUP(C639,Locks!A:D,5,FALSE),\"\")","v":""},{"$f":"IF(COUNTBLANK(C639)=0,VLOOKUP(C639,Locks!A:E,6,FALSE),\"\")","v":""}]
[null,{"$f":"IF(COUNTBLANK(A640)=0,VLOOKUP(A640,Users!A:E,5,FALSE),\"\")","v":""},null,{"$f":"IF(COUNTBLANK(C640)=0,VLOOKUP(C640,Locks!A:D,5,FALSE),\"\")","v":""},{"$f":"IF(COUNTBLANK(C640)=0,VLOOKUP(C640,Locks!A:E,6,FALSE),\"\")","v":""}]
[null,{"$f":"IF(COUNTBLANK(A641)=0,VLOOKUP(A641,Users!A:E,5,FALSE),\"\")","v":""},null,{"$f":"IF(COUNTBLANK(C641)=0,VLOOKUP(C641,Locks!A:D,5,FALSE),\"\")","v":""},{"$f":"IF(COUNTBLANK(C641)=0,VLOOKUP(C641,Locks!A:E,6,FALSE),\"\")","v":""}]
[null,{"$f":"IF(COUNTBLANK(A642)=0,VLOOKUP(A642,Users!A:E,5,FALSE),\"\")","v":""},null,{"$f":"IF(COUNTBLANK(C642)=0,VLOOKUP(C642,Locks!A:D,5,FALSE),\"\")","v":""},{"$f":"IF(COUNTBLANK(C642)=0,VLOOKUP(C642,Locks!A:E,6,FALSE),\"\")","v":""}]
[null,{"$f":"IF(COUNTBLANK(A643)=0,VLOOKUP(A643,Users!A:E,5,FALSE),\"\")","v":""},null,{"$f":"IF(COUNTBLANK(C643)=0,VLOOKUP(C643,Locks!A:D,5,FALSE),\"\")","v":""},{"$f":"IF(COUNTBLANK(C643)=0,VLOOKUP(C643,Locks!A:E,6,FALSE),\"\")","v":""}]
[null,{"$f":"IF(COUNTBLANK(A644)=0,VLOOKUP(A644,Users!A:E,5,FALSE),\"\")","v":""},null,{"$f":"IF(COUNTBLANK(C644)=0,VLOOKUP(C644,Locks!A:D,5,FALSE),\"\")","v":""},{"$f":"IF(COUNTBLANK(C644)=0,VLOOKUP(C644,Locks!A:E,6,FALSE),\"\")","v":""}]
[null,{"$f":"IF(COUNTBLANK(A645)=0,VLOOKUP(A645,Users!A:E,5,FALSE),\"\")","v":""},null,{"$f":"IF(COUNTBLANK(C645)=0,VLOOKUP(C645,Locks!A:D,5,FALSE),\"\")","v":""},{"$f":"IF(COUNTBLANK(C645)=0,VLOOKUP(C645,Locks!A:E,6,FALSE),\"\")","v":""}]
[null,{"$f":"IF(COUNTBLANK(A646)=0,VLOOKUP(A646,Users!A:E,5,FALSE),\"\")","v":""},null,{"$f":"IF(COUNTBLANK(C646)=0,VLOOKUP(C646,Locks!A:D,5,FALSE),\"\")","v":""},{"$f":"IF(COUNTBLANK(C646)=0,VLOOKUP(C646,Locks!A:E,6,FALSE),\"\")","v":""}]
[null,{"$f":"IF(COUNTBLANK(A647)=0,VLOOKUP(A647,Users!A:E,5,FALSE),\"\")","v":""},null,{"$f":"IF(COUNTBLANK(C647)=0,VLOOKUP(C647,Locks!A:D,5,FALSE),\"\")","v":""},{"$f":"IF(COUNTBLANK(C647)=0,VLOOKUP(C647,Locks!A:E,6,FALSE),\"\")","v":""}]
[null,{"$f":"IF(COUNTBLANK(A648)=0,VLOOKUP(A648,Users!A:E,5,FALSE),\"\")","v":""},null,{"$f":"IF(COUNTBLANK(C648)=0,VLOOKUP(C648,Locks!A:D,5,FALSE),\"\")","v":""},{"$f":"IF(COUNTBLANK(C648)=0,VLOOKUP(C648,Locks!A:E,6,FALSE),\"\")","v":""}]
[null,{"$f":"IF(COUNTBLANK(A649)=0,VLOOKUP(A649,Users!A:E,5,FALSE),\"\")","v":""},null,{"$f":"IF(COUNTBLANK(C649)=0,VLOOKUP(C649,Locks!A:D,5,FALSE),\"\")","v":""},{"$f":"IF(COUNTBLANK(C649)=0,VLOOKUP(C649,Locks!A:E,6,FALSE),\"\")","v":""}]
[null,{"$f":"IF(COUNTBLANK(A650)=0,VLOOKUP(A650,Users!A:E,5,FALSE),\"\")","v":""},null,{"$f":"IF(COUNTBLANK(C650)=0,VLOOKUP(C650,Locks!A:D,5,FALSE),\"\")","v":""},{"$f":"IF(COUNTBLANK(C650)=0,VLOOKUP(C650,Locks!A:E,6,FALSE),\"\")","v":""}]
[null,{"$f":"IF(COUNTBLANK(A651)=0,VLOOKUP(A651,Users!A:E,5,FALSE),\"\")","v":""},null,{"$f":"IF(COUNTBLANK(C651)=0,VLOOKUP(C651,Locks!A:D,5,FALSE),\"\")","v":""},{"$f":"IF(COUNTBLANK(C651)=0,VLOOKUP(C651,Locks!A:E,6,FALSE),\"\")","v":""}]
[null,{"$f":"IF(COUNTBLANK(A652)=0,VLOOKUP(A652,Users!A:E,5,FALSE),\"\")","v":""},null,{"$f":"IF(COUNTBLANK(C652)=0,VLOOKUP(C652,Locks!A:D,5,FALSE),\"\")","v":""},{"$f":"IF(COUNTBLANK(C652)=0,VLOOKUP(C652,Locks!A:E,6,FALSE),\"\")","v":""}]
[null,{"$f":"IF(COUNTBLANK(A653)=0,VLOOKUP(A653,Users!A:E,5,FALSE),\"\")","v":""},null,{"$f":"IF(COUNTBLANK(C653)=0,VLOOKUP(C653,Locks!A:D,5,FALSE),\"\")","v":""},{"$f":"IF(COUNTBLANK(C653)=0,VLOOKUP(C653,Locks!A:E,6,FALSE),\"\")","v":""}]
[null,{"$f":"IF(COUNTBLANK(A654)=0,VLOOKUP(A654,Users!A:E,5,FALSE),\"\")","v":""},null,{"$f":"IF(COUNTBLANK(C654)=0,VLOOKUP(C654,Locks!A:D,5,FALSE),\"\")","v":""},{"$f":"IF(COUNTBLANK(C654)=0,VLOOKUP(C654,Locks!A:E,6,FALSE),\"\")","v":""}]
[null,{"$f":"IF(COUNTBLANK(A655)=0,VLOOKUP(A655,Users!A:E,5,FALSE),\"\")","v":""},null,{"$f":"IF(COUNTBLANK(C655)=0,VLOOKUP(C655,Locks!A:D,5,FALSE),\"\")","v":""},{"$f":"IF(COUNTBLANK(C655)=0,VLOOKUP(C655,Locks!A:E,6,FALSE),\"\")","v":""}]
[null,{"$f":"IF(COUNTBLANK(A656)=0,VLOOKUP(A656,Users!A:E,5,FALSE),\"\")","v":""},null,{"$f":"IF(COUNTBLANK(C656)=0,VLOOKUP(C656,Locks!A:D,5,FALSE),\"\")","v":""},{"$f":"IF(COUNTBLANK(C656)=0,VLOOKUP(C656,Locks!A:E,6,FALSE),\"\")","v":""}]
[null,{"$f":"IF(COUNTBLANK(A657)=0,VLOOKUP(A657,Users!A:E,5,FALSE),\"\")","v":""},null,{"$f":"IF(COUNTBLANK(C657)=0,VLOOKUP(C657,Locks!A:D,5,FALSE),\"\")","v":""},{"$f":"IF(COUNTBLANK(C657)=0,VLOOKUP(C657,Locks!A:E,6,FALSE),\"\")","v":""}]
[null,{"$f":"IF(COUNTBLANK(A658)=0,VLOOKUP(A658,Users!A:E,5,FALSE),\"\")","v":""},null,{"$f":"IF(COUNTBLANK(C658)=0,VLOOKUP(C658,Locks!A:D,5,FALSE),\"\")","v":""},{"$f":"IF(COUNTBLANK(C658)=0,VLOOKUP(C658,Locks!A:E,6,FALSE),\"\")","v":""}]
[null,{"$f":"IF(COUNTBLANK(A659)=0,VLOOKUP(A659,Users!A:E,5,FALSE),\"\")","v":""},null,{"$f":"IF(COUNTBLANK(C659)=0,VLOOKUP(C659,Locks!A:D,5,FALSE),\"\")","v":""},{"$f":"IF(COUNTBLANK(C659)=0,VLOOKUP(C659,Locks!A:E,6,FALSE),\"\")","v":""}]
[null,{"$f":"IF(COUNTBLANK(A660)=0,VLOOKUP(A660,Users!A:E,5,FALSE),\"\")","v":""},null,{"$f":"IF(COUNTBLANK(C660)=0,VLOOKUP(C660,Locks!A:D,5,FALSE),\"\")","v":""},{"$f":"IF(COUNTBLANK(C660)=0,VLOOKUP(C660,Locks!A:E,6,FALSE),\"\")","v":""}]
[null,{"$f":"IF(COUNTBLANK(A661)=0,VLOOKUP(A661,Users!A:E,5,FALSE),\"\")","v":""},null,{"$f":"IF(COUNTBLANK(C661)=0,VLOOKUP(C661,Locks!A:D,5,FALSE),\"\")","v":""},{"$f":"IF(COUNTBLANK(C661)=0,VLOOKUP(C661,Locks!A:E,6,FALSE),\"\")","v":""}]
[null,{"$f":"IF(COUNTBLANK(A662)=0,VLOOKUP(A662,Users!A:E,5,FALSE),\"\")","v":""},null,{"$f":"IF(COUNTBLANK(C662)=0,VLOOKUP(C662,Locks!A:D,5,FALSE),\"\")","v":""},{"$f":"IF(COUNTBLANK(C662)=0,VLOOKUP(C662,Locks!A:E,6,FALSE),\"\")","v":""}]
[null,{"$f":"IF(COUNTBLANK(A663)=0,VLOOKUP(A663,Users!A:E,5,FALSE),\"\")","v":""},null,{"$f":"IF(COUNTBLANK(C663)=0,VLOOKUP(C663,Locks!A:D,5,FALSE),\"\")","v":""},{"$f":"IF(COUNTBLANK(C663)=0,VLOOKUP(C663,Locks!A:E,6,FALSE),\"\")","v":""}]
[null,{"$f":"IF(COUNTBLANK(A664)=0,VLOOKUP(A664,Users!A:E,5,FALSE),\"\")","v":""},null,{"$f":"IF(COUNTBLANK(C664)=0,VLOOKUP(C664,Locks!A:D,5,FALSE),\"\")","v":""},{"$f":"IF(COUNTBLANK(C664)=0,VLOOKUP(C664,Locks!A:E,6,FALSE),\"\")","v":""}]
[null,{"$f":"IF(COUNTBLANK(A665)=0,VLOOKUP(A665,Users!A:E,5,FALSE),\"\")","v":""},null,{"$f":"IF(COUNTBLANK(C665)=0,VLOOKUP(C665,Locks!A:D,5,FALSE),\"\")","v":""},{"$f":"IF(COUNTBLANK(C665)=0,VLOOKUP(C665,Locks!A:E,6,FALSE),\"\")","v":""}]
[null,{"$f":"IF(COUNTBLANK(A666)=0,VLOOKUP(A666,Users!A:E,5,FALSE),\"\")","v":""},null,{"$f":"IF(COUNTBLANK(C666)=0,VLOOKUP(C666,Locks!A:D,5,FALSE),\"\")","v":""},{"$f":"IF(COUNTBLANK(C666)=0,VLOOKUP(C666,Locks!A:E,6,FALSE),\"\")","v":""}]
[null,{"$f":"IF(COUNTBLANK(A667)=0,VLOOKUP(A667,Users!A:E,5,FALSE),\"\")","v":""},null,{"$f":"IF(COUNTBLANK(C667)=0,VLOOKUP(C667,Locks!A:D,5,FALSE),\"\")","v":""},{"$f":"IF(COUNTBLANK(C667)=0,VLOOKUP(C667,Locks!A:E,6,FALSE),\"\")","v":""}]
[null,{"$f":"IF(COUNTBLANK(A668)=0,VLOOKUP(A668,Users!A:E,5,FALSE),\"\")","v":""},null,{"$f":"IF(COUNTBLANK(C668)=0,VLOOKUP(C668,Locks!A:D,5,FALSE),\"\")","v":""},{"$f":"IF(COUNTBLANK(C668)=0,VLOOKUP(C668,Locks!A:E,6,FALSE),\"\")","v":""}]
[null,{"$f":"IF(COUNTBLANK(A669)=0,VLOOKUP(A669,Users!A:E,5,FALSE),\"\")","v":""},null,{"$f":"IF(COUNTBLANK(C669)=0,VLOOKUP(C669,Locks!A:D,5,FALSE),\"\")","v":""},{"$f":"IF(COUNTBLANK(C669)=0,VLOOKUP(C669,Locks!A:E,6,FALSE),\"\")","v":""}]
[null,{"$f":"IF(COUNTBLANK(A670)=0,VLOOKUP(A670,Users!A:E,5,FALSE),\"\")","v":""},null,{"$f":"IF(COUNTBLANK(C670)=0,VLOOKUP(C670,Locks!A:D,5,FALSE),\"\")","v":""},{"$f":"IF(COUNTBLANK(C670)=0,VLOOKUP(C670,Locks!A:E,6,FALSE),\"\")","v":""}]
[null,{"$f":"IF(COUNTBLANK(A671)=0,VLOOKUP(A671,Users!A:E,5,FALSE),\"\")","v":""},null,{"$f":"IF(COUNTBLANK(C671)=0,VLOOKUP(C671,Locks!A:D,5,FALSE),\"\")","v":""},{"$f":"IF(COUNTBLANK(C671)=0,VLOOKUP(C671,Locks!A:E,6,FALSE),\"\")","v":""}]
[null,{"$f":"IF(COUNTBLANK(A672)=0,VLOOKUP(A672,Users!A:E,5,FALSE),\"\")","v":""},null,{"$f":"IF(COUNTBLANK(C672)=0,VLOOKUP(C672,Locks!A:D,5,FALSE),\"\")","v":""},{"$f":"IF(COUNTBLANK(C672)=0,VLOOKUP(C672,Locks!A:E,6,FALSE),\"\")","v":""}]
[null,{"$f":"IF(COUNTBLANK(A673)=0,VLOOKUP(A673,Users!A:E,5,FALSE),\"\")","v":""},null,{"$f":"IF(COUNTBLANK(C673)=0,VLOOKUP(C673,Locks!A:D,5,FALSE),\"\")","v":""},{"$f":"IF(COUNTBLANK(C673)=0,VLOOKUP(C673,Locks!A:E,6,FALSE),\"\")","v":""}]
[null,{"$f":"IF(COUNTBLANK(A674)=0,VLOOKUP(A674,Users!A:E,5,FALSE),\"\")","v":""},null,{"$f":"IF(COUNTBLANK(C674)=0,VLOOKUP(C674,Locks!A:D,5,FALSE),\"\")","v":""},{"$f":"IF(COUNTBLANK(C674)=0,VLOOKUP(C674,Locks!A:E,6,FALSE),\"\")","v":""}]
[null,{"$f":"IF(COUNTBLANK(A675)=0,VLOOKUP(A675,Users!A:E,5,FALSE),\"\")","v":""},null,{"$f":"IF(COUNTBLANK(C675)=0,VLOOKUP(C675,Locks!A:D,5,FALSE),\"\")","v":""},{"$f":"IF(COUNTBLANK(C675)=0,VLOOKUP(C675,Locks!A:E,6,FALSE),\"\")","v":""}]
[null,{"$f":"IF(COUNTBLANK(A676)=0,VLOOKUP(A676,Users!A:E,5,FALSE),\"\")","v":""},null,{"$f":"IF(COUNTBLANK(C676)=0,VLOOKUP(C676,Locks!A:D,5,FALSE),\"\")","v":""},{"$f":"IF(COUNTBLANK(C676)=0,VLOOKUP(C676,Locks!A:E,6,FALSE),\"\")","v":""}]
[null,{"$f":"IF(COUNTBLANK(A677)=0,VLOOKUP(A677,Users!A:E,5,FALSE),\"\")","v":""},null,{"$f":"IF(COUNTBLANK(C677)=0,VLOOKUP(C677,Locks!A:D,5,FALSE),\"\")","v":""},{"$f":"IF(COUNTBLANK(C677)=0,VLOOKUP(C677,Locks!A:E,6,FALSE),\"\")","v":""}]
[null,{"$f":"IF(COUNTBLANK(A678)=0,VLOOKUP(A678,Users!A:E,5,FALSE),\"\")","v":""},null,{"$f":"IF(COUNTBLANK(C678)=0,VLOOKUP(C678,Locks!A:D,5,FALSE),\"\")","v":""},{"$f":"IF(COUNTBLANK(C678)=0,VLOOKUP(C678,Locks!A:E,6,FALSE),\"\")","v":""}]
[null,{"$f":"IF(COUNTBLANK(A679)=0,VLOOKUP(A679,Users!A:E,5,FALSE),\"\")","v":""},null,{"$f":"IF(COUNTBLANK(C679)=0,VLOOKUP(C679,Locks!A:D,5,FALSE),\"\")","v":""},{"$f":"IF(COUNTBLANK(C679)=0,VLOOKUP(C679,Locks!A:E,6,FALSE),\"\")","v":""}]
[null,{"$f":"IF(COUNTBLANK(A680)=0,VLOOKUP(A680,Users!A:E,5,FALSE),\"\")","v":""},null,{"$f":"IF(COUNTBLANK(C680)=0,VLOOKUP(C680,Locks!A:D,5,FALSE),\"\")","v":""},{"$f":"IF(COUNTBLANK(C680)=0,VLOOKUP(C680,Locks!A:E,6,FALSE),\"\")","v":""}]
[null,{"$f":"IF(COUNTBLANK(A681)=0,VLOOKUP(A681,Users!A:E,5,FALSE),\"\")","v":""},null,{"$f":"IF(COUNTBLANK(C681)=0,VLOOKUP(C681,Locks!A:D,5,FALSE),\"\")","v":""},{"$f":"IF(COUNTBLANK(C681)=0,VLOOKUP(C681,Locks!A:E,6,FALSE),\"\")","v":""}]
[null,{"$f":"IF(COUNTBLANK(A682)=0,VLOOKUP(A682,Users!A:E,5,FALSE),\"\")","v":""},null,{"$f":"IF(COUNTBLANK(C682)=0,VLOOKUP(C682,Locks!A:D,5,FALSE),\"\")","v":""},{"$f":"IF(COUNTBLANK(C682)=0,VLOOKUP(C682,Locks!A:E,6,FALSE),\"\")","v":""}]
[null,{"$f":"IF(COUNTBLANK(A683)=0,VLOOKUP(A683,Users!A:E,5,FALSE),\"\")","v":""},null,{"$f":"IF(COUNTBLANK(C683)=0,VLOOKUP(C683,Locks!A:D,5,FALSE),\"\")","v":""},{"$f":"IF(COUNTBLANK(C683)=0,VLOOKUP(C683,Locks!A:E,6,FALSE),\"\")","v":""}]
[null,{"$f":"IF(COUNTBLANK(A684)=0,VLOOKUP(A684,Users!A:E,5,FALSE),\"\")","v":""},null,{"$f":"IF(COUNTBLANK(C684)=0,VLOOKUP(C684,Locks!A:D,5,FALSE),\"\")","v":""},{"$f":"IF(COUNTBLANK(C684)=0,VLOOKUP(C684,Locks!A:E,6,FALSE),\"\")","v":""}]
[null,{"$f":"IF(COUNTBLANK(A685)=0,VLOOKUP(A685,Users!A:E,5,FALSE),\"\")","v":""},null,{"$f":"IF(COUNTBLANK(C685)=0,VLOOKUP(C685,Locks!A:D,5,FALSE),\"\")","v":""},{"$f":"IF(COUNTBLANK(C685)=0,VLOOKUP(C685,Locks!A:E,6,FALSE),\"\")","v":""}]
[null,{"$f":"IF(COUNTBLANK(A686)=0,VLOOKUP(A686,Users!A:E,5,FALSE),\"\")","v":""},null,{"$f":"IF(COUNTBLANK(C686)=0,VLOOKUP(C686,Locks!A:D,5,FALSE),\"\")","v":""},{"$f":"IF(COUNTBLANK(C686)=0,VLOOKUP(C686,Locks!A:E,6,FALSE),\"\")","v":""}]
[null,{"$f":"IF(COUNTBLANK(A687)=0,VLOOKUP(A687,Users!A:E,5,FALSE),\"\")","v":""},null,{"$f":"IF(COUNTBLANK(C687)=0,VLOOKUP(C687,Locks!A:D,5,FALSE),\"\")","v":""},{"$f":"IF(COUNTBLANK(C687)=0,VLOOKUP(C687,Locks!A:E,6,FALSE),\"\")","v":""}]
[null,{"$f":"IF(COUNTBLANK(A688)=0,VLOOKUP(A688,Users!A:E,5,FALSE),\"\")","v":""},null,{"$f":"IF(COUNTBLANK(C688)=0,VLOOKUP(C688,Locks!A:D,5,FALSE),\"\")","v":""},{"$f":"IF(COUNTBLANK(C688)=0,VLOOKUP(C688,Locks!A:E,6,FALSE),\"\")","v":""}]
[null,{"$f":"IF(COUNTBLANK(A689)=0,VLOOKUP(A689,Users!A:E,5,FALSE),\"\")","v":""},null,{"$f":"IF(COUNTBLANK(C689)=0,VLOOKUP(C689,Locks!A:D,5,FALSE),\"\")","v":""},{"$f":"IF(COUNTBLANK(C689)=0,VLOOKUP(C689,Locks!A:E,6,FALSE),\"\")","v":""}]
[null,{"$f":"IF(COUNTBLANK(A690)=0,VLOOKUP(A690,Users!A:E,5,FALSE),\"\")","v":""},null,{"$f":"IF(COUNTBLANK(C690)=0,VLOOKUP(C690,Locks!A:D,5,FALSE),\"\")","v":""},{"$f":"IF(COUNTBLANK(C690)=0,VLOOKUP(C690,Locks!A:E,6,FALSE),\"\")","v":""}]
[null,{"$f":"IF(COUNTBLANK(A691)=0,VLOOKUP(A691,Users!A:E,5,FALSE),\"\")","v":""},null,{"$f":"IF(COUNTBLANK(C691)=0,VLOOKUP(C691,Locks!A:D,5,FALSE),\"\")","v":""},{"$f":"IF(COUNTBLANK(C691)=0,VLOOKUP(C691,Locks!A:E,6,FALSE),\"\")","v":""}]
[null,{"$f":"IF(COUNTBLANK(A692)=0,VLOOKUP(A692,Users!A:E,5,FALSE),\"\")","v":""},null,{"$f":"IF(COUNTBLANK(C692)=0,VLOOKUP(C692,Locks!A:D,5,FALSE),\"\")","v":""},{"$f":"IF(COUNTBLANK(C692)=0,VLOOKUP(C692,Locks!A:E,6,FALSE),\"\")","v":""}]
[null,{"$f":"IF(COUNTBLANK(A693)=0,VLOOKUP(A693,Users!A:E,5,FALSE),\"\")","v":""},null,{"$f":"IF(COUNTBLANK(C693)=0,VLOOKUP(C693,Locks!A:D,5,FALSE),\"\")","v":""},{"$f":"IF(COUNTBLANK(C693)=0,VLOOKUP(C693,Locks!A:E,6,FALSE),\"\")","v":""}]
[null,{"$f":"IF(COUNTBLANK(A694)=0,VLOOKUP(A694,Users!A:E,5,FALSE),\"\")","v":""},null,{"$f":"IF(COUNTBLANK(C694)=0,VLOOKUP(C694,Locks!A:D,5,FALSE),\"\")","v":""},{"$f":"IF(COUNTBLANK(C694)=0,VLOOKUP(C694,Locks!A:E,6,FALSE),\"\")","v":""}]
[null,{"$f":"IF(COUNTBLANK(A695)=0,VLOOKUP(A695,Users!A:E,5,FALSE),\"\")","v":""},null,{"$f":"IF(COUNTBLANK(C695)=0,VLOOKUP(C695,Locks!A:D,5,FALSE),\"\")","v":""},{"$f":"IF(COUNTBLANK(C695)=0,VLOOKUP(C695,Locks!A:E,6,FALSE),\"\")","v":""}]
[null,{"$f":"IF(COUNTBLANK(A696)=0,VLOOKUP(A696,Users!A:E,5,FALSE),\"\")","v":""},null,{"$f":"IF(COUNTBLANK(C696)=0,VLOOKUP(C696,Locks!A:D,5,FALSE),\"\")","v":""},{"$f":"IF(COUNTBLANK(C696)=0,VLOOKUP(C696,Locks!A:E,6,FALSE),\"\")","v":""}]
[null,{"$f":"IF(COUNTBLANK(A697)=0,VLOOKUP(A697,Users!A:E,5,FALSE),\"\")","v":""},null,{"$f":"IF(COUNTBLANK(C697)=0,VLOOKUP(C697,Locks!A:D,5,FALSE),\"\")","v":""},{"$f":"IF(COUNTBLANK(C697)=0,VLOOKUP(C697,Locks!A:E,6,FALSE),\"\")","v":""}]
[null,{"$f":"IF(COUNTBLANK(A698)=0,VLOOKUP(A698,Users!A:E,5,FALSE),\"\")","v":""},null,{"$f":"IF(COUNTBLANK(C698)=0,VLOOKUP(C698,Locks!A:D,5,FALSE),\"\")","v":""},{"$f":"IF(COUNTBLANK(C698)=0,VLOOKUP(C698,Locks!A:E,6,FALSE),\"\")","v":""}]
[null,{"$f":"IF(COUNTBLANK(A699)=0,VLOOKUP(A699,Users!A:E,5,FALSE),\"\")","v":""},null,{"$f":"IF(COUNTBLANK(C699)=0,VLOOKUP(C699,Locks!A:D,5,FALSE),\"\")","v":""},{"$f":"IF(COUNTBLANK(C699)=0,VLOOKUP(C699,Locks!A:E,6,FALSE),\"\")","v":""}]
[null,{"$f":"IF(COUNTBLANK(A700)=0,VLOOKUP(A700,Users!A:E,5,FALSE),\"\")","v":""},null,{"$f":"IF(COUNTBLANK(C700)=0,VLOOKUP(C700,Locks!A:D,5,FALSE),\"\")","v":""},{"$f":"IF(COUNTBLANK(C700)=0,VLOOKUP(C700,Locks!A:E,6,FALSE),\"\")","v":""}]
[null,{"$f":"IF(COUNTBLANK(A701)=0,VLOOKUP(A701,Users!A:E,5,FALSE),\"\")","v":""},null,{"$f":"IF(COUNTBLANK(C701)=0,VLOOKUP(C701,Locks!A:D,5,FALSE),\"\")","v":""},{"$f":"IF(COUNTBLANK(C701)=0,VLOOKUP(C701,Locks!A:E,6,FALSE),\"\")","v":""}]
[null,{"$f":"IF(COUNTBLANK(A702)=0,VLOOKUP(A702,Users!A:E,5,FALSE),\"\")","v":""},null,{"$f":"IF(COUNTBLANK(C702)=0,VLOOKUP(C702,Locks!A:D,5,FALSE),\"\")","v":""},{"$f":"IF(COUNTBLANK(C702)=0,VLOOKUP(C702,Locks!A:E,6,FALSE),\"\")","v":""}]
[null,{"$f":"IF(COUNTBLANK(A703)=0,VLOOKUP(A703,Users!A:E,5,FALSE),\"\")","v":""},null,{"$f":"IF(COUNTBLANK(C703)=0,VLOOKUP(C703,Locks!A:D,5,FALSE),\"\")","v":""},{"$f":"IF(COUNTBLANK(C703)=0,VLOOKUP(C703,Locks!A:E,6,FALSE),\"\")","v":""}]
[null,{"$f":"IF(COUNTBLANK(A704)=0,VLOOKUP(A704,Users!A:E,5,FALSE),\"\")","v":""},null,{"$f":"IF(COUNTBLANK(C704)=0,VLOOKUP(C704,Locks!A:D,5,FALSE),\"\")","v":""},{"$f":"IF(COUNTBLANK(C704)=0,VLOOKUP(C704,Locks!A:E,6,FALSE),\"\")","v":""}]
[null,{"$f":"IF(COUNTBLANK(A705)=0,VLOOKUP(A705,Users!A:E,5,FALSE),\"\")","v":""},null,{"$f":"IF(COUNTBLANK(C705)=0,VLOOKUP(C705,Locks!A:D,5,FALSE),\"\")","v":""},{"$f":"IF(COUNTBLANK(C705)=0,VLOOKUP(C705,Locks!A:E,6,FALSE),\"\")","v":""}]
[null,{"$f":"IF(COUNTBLANK(A706)=0,VLOOKUP(A706,Users!A:E,5,FALSE),\"\")","v":""},null,{"$f":"IF(COUNTBLANK(C706)=0,VLOOKUP(C706,Locks!A:D,5,FALSE),\"\")","v":""},{"$f":"IF(COUNTBLANK(C706)=0,VLOOKUP(C706,Locks!A:E,6,FALSE),\"\")","v":""}]
[null,{"$f":"IF(COUNTBLANK(A707)=0,VLOOKUP(A707,Users!A:E,5,FALSE),\"\")","v":""},null,{"$f":"IF(COUNTBLANK(C707)=0,VLOOKUP(C707,Locks!A:D,5,FALSE),\"\")","v":""},{"$f":"IF(COUNTBLANK(C707)=0,VLOOKUP(C707,Locks!A:E,6,FALSE),\"\")","v":""}]
[null,{"$f":"IF(COUNTBLANK(A708)=0,VLOOKUP(A708,Users!A:E,5,FALSE),\"\")","v":""},null,{"$f":"IF(COUNTBLANK(C708)=0,VLOOKUP(C708,Locks!A:D,5,FALSE),\"\")","v":""},{"$f":"IF(COUNTBLANK(C708)=0,VLOOKUP(C708,Locks!A:E,6,FALSE),\"\")","v":""}]
[null,{"$f":"IF(COUNTBLANK(A709)=0,VLOOKUP(A709,Users!A:E,5,FALSE),\"\")","v":""},null,{"$f":"IF(COUNTBLANK(C709)=0,VLOOKUP(C709,Locks!A:D,5,FALSE),\"\")","v":""},{"$f":"IF(COUNTBLANK(C709)=0,VLOOKUP(C709,Locks!A:E,6,FALSE),\"\")","v":""}]
[null,{"$f":"IF(COUNTBLANK(A710)=0,VLOOKUP(A710,Users!A:E,5,FALSE),\"\")","v":""},null,{"$f":"IF(COUNTBLANK(C710)=0,VLOOKUP(C710,Locks!A:D,5,FALSE),\"\")","v":""},{"$f":"IF(COUNTBLANK(C710)=0,VLOOKUP(C710,Locks!A:E,6,FALSE),\"\")","v":""}]
[null,{"$f":"IF(COUNTBLANK(A711)=0,VLOOKUP(A711,Users!A:E,5,FALSE),\"\")","v":""},null,{"$f":"IF(COUNTBLANK(C711)=0,VLOOKUP(C711,Locks!A:D,5,FALSE),\"\")","v":""},{"$f":"IF(COUNTBLANK(C711)=0,VLOOKUP(C711,Locks!A:E,6,FALSE),\"\")","v":""}]
[null,{"$f":"IF(COUNTBLANK(A712)=0,VLOOKUP(A712,Users!A:E,5,FALSE),\"\")","v":""},null,{"$f":"IF(COUNTBLANK(C712)=0,VLOOKUP(C712,Locks!A:D,5,FALSE),\"\")","v":""},{"$f":"IF(COUNTBLANK(C712)=0,VLOOKUP(C712,Locks!A:E,6,FALSE),\"\")","v":""}]
[null,{"$f":"IF(COUNTBLANK(A713)=0,VLOOKUP(A713,Users!A:E,5,FALSE),\"\")","v":""},null,{"$f":"IF(COUNTBLANK(C713)=0,VLOOKUP(C713,Locks!A:D,5,FALSE),\"\")","v":""},{"$f":"IF(COUNTBLANK(C713)=0,VLOOKUP(C713,Locks!A:E,6,FALSE),\"\")","v":""}]
[null,{"$f":"IF(COUNTBLANK(A714)=0,VLOOKUP(A714,Users!A:E,5,FALSE),\"\")","v":""},null,{"$f":"IF(COUNTBLANK(C714)=0,VLOOKUP(C714,Locks!A:D,5,FALSE),\"\")","v":""},{"$f":"IF(COUNTBLANK(C714)=0,VLOOKUP(C714,Locks!A:E,6,FALSE),\"\")","v":""}]
[null,{"$f":"IF(COUNTBLANK(A715)=0,VLOOKUP(A715,Users!A:E,5,FALSE),\"\")","v":""},null,{"$f":"IF(COUNTBLANK(C715)=0,VLOOKUP(C715,Locks!A:D,5,FALSE),\"\")","v":""},{"$f":"IF(COUNTBLANK(C715)=0,VLOOKUP(C715,Locks!A:E,6,FALSE),\"\")","v":""}]
[null,{"$f":"IF(COUNTBLANK(A716)=0,VLOOKUP(A716,Users!A:E,5,FALSE),\"\")","v":""},null,{"$f":"IF(COUNTBLANK(C716)=0,VLOOKUP(C716,Locks!A:D,5,FALSE),\"\")","v":""},{"$f":"IF(COUNTBLANK(C716)=0,VLOOKUP(C716,Locks!A:E,6,FALSE),\"\")","v":""}]
[null,{"$f":"IF(COUNTBLANK(A717)=0,VLOOKUP(A717,Users!A:E,5,FALSE),\"\")","v":""},null,{"$f":"IF(COUNTBLANK(C717)=0,VLOOKUP(C717,Locks!A:D,5,FALSE),\"\")","v":""},{"$f":"IF(COUNTBLANK(C717)=0,VLOOKUP(C717,Locks!A:E,6,FALSE),\"\")","v":""}]
[null,{"$f":"IF(COUNTBLANK(A718)=0,VLOOKUP(A718,Users!A:E,5,FALSE),\"\")","v":""},null,{"$f":"IF(COUNTBLANK(C718)=0,VLOOKUP(C718,Locks!A:D,5,FALSE),\"\")","v":""},{"$f":"IF(COUNTBLANK(C718)=0,VLOOKUP(C718,Locks!A:E,6,FALSE),\"\")","v":""}]
[null,{"$f":"IF(COUNTBLANK(A719)=0,VLOOKUP(A719,Users!A:E,5,FALSE),\"\")","v":""},null,{"$f":"IF(COUNTBLANK(C719)=0,VLOOKUP(C719,Locks!A:D,5,FALSE),\"\")","v":""},{"$f":"IF(COUNTBLANK(C719)=0,VLOOKUP(C719,Locks!A:E,6,FALSE),\"\")","v":""}]
[null,{"$f":"IF(COUNTBLANK(A720)=0,VLOOKUP(A720,Users!A:E,5,FALSE),\"\")","v":""},null,{"$f":"IF(COUNTBLANK(C720)=0,VLOOKUP(C720,Locks!A:D,5,FALSE),\"\")","v":""},{"$f":"IF(COUNTBLANK(C720)=0,VLOOKUP(C720,Locks!A:E,6,FALSE),\"\")","v":""}]
[null,{"$f":"IF(COUNTBLANK(A721)=0,VLOOKUP(A721,Users!A:E,5,FALSE),\"\")","v":""},null,{"$f":"IF(COUNTBLANK(C721)=0,VLOOKUP(C721,Locks!A:D,5,FALSE),\"\")","v":""},{"$f":"IF(COUNTBLANK(C721)=0,VLOOKUP(C721,Locks!A:E,6,FALSE),\"\")","v":""}]
[null,{"$f":"IF(COUNTBLANK(A722)=0,VLOOKUP(A722,Users!A:E,5,FALSE),\"\")","v":""},null,{"$f":"IF(COUNTBLANK(C722)=0,VLOOKUP(C722,Locks!A:D,5,FALSE),\"\")","v":""},{"$f":"IF(COUNTBLANK(C722)=0,VLOOKUP(C722,Locks!A:E,6,FALSE),\"\")","v":""}]
[null,{"$f":"IF(COUNTBLANK(A723)=0,VLOOKUP(A723,Users!A:E,5,FALSE),\"\")","v":""},null,{"$f":"IF(COUNTBLANK(C723)=0,VLOOKUP(C723,Locks!A:D,5,FALSE),\"\")","v":""},{"$f":"IF(COUNTBLANK(C723)=0,VLOOKUP(C723,Locks!A:E,6,FALSE),\"\")","v":""}]
[null,{"$f":"IF(COUNTBLANK(A724)=0,VLOOKUP(A724,Users!A:E,5,FALSE),\"\")","v":""},null,{"$f":"IF(COUNTBLANK(C724)=0,VLOOKUP(C724,Locks!A:D,5,FALSE),\"\")","v":""},{"$f":"IF(COUNTBLANK(C724)=0,VLOOKUP(C724,Locks!A:E,6,FALSE),\"\")","v":""}]
[null,{"$f":"IF(COUNTBLANK(A725)=0,VLOOKUP(A725,Users!A:E,5,FALSE),\"\")","v":""},null,{"$f":"IF(COUNTBLANK(C725)=0,VLOOKUP(C725,Locks!A:D,5,FALSE),\"\")","v":""},{"$f":"IF(COUNTBLANK(C725)=0,VLOOKUP(C725,Locks!A:E,6,FALSE),\"\")","v":""}]
[null,{"$f":"IF(COUNTBLANK(A726)=0,VLOOKUP(A726,Users!A:E,5,FALSE),\"\")","v":""},null,{"$f":"IF(COUNTBLANK(C726)=0,VLOOKUP(C726,Locks!A:D,5,FALSE),\"\")","v":""},{"$f":"IF(COUNTBLANK(C726)=0,VLOOKUP(C726,Locks!A:E,6,FALSE),\"\")","v":""}]
[null,{"$f":"IF(COUNTBLANK(A727)=0,VLOOKUP(A727,Users!A:E,5,FALSE),\"\")","v":""},null,{"$f":"IF(COUNTBLANK(C727)=0,VLOOKUP(C727,Locks!A:D,5,FALSE),\"\")","v":""},{"$f":"IF(COUNTBLANK(C727)=0,VLOOKUP(C727,Locks!A:E,6,FALSE),\"\")","v":""}]
[null,{"$f":"IF(COUNTBLANK(A728)=0,VLOOKUP(A728,Users!A:E,5,FALSE),\"\")","v":""},null,{"$f":"IF(COUNTBLANK(C728)=0,VLOOKUP(C728,Locks!A:D,5,FALSE),\"\")","v":""},{"$f":"IF(COUNTBLANK(C728)=0,VLOOKUP(C728,Locks!A:E,6,FALSE),\"\")","v":""}]
[null,{"$f":"IF(COUNTBLANK(A729)=0,VLOOKUP(A729,Users!A:E,5,FALSE),\"\")","v":""},null,{"$f":"IF(COUNTBLANK(C729)=0,VLOOKUP(C729,Locks!A:D,5,FALSE),\"\")","v":""},{"$f":"IF(COUNTBLANK(C729)=0,VLOOKUP(C729,Locks!A:E,6,FALSE),\"\")","v":""}]
[null,{"$f":"IF(COUNTBLANK(A730)=0,VLOOKUP(A730,Users!A:E,5,FALSE),\"\")","v":""},null,{"$f":"IF(COUNTBLANK(C730)=0,VLOOKUP(C730,Locks!A:D,5,FALSE),\"\")","v":""},{"$f":"IF(COUNTBLANK(C730)=0,VLOOKUP(C730,Locks!A:E,6,FALSE),\"\")","v":""}]
[null,{"$f":"IF(COUNTBLANK(A731)=0,VLOOKUP(A731,Users!A:E,5,FALSE),\"\")","v":""},null,{"$f":"IF(COUNTBLANK(C731)=0,VLOOKUP(C731,Locks!A:D,5,FALSE),\"\")","v":""},{"$f":"IF(COUNTBLANK(C731)=0,VLOOKUP(C731,Locks!A:E,6,FALSE),\"\")","v":""}]
[null,{"$f":"IF(COUNTBLANK(A732)=0,VLOOKUP(A732,Users!A:E,5,FALSE),\"\")","v":""},null,{"$f":"IF(COUNTBLANK(C732)=0,VLOOKUP(C732,Locks!A:D,5,FALSE),\"\")","v":""},{"$f":"IF(COUNTBLANK(C732)=0,VLOOKUP(C732,Locks!A:E,6,FALSE),\"\")","v":""}]
[null,{"$f":"IF(COUNTBLANK(A733)=0,VLOOKUP(A733,Users!A:E,5,FALSE),\"\")","v":""},null,{"$f":"IF(COUNTBLANK(C733)=0,VLOOKUP(C733,Locks!A:D,5,FALSE),\"\")","v":""},{"$f":"IF(COUNTBLANK(C733)=0,VLOOKUP(C733,Locks!A:E,6,FALSE),\"\")","v":""}]
[null,{"$f":"IF(COUNTBLANK(A734)=0,VLOOKUP(A734,Users!A:E,5,FALSE),\"\")","v":""},null,{"$f":"IF(COUNTBLANK(C734)=0,VLOOKUP(C734,Locks!A:D,5,FALSE),\"\")","v":""},{"$f":"IF(COUNTBLANK(C734)=0,VLOOKUP(C734,Locks!A:E,6,FALSE),\"\")","v":""}]
[null,{"$f":"IF(COUNTBLANK(A735)=0,VLOOKUP(A735,Users!A:E,5,FALSE),\"\")","v":""},null,{"$f":"IF(COUNTBLANK(C735)=0,VLOOKUP(C735,Locks!A:D,5,FALSE),\"\")","v":""},{"$f":"IF(COUNTBLANK(C735)=0,VLOOKUP(C735,Locks!A:E,6,FALSE),\"\")","v":""}]
[null,{"$f":"IF(COUNTBLANK(A736)=0,VLOOKUP(A736,Users!A:E,5,FALSE),\"\")","v":""},null,{"$f":"IF(COUNTBLANK(C736)=0,VLOOKUP(C736,Locks!A:D,5,FALSE),\"\")","v":""},{"$f":"IF(COUNTBLANK(C736)=0,VLOOKUP(C736,Locks!A:E,6,FALSE),\"\")","v":""}]
[null,{"$f":"IF(COUNTBLANK(A737)=0,VLOOKUP(A737,Users!A:E,5,FALSE),\"\")","v":""},null,{"$f":"IF(COUNTBLANK(C737)=0,VLOOKUP(C737,Locks!A:D,5,FALSE),\"\")","v":""},{"$f":"IF(COUNTBLANK(C737)=0,VLOOKUP(C737,Locks!A:E,6,FALSE),\"\")","v":""}]
[null,{"$f":"IF(COUNTBLANK(A738)=0,VLOOKUP(A738,Users!A:E,5,FALSE),\"\")","v":""},null,{"$f":"IF(COUNTBLANK(C738)=0,VLOOKUP(C738,Locks!A:D,5,FALSE),\"\")","v":""},{"$f":"IF(COUNTBLANK(C738)=0,VLOOKUP(C738,Locks!A:E,6,FALSE),\"\")","v":""}]
[null,{"$f":"IF(COUNTBLANK(A739)=0,VLOOKUP(A739,Users!A:E,5,FALSE),\"\")","v":""},null,{"$f":"IF(COUNTBLANK(C739)=0,VLOOKUP(C739,Locks!A:D,5,FALSE),\"\")","v":""},{"$f":"IF(COUNTBLANK(C739)=0,VLOOKUP(C739,Locks!A:E,6,FALSE),\"\")","v":""}]
[null,{"$f":"IF(COUNTBLANK(A740)=0,VLOOKUP(A740,Users!A:E,5,FALSE),\"\")","v":""},null,{"$f":"IF(COUNTBLANK(C740)=0,VLOOKUP(C740,Locks!A:D,5,FALSE),\"\")","v":""},{"$f":"IF(COUNTBLANK(C740)=0,VLOOKUP(C740,Locks!A:E,6,FALSE),\"\")","v":""}]
[null,{"$f":"IF(COUNTBLANK(A741)=0,VLOOKUP(A741,Users!A:E,5,FALSE),\"\")","v":""},null,{"$f":"IF(COUNTBLANK(C741)=0,VLOOKUP(C741,Locks!A:D,5,FALSE),\"\")","v":""},{"$f":"IF(COUNTBLANK(C741)=0,VLOOKUP(C741,Locks!A:E,6,FALSE),\"\")","v":""}]
[null,{"$f":"IF(COUNTBLANK(A742)=0,VLOOKUP(A742,Users!A:E,5,FALSE),\"\")","v":""},null,{"$f":"IF(COUNTBLANK(C742)=0,VLOOKUP(C742,Locks!A:D,5,FALSE),\"\")","v":""},{"$f":"IF(COUNTBLANK(C742)=0,VLOOKUP(C742,Locks!A:E,6,FALSE),\"\")","v":""}]
[null,{"$f":"IF(COUNTBLANK(A743)=0,VLOOKUP(A743,Users!A:E,5,FALSE),\"\")","v":""},null,{"$f":"IF(COUNTBLANK(C743)=0,VLOOKUP(C743,Locks!A:D,5,FALSE),\"\")","v":""},{"$f":"IF(COUNTBLANK(C743)=0,VLOOKUP(C743,Locks!A:E,6,FALSE),\"\")","v":""}]
[null,{"$f":"IF(COUNTBLANK(A744)=0,VLOOKUP(A744,Users!A:E,5,FALSE),\"\")","v":""},null,{"$f":"IF(COUNTBLANK(C744)=0,VLOOKUP(C744,Locks!A:D,5,FALSE),\"\")","v":""},{"$f":"IF(COUNTBLANK(C744)=0,VLOOKUP(C744,Locks!A:E,6,FALSE),\"\")","v":""}]
[null,{"$f":"IF(COUNTBLANK(A745)=0,VLOOKUP(A745,Users!A:E,5,FALSE),\"\")","v":""},null,{"$f":"IF(COUNTBLANK(C745)=0,VLOOKUP(C745,Locks!A:D,5,FALSE),\"\")","v":""},{"$f":"IF(COUNTBLANK(C745)=0,VLOOKUP(C745,Locks!A:E,6,FALSE),\"\")","v":""}]
[null,{"$f":"IF(COUNTBLANK(A746)=0,VLOOKUP(A746,Users!A:E,5,FALSE),\"\")","v":""},null,{"$f":"IF(COUNTBLANK(C746)=0,VLOOKUP(C746,Locks!A:D,5,FALSE),\"\")","v":""},{"$f":"IF(COUNTBLANK(C746)=0,VLOOKUP(C746,Locks!A:E,6,FALSE),\"\")","v":""}]
[null,{"$f":"IF(COUNTBLANK(A747)=0,VLOOKUP(A747,Users!A:E,5,FALSE),\"\")","v":""},null,{"$f":"IF(COUNTBLANK(C747)=0,VLOOKUP(C747,Locks!A:D,5,FALSE),\"\")","v":""},{"$f":"IF(COUNTBLANK(C747)=0,VLOOKUP(C747,Locks!A:E,6,FALSE),\"\")","v":""}]
[null,{"$f":"IF(COUNTBLANK(A748)=0,VLOOKUP(A748,Users!A:E,5,FALSE),\"\")","v":""},null,{"$f":"IF(COUNTBLANK(C748)=0,VLOOKUP(C748,Locks!A:D,5,FALSE),\"\")","v":""},{"$f":"IF(COUNTBLANK(C748)=0,VLOOKUP(C748,Locks!A:E,6,FALSE),\"\")","v":""}]
[null,{"$f":"IF(COUNTBLANK(A749)=0,VLOOKUP(A749,Users!A:E,5,FALSE),\"\")","v":""},null,{"$f":"IF(COUNTBLANK(C749)=0,VLOOKUP(C749,Locks!A:D,5,FALSE),\"\")","v":""},{"$f":"IF(COUNTBLANK(C749)=0,VLOOKUP(C749,Locks!A:E,6,FALSE),\"\")","v":""}]
[null,{"$f":"IF(COUNTBLANK(A750)=0,VLOOKUP(A750,Users!A:E,5,FALSE),\"\")","v":""},null,{"$f":"IF(COUNTBLANK(C750)=0,VLOOKUP(C750,Locks!A:D,5,FALSE),\"\")","v":""},{"$f":"IF(COUNTBLANK(C750)=0,VLOOKUP(C750,Locks!A:E,6,FALSE),\"\")","v":""}]
[null,{"$f":"IF(COUNTBLANK(A751)=0,VLOOKUP(A751,Users!A:E,5,FALSE),\"\")","v":""},null,{"$f":"IF(COUNTBLANK(C751)=0,VLOOKUP(C751,Locks!A:D,5,FALSE),\"\")","v":""},{"$f":"IF(COUNTBLANK(C751)=0,VLOOKUP(C751,Locks!A:E,6,FALSE),\"\")","v":""}]
[null,{"$f":"IF(COUNTBLANK(A752)=0,VLOOKUP(A752,Users!A:E,5,FALSE),\"\")","v":""},null,{"$f":"IF(COUNTBLANK(C752)=0,VLOOKUP(C752,Locks!A:D,5,FALSE),\"\")","v":""},{"$f":"IF(COUNTBLANK(C752)=0,VLOOKUP(C752,Locks!A:E,6,FALSE),\"\")","v":""}]
[null,{"$f":"IF(COUNTBLANK(A753)=0,VLOOKUP(A753,Users!A:E,5,FALSE),\"\")","v":""},null,{"$f":"IF(COUNTBLANK(C753)=0,VLOOKUP(C753,Locks!A:D,5,FALSE),\"\")","v":""},{"$f":"IF(COUNTBLANK(C753)=0,VLOOKUP(C753,Locks!A:E,6,FALSE),\"\")","v":""}]
[null,{"$f":"IF(COUNTBLANK(A754)=0,VLOOKUP(A754,Users!A:E,5,FALSE),\"\")","v":""},null,{"$f":"IF(COUNTBLANK(C754)=0,VLOOKUP(C754,Locks!A:D,5,FALSE),\"\")","v":""},{"$f":"IF(COUNTBLANK(C754)=0,VLOOKUP(C754,Locks!A:E,6,FALSE),\"\")","v":""}]
[null,{"$f":"IF(COUNTBLANK(A755)=0,VLOOKUP(A755,Users!A:E,5,FALSE),\"\")","v":""},null,{"$f":"IF(COUNTBLANK(C755)=0,VLOOKUP(C755,Locks!A:D,5,FALSE),\"\")","v":""},{"$f":"IF(COUNTBLANK(C755)=0,VLOOKUP(C755,Locks!A:E,6,FALSE),\"\")","v":""}]
[null,{"$f":"IF(COUNTBLANK(A756)=0,VLOOKUP(A756,Users!A:E,5,FALSE),\"\")","v":""},null,{"$f":"IF(COUNTBLANK(C756)=0,VLOOKUP(C756,Locks!A:D,5,FALSE),\"\")","v":""},{"$f":"IF(COUNTBLANK(C756)=0,VLOOKUP(C756,Locks!A:E,6,FALSE),\"\")","v":""}]
[null,{"$f":"IF(COUNTBLANK(A757)=0,VLOOKUP(A757,Users!A:E,5,FALSE),\"\")","v":""},null,{"$f":"IF(COUNTBLANK(C757)=0,VLOOKUP(C757,Locks!A:D,5,FALSE),\"\")","v":""},{"$f":"IF(COUNTBLANK(C757)=0,VLOOKUP(C757,Locks!A:E,6,FALSE),\"\")","v":""}]
[null,{"$f":"IF(COUNTBLANK(A758)=0,VLOOKUP(A758,Users!A:E,5,FALSE),\"\")","v":""},null,{"$f":"IF(COUNTBLANK(C758)=0,VLOOKUP(C758,Locks!A:D,5,FALSE),\"\")","v":""},{"$f":"IF(COUNTBLANK(C758)=0,VLOOKUP(C758,Locks!A:E,6,FALSE),\"\")","v":""}]
[null,{"$f":"IF(COUNTBLANK(A759)=0,VLOOKUP(A759,Users!A:E,5,FALSE),\"\")","v":""},null,{"$f":"IF(COUNTBLANK(C759)=0,VLOOKUP(C759,Locks!A:D,5,FALSE),\"\")","v":""},{"$f":"IF(COUNTBLANK(C759)=0,VLOOKUP(C759,Locks!A:E,6,FALSE),\"\")","v":""}]
[null,{"$f":"IF(COUNTBLANK(A760)=0,VLOOKUP(A760,Users!A:E,5,FALSE),\"\")","v":""},null,{"$f":"IF(COUNTBLANK(C760)=0,VLOOKUP(C760,Locks!A:D,5,FALSE),\"\")","v":""},{"$f":"IF(COUNTBLANK(C760)=0,VLOOKUP(C760,Locks!A:E,6,FALSE),\"\")","v":""}]
[null,{"$f":"IF(COUNTBLANK(A761)=0,VLOOKUP(A761,Users!A:E,5,FALSE),\"\")","v":""},null,{"$f":"IF(COUNTBLANK(C761)=0,VLOOKUP(C761,Locks!A:D,5,FALSE),\"\")","v":""},{"$f":"IF(COUNTBLANK(C761)=0,VLOOKUP(C761,Locks!A:E,6,FALSE),\"\")","v":""}]
[null,{"$f":"IF(COUNTBLANK(A762)=0,VLOOKUP(A762,Users!A:E,5,FALSE),\"\")","v":""},null,{"$f":"IF(COUNTBLANK(C762)=0,VLOOKUP(C762,Locks!A:D,5,FALSE),\"\")","v":""},{"$f":"IF(COUNTBLANK(C762)=0,VLOOKUP(C762,Locks!A:E,6,FALSE),\"\")","v":""}]
[null,{"$f":"IF(COUNTBLANK(A763)=0,VLOOKUP(A763,Users!A:E,5,FALSE),\"\")","v":""},null,{"$f":"IF(COUNTBLANK(C763)=0,VLOOKUP(C763,Locks!A:D,5,FALSE),\"\")","v":""},{"$f":"IF(COUNTBLANK(C763)=0,VLOOKUP(C763,Locks!A:E,6,FALSE),\"\")","v":""}]
[null,{"$f":"IF(COUNTBLANK(A764)=0,VLOOKUP(A764,Users!A:E,5,FALSE),\"\")","v":""},null,{"$f":"IF(COUNTBLANK(C764)=0,VLOOKUP(C764,Locks!A:D,5,FALSE),\"\")","v":""},{"$f":"IF(COUNTBLANK(C764)=0,VLOOKUP(C764,Locks!A:E,6,FALSE),\"\")","v":""}]
[null,{"$f":"IF(COUNTBLANK(A765)=0,VLOOKUP(A765,Users!A:E,5,FALSE),\"\")","v":""},null,{"$f":"IF(COUNTBLANK(C765)=0,VLOOKUP(C765,Locks!A:D,5,FALSE),\"\")","v":""},{"$f":"IF(COUNTBLANK(C765)=0,VLOOKUP(C765,Locks!A:E,6,FALSE),\"\")","v":""}]
[null,{"$f":"IF(COUNTBLANK(A766)=0,VLOOKUP(A766,Users!A:E,5,FALSE),\"\")","v":""},null,{"$f":"IF(COUNTBLANK(C766)=0,VLOOKUP(C766,Locks!A:D,5,FALSE),\"\")","v":""},{"$f":"IF(COUNTBLANK(C766)=0,VLOOKUP(C766,Locks!A:E,6,FALSE),\"\")","v":""}]
[null,{"$f":"IF(COUNTBLANK(A767)=0,VLOOKUP(A767,Users!A:E,5,FALSE),\"\")","v":""},null,{"$f":"IF(COUNTBLANK(C767)=0,VLOOKUP(C767,Locks!A:D,5,FALSE),\"\")","v":""},{"$f":"IF(COUNTBLANK(C767)=0,VLOOKUP(C767,Locks!A:E,6,FALSE),\"\")","v":""}]
[null,{"$f":"IF(COUNTBLANK(A768)=0,VLOOKUP(A768,Users!A:E,5,FALSE),\"\")","v":""},null,{"$f":"IF(COUNTBLANK(C768)=0,VLOOKUP(C768,Locks!A:D,5,FALSE),\"\")","v":""},{"$f":"IF(COUNTBLANK(C768)=0,VLOOKUP(C768,Locks!A:E,6,FALSE),\"\")","v":""}]
[null,{"$f":"IF(COUNTBLANK(A769)=0,VLOOKUP(A769,Users!A:E,5,FALSE),\"\")","v":""},null,{"$f":"IF(COUNTBLANK(C769)=0,VLOOKUP(C769,Locks!A:D,5,FALSE),\"\")","v":""},{"$f":"IF(COUNTBLANK(C769)=0,VLOOKUP(C769,Locks!A:E,6,FALSE),\"\")","v":""}]
[null,{"$f":"IF(COUNTBLANK(A770)=0,VLOOKUP(A770,Users!A:E,5,FALSE),\"\")","v":""},null,{"$f":"IF(COUNTBLANK(C770)=0,VLOOKUP(C770,Locks!A:D,5,FALSE),\"\")","v":""},{"$f":"IF(COUNTBLANK(C770)=0,VLOOKUP(C770,Locks!A:E,6,FALSE),\"\")","v":""}]
[null,{"$f":"IF(COUNTBLANK(A771)=0,VLOOKUP(A771,Users!A:E,5,FALSE),\"\")","v":""},null,{"$f":"IF(COUNTBLANK(C771)=0,VLOOKUP(C771,Locks!A:D,5,FALSE),\"\")","v":""},{"$f":"IF(COUNTBLANK(C771)=0,VLOOKUP(C771,Locks!A:E,6,FALSE),\"\")","v":""}]
[null,{"$f":"IF(COUNTBLANK(A772)=0,VLOOKUP(A772,Users!A:E,5,FALSE),\"\")","v":""},null,{"$f":"IF(COUNTBLANK(C772)=0,VLOOKUP(C772,Locks!A:D,5,FALSE),\"\")","v":""},{"$f":"IF(COUNTBLANK(C772)=0,VLOOKUP(C772,Locks!A:E,6,FALSE),\"\")","v":""}]
[null,{"$f":"IF(COUNTBLANK(A773)=0,VLOOKUP(A773,Users!A:E,5,FALSE),\"\")","v":""},null,{"$f":"IF(COUNTBLANK(C773)=0,VLOOKUP(C773,Locks!A:D,5,FALSE),\"\")","v":""},{"$f":"IF(COUNTBLANK(C773)=0,VLOOKUP(C773,Locks!A:E,6,FALSE),\"\")","v":""}]
[null,{"$f":"IF(COUNTBLANK(A774)=0,VLOOKUP(A774,Users!A:E,5,FALSE),\"\")","v":""},null,{"$f":"IF(COUNTBLANK(C774)=0,VLOOKUP(C774,Locks!A:D,5,FALSE),\"\")","v":""},{"$f":"IF(COUNTBLANK(C774)=0,VLOOKUP(C774,Locks!A:E,6,FALSE),\"\")","v":""}]
[null,{"$f":"IF(COUNTBLANK(A775)=0,VLOOKUP(A775,Users!A:E,5,FALSE),\"\")","v":""},null,{"$f":"IF(COUNTBLANK(C775)=0,VLOOKUP(C775,Locks!A:D,5,FALSE),\"\")","v":""},{"$f":"IF(COUNTBLANK(C775)=0,VLOOKUP(C775,Locks!A:E,6,FALSE),\"\")","v":""}]
[null,{"$f":"IF(COUNTBLANK(A776)=0,VLOOKUP(A776,Users!A:E,5,FALSE),\"\")","v":""},null,{"$f":"IF(COUNTBLANK(C776)=0,VLOOKUP(C776,Locks!A:D,5,FALSE),\"\")","v":""},{"$f":"IF(COUNTBLANK(C776)=0,VLOOKUP(C776,Locks!A:E,6,FALSE),\"\")","v":""}]
[null,{"$f":"IF(COUNTBLANK(A777)=0,VLOOKUP(A777,Users!A:E,5,FALSE),\"\")","v":""},null,{"$f":"IF(COUNTBLANK(C777)=0,VLOOKUP(C777,Locks!A:D,5,FALSE),\"\")","v":""},{"$f":"IF(COUNTBLANK(C777)=0,VLOOKUP(C777,Locks!A:E,6,FALSE),\"\")","v":""}]
[null,{"$f":"IF(COUNTBLANK(A778)=0,VLOOKUP(A778,Users!A:E,5,FALSE),\"\")","v":""},null,{"$f":"IF(COUNTBLANK(C778)=0,VLOOKUP(C778,Locks!A:D,5,FALSE),\"\")","v":""},{"$f":"IF(COUNTBLANK(C778)=0,VLOOKUP(C778,Locks!A:E,6,FALSE),\"\")","v":""}]
[null,{"$f":"IF(COUNTBLANK(A779)=0,VLOOKUP(A779,Users!A:E,5,FALSE),\"\")","v":""},null,{"$f":"IF(COUNTBLANK(C779)=0,VLOOKUP(C779,Locks!A:D,5,FALSE),\"\")","v":""},{"$f":"IF(COUNTBLANK(C779)=0,VLOOKUP(C779,Locks!A:E,6,FALSE),\"\")","v":""}]
[null,{"$f":"IF(COUNTBLANK(A780)=0,VLOOKUP(A780,Users!A:E,5,FALSE),\"\")","v":""},null,{"$f":"IF(COUNTBLANK(C780)=0,VLOOKUP(C780,Locks!A:D,5,FALSE),\"\")","v":""},{"$f":"IF(COUNTBLANK(C780)=0,VLOOKUP(C780,Locks!A:E,6,FALSE),\"\")","v":""}]
[null,{"$f":"IF(COUNTBLANK(A781)=0,VLOOKUP(A781,Users!A:E,5,FALSE),\"\")","v":""},null,{"$f":"IF(COUNTBLANK(C781)=0,VLOOKUP(C781,Locks!A:D,5,FALSE),\"\")","v":""},{"$f":"IF(COUNTBLANK(C781)=0,VLOOKUP(C781,Locks!A:E,6,FALSE),\"\")","v":""}]
[null,{"$f":"IF(COUNTBLANK(A782)=0,VLOOKUP(A782,Users!A:E,5,FALSE),\"\")","v":""},null,{"$f":"IF(COUNTBLANK(C782)=0,VLOOKUP(C782,Locks!A:D,5,FALSE),\"\")","v":""},{"$f":"IF(COUNTBLANK(C782)=0,VLOOKUP(C782,Locks!A:E,6,FALSE),\"\")","v":""}]
[null,{"$f":"IF(COUNTBLANK(A783)=0,VLOOKUP(A783,Users!A:E,5,FALSE),\"\")","v":""},null,{"$f":"IF(COUNTBLANK(C783)=0,VLOOKUP(C783,Locks!A:D,5,FALSE),\"\")","v":""},{"$f":"IF(COUNTBLANK(C783)=0,VLOOKUP(C783,Locks!A:E,6,FALSE),\"\")","v":""}]
[null,{"$f":"IF(COUNTBLANK(A784)=0,VLOOKUP(A784,Users!A:E,5,FALSE),\"\")","v":""},null,{"$f":"IF(COUNTBLANK(C784)=0,VLOOKUP(C784,Locks!A:D,5,FALSE),\"\")","v":""},{"$f":"IF(COUNTBLANK(C784)=0,VLOOKUP(C784,Locks!A:E,6,FALSE),\"\")","v":""}]
[null,{"$f":"IF(COUNTBLANK(A785)=0,VLOOKUP(A785,Users!A:E,5,FALSE),\"\")","v":""},null,{"$f":"IF(COUNTBLANK(C785)=0,VLOOKUP(C785,Locks!A:D,5,FALSE),\"\")","v":""},{"$f":"IF(COUNTBLANK(C785)=0,VLOOKUP(C785,Locks!A:E,6,FALSE),\"\")","v":""}]
[null,{"$f":"IF(COUNTBLANK(A786)=0,VLOOKUP(A786,Users!A:E,5,FALSE),\"\")","v":""},null,{"$f":"IF(COUNTBLANK(C786)=0,VLOOKUP(C786,Locks!A:D,5,FALSE),\"\")","v":""},{"$f":"IF(COUNTBLANK(C786)=0,VLOOKUP(C786,Locks!A:E,6,FALSE),\"\")","v":""}]
[null,{"$f":"IF(COUNTBLANK(A787)=0,VLOOKUP(A787,Users!A:E,5,FALSE),\"\")","v":""},null,{"$f":"IF(COUNTBLANK(C787)=0,VLOOKUP(C787,Locks!A:D,5,FALSE),\"\")","v":""},{"$f":"IF(COUNTBLANK(C787)=0,VLOOKUP(C787,Locks!A:E,6,FALSE),\"\")","v":""}]
[null,{"$f":"IF(COUNTBLANK(A788)=0,VLOOKUP(A788,Users!A:E,5,FALSE),\"\")","v":""},null,{"$f":"IF(COUNTBLANK(C788)=0,VLOOKUP(C788,Locks!A:D,5,FALSE),\"\")","v":""},{"$f":"IF(COUNTBLANK(C788)=0,VLOOKUP(C788,Locks!A:E,6,FALSE),\"\")","v":""}]
[null,{"$f":"IF(COUNTBLANK(A789)=0,VLOOKUP(A789,Users!A:E,5,FALSE),\"\")","v":""},null,{"$f":"IF(COUNTBLANK(C789)=0,VLOOKUP(C789,Locks!A:D,5,FALSE),\"\")","v":""},{"$f":"IF(COUNTBLANK(C789)=0,VLOOKUP(C789,Locks!A:E,6,FALSE),\"\")","v":""}]
[null,{"$f":"IF(COUNTBLANK(A790)=0,VLOOKUP(A790,Users!A:E,5,FALSE),\"\")","v":""},null,{"$f":"IF(COUNTBLANK(C790)=0,VLOOKUP(C790,Locks!A:D,5,FALSE),\"\")","v":""},{"$f":"IF(COUNTBLANK(C790)=0,VLOOKUP(C790,Locks!A:E,6,FALSE),\"\")","v":""}]
[null,{"$f":"IF(COUNTBLANK(A791)=0,VLOOKUP(A791,Users!A:E,5,FALSE),\"\")","v":""},null,{"$f":"IF(COUNTBLANK(C791)=0,VLOOKUP(C791,Locks!A:D,5,FALSE),\"\")","v":""},{"$f":"IF(COUNTBLANK(C791)=0,VLOOKUP(C791,Locks!A:E,6,FALSE),\"\")","v":""}]
[null,{"$f":"IF(COUNTBLANK(A792)=0,VLOOKUP(A792,Users!A:E,5,FALSE),\"\")","v":""},null,{"$f":"IF(COUNTBLANK(C792)=0,VLOOKUP(C792,Locks!A:D,5,FALSE),\"\")","v":""},{"$f":"IF(COUNTBLANK(C792)=0,VLOOKUP(C792,Locks!A:E,6,FALSE),\"\")","v":""}]
[null,{"$f":"IF(COUNTBLANK(A793)=0,VLOOKUP(A793,Users!A:E,5,FALSE),\"\")","v":""},null,{"$f":"IF(COUNTBLANK(C793)=0,VLOOKUP(C793,Locks!A:D,5,FALSE),\"\")","v":""},{"$f":"IF(COUNTBLANK(C793)=0,VLOOKUP(C793,Locks!A:E,6,FALSE),\"\")","v":""}]
[null,{"$f":"IF(COUNTBLANK(A794)=0,VLOOKUP(A794,Users!A:E,5,FALSE),\"\")","v":""},null,{"$f":"IF(COUNTBLANK(C794)=0,VLOOKUP(C794,Locks!A:D,5,FALSE),\"\")","v":""},{"$f":"IF(COUNTBLANK(C794)=0,VLOOKUP(C794,Locks!A:E,6,FALSE),\"\")","v":""}]
[null,{"$f":"IF(COUNTBLANK(A795)=0,VLOOKUP(A795,Users!A:E,5,FALSE),\"\")","v":""},null,{"$f":"IF(COUNTBLANK(C795)=0,VLOOKUP(C795,Locks!A:D,5,FALSE),\"\")","v":""},{"$f":"IF(COUNTBLANK(C795)=0,VLOOKUP(C795,Locks!A:E,6,FALSE),\"\")","v":""}]
[null,{"$f":"IF(COUNTBLANK(A796)=0,VLOOKUP(A796,Users!A:E,5,FALSE),\"\")","v":""},null,{"$f":"IF(COUNTBLANK(C796)=0,VLOOKUP(C796,Locks!A:D,5,FALSE),\"\")","v":""},{"$f":"IF(COUNTBLANK(C796)=0,VLOOKUP(C796,Locks!A:E,6,FALSE),\"\")","v":""}]
[null,{"$f":"IF(COUNTBLANK(A797)=0,VLOOKUP(A797,Users!A:E,5,FALSE),\"\")","v":""},null,{"$f":"IF(COUNTBLANK(C797)=0,VLOOKUP(C797,Locks!A:D,5,FALSE),\"\")","v":""},{"$f":"IF(COUNTBLANK(C797)=0,VLOOKUP(C797,Locks!A:E,6,FALSE),\"\")","v":""}]
[null,{"$f":"IF(COUNTBLANK(A798)=0,VLOOKUP(A798,Users!A:E,5,FALSE),\"\")","v":""},null,{"$f":"IF(COUNTBLANK(C798)=0,VLOOKUP(C798,Locks!A:D,5,FALSE),\"\")","v":""},{"$f":"IF(COUNTBLANK(C798)=0,VLOOKUP(C798,Locks!A:E,6,FALSE),\"\")","v":""}]
[null,{"$f":"IF(COUNTBLANK(A799)=0,VLOOKUP(A799,Users!A:E,5,FALSE),\"\")","v":""},null,{"$f":"IF(COUNTBLANK(C799)=0,VLOOKUP(C799,Locks!A:D,5,FALSE),\"\")","v":""},{"$f":"IF(COUNTBLANK(C799)=0,VLOOKUP(C799,Locks!A:E,6,FALSE),\"\")","v":""}]
[null,{"$f":"IF(COUNTBLANK(A800)=0,VLOOKUP(A800,Users!A:E,5,FALSE),\"\")","v":""},null,{"$f":"IF(COUNTBLANK(C800)=0,VLOOKUP(C800,Locks!A:D,5,FALSE),\"\")","v":""},{"$f":"IF(COUNTBLANK(C800)=0,VLOOKUP(C800,Locks!A:E,6,FALSE),\"\")","v":""}]
[null,{"$f":"IF(COUNTBLANK(A801)=0,VLOOKUP(A801,Users!A:E,5,FALSE),\"\")","v":""},null,{"$f":"IF(COUNTBLANK(C801)=0,VLOOKUP(C801,Locks!A:D,5,FALSE),\"\")","v":""},{"$f":"IF(COUNTBLANK(C801)=0,VLOOKUP(C801,Locks!A:E,6,FALSE),\"\")","v":""}]
[null,{"$f":"IF(COUNTBLANK(A802)=0,VLOOKUP(A802,Users!A:E,5,FALSE),\"\")","v":""},null,{"$f":"IF(COUNTBLANK(C802)=0,VLOOKUP(C802,Locks!A:D,5,FALSE),\"\")","v":""},{"$f":"IF(COUNTBLANK(C802)=0,VLOOKUP(C802,Locks!A:E,6,FALSE),\"\")","v":""}]
[null,{"$f":"IF(COUNTBLANK(A803)=0,VLOOKUP(A803,Users!A:E,5,FALSE),\"\")","v":""},null,{"$f":"IF(COUNTBLANK(C803)=0,VLOOKUP(C803,Locks!A:D,5,FALSE),\"\")","v":""},{"$f":"IF(COUNTBLANK(C803)=0,VLOOKUP(C803,Locks!A:E,6,FALSE),\"\")","v":""}]
[null,{"$f":"IF(COUNTBLANK(A804)=0,VLOOKUP(A804,Users!A:E,5,FALSE),\"\")","v":""},null,{"$f":"IF(COUNTBLANK(C804)=0,VLOOKUP(C804,Locks!A:D,5,FALSE),\"\")","v":""},{"$f":"IF(COUNTBLANK(C804)=0,VLOOKUP(C804,Locks!A:E,6,FALSE),\"\")","v":""}]
[null,{"$f":"IF(COUNTBLANK(A805)=0,VLOOKUP(A805,Users!A:E,5,FALSE),\"\")","v":""},null,{"$f":"IF(COUNTBLANK(C805)=0,VLOOKUP(C805,Locks!A:D,5,FALSE),\"\")","v":""},{"$f":"IF(COUNTBLANK(C805)=0,VLOOKUP(C805,Locks!A:E,6,FALSE),\"\")","v":""}]
[null,{"$f":"IF(COUNTBLANK(A806)=0,VLOOKUP(A806,Users!A:E,5,FALSE),\"\")","v":""},null,{"$f":"IF(COUNTBLANK(C806)=0,VLOOKUP(C806,Locks!A:D,5,FALSE),\"\")","v":""},{"$f":"IF(COUNTBLANK(C806)=0,VLOOKUP(C806,Locks!A:E,6,FALSE),\"\")","v":""}]
[null,{"$f":"IF(COUNTBLANK(A807)=0,VLOOKUP(A807,Users!A:E,5,FALSE),\"\")","v":""},null,{"$f":"IF(COUNTBLANK(C807)=0,VLOOKUP(C807,Locks!A:D,5,FALSE),\"\")","v":""},{"$f":"IF(COUNTBLANK(C807)=0,VLOOKUP(C807,Locks!A:E,6,FALSE),\"\")","v":""}]
[null,{"$f":"IF(COUNTBLANK(A808)=0,VLOOKUP(A808,Users!A:E,5,FALSE),\"\")","v":""},null,{"$f":"IF(COUNTBLANK(C808)=0,VLOOKUP(C808,Locks!A:D,5,FALSE),\"\")","v":""},{"$f":"IF(COUNTBLANK(C808)=0,VLOOKUP(C808,Locks!A:E,6,FALSE),\"\")","v":""}]
[null,{"$f":"IF(COUNTBLANK(A809)=0,VLOOKUP(A809,Users!A:E,5,FALSE),\"\")","v":""},null,{"$f":"IF(COUNTBLANK(C809)=0,VLOOKUP(C809,Locks!A:D,5,FALSE),\"\")","v":""},{"$f":"IF(COUNTBLANK(C809)=0,VLOOKUP(C809,Locks!A:E,6,FALSE),\"\")","v":""}]
[null,{"$f":"IF(COUNTBLANK(A810)=0,VLOOKUP(A810,Users!A:E,5,FALSE),\"\")","v":""},null,{"$f":"IF(COUNTBLANK(C810)=0,VLOOKUP(C810,Locks!A:D,5,FALSE),\"\")","v":""},{"$f":"IF(COUNTBLANK(C810)=0,VLOOKUP(C810,Locks!A:E,6,FALSE),\"\")","v":""}]
[null,{"$f":"IF(COUNTBLANK(A811)=0,VLOOKUP(A811,Users!A:E,5,FALSE),\"\")","v":""},null,{"$f":"IF(COUNTBLANK(C811)=0,VLOOKUP(C811,Locks!A:D,5,FALSE),\"\")","v":""},{"$f":"IF(COUNTBLANK(C811)=0,VLOOKUP(C811,Locks!A:E,6,FALSE),\"\")","v":""}]
[null,{"$f":"IF(COUNTBLANK(A812)=0,VLOOKUP(A812,Users!A:E,5,FALSE),\"\")","v":""},null,{"$f":"IF(COUNTBLANK(C812)=0,VLOOKUP(C812,Locks!A:D,5,FALSE),\"\")","v":""},{"$f":"IF(COUNTBLANK(C812)=0,VLOOKUP(C812,Locks!A:E,6,FALSE),\"\")","v":""}]
[null,{"$f":"IF(COUNTBLANK(A813)=0,VLOOKUP(A813,Users!A:E,5,FALSE),\"\")","v":""},null,{"$f":"IF(COUNTBLANK(C813)=0,VLOOKUP(C813,Locks!A:D,5,FALSE),\"\")","v":""},{"$f":"IF(COUNTBLANK(C813)=0,VLOOKUP(C813,Locks!A:E,6,FALSE),\"\")","v":""}]
[null,{"$f":"IF(COUNTBLANK(A814)=0,VLOOKUP(A814,Users!A:E,5,FALSE),\"\")","v":""},null,{"$f":"IF(COUNTBLANK(C814)=0,VLOOKUP(C814,Locks!A:D,5,FALSE),\"\")","v":""},{"$f":"IF(COUNTBLANK(C814)=0,VLOOKUP(C814,Locks!A:E,6,FALSE),\"\")","v":""}]
[null,{"$f":"IF(COUNTBLANK(A815)=0,VLOOKUP(A815,Users!A:E,5,FALSE),\"\")","v":""},null,{"$f":"IF(COUNTBLANK(C815)=0,VLOOKUP(C815,Locks!A:D,5,FALSE),\"\")","v":""},{"$f":"IF(COUNTBLANK(C815)=0,VLOOKUP(C815,Locks!A:E,6,FALSE),\"\")","v":""}]
[null,{"$f":"IF(COUNTBLANK(A816)=0,VLOOKUP(A816,Users!A:E,5,FALSE),\"\")","v":""},null,{"$f":"IF(COUNTBLANK(C816)=0,VLOOKUP(C816,Locks!A:D,5,FALSE),\"\")","v":""},{"$f":"IF(COUNTBLANK(C816)=0,VLOOKUP(C816,Locks!A:E,6,FALSE),\"\")","v":""}]
[null,{"$f":"IF(COUNTBLANK(A817)=0,VLOOKUP(A817,Users!A:E,5,FALSE),\"\")","v":""},null,{"$f":"IF(COUNTBLANK(C817)=0,VLOOKUP(C817,Locks!A:D,5,FALSE),\"\")","v":""},{"$f":"IF(COUNTBLANK(C817)=0,VLOOKUP(C817,Locks!A:E,6,FALSE),\"\")","v":""}]
[null,{"$f":"IF(COUNTBLANK(A818)=0,VLOOKUP(A818,Users!A:E,5,FALSE),\"\")","v":""},null,{"$f":"IF(COUNTBLANK(C818)=0,VLOOKUP(C818,Locks!A:D,5,FALSE),\"\")","v":""},{"$f":"IF(COUNTBLANK(C818)=0,VLOOKUP(C818,Locks!A:E,6,FALSE),\"\")","v":""}]
[null,{"$f":"IF(COUNTBLANK(A819)=0,VLOOKUP(A819,Users!A:E,5,FALSE),\"\")","v":""},null,{"$f":"IF(COUNTBLANK(C819)=0,VLOOKUP(C819,Locks!A:D,5,FALSE),\"\")","v":""},{"$f":"IF(COUNTBLANK(C819)=0,VLOOKUP(C819,Locks!A:E,6,FALSE),\"\")","v":""}]
[null,{"$f":"IF(COUNTBLANK(A820)=0,VLOOKUP(A820,Users!A:E,5,FALSE),\"\")","v":""},null,{"$f":"IF(COUNTBLANK(C820)=0,VLOOKUP(C820,Locks!A:D,5,FALSE),\"\")","v":""},{"$f":"IF(COUNTBLANK(C820)=0,VLOOKUP(C820,Locks!A:E,6,FALSE),\"\")","v":""}]
[null,{"$f":"IF(COUNTBLANK(A821)=0,VLOOKUP(A821,Users!A:E,5,FALSE),\"\")","v":""},null,{"$f":"IF(COUNTBLANK(C821)=0,VLOOKUP(C821,Locks!A:D,5,FALSE),\"\")","v":""},{"$f":"IF(COUNTBLANK(C821)=0,VLOOKUP(C821,Locks!A:E,6,FALSE),\"\")","v":""}]
[null,{"$f":"IF(COUNTBLANK(A822)=0,VLOOKUP(A822,Users!A:E,5,FALSE),\"\")","v":""},null,{"$f":"IF(COUNTBLANK(C822)=0,VLOOKUP(C822,Locks!A:D,5,FALSE),\"\")","v":""},{"$f":"IF(COUNTBLANK(C822)=0,VLOOKUP(C822,Locks!A:E,6,FALSE),\"\")","v":""}]
[null,{"$f":"IF(COUNTBLANK(A823)=0,VLOOKUP(A823,Users!A:E,5,FALSE),\"\")","v":""},null,{"$f":"IF(COUNTBLANK(C823)=0,VLOOKUP(C823,Locks!A:D,5,FALSE),\"\")","v":""},{"$f":"IF(COUNTBLANK(C823)=0,VLOOKUP(C823,Locks!A:E,6,FALSE),\"\")","v":""}]
[null,{"$f":"IF(COUNTBLANK(A824)=0,VLOOKUP(A824,Users!A:E,5,FALSE),\"\")","v":""},null,{"$f":"IF(COUNTBLANK(C824)=0,VLOOKUP(C824,Locks!A:D,5,FALSE),\"\")","v":""},{"$f":"IF(COUNTBLANK(C824)=0,VLOOKUP(C824,Locks!A:E,6,FALSE),\"\")","v":""}]
[null,{"$f":"IF(COUNTBLANK(A825)=0,VLOOKUP(A825,Users!A:E,5,FALSE),\"\")","v":""},null,{"$f":"IF(COUNTBLANK(C825)=0,VLOOKUP(C825,Locks!A:D,5,FALSE),\"\")","v":""},{"$f":"IF(COUNTBLANK(C825)=0,VLOOKUP(C825,Locks!A:E,6,FALSE),\"\")","v":""}]
[null,{"$f":"IF(COUNTBLANK(A826)=0,VLOOKUP(A826,Users!A:E,5,FALSE),\"\")","v":""},null,{"$f":"IF(COUNTBLANK(C826)=0,VLOOKUP(C826,Locks!A:D,5,FALSE),\"\")","v":""},{"$f":"IF(COUNTBLANK(C826)=0,VLOOKUP(C826,Locks!A:E,6,FALSE),\"\")","v":""}]
[null,{"$f":"IF(COUNTBLANK(A827)=0,VLOOKUP(A827,Users!A:E,5,FALSE),\"\")","v":""},null,{"$f":"IF(COUNTBLANK(C827)=0,VLOOKUP(C827,Locks!A:D,5,FALSE),\"\")","v":""},{"$f":"IF(COUNTBLANK(C827)=0,VLOOKUP(C827,Locks!A:E,6,FALSE),\"\")","v":""}]
[null,{"$f":"IF(COUNTBLANK(A828)=0,VLOOKUP(A828,Users!A:E,5,FALSE),\"\")","v":""},null,{"$f":"IF(COUNTBLANK(C828)=0,VLOOKUP(C828,Locks!A:D,5,FALSE),\"\")","v":""},{"$f":"IF(COUNTBLANK(C828)=0,VLOOKUP(C828,Locks!A:E,6,FALSE),\"\")","v":""}]
[null,{"$f":"IF(COUNTBLANK(A829)=0,VLOOKUP(A829,Users!A:E,5,FALSE),\"\")","v":""},null,{"$f":"IF(COUNTBLANK(C829)=0,VLOOKUP(C829,Locks!A:D,5,FALSE),\"\")","v":""},{"$f":"IF(COUNTBLANK(C829)=0,VLOOKUP(C829,Locks!A:E,6,FALSE),\"\")","v":""}]
[null,{"$f":"IF(COUNTBLANK(A830)=0,VLOOKUP(A830,Users!A:E,5,FALSE),\"\")","v":""},null,{"$f":"IF(COUNTBLANK(C830)=0,VLOOKUP(C830,Locks!A:D,5,FALSE),\"\")","v":""},{"$f":"IF(COUNTBLANK(C830)=0,VLOOKUP(C830,Locks!A:E,6,FALSE),\"\")","v":""}]
[null,{"$f":"IF(COUNTBLANK(A831)=0,VLOOKUP(A831,Users!A:E,5,FALSE),\"\")","v":""},null,{"$f":"IF(COUNTBLANK(C831)=0,VLOOKUP(C831,Locks!A:D,5,FALSE),\"\")","v":""},{"$f":"IF(COUNTBLANK(C831)=0,VLOOKUP(C831,Locks!A:E,6,FALSE),\"\")","v":""}]
[null,{"$f":"IF(COUNTBLANK(A832)=0,VLOOKUP(A832,Users!A:E,5,FALSE),\"\")","v":""},null,{"$f":"IF(COUNTBLANK(C832)=0,VLOOKUP(C832,Locks!A:D,5,FALSE),\"\")","v":""},{"$f":"IF(COUNTBLANK(C832)=0,VLOOKUP(C832,Locks!A:E,6,FALSE),\"\")","v":""}]
[null,{"$f":"IF(COUNTBLANK(A833)=0,VLOOKUP(A833,Users!A:E,5,FALSE),\"\")","v":""},null,{"$f":"IF(COUNTBLANK(C833)=0,VLOOKUP(C833,Locks!A:D,5,FALSE),\"\")","v":""},{"$f":"IF(COUNTBLANK(C833)=0,VLOOKUP(C833,Locks!A:E,6,FALSE),\"\")","v":""}]
[null,{"$f":"IF(COUNTBLANK(A834)=0,VLOOKUP(A834,Users!A:E,5,FALSE),\"\")","v":""},null,{"$f":"IF(COUNTBLANK(C834)=0,VLOOKUP(C834,Locks!A:D,5,FALSE),\"\")","v":""},{"$f":"IF(COUNTBLANK(C834)=0,VLOOKUP(C834,Locks!A:E,6,FALSE),\"\")","v":""}]
[null,{"$f":"IF(COUNTBLANK(A835)=0,VLOOKUP(A835,Users!A:E,5,FALSE),\"\")","v":""},null,{"$f":"IF(COUNTBLANK(C835)=0,VLOOKUP(C835,Locks!A:D,5,FALSE),\"\")","v":""},{"$f":"IF(COUNTBLANK(C835)=0,VLOOKUP(C835,Locks!A:E,6,FALSE),\"\")","v":""}]
[null,{"$f":"IF(COUNTBLANK(A836)=0,VLOOKUP(A836,Users!A:E,5,FALSE),\"\")","v":""},null,{"$f":"IF(COUNTBLANK(C836)=0,VLOOKUP(C836,Locks!A:D,5,FALSE),\"\")","v":""},{"$f":"IF(COUNTBLANK(C836)=0,VLOOKUP(C836,Locks!A:E,6,FALSE),\"\")","v":""}]
[null,{"$f":"IF(COUNTBLANK(A837)=0,VLOOKUP(A837,Users!A:E,5,FALSE),\"\")","v":""},null,{"$f":"IF(COUNTBLANK(C837)=0,VLOOKUP(C837,Locks!A:D,5,FALSE),\"\")","v":""},{"$f":"IF(COUNTBLANK(C837)=0,VLOOKUP(C837,Locks!A:E,6,FALSE),\"\")","v":""}]
[null,{"$f":"IF(COUNTBLANK(A838)=0,VLOOKUP(A838,Users!A:E,5,FALSE),\"\")","v":""},null,{"$f":"IF(COUNTBLANK(C838)=0,VLOOKUP(C838,Locks!A:D,5,FALSE),\"\")","v":""},{"$f":"IF(COUNTBLANK(C838)=0,VLOOKUP(C838,Locks!A:E,6,FALSE),\"\")","v":""}]
[null,{"$f":"IF(COUNTBLANK(A839)=0,VLOOKUP(A839,Users!A:E,5,FALSE),\"\")","v":""},null,{"$f":"IF(COUNTBLANK(C839)=0,VLOOKUP(C839,Locks!A:D,5,FALSE),\"\")","v":""},{"$f":"IF(COUNTBLANK(C839)=0,VLOOKUP(C839,Locks!A:E,6,FALSE),\"\")","v":""}]
[null,{"$f":"IF(COUNTBLANK(A840)=0,VLOOKUP(A840,Users!A:E,5,FALSE),\"\")","v":""},null,{"$f":"IF(COUNTBLANK(C840)=0,VLOOKUP(C840,Locks!A:D,5,FALSE),\"\")","v":""},{"$f":"IF(COUNTBLANK(C840)=0,VLOOKUP(C840,Locks!A:E,6,FALSE),\"\")","v":""}]
[null,{"$f":"IF(COUNTBLANK(A841)=0,VLOOKUP(A841,Users!A:E,5,FALSE),\"\")","v":""},null,{"$f":"IF(COUNTBLANK(C841)=0,VLOOKUP(C841,Locks!A:D,5,FALSE),\"\")","v":""},{"$f":"IF(COUNTBLANK(C841)=0,VLOOKUP(C841,Locks!A:E,6,FALSE),\"\")","v":""}]
[null,{"$f":"IF(COUNTBLANK(A842)=0,VLOOKUP(A842,Users!A:E,5,FALSE),\"\")","v":""},null,{"$f":"IF(COUNTBLANK(C842)=0,VLOOKUP(C842,Locks!A:D,5,FALSE),\"\")","v":""},{"$f":"IF(COUNTBLANK(C842)=0,VLOOKUP(C842,Locks!A:E,6,FALSE),\"\")","v":""}]
[null,{"$f":"IF(COUNTBLANK(A843)=0,VLOOKUP(A843,Users!A:E,5,FALSE),\"\")","v":""},null,{"$f":"IF(COUNTBLANK(C843)=0,VLOOKUP(C843,Locks!A:D,5,FALSE),\"\")","v":""},{"$f":"IF(COUNTBLANK(C843)=0,VLOOKUP(C843,Locks!A:E,6,FALSE),\"\")","v":""}]
[null,{"$f":"IF(COUNTBLANK(A844)=0,VLOOKUP(A844,Users!A:E,5,FALSE),\"\")","v":""},null,{"$f":"IF(COUNTBLANK(C844)=0,VLOOKUP(C844,Locks!A:D,5,FALSE),\"\")","v":""},{"$f":"IF(COUNTBLANK(C844)=0,VLOOKUP(C844,Locks!A:E,6,FALSE),\"\")","v":""}]
[null,{"$f":"IF(COUNTBLANK(A845)=0,VLOOKUP(A845,Users!A:E,5,FALSE),\"\")","v":""},null,{"$f":"IF(COUNTBLANK(C845)=0,VLOOKUP(C845,Locks!A:D,5,FALSE),\"\")","v":""},{"$f":"IF(COUNTBLANK(C845)=0,VLOOKUP(C845,Locks!A:E,6,FALSE),\"\")","v":""}]
[null,{"$f":"IF(COUNTBLANK(A846)=0,VLOOKUP(A846,Users!A:E,5,FALSE),\"\")","v":""},null,{"$f":"IF(COUNTBLANK(C846)=0,VLOOKUP(C846,Locks!A:D,5,FALSE),\"\")","v":""},{"$f":"IF(COUNTBLANK(C846)=0,VLOOKUP(C846,Locks!A:E,6,FALSE),\"\")","v":""}]
[null,{"$f":"IF(COUNTBLANK(A847)=0,VLOOKUP(A847,Users!A:E,5,FALSE),\"\")","v":""},null,{"$f":"IF(COUNTBLANK(C847)=0,VLOOKUP(C847,Locks!A:D,5,FALSE),\"\")","v":""},{"$f":"IF(COUNTBLANK(C847)=0,VLOOKUP(C847,Locks!A:E,6,FALSE),\"\")","v":""}]
[null,{"$f":"IF(COUNTBLANK(A848)=0,VLOOKUP(A848,Users!A:E,5,FALSE),\"\")","v":""},null,{"$f":"IF(COUNTBLANK(C848)=0,VLOOKUP(C848,Locks!A:D,5,FALSE),\"\")","v":""},{"$f":"IF(COUNTBLANK(C848)=0,VLOOKUP(C848,Locks!A:E,6,FALSE),\"\")","v":""}]
[null,{"$f":"IF(COUNTBLANK(A849)=0,VLOOKUP(A849,Users!A:E,5,FALSE),\"\")","v":""},null,{"$f":"IF(COUNTBLANK(C849)=0,VLOOKUP(C849,Locks!A:D,5,FALSE),\"\")","v":""},{"$f":"IF(COUNTBLANK(C849)=0,VLOOKUP(C849,Locks!A:E,6,FALSE),\"\")","v":""}]
[null,{"$f":"IF(COUNTBLANK(A850)=0,VLOOKUP(A850,Users!A:E,5,FALSE),\"\")","v":""},null,{"$f":"IF(COUNTBLANK(C850)=0,VLOOKUP(C850,Locks!A:D,5,FALSE),\"\")","v":""},{"$f":"IF(COUNTBLANK(C850)=0,VLOOKUP(C850,Locks!A:E,6,FALSE),\"\")","v":""}]
[null,{"$f":"IF(COUNTBLANK(A851)=0,VLOOKUP(A851,Users!A:E,5,FALSE),\"\")","v":""},null,{"$f":"IF(COUNTBLANK(C851)=0,VLOOKUP(C851,Locks!A:D,5,FALSE),\"\")","v":""},{"$f":"IF(COUNTBLANK(C851)=0,VLOOKUP(C851,Locks!A:E,6,FALSE),\"\")","v":""}]
[null,{"$f":"IF(COUNTBLANK(A852)=0,VLOOKUP(A852,Users!A:E,5,FALSE),\"\")","v":""},null,{"$f":"IF(COUNTBLANK(C852)=0,VLOOKUP(C852,Locks!A:D,5,FALSE),\"\")","v":""},{"$f":"IF(COUNTBLANK(C852)=0,VLOOKUP(C852,Locks!A:E,6,FALSE),\"\")","v":""}]
[null,{"$f":"IF(COUNTBLANK(A853)=0,VLOOKUP(A853,Users!A:E,5,FALSE),\"\")","v":""},null,{"$f":"IF(COUNTBLANK(C853)=0,VLOOKUP(C853,Locks!A:D,5,FALSE),\"\")","v":""},{"$f":"IF(COUNTBLANK(C853)=0,VLOOKUP(C853,Locks!A:E,6,FALSE),\"\")","v":""}]
[null,{"$f":"IF(COUNTBLANK(A854)=0,VLOOKUP(A854,Users!A:E,5,FALSE),\"\")","v":""},null,{"$f":"IF(COUNTBLANK(C854)=0,VLOOKUP(C854,Locks!A:D,5,FALSE),\"\")","v":""},{"$f":"IF(COUNTBLANK(C854)=0,VLOOKUP(C854,Locks!A:E,6,FALSE),\"\")","v":""}]
[null,{"$f":"IF(COUNTBLANK(A855)=0,VLOOKUP(A855,Users!A:E,5,FALSE),\"\")","v":""},null,{"$f":"IF(COUNTBLANK(C855)=0,VLOOKUP(C855,Locks!A:D,5,FALSE),\"\")","v":""},{"$f":"IF(COUNTBLANK(C855)=0,VLOOKUP(C855,Locks!A:E,6,FALSE),\"\")","v":""}]
[null,{"$f":"IF(COUNTBLANK(A856)=0,VLOOKUP(A856,Users!A:E,5,FALSE),\"\")","v":""},null,{"$f":"IF(COUNTBLANK(C856)=0,VLOOKUP(C856,Locks!A:D,5,FALSE),\"\")","v":""},{"$f":"IF(COUNTBLANK(C856)=0,VLOOKUP(C856,Locks!A:E,6,FALSE),\"\")","v":""}]
[null,{"$f":"IF(COUNTBLANK(A857)=0,VLOOKUP(A857,Users!A:E,5,FALSE),\"\")","v":""},null,{"$f":"IF(COUNTBLANK(C857)=0,VLOOKUP(C857,Locks!A:D,5,FALSE),\"\")","v":""},{"$f":"IF(COUNTBLANK(C857)=0,VLOOKUP(C857,Locks!A:E,6,FALSE),\"\")","v":""}]
[null,{"$f":"IF(COUNTBLANK(A858)=0,VLOOKUP(A858,Users!A:E,5,FALSE),\"\")","v":""},null,{"$f":"IF(COUNTBLANK(C858)=0,VLOOKUP(C858,Locks!A:D,5,FALSE),\"\")","v":""},{"$f":"IF(COUNTBLANK(C858)=0,VLOOKUP(C858,Locks!A:E,6,FALSE),\"\")","v":""}]
[null,{"$f":"IF(COUNTBLANK(A859)=0,VLOOKUP(A859,Users!A:E,5,FALSE),\"\")","v":""},null,{"$f":"IF(COUNTBLANK(C859)=0,VLOOKUP(C859,Locks!A:D,5,FALSE),\"\")","v":""},{"$f":"IF(COUNTBLANK(C859)=0,VLOOKUP(C859,Locks!A:E,6,FALSE),\"\")","v":""}]
[null,{"$f":"IF(COUNTBLANK(A860)=0,VLOOKUP(A860,Users!A:E,5,FALSE),\"\")","v":""},null,{"$f":"IF(COUNTBLANK(C860)=0,VLOOKUP(C860,Locks!A:D,5,FALSE),\"\")","v":""},{"$f":"IF(COUNTBLANK(C860)=0,VLOOKUP(C860,Locks!A:E,6,FALSE),\"\")","v":""}]
[null,{"$f":"IF(COUNTBLANK(A861)=0,VLOOKUP(A861,Users!A:E,5,FALSE),\"\")","v":""},null,{"$f":"IF(COUNTBLANK(C861)=0,VLOOKUP(C861,Locks!A:D,5,FALSE),\"\")","v":""},{"$f":"IF(COUNTBLANK(C861)=0,VLOOKUP(C861,Locks!A:E,6,FALSE),\"\")","v":""}]
[null,{"$f":"IF(COUNTBLANK(A862)=0,VLOOKUP(A862,Users!A:E,5,FALSE),\"\")","v":""},null,{"$f":"IF(COUNTBLANK(C862)=0,VLOOKUP(C862,Locks!A:D,5,FALSE),\"\")","v":""},{"$f":"IF(COUNTBLANK(C862)=0,VLOOKUP(C862,Locks!A:E,6,FALSE),\"\")","v":""}]
[null,{"$f":"IF(COUNTBLANK(A863)=0,VLOOKUP(A863,Users!A:E,5,FALSE),\"\")","v":""},null,{"$f":"IF(COUNTBLANK(C863)=0,VLOOKUP(C863,Locks!A:D,5,FALSE),\"\")","v":""},{"$f":"IF(COUNTBLANK(C863)=0,VLOOKUP(C863,Locks!A:E,6,FALSE),\"\")","v":""}]
[null,{"$f":"IF(COUNTBLANK(A864)=0,VLOOKUP(A864,Users!A:E,5,FALSE),\"\")","v":""},null,{"$f":"IF(COUNTBLANK(C864)=0,VLOOKUP(C864,Locks!A:D,5,FALSE),\"\")","v":""},{"$f":"IF(COUNTBLANK(C864)=0,VLOOKUP(C864,Locks!A:E,6,FALSE),\"\")","v":""}]
[null,{"$f":"IF(COUNTBLANK(A865)=0,VLOOKUP(A865,Users!A:E,5,FALSE),\"\")","v":""},null,{"$f":"IF(COUNTBLANK(C865)=0,VLOOKUP(C865,Locks!A:D,5,FALSE),\"\")","v":""},{"$f":"IF(COUNTBLANK(C865)=0,VLOOKUP(C865,Locks!A:E,6,FALSE),\"\")","v":""}]
[null,{"$f":"IF(COUNTBLANK(A866)=0,VLOOKUP(A866,Users!A:E,5,FALSE),\"\")","v":""},null,{"$f":"IF(COUNTBLANK(C866)=0,VLOOKUP(C866,Locks!A:D,5,FALSE),\"\")","v":""},{"$f":"IF(COUNTBLANK(C866)=0,VLOOKUP(C866,Locks!A:E,6,FALSE),\"\")","v":""}]
[null,{"$f":"IF(COUNTBLANK(A867)=0,VLOOKUP(A867,Users!A:E,5,FALSE),\"\")","v":""},null,{"$f":"IF(COUNTBLANK(C867)=0,VLOOKUP(C867,Locks!A:D,5,FALSE),\"\")","v":""},{"$f":"IF(COUNTBLANK(C867)=0,VLOOKUP(C867,Locks!A:E,6,FALSE),\"\")","v":""}]
[null,{"$f":"IF(COUNTBLANK(A868)=0,VLOOKUP(A868,Users!A:E,5,FALSE),\"\")","v":""},null,{"$f":"IF(COUNTBLANK(C868)=0,VLOOKUP(C868,Locks!A:D,5,FALSE),\"\")","v":""},{"$f":"IF(COUNTBLANK(C868)=0,VLOOKUP(C868,Locks!A:E,6,FALSE),\"\")","v":""}]
[null,{"$f":"IF(COUNTBLANK(A869)=0,VLOOKUP(A869,Users!A:E,5,FALSE),\"\")","v":""},null,{"$f":"IF(COUNTBLANK(C869)=0,VLOOKUP(C869,Locks!A:D,5,FALSE),\"\")","v":""},{"$f":"IF(COUNTBLANK(C869)=0,VLOOKUP(C869,Locks!A:E,6,FALSE),\"\")","v":""}]
[null,{"$f":"IF(COUNTBLANK(A870)=0,VLOOKUP(A870,Users!A:E,5,FALSE),\"\")","v":""},null,{"$f":"IF(COUNTBLANK(C870)=0,VLOOKUP(C870,Locks!A:D,5,FALSE),\"\")","v":""},{"$f":"IF(COUNTBLANK(C870)=0,VLOOKUP(C870,Locks!A:E,6,FALSE),\"\")","v":""}]
[null,{"$f":"IF(COUNTBLANK(A871)=0,VLOOKUP(A871,Users!A:E,5,FALSE),\"\")","v":""},null,{"$f":"IF(COUNTBLANK(C871)=0,VLOOKUP(C871,Locks!A:D,5,FALSE),\"\")","v":""},{"$f":"IF(COUNTBLANK(C871)=0,VLOOKUP(C871,Locks!A:E,6,FALSE),\"\")","v":""}]
[null,{"$f":"IF(COUNTBLANK(A872)=0,VLOOKUP(A872,Users!A:E,5,FALSE),\"\")","v":""},null,{"$f":"IF(COUNTBLANK(C872)=0,VLOOKUP(C872,Locks!A:D,5,FALSE),\"\")","v":""},{"$f":"IF(COUNTBLANK(C872)=0,VLOOKUP(C872,Locks!A:E,6,FALSE),\"\")","v":""}]
[null,{"$f":"IF(COUNTBLANK(A873)=0,VLOOKUP(A873,Users!A:E,5,FALSE),\"\")","v":""},null,{"$f":"IF(COUNTBLANK(C873)=0,VLOOKUP(C873,Locks!A:D,5,FALSE),\"\")","v":""},{"$f":"IF(COUNTBLANK(C873)=0,VLOOKUP(C873,Locks!A:E,6,FALSE),\"\")","v":""}]
[null,{"$f":"IF(COUNTBLANK(A874)=0,VLOOKUP(A874,Users!A:E,5,FALSE),\"\")","v":""},null,{"$f":"IF(COUNTBLANK(C874)=0,VLOOKUP(C874,Locks!A:D,5,FALSE),\"\")","v":""},{"$f":"IF(COUNTBLANK(C874)=0,VLOOKUP(C874,Locks!A:E,6,FALSE),\"\")","v":""}]
[null,{"$f":"IF(COUNTBLANK(A875)=0,VLOOKUP(A875,Users!A:E,5,FALSE),\"\")","v":""},null,{"$f":"IF(COUNTBLANK(C875)=0,VLOOKUP(C875,Locks!A:D,5,FALSE),\"\")","v":""},{"$f":"IF(COUNTBLANK(C875)=0,VLOOKUP(C875,Locks!A:E,6,FALSE),\"\")","v":""}]
[null,{"$f":"IF(COUNTBLANK(A876)=0,VLOOKUP(A876,Users!A:E,5,FALSE),\"\")","v":""},null,{"$f":"IF(COUNTBLANK(C876)=0,VLOOKUP(C876,Locks!A:D,5,FALSE),\"\")","v":""},{"$f":"IF(COUNTBLANK(C876)=0,VLOOKUP(C876,Locks!A:E,6,FALSE),\"\")","v":""}]
[null,{"$f":"IF(COUNTBLANK(A877)=0,VLOOKUP(A877,Users!A:E,5,FALSE),\"\")","v":""},null,{"$f":"IF(COUNTBLANK(C877)=0,VLOOKUP(C877,Locks!A:D,5,FALSE),\"\")","v":""},{"$f":"IF(COUNTBLANK(C877)=0,VLOOKUP(C877,Locks!A:E,6,FALSE),\"\")","v":""}]
[null,{"$f":"IF(COUNTBLANK(A878)=0,VLOOKUP(A878,Users!A:E,5,FALSE),\"\")","v":""},null,{"$f":"IF(COUNTBLANK(C878)=0,VLOOKUP(C878,Locks!A:D,5,FALSE),\"\")","v":""},{"$f":"IF(COUNTBLANK(C878)=0,VLOOKUP(C878,Locks!A:E,6,FALSE),\"\")","v":""}]
[null,{"$f":"IF(COUNTBLANK(A879)=0,VLOOKUP(A879,Users!A:E,5,FALSE),\"\")","v":""},null,{"$f":"IF(COUNTBLANK(C879)=0,VLOOKUP(C879,Locks!A:D,5,FALSE),\"\")","v":""},{"$f":"IF(COUNTBLANK(C879)=0,VLOOKUP(C879,Locks!A:E,6,FALSE),\"\")","v":""}]
[null,{"$f":"IF(COUNTBLANK(A880)=0,VLOOKUP(A880,Users!A:E,5,FALSE),\"\")","v":""},null,{"$f":"IF(COUNTBLANK(C880)=0,VLOOKUP(C880,Locks!A:D,5,FALSE),\"\")","v":""},{"$f":"IF(COUNTBLANK(C880)=0,VLOOKUP(C880,Locks!A:E,6,FALSE),\"\")","v":""}]
[null,{"$f":"IF(COUNTBLANK(A881)=0,VLOOKUP(A881,Users!A:E,5,FALSE),\"\")","v":""},null,{"$f":"IF(COUNTBLANK(C881)=0,VLOOKUP(C881,Locks!A:D,5,FALSE),\"\")","v":""},{"$f":"IF(COUNTBLANK(C881)=0,VLOOKUP(C881,Locks!A:E,6,FALSE),\"\")","v":""}]
[null,{"$f":"IF(COUNTBLANK(A882)=0,VLOOKUP(A882,Users!A:E,5,FALSE),\"\")","v":""},null,{"$f":"IF(COUNTBLANK(C882)=0,VLOOKUP(C882,Locks!A:D,5,FALSE),\"\")","v":""},{"$f":"IF(COUNTBLANK(C882)=0,VLOOKUP(C882,Locks!A:E,6,FALSE),\"\")","v":""}]
[null,{"$f":"IF(COUNTBLANK(A883)=0,VLOOKUP(A883,Users!A:E,5,FALSE),\"\")","v":""},null,{"$f":"IF(COUNTBLANK(C883)=0,VLOOKUP(C883,Locks!A:D,5,FALSE),\"\")","v":""},{"$f":"IF(COUNTBLANK(C883)=0,VLOOKUP(C883,Locks!A:E,6,FALSE),\"\")","v":""}]
[null,{"$f":"IF(COUNTBLANK(A884)=0,VLOOKUP(A884,Users!A:E,5,FALSE),\"\")","v":""},null,{"$f":"IF(COUNTBLANK(C884)=0,VLOOKUP(C884,Locks!A:D,5,FALSE),\"\")","v":""},{"$f":"IF(COUNTBLANK(C884)=0,VLOOKUP(C884,Locks!A:E,6,FALSE),\"\")","v":""}]
[null,{"$f":"IF(COUNTBLANK(A885)=0,VLOOKUP(A885,Users!A:E,5,FALSE),\"\")","v":""},null,{"$f":"IF(COUNTBLANK(C885)=0,VLOOKUP(C885,Locks!A:D,5,FALSE),\"\")","v":""},{"$f":"IF(COUNTBLANK(C885)=0,VLOOKUP(C885,Locks!A:E,6,FALSE),\"\")","v":""}]
[null,{"$f":"IF(COUNTBLANK(A886)=0,VLOOKUP(A886,Users!A:E,5,FALSE),\"\")","v":""},null,{"$f":"IF(COUNTBLANK(C886)=0,VLOOKUP(C886,Locks!A:D,5,FALSE),\"\")","v":""},{"$f":"IF(COUNTBLANK(C886)=0,VLOOKUP(C886,Locks!A:E,6,FALSE),\"\")","v":""}]
[null,{"$f":"IF(COUNTBLANK(A887)=0,VLOOKUP(A887,Users!A:E,5,FALSE),\"\")","v":""},null,{"$f":"IF(COUNTBLANK(C887)=0,VLOOKUP(C887,Locks!A:D,5,FALSE),\"\")","v":""},{"$f":"IF(COUNTBLANK(C887)=0,VLOOKUP(C887,Locks!A:E,6,FALSE),\"\")","v":""}]
[null,{"$f":"IF(COUNTBLANK(A888)=0,VLOOKUP(A888,Users!A:E,5,FALSE),\"\")","v":""},null,{"$f":"IF(COUNTBLANK(C888)=0,VLOOKUP(C888,Locks!A:D,5,FALSE),\"\")","v":""},{"$f":"IF(COUNTBLANK(C888)=0,VLOOKUP(C888,Locks!A:E,6,FALSE),\"\")","v":""}]
[null,{"$f":"IF(COUNTBLANK(A889)=0,VLOOKUP(A889,Users!A:E,5,FALSE),\"\")","v":""},null,{"$f":"IF(COUNTBLANK(C889)=0,VLOOKUP(C889,Locks!A:D,5,FALSE),\"\")","v":""},{"$f":"IF(COUNTBLANK(C889)=0,VLOOKUP(C889,Locks!A:E,6,FALSE),\"\")","v":""}]
[null,{"$f":"IF(COUNTBLANK(A890)=0,VLOOKUP(A890,Users!A:E,5,FALSE),\"\")","v":""},null,{"$f":"IF(COUNTBLANK(C890)=0,VLOOKUP(C890,Locks!A:D,5,FALSE),\"\")","v":""},{"$f":"IF(COUNTBLANK(C890)=0,VLOOKUP(C890,Locks!A:E,6,FALSE),\"\")","v":""}]
[null,{"$f":"IF(COUNTBLANK(A891)=0,VLOOKUP(A891,Users!A:E,5,FALSE),\"\")","v":""},null,{"$f":"IF(COUNTBLANK(C891)=0,VLOOKUP(C891,Locks!A:D,5,FALSE),\"\")","v":""},{"$f":"IF(COUNTBLANK(C891)=0,VLOOKUP(C891,Locks!A:E,6,FALSE),\"\")","v":""}]
[null,{"$f":"IF(COUNTBLANK(A892)=0,VLOOKUP(A892,Users!A:E,5,FALSE),\"\")","v":""},null,{"$f":"IF(COUNTBLANK(C892)=0,VLOOKUP(C892,Locks!A:D,5,FALSE),\"\")","v":""},{"$f":"IF(COUNTBLANK(C892)=0,VLOOKUP(C892,Locks!A:E,6,FALSE),\"\")","v":""}]
[null,{"$f":"IF(COUNTBLANK(A893)=0,VLOOKUP(A893,Users!A:E,5,FALSE),\"\")","v":""},null,{"$f":"IF(COUNTBLANK(C893)=0,VLOOKUP(C893,Locks!A:D,5,FALSE),\"\")","v":""},{"$f":"IF(COUNTBLANK(C893)=0,VLOOKUP(C893,Locks!A:E,6,FALSE),\"\")","v":""}]
[null,{"$f":"IF(COUNTBLANK(A894)=0,VLOOKUP(A894,Users!A:E,5,FALSE),\"\")","v":""},null,{"$f":"IF(COUNTBLANK(C894)=0,VLOOKUP(C894,Locks!A:D,5,FALSE),\"\")","v":""},{"$f":"IF(COUNTBLANK(C894)=0,VLOOKUP(C894,Locks!A:E,6,FALSE),\"\")","v":""}]
[null,{"$f":"IF(COUNTBLANK(A895)=0,VLOOKUP(A895,Users!A:E,5,FALSE),\"\")","v":""},null,{"$f":"IF(COUNTBLANK(C895)=0,VLOOKUP(C895,Locks!A:D,5,FALSE),\"\")","v":""},{"$f":"IF(COUNTBLANK(C895)=0,VLOOKUP(C895,Locks!A:E,6,FALSE),\"\")","v":""}]
[null,{"$f":"IF(COUNTBLANK(A896)=0,VLOOKUP(A896,Users!A:E,5,FALSE),\"\")","v":""},null,{"$f":"IF(COUNTBLANK(C896)=0,VLOOKUP(C896,Locks!A:D,5,FALSE),\"\")","v":""},{"$f":"IF(COUNTBLANK(C896)=0,VLOOKUP(C896,Locks!A:E,6,FALSE),\"\")","v":""}]
[null,{"$f":"IF(COUNTBLANK(A897)=0,VLOOKUP(A897,Users!A:E,5,FALSE),\"\")","v":""},null,{"$f":"IF(COUNTBLANK(C897)=0,VLOOKUP(C897,Locks!A:D,5,FALSE),\"\")","v":""},{"$f":"IF(COUNTBLANK(C897)=0,VLOOKUP(C897,Locks!A:E,6,FALSE),\"\")","v":""}]
[null,{"$f":"IF(COUNTBLANK(A898)=0,VLOOKUP(A898,Users!A:E,5,FALSE),\"\")","v":""},null,{"$f":"IF(COUNTBLANK(C898)=0,VLOOKUP(C898,Locks!A:D,5,FALSE),\"\")","v":""},{"$f":"IF(COUNTBLANK(C898)=0,VLOOKUP(C898,Locks!A:E,6,FALSE),\"\")","v":""}]
[null,{"$f":"IF(COUNTBLANK(A899)=0,VLOOKUP(A899,Users!A:E,5,FALSE),\"\")","v":""},null,{"$f":"IF(COUNTBLANK(C899)=0,VLOOKUP(C899,Locks!A:D,5,FALSE),\"\")","v":""},{"$f":"IF(COUNTBLANK(C899)=0,VLOOKUP(C899,Locks!A:E,6,FALSE),\"\")","v":""}]
[null,{"$f":"IF(COUNTBLANK(A900)=0,VLOOKUP(A900,Users!A:E,5,FALSE),\"\")","v":""},null,{"$f":"IF(COUNTBLANK(C900)=0,VLOOKUP(C900,Locks!A:D,5,FALSE),\"\")","v":""},{"$f":"IF(COUNTBLANK(C900)=0,VLOOKUP(C900,Locks!A:E,6,FALSE),\"\")","v":""}]
[null,{"$f":"IF(COUNTBLANK(A901)=0,VLOOKUP(A901,Users!A:E,5,FALSE),\"\")","v":""},null,{"$f":"IF(COUNTBLANK(C901)=0,VLOOKUP(C901,Locks!A:D,5,FALSE),\"\")","v":""},{"$f":"IF(COUNTBLANK(C901)=0,VLOOKUP(C901,Locks!A:E,6,FALSE),\"\")","v":""}]
[null,{"$f":"IF(COUNTBLANK(A902)=0,VLOOKUP(A902,Users!A:E,5,FALSE),\"\")","v":""},null,{"$f":"IF(COUNTBLANK(C902)=0,VLOOKUP(C902,Locks!A:D,5,FALSE),\"\")","v":""},{"$f":"IF(COUNTBLANK(C902)=0,VLOOKUP(C902,Locks!A:E,6,FALSE),\"\")","v":""}]
[null,{"$f":"IF(COUNTBLANK(A903)=0,VLOOKUP(A903,Users!A:E,5,FALSE),\"\")","v":""},null,{"$f":"IF(COUNTBLANK(C903)=0,VLOOKUP(C903,Locks!A:D,5,FALSE),\"\")","v":""},{"$f":"IF(COUNTBLANK(C903)=0,VLOOKUP(C903,Locks!A:E,6,FALSE),\"\")","v":""}]
[null,{"$f":"IF(COUNTBLANK(A904)=0,VLOOKUP(A904,Users!A:E,5,FALSE),\"\")","v":""},null,{"$f":"IF(COUNTBLANK(C904)=0,VLOOKUP(C904,Locks!A:D,5,FALSE),\"\")","v":""},{"$f":"IF(COUNTBLANK(C904)=0,VLOOKUP(C904,Locks!A:E,6,FALSE),\"\")","v":""}]
[null,{"$f":"IF(COUNTBLANK(A905)=0,VLOOKUP(A905,Users!A:E,5,FALSE),\"\")","v":""},null,{"$f":"IF(COUNTBLANK(C905)=0,VLOOKUP(C905,Locks!A:D,5,FALSE),\"\")","v":""},{"$f":"IF(COUNTBLANK(C905)=0,VLOOKUP(C905,Locks!A:E,6,FALSE),\"\")","v":""}]
[null,{"$f":"IF(COUNTBLANK(A906)=0,VLOOKUP(A906,Users!A:E,5,FALSE),\"\")","v":""},null,{"$f":"IF(COUNTBLANK(C906)=0,VLOOKUP(C906,Locks!A:D,5,FALSE),\"\")","v":""},{"$f":"IF(COUNTBLANK(C906)=0,VLOOKUP(C906,Locks!A:E,6,FALSE),\"\")","v":""}]
[null,{"$f":"IF(COUNTBLANK(A907)=0,VLOOKUP(A907,Users!A:E,5,FALSE),\"\")","v":""},null,{"$f":"IF(COUNTBLANK(C907)=0,VLOOKUP(C907,Locks!A:D,5,FALSE),\"\")","v":""},{"$f":"IF(COUNTBLANK(C907)=0,VLOOKUP(C907,Locks!A:E,6,FALSE),\"\")","v":""}]
[null,{"$f":"IF(COUNTBLANK(A908)=0,VLOOKUP(A908,Users!A:E,5,FALSE),\"\")","v":""},null,{"$f":"IF(COUNTBLANK(C908)=0,VLOOKUP(C908,Locks!A:D,5,FALSE),\"\")","v":""},{"$f":"IF(COUNTBLANK(C908)=0,VLOOKUP(C908,Locks!A:E,6,FALSE),\"\")","v":""}]
[null,{"$f":"IF(COUNTBLANK(A909)=0,VLOOKUP(A909,Users!A:E,5,FALSE),\"\")","v":""},null,{"$f":"IF(COUNTBLANK(C909)=0,VLOOKUP(C909,Locks!A:D,5,FALSE),\"\")","v":""},{"$f":"IF(COUNTBLANK(C909)=0,VLOOKUP(C909,Locks!A:E,6,FALSE),\"\")","v":""}]
[null,{"$f":"IF(COUNTBLANK(A910)=0,VLOOKUP(A910,Users!A:E,5,FALSE),\"\")","v":""},null,{"$f":"IF(COUNTBLANK(C910)=0,VLOOKUP(C910,Locks!A:D,5,FALSE),\"\")","v":""},{"$f":"IF(COUNTBLANK(C910)=0,VLOOKUP(C910,Locks!A:E,6,FALSE),\"\")","v":""}]
[null,{"$f":"IF(COUNTBLANK(A911)=0,VLOOKUP(A911,Users!A:E,5,FALSE),\"\")","v":""},null,{"$f":"IF(COUNTBLANK(C911)=0,VLOOKUP(C911,Locks!A:D,5,FALSE),\"\")","v":""},{"$f":"IF(COUNTBLANK(C911)=0,VLOOKUP(C911,Locks!A:E,6,FALSE),\"\")","v":""}]
[null,{"$f":"IF(COUNTBLANK(A912)=0,VLOOKUP(A912,Users!A:E,5,FALSE),\"\")","v":""},null,{"$f":"IF(COUNTBLANK(C912)=0,VLOOKUP(C912,Locks!A:D,5,FALSE),\"\")","v":""},{"$f":"IF(COUNTBLANK(C912)=0,VLOOKUP(C912,Locks!A:E,6,FALSE),\"\")","v":""}]
[null,{"$f":"IF(COUNTBLANK(A913)=0,VLOOKUP(A913,Users!A:E,5,FALSE),\"\")","v":""},null,{"$f":"IF(COUNTBLANK(C913)=0,VLOOKUP(C913,Locks!A:D,5,FALSE),\"\")","v":""},{"$f":"IF(COUNTBLANK(C913)=0,VLOOKUP(C913,Locks!A:E,6,FALSE),\"\")","v":""}]
[null,{"$f":"IF(COUNTBLANK(A914)=0,VLOOKUP(A914,Users!A:E,5,FALSE),\"\")","v":""},null,{"$f":"IF(COUNTBLANK(C914)=0,VLOOKUP(C914,Locks!A:D,5,FALSE),\"\")","v":""},{"$f":"IF(COUNTBLANK(C914)=0,VLOOKUP(C914,Locks!A:E,6,FALSE),\"\")","v":""}]
[null,{"$f":"IF(COUNTBLANK(A915)=0,VLOOKUP(A915,Users!A:E,5,FALSE),\"\")","v":""},null,{"$f":"IF(COUNTBLANK(C915)=0,VLOOKUP(C915,Locks!A:D,5,FALSE),\"\")","v":""},{"$f":"IF(COUNTBLANK(C915)=0,VLOOKUP(C915,Locks!A:E,6,FALSE),\"\")","v":""}]
[null,{"$f":"IF(COUNTBLANK(A916)=0,VLOOKUP(A916,Users!A:E,5,FALSE),\"\")","v":""},null,{"$f":"IF(COUNTBLANK(C916)=0,VLOOKUP(C916,Locks!A:D,5,FALSE),\"\")","v":""},{"$f":"IF(COUNTBLANK(C916)=0,VLOOKUP(C916,Locks!A:E,6,FALSE),\"\")","v":""}]
[null,{"$f":"IF(COUNTBLANK(A917)=0,VLOOKUP(A917,Users!A:E,5,FALSE),\"\")","v":""},null,{"$f":"IF(COUNTBLANK(C917)=0,VLOOKUP(C917,Locks!A:D,5,FALSE),\"\")","v":""},{"$f":"IF(COUNTBLANK(C917)=0,VLOOKUP(C917,Locks!A:E,6,FALSE),\"\")","v":""}]
[null,{"$f":"IF(COUNTBLANK(A918)=0,VLOOKUP(A918,Users!A:E,5,FALSE),\"\")","v":""},null,{"$f":"IF(COUNTBLANK(C918)=0,VLOOKUP(C918,Locks!A:D,5,FALSE),\"\")","v":""},{"$f":"IF(COUNTBLANK(C918)=0,VLOOKUP(C918,Locks!A:E,6,FALSE),\"\")","v":""}]
[null,{"$f":"IF(COUNTBLANK(A919)=0,VLOOKUP(A919,Users!A:E,5,FALSE),\"\")","v":""},null,{"$f":"IF(COUNTBLANK(C919)=0,VLOOKUP(C919,Locks!A:D,5,FALSE),\"\")","v":""},{"$f":"IF(COUNTBLANK(C919)=0,VLOOKUP(C919,Locks!A:E,6,FALSE),\"\")","v":""}]
[null,{"$f":"IF(COUNTBLANK(A920)=0,VLOOKUP(A920,Users!A:E,5,FALSE),\"\")","v":""},null,{"$f":"IF(COUNTBLANK(C920)=0,VLOOKUP(C920,Locks!A:D,5,FALSE),\"\")","v":""},{"$f":"IF(COUNTBLANK(C920)=0,VLOOKUP(C920,Locks!A:E,6,FALSE),\"\")","v":""}]
[null,{"$f":"IF(COUNTBLANK(A921)=0,VLOOKUP(A921,Users!A:E,5,FALSE),\"\")","v":""},null,{"$f":"IF(COUNTBLANK(C921)=0,VLOOKUP(C921,Locks!A:D,5,FALSE),\"\")","v":""},{"$f":"IF(COUNTBLANK(C921)=0,VLOOKUP(C921,Locks!A:E,6,FALSE),\"\")","v":""}]
[null,{"$f":"IF(COUNTBLANK(A922)=0,VLOOKUP(A922,Users!A:E,5,FALSE),\"\")","v":""},null,{"$f":"IF(COUNTBLANK(C922)=0,VLOOKUP(C922,Locks!A:D,5,FALSE),\"\")","v":""},{"$f":"IF(COUNTBLANK(C922)=0,VLOOKUP(C922,Locks!A:E,6,FALSE),\"\")","v":""}]
[null,{"$f":"IF(COUNTBLANK(A923)=0,VLOOKUP(A923,Users!A:E,5,FALSE),\"\")","v":""},null,{"$f":"IF(COUNTBLANK(C923)=0,VLOOKUP(C923,Locks!A:D,5,FALSE),\"\")","v":""},{"$f":"IF(COUNTBLANK(C923)=0,VLOOKUP(C923,Locks!A:E,6,FALSE),\"\")","v":""}]
[null,{"$f":"IF(COUNTBLANK(A924)=0,VLOOKUP(A924,Users!A:E,5,FALSE),\"\")","v":""},null,{"$f":"IF(COUNTBLANK(C924)=0,VLOOKUP(C924,Locks!A:D,5,FALSE),\"\")","v":""},{"$f":"IF(COUNTBLANK(C924)=0,VLOOKUP(C924,Locks!A:E,6,FALSE),\"\")","v":""}]
[null,{"$f":"IF(COUNTBLANK(A925)=0,VLOOKUP(A925,Users!A:E,5,FALSE),\"\")","v":""},null,{"$f":"IF(COUNTBLANK(C925)=0,VLOOKUP(C925,Locks!A:D,5,FALSE),\"\")","v":""},{"$f":"IF(COUNTBLANK(C925)=0,VLOOKUP(C925,Locks!A:E,6,FALSE),\"\")","v":""}]
[null,{"$f":"IF(COUNTBLANK(A926)=0,VLOOKUP(A926,Users!A:E,5,FALSE),\"\")","v":""},null,{"$f":"IF(COUNTBLANK(C926)=0,VLOOKUP(C926,Locks!A:D,5,FALSE),\"\")","v":""},{"$f":"IF(COUNTBLANK(C926)=0,VLOOKUP(C926,Locks!A:E,6,FALSE),\"\")","v":""}]
[null,{"$f":"IF(COUNTBLANK(A927)=0,VLOOKUP(A927,Users!A:E,5,FALSE),\"\")","v":""},null,{"$f":"IF(COUNTBLANK(C927)=0,VLOOKUP(C927,Locks!A:D,5,FALSE),\"\")","v":""},{"$f":"IF(COUNTBLANK(C927)=0,VLOOKUP(C927,Locks!A:E,6,FALSE),\"\")","v":""}]
[null,{"$f":"IF(COUNTBLANK(A928)=0,VLOOKUP(A928,Users!A:E,5,FALSE),\"\")","v":""},null,{"$f":"IF(COUNTBLANK(C928)=0,VLOOKUP(C928,Locks!A:D,5,FALSE),\"\")","v":""},{"$f":"IF(COUNTBLANK(C928)=0,VLOOKUP(C928,Locks!A:E,6,FALSE),\"\")","v":""}]
[null,{"$f":"IF(COUNTBLANK(A929)=0,VLOOKUP(A929,Users!A:E,5,FALSE),\"\")","v":""},null,{"$f":"IF(COUNTBLANK(C929)=0,VLOOKUP(C929,Locks!A:D,5,FALSE),\"\")","v":""},{"$f":"IF(COUNTBLANK(C929)=0,VLOOKUP(C929,Locks!A:E,6,FALSE),\"\")","v":""}]
[null,{"$f":"IF(COUNTBLANK(A930)=0,VLOOKUP(A930,Users!A:E,5,FALSE),\"\")","v":""},null,{"$f":"IF(COUNTBLANK(C930)=0,VLOOKUP(C930,Locks!A:D,5,FALSE),\"\")","v":""},{"$f":"IF(COUNTBLANK(C930)=0,VLOOKUP(C930,Locks!A:E,6,FALSE),\"\")","v":""}]
[null,{"$f":"IF(COUNTBLANK(A931)=0,VLOOKUP(A931,Users!A:E,5,FALSE),\"\")","v":""},null,{"$f":"IF(COUNTBLANK(C931)=0,VLOOKUP(C931,Locks!A:D,5,FALSE),\"\")","v":""},{"$f":"IF(COUNTBLANK(C931)=0,VLOOKUP(C931,Locks!A:E,6,FALSE),\"\")","v":""}]
[null,{"$f":"IF(COUNTBLANK(A932)=0,VLOOKUP(A932,Users!A:E,5,FALSE),\"\")","v":""},null,{"$f":"IF(COUNTBLANK(C932)=0,VLOOKUP(C932,Locks!A:D,5,FALSE),\"\")","v":""},{"$f":"IF(COUNTBLANK(C932)=0,VLOOKUP(C932,Locks!A:E,6,FALSE),\"\")","v":""}]
[null,{"$f":"IF(COUNTBLANK(A933)=0,VLOOKUP(A933,Users!A:E,5,FALSE),\"\")","v":""},null,{"$f":"IF(COUNTBLANK(C933)=0,VLOOKUP(C933,Locks!A:D,5,FALSE),\"\")","v":""},{"$f":"IF(COUNTBLANK(C933)=0,VLOOKUP(C933,Locks!A:E,6,FALSE),\"\")","v":""}]
[null,{"$f":"IF(COUNTBLANK(A934)=0,VLOOKUP(A934,Users!A:E,5,FALSE),\"\")","v":""},null,{"$f":"IF(COUNTBLANK(C934)=0,VLOOKUP(C934,Locks!A:D,5,FALSE),\"\")","v":""},{"$f":"IF(COUNTBLANK(C934)=0,VLOOKUP(C934,Locks!A:E,6,FALSE),\"\")","v":""}]
[null,{"$f":"IF(COUNTBLANK(A935)=0,VLOOKUP(A935,Users!A:E,5,FALSE),\"\")","v":""},null,{"$f":"IF(COUNTBLANK(C935)=0,VLOOKUP(C935,Locks!A:D,5,FALSE),\"\")","v":""},{"$f":"IF(COUNTBLANK(C935)=0,VLOOKUP(C935,Locks!A:E,6,FALSE),\"\")","v":""}]
[null,{"$f":"IF(COUNTBLANK(A936)=0,VLOOKUP(A936,Users!A:E,5,FALSE),\"\")","v":""},null,{"$f":"IF(COUNTBLANK(C936)=0,VLOOKUP(C936,Locks!A:D,5,FALSE),\"\")","v":""},{"$f":"IF(COUNTBLANK(C936)=0,VLOOKUP(C936,Locks!A:E,6,FALSE),\"\")","v":""}]
[null,{"$f":"IF(COUNTBLANK(A937)=0,VLOOKUP(A937,Users!A:E,5,FALSE),\"\")","v":""},null,{"$f":"IF(COUNTBLANK(C937)=0,VLOOKUP(C937,Locks!A:D,5,FALSE),\"\")","v":""},{"$f":"IF(COUNTBLANK(C937)=0,VLOOKUP(C937,Locks!A:E,6,FALSE),\"\")","v":""}]
[null,{"$f":"IF(COUNTBLANK(A938)=0,VLOOKUP(A938,Users!A:E,5,FALSE),\"\")","v":""},null,{"$f":"IF(COUNTBLANK(C938)=0,VLOOKUP(C938,Locks!A:D,5,FALSE),\"\")","v":""},{"$f":"IF(COUNTBLANK(C938)=0,VLOOKUP(C938,Locks!A:E,6,FALSE),\"\")","v":""}]
[null,{"$f":"IF(COUNTBLANK(A939)=0,VLOOKUP(A939,Users!A:E,5,FALSE),\"\")","v":""},null,{"$f":"IF(COUNTBLANK(C939)=0,VLOOKUP(C939,Locks!A:D,5,FALSE),\"\")","v":""},{"$f":"IF(COUNTBLANK(C939)=0,VLOOKUP(C939,Locks!A:E,6,FALSE),\"\")","v":""}]
[null,{"$f":"IF(COUNTBLANK(A940)=0,VLOOKUP(A940,Users!A:E,5,FALSE),\"\")","v":""},null,{"$f":"IF(COUNTBLANK(C940)=0,VLOOKUP(C940,Locks!A:D,5,FALSE),\"\")","v":""},{"$f":"IF(COUNTBLANK(C940)=0,VLOOKUP(C940,Locks!A:E,6,FALSE),\"\")","v":""}]
[null,{"$f":"IF(COUNTBLANK(A941)=0,VLOOKUP(A941,Users!A:E,5,FALSE),\"\")","v":""},null,{"$f":"IF(COUNTBLANK(C941)=0,VLOOKUP(C941,Locks!A:D,5,FALSE),\"\")","v":""},{"$f":"IF(COUNTBLANK(C941)=0,VLOOKUP(C941,Locks!A:E,6,FALSE),\"\")","v":""}]
[null,{"$f":"IF(COUNTBLANK(A942)=0,VLOOKUP(A942,Users!A:E,5,FALSE),\"\")","v":""},null,{"$f":"IF(COUNTBLANK(C942)=0,VLOOKUP(C942,Locks!A:D,5,FALSE),\"\")","v":""},{"$f":"IF(COUNTBLANK(C942)=0,VLOOKUP(C942,Locks!A:E,6,FALSE),\"\")","v":""}]
[null,{"$f":"IF(COUNTBLANK(A943)=0,VLOOKUP(A943,Users!A:E,5,FALSE),\"\")","v":""},null,{"$f":"IF(COUNTBLANK(C943)=0,VLOOKUP(C943,Locks!A:D,5,FALSE),\"\")","v":""},{"$f":"IF(COUNTBLANK(C943)=0,VLOOKUP(C943,Locks!A:E,6,FALSE),\"\")","v":""}]
[null,{"$f":"IF(COUNTBLANK(A944)=0,VLOOKUP(A944,Users!A:E,5,FALSE),\"\")","v":""},null,{"$f":"IF(COUNTBLANK(C944)=0,VLOOKUP(C944,Locks!A:D,5,FALSE),\"\")","v":""},{"$f":"IF(COUNTBLANK(C944)=0,VLOOKUP(C944,Locks!A:E,6,FALSE),\"\")","v":""}]
[null,{"$f":"IF(COUNTBLANK(A945)=0,VLOOKUP(A945,Users!A:E,5,FALSE),\"\")","v":""},null,{"$f":"IF(COUNTBLANK(C945)=0,VLOOKUP(C945,Locks!A:D,5,FALSE),\"\")","v":""},{"$f":"IF(COUNTBLANK(C945)=0,VLOOKUP(C945,Locks!A:E,6,FALSE),\"\")","v":""}]
[null,{"$f":"IF(COUNTBLANK(A946)=0,VLOOKUP(A946,Users!A:E,5,FALSE),\"\")","v":""},null,{"$f":"IF(COUNTBLANK(C946)=0,VLOOKUP(C946,Locks!A:D,5,FALSE),\"\")","v":""},{"$f":"IF(COUNTBLANK(C946)=0,VLOOKUP(C946,Locks!A:E,6,FALSE),\"\")","v":""}]
[null,{"$f":"IF(COUNTBLANK(A947)=0,VLOOKUP(A947,Users!A:E,5,FALSE),\"\")","v":""},null,{"$f":"IF(COUNTBLANK(C947)=0,VLOOKUP(C947,Locks!A:D,5,FALSE),\"\")","v":""},{"$f":"IF(COUNTBLANK(C947)=0,VLOOKUP(C947,Locks!A:E,6,FALSE),\"\")","v":""}]
[null,{"$f":"IF(COUNTBLANK(A948)=0,VLOOKUP(A948,Users!A:E,5,FALSE),\"\")","v":""},null,{"$f":"IF(COUNTBLANK(C948)=0,VLOOKUP(C948,Locks!A:D,5,FALSE),\"\")","v":""},{"$f":"IF(COUNTBLANK(C948)=0,VLOOKUP(C948,Locks!A:E,6,FALSE),\"\")","v":""}]
[null,{"$f":"IF(COUNTBLANK(A949)=0,VLOOKUP(A949,Users!A:E,5,FALSE),\"\")","v":""},null,{"$f":"IF(COUNTBLANK(C949)=0,VLOOKUP(C949,Locks!A:D,5,FALSE),\"\")","v":""},{"$f":"IF(COUNTBLANK(C949)=0,VLOOKUP(C949,Locks!A:E,6,FALSE),\"\")","v":""}]
[null,{"$f":"IF(COUNTBLANK(A950)=0,VLOOKUP(A950,Users!A:E,5,FALSE),\"\")","v":""},null,{"$f":"IF(COUNTBLANK(C950)=0,VLOOKUP(C950,Locks!A:D,5,FALSE),\"\")","v":""},{"$f":"IF(COUNTBLANK(C950)=0,VLOOKUP(C950,Locks!A:E,6,FALSE),\"\")","v":""}]
[null,{"$f":"IF(COUNTBLANK(A951)=0,VLOOKUP(A951,Users!A:E,5,FALSE),\"\")","v":""},null,{"$f":"IF(COUNTBLANK(C951)=0,VLOOKUP(C951,Locks!A:D,5,FALSE),\"\")","v":""},{"$f":"IF(COUNTBLANK(C951)=0,VLOOKUP(C951,Locks!A:E,6,FALSE),\"\")","v":""}]
[null,{"$f":"IF(COUNTBLANK(A952)=0,VLOOKUP(A952,Users!A:E,5,FALSE),\"\")","v":""},null,{"$f":"IF(COUNTBLANK(C952)=0,VLOOKUP(C952,Locks!A:D,5,FALSE),\"\")","v":""},{"$f":"IF(COUNTBLANK(C952)=0,VLOOKUP(C952,Locks!A:E,6,FALSE),\"\")","v":""}]
[null,{"$f":"IF(COUNTBLANK(A953)=0,VLOOKUP(A953,Users!A:E,5,FALSE),\"\")","v":""},null,{"$f":"IF(COUNTBLANK(C953)=0,VLOOKUP(C953,Locks!A:D,5,FALSE),\"\")","v":""},{"$f":"IF(COUNTBLANK(C953)=0,VLOOKUP(C953,Locks!A:E,6,FALSE),\"\")","v":""}]
[null,{"$f":"IF(COUNTBLANK(A954)=0,VLOOKUP(A954,Users!A:E,5,FALSE),\"\")","v":""},null,{"$f":"IF(COUNTBLANK(C954)=0,VLOOKUP(C954,Locks!A:D,5,FALSE),\"\")","v":""},{"$f":"IF(COUNTBLANK(C954)=0,VLOOKUP(C954,Locks!A:E,6,FALSE),\"\")","v":""}]
[null,{"$f":"IF(COUNTBLANK(A955)=0,VLOOKUP(A955,Users!A:E,5,FALSE),\"\")","v":""},null,{"$f":"IF(COUNTBLANK(C955)=0,VLOOKUP(C955,Locks!A:D,5,FALSE),\"\")","v":""},{"$f":"IF(COUNTBLANK(C955)=0,VLOOKUP(C955,Locks!A:E,6,FALSE),\"\")","v":""}]
[null,{"$f":"IF(COUNTBLANK(A956)=0,VLOOKUP(A956,Users!A:E,5,FALSE),\"\")","v":""},null,{"$f":"IF(COUNTBLANK(C956)=0,VLOOKUP(C956,Locks!A:D,5,FALSE),\"\")","v":""},{"$f":"IF(COUNTBLANK(C956)=0,VLOOKUP(C956,Locks!A:E,6,FALSE),\"\")","v":""}]
[null,{"$f":"IF(COUNTBLANK(A957)=0,VLOOKUP(A957,Users!A:E,5,FALSE),\"\")","v":""},null,{"$f":"IF(COUNTBLANK(C957)=0,VLOOKUP(C957,Locks!A:D,5,FALSE),\"\")","v":""},{"$f":"IF(COUNTBLANK(C957)=0,VLOOKUP(C957,Locks!A:E,6,FALSE),\"\")","v":""}]
[null,{"$f":"IF(COUNTBLANK(A958)=0,VLOOKUP(A958,Users!A:E,5,FALSE),\"\")","v":""},null,{"$f":"IF(COUNTBLANK(C958)=0,VLOOKUP(C958,Locks!A:D,5,FALSE),\"\")","v":""},{"$f":"IF(COUNTBLANK(C958)=0,VLOOKUP(C958,Locks!A:E,6,FALSE),\"\")","v":""}]
[null,{"$f":"IF(COUNTBLANK(A959)=0,VLOOKUP(A959,Users!A:E,5,FALSE),\"\")","v":""},null,{"$f":"IF(COUNTBLANK(C959)=0,VLOOKUP(C959,Locks!A:D,5,FALSE),\"\")","v":""},{"$f":"IF(COUNTBLANK(C959)=0,VLOOKUP(C959,Locks!A:E,6,FALSE),\"\")","v":""}]
[null,{"$f":"IF(COUNTBLANK(A960)=0,VLOOKUP(A960,Users!A:E,5,FALSE),\"\")","v":""},null,{"$f":"IF(COUNTBLANK(C960)=0,VLOOKUP(C960,Locks!A:D,5,FALSE),\"\")","v":""},{"$f":"IF(COUNTBLANK(C960)=0,VLOOKUP(C960,Locks!A:E,6,FALSE),\"\")","v":""}]
[null,{"$f":"IF(COUNTBLANK(A961)=0,VLOOKUP(A961,Users!A:E,5,FALSE),\"\")","v":""},null,{"$f":"IF(COUNTBLANK(C961)=0,VLOOKUP(C961,Locks!A:D,5,FALSE),\"\")","v":""},{"$f":"IF(COUNTBLANK(C961)=0,VLOOKUP(C961,Locks!A:E,6,FALSE),\"\")","v":""}]
[null,{"$f":"IF(COUNTBLANK(A962)=0,VLOOKUP(A962,Users!A:E,5,FALSE),\"\")","v":""},null,{"$f":"IF(COUNTBLANK(C962)=0,VLOOKUP(C962,Locks!A:D,5,FALSE),\"\")","v":""},{"$f":"IF(COUNTBLANK(C962)=0,VLOOKUP(C962,Locks!A:E,6,FALSE),\"\")","v":""}]
[null,{"$f":"IF(COUNTBLANK(A963)=0,VLOOKUP(A963,Users!A:E,5,FALSE),\"\")","v":""},null,{"$f":"IF(COUNTBLANK(C963)=0,VLOOKUP(C963,Locks!A:D,5,FALSE),\"\")","v":""},{"$f":"IF(COUNTBLANK(C963)=0,VLOOKUP(C963,Locks!A:E,6,FALSE),\"\")","v":""}]
[null,{"$f":"IF(COUNTBLANK(A964)=0,VLOOKUP(A964,Users!A:E,5,FALSE),\"\")","v":""},null,{"$f":"IF(COUNTBLANK(C964)=0,VLOOKUP(C964,Locks!A:D,5,FALSE),\"\")","v":""},{"$f":"IF(COUNTBLANK(C964)=0,VLOOKUP(C964,Locks!A:E,6,FALSE),\"\")","v":""}]
[null,{"$f":"IF(COUNTBLANK(A965)=0,VLOOKUP(A965,Users!A:E,5,FALSE),\"\")","v":""},null,{"$f":"IF(COUNTBLANK(C965)=0,VLOOKUP(C965,Locks!A:D,5,FALSE),\"\")","v":""},{"$f":"IF(COUNTBLANK(C965)=0,VLOOKUP(C965,Locks!A:E,6,FALSE),\"\")","v":""}]
[null,{"$f":"IF(COUNTBLANK(A966)=0,VLOOKUP(A966,Users!A:E,5,FALSE),\"\")","v":""},null,{"$f":"IF(COUNTBLANK(C966)=0,VLOOKUP(C966,Locks!A:D,5,FALSE),\"\")","v":""},{"$f":"IF(COUNTBLANK(C966)=0,VLOOKUP(C966,Locks!A:E,6,FALSE),\"\")","v":""}]
[null,{"$f":"IF(COUNTBLANK(A967)=0,VLOOKUP(A967,Users!A:E,5,FALSE),\"\")","v":""},null,{"$f":"IF(COUNTBLANK(C967)=0,VLOOKUP(C967,Locks!A:D,5,FALSE),\"\")","v":""},{"$f":"IF(COUNTBLANK(C967)=0,VLOOKUP(C967,Locks!A:E,6,FALSE),\"\")","v":""}]
[null,{"$f":"IF(COUNTBLANK(A968)=0,VLOOKUP(A968,Users!A:E,5,FALSE),\"\")","v":""},null,{"$f":"IF(COUNTBLANK(C968)=0,VLOOKUP(C968,Locks!A:D,5,FALSE),\"\")","v":""},{"$f":"IF(COUNTBLANK(C968)=0,VLOOKUP(C968,Locks!A:E,6,FALSE),\"\")","v":""}]
[null,{"$f":"IF(COUNTBLANK(A969)=0,VLOOKUP(A969,Users!A:E,5,FALSE),\"\")","v":""},null,{"$f":"IF(COUNTBLANK(C969)=0,VLOOKUP(C969,Locks!A:D,5,FALSE),\"\")","v":""},{"$f":"IF(COUNTBLANK(C969)=0,VLOOKUP(C969,Locks!A:E,6,FALSE),\"\")","v":""}]
[null,{"$f":"IF(COUNTBLANK(A970)=0,VLOOKUP(A970,Users!A:E,5,FALSE),\"\")","v":""},null,{"$f":"IF(COUNTBLANK(C970)=0,VLOOKUP(C970,Locks!A:D,5,FALSE),\"\")","v":""},{"$f":"IF(COUNTBLANK(C970)=0,VLOOKUP(C970,Locks!A:E,6,FALSE),\"\")","v":""}]
[null,{"$f":"IF(COUNTBLANK(A971)=0,VLOOKUP(A971,Users!A:E,5,FALSE),\"\")","v":""},null,{"$f":"IF(COUNTBLANK(C971)=0,VLOOKUP(C971,Locks!A:D,5,FALSE),\"\")","v":""},{"$f":"IF(COUNTBLANK(C971)=0,VLOOKUP(C971,Locks!A:E,6,FALSE),\"\")","v":""}]
[null,{"$f":"IF(COUNTBLANK(A972)=0,VLOOKUP(A972,Users!A:E,5,FALSE),\"\")","v":""},null,{"$f":"IF(COUNTBLANK(C972)=0,VLOOKUP(C972,Locks!A:D,5,FALSE),\"\")","v":""},{"$f":"IF(COUNTBLANK(C972)=0,VLOOKUP(C972,Locks!A:E,6,FALSE),\"\")","v":""}]
[null,{"$f":"IF(COUNTBLANK(A973)=0,VLOOKUP(A973,Users!A:E,5,FALSE),\"\")","v":""},null,{"$f":"IF(COUNTBLANK(C973)=0,VLOOKUP(C973,Locks!A:D,5,FALSE),\"\")","v":""},{"$f":"IF(COUNTBLANK(C973)=0,VLOOKUP(C973,Locks!A:E,6,FALSE),\"\")","v":""}]
[null,{"$f":"IF(COUNTBLANK(A974)=0,VLOOKUP(A974,Users!A:E,5,FALSE),\"\")","v":""},null,{"$f":"IF(COUNTBLANK(C974)=0,VLOOKUP(C974,Locks!A:D,5,FALSE),\"\")","v":""},{"$f":"IF(COUNTBLANK(C974)=0,VLOOKUP(C974,Locks!A:E,6,FALSE),\"\")","v":""}]
[null,{"$f":"IF(COUNTBLANK(A975)=0,VLOOKUP(A975,Users!A:E,5,FALSE),\"\")","v":""},null,{"$f":"IF(COUNTBLANK(C975)=0,VLOOKUP(C975,Locks!A:D,5,FALSE),\"\")","v":""},{"$f":"IF(COUNTBLANK(C975)=0,VLOOKUP(C975,Locks!A:E,6,FALSE),\"\")","v":""}]
[null,{"$f":"IF(COUNTBLANK(A976)=0,VLOOKUP(A976,Users!A:E,5,FALSE),\"\")","v":""},null,{"$f":"IF(COUNTBLANK(C976)=0,VLOOKUP(C976,Locks!A:D,5,FALSE),\"\")","v":""},{"$f":"IF(COUNTBLANK(C976)=0,VLOOKUP(C976,Locks!A:E,6,FALSE),\"\")","v":""}]
[null,{"$f":"IF(COUNTBLANK(A977)=0,VLOOKUP(A977,Users!A:E,5,FALSE),\"\")","v":""},null,{"$f":"IF(COUNTBLANK(C977)=0,VLOOKUP(C977,Locks!A:D,5,FALSE),\"\")","v":""},{"$f":"IF(COUNTBLANK(C977)=0,VLOOKUP(C977,Locks!A:E,6,FALSE),\"\")","v":""}]
[null,{"$f":"IF(COUNTBLANK(A978)=0,VLOOKUP(A978,Users!A:E,5,FALSE),\"\")","v":""},null,{"$f":"IF(COUNTBLANK(C978)=0,VLOOKUP(C978,Locks!A:D,5,FALSE),\"\")","v":""},{"$f":"IF(COUNTBLANK(C978)=0,VLOOKUP(C978,Locks!A:E,6,FALSE),\"\")","v":""}]
[null,{"$f":"IF(COUNTBLANK(A979)=0,VLOOKUP(A979,Users!A:E,5,FALSE),\"\")","v":""},null,{"$f":"IF(COUNTBLANK(C979)=0,VLOOKUP(C979,Locks!A:D,5,FALSE),\"\")","v":""},{"$f":"IF(COUNTBLANK(C979)=0,VLOOKUP(C979,Locks!A:E,6,FALSE),\"\")","v":""}]
[null,{"$f":"IF(COUNTBLANK(A980)=0,VLOOKUP(A980,Users!A:E,5,FALSE),\"\")","v":""},null,{"$f":"IF(COUNTBLANK(C980)=0,VLOOKUP(C980,Locks!A:D,5,FALSE),\"\")","v":""},{"$f":"IF(COUNTBLANK(C980)=0,VLOOKUP(C980,Locks!A:E,6,FALSE),\"\")","v":""}]
[null,{"$f":"IF(COUNTBLANK(A981)=0,VLOOKUP(A981,Users!A:E,5,FALSE),\"\")","v":""},null,{"$f":"IF(COUNTBLANK(C981)=0,VLOOKUP(C981,Locks!A:D,5,FALSE),\"\")","v":""},{"$f":"IF(COUNTBLANK(C981)=0,VLOOKUP(C981,Locks!A:E,6,FALSE),\"\")","v":""}]
[null,{"$f":"IF(COUNTBLANK(A982)=0,VLOOKUP(A982,Users!A:E,5,FALSE),\"\")","v":""},null,{"$f":"IF(COUNTBLANK(C982)=0,VLOOKUP(C982,Locks!A:D,5,FALSE),\"\")","v":""},{"$f":"IF(COUNTBLANK(C982)=0,VLOOKUP(C982,Locks!A:E,6,FALSE),\"\")","v":""}]
[null,{"$f":"IF(COUNTBLANK(A983)=0,VLOOKUP(A983,Users!A:E,5,FALSE),\"\")","v":""},null,{"$f":"IF(COUNTBLANK(C983)=0,VLOOKUP(C983,Locks!A:D,5,FALSE),\"\")","v":""},{"$f":"IF(COUNTBLANK(C983)=0,VLOOKUP(C983,Locks!A:E,6,FALSE),\"\")","v":""}]
[null,{"$f":"IF(COUNTBLANK(A984)=0,VLOOKUP(A984,Users!A:E,5,FALSE),\"\")","v":""},null,{"$f":"IF(COUNTBLANK(C984)=0,VLOOKUP(C984,Locks!A:D,5,FALSE),\"\")","v":""},{"$f":"IF(COUNTBLANK(C984)=0,VLOOKUP(C984,Locks!A:E,6,FALSE),\"\")","v":""}]
[null,{"$f":"IF(COUNTBLANK(A985)=0,VLOOKUP(A985,Users!A:E,5,FALSE),\"\")","v":""},null,{"$f":"IF(COUNTBLANK(C985)=0,VLOOKUP(C985,Locks!A:D,5,FALSE),\"\")","v":""},{"$f":"IF(COUNTBLANK(C985)=0,VLOOKUP(C985,Locks!A:E,6,FALSE),\"\")","v":""}]
[null,{"$f":"IF(COUNTBLANK(A986)=0,VLOOKUP(A986,Users!A:E,5,FALSE),\"\")","v":""},null,{"$f":"IF(COUNTBLANK(C986)=0,VLOOKUP(C986,Locks!A:D,5,FALSE),\"\")","v":""},{"$f":"IF(COUNTBLANK(C986)=0,VLOOKUP(C986,Locks!A:E,6,FALSE),\"\")","v":""}]
[null,{"$f":"IF(COUNTBLANK(A987)=0,VLOOKUP(A987,Users!A:E,5,FALSE),\"\")","v":""},null,{"$f":"IF(COUNTBLANK(C987)=0,VLOOKUP(C987,Locks!A:D,5,FALSE),\"\")","v":""},{"$f":"IF(COUNTBLANK(C987)=0,VLOOKUP(C987,Locks!A:E,6,FALSE),\"\")","v":""}]
[null,{"$f":"IF(COUNTBLANK(A988)=0,VLOOKUP(A988,Users!A:E,5,FALSE),\"\")","v":""},null,{"$f":"IF(COUNTBLANK(C988)=0,VLOOKUP(C988,Locks!A:D,5,FALSE),\"\")","v":""},{"$f":"IF(COUNTBLANK(C988)=0,VLOOKUP(C988,Locks!A:E,6,FALSE),\"\")","v":""}]
[null,{"$f":"IF(COUNTBLANK(A989)=0,VLOOKUP(A989,Users!A:E,5,FALSE),\"\")","v":""},null,{"$f":"IF(COUNTBLANK(C989)=0,VLOOKUP(C989,Locks!A:D,5,FALSE),\"\")","v":""},{"$f":"IF(COUNTBLANK(C989)=0,VLOOKUP(C989,Locks!A:E,6,FALSE),\"\")","v":""}]
[null,{"$f":"IF(COUNTBLANK(A990)=0,VLOOKUP(A990,Users!A:E,5,FALSE),\"\")","v":""},null,{"$f":"IF(COUNTBLANK(C990)=0,VLOOKUP(C990,Locks!A:D,5,FALSE),\"\")","v":""},{"$f":"IF(COUNTBLANK(C990)=0,VLOOKUP(C990,Locks!A:E,6,FALSE),\"\")","v":""}]
[null,{"$f":"IF(COUNTBLANK(A991)=0,VLOOKUP(A991,Users!A:E,5,FALSE),\"\")","v":""},null,{"$f":"IF(COUNTBLANK(C991)=0,VLOOKUP(C991,Locks!A:D,5,FALSE),\"\")","v":""},{"$f":"IF(COUNTBLANK(C991)=0,VLOOKUP(C991,Locks!A:E,6,FALSE),\"\")","v":""}]
[null,{"$f":"IF(COUNTBLANK(A992)=0,VLOOKUP(A992,Users!A:E,5,FALSE),\"\")","v":""},null,{"$f":"IF(COUNTBLANK(C992)=0,VLOOKUP(C992,Locks!A:D,5,FALSE),\"\")","v":""},{"$f":"IF(COUNTBLANK(C992)=0,VLOOKUP(C992,Locks!A:E,6,FALSE),\"\")","v":""}]
[null,{"$f":"IF(COUNTBLANK(A993)=0,VLOOKUP(A993,Users!A:E,5,FALSE),\"\")","v":""},null,{"$f":"IF(COUNTBLANK(C993)=0,VLOOKUP(C993,Locks!A:D,5,FALSE),\"\")","v":""},{"$f":"IF(COUNTBLANK(C993)=0,VLOOKUP(C993,Locks!A:E,6,FALSE),\"\")","v":""}]
[null,{"$f":"IF(COUNTBLANK(A994)=0,VLOOKUP(A994,Users!A:E,5,FALSE),\"\")","v":""},null,{"$f":"IF(COUNTBLANK(C994)=0,VLOOKUP(C994,Locks!A:D,5,FALSE),\"\")","v":""},{"$f":"IF(COUNTBLANK(C994)=0,VLOOKUP(C994,Locks!A:E,6,FALSE),\"\")","v":""}]
[null,{"$f":"IF(COUNTBLANK(A995)=0,VLOOKUP(A995,Users!A:E,5,FALSE),\"\")","v":""},null,{"$f":"IF(COUNTBLANK(C995)=0,VLOOKUP(C995,Locks!A:D,5,FALSE),\"\")","v":""},{"$f":"IF(COUNTBLANK(C995)=0,VLOOKUP(C995,Locks!A:E,6,FALSE),\"\")","v":""}]
[null,{"$f":"IF(COUNTBLANK(A996)=0,VLOOKUP(A996,Users!A:E,5,FALSE),\"\")","v":""},null,{"$f":"IF(COUNTBLANK(C996)=0,VLOOKUP(C996,Locks!A:D,5,FALSE),\"\")","v":""},{"$f":"IF(COUNTBLANK(C996)=0,VLOOKUP(C996,Locks!A:E,6,FALSE),\"\")","v":""}]
[null,{"$f":"IF(COUNTBLANK(A997)=0,VLOOKUP(A997,Users!A:E,5,FALSE),\"\")","v":""},null,{"$f":"IF(COUNTBLANK(C997)=0,VLOOKUP(C997,Locks!A:D,5,FALSE),\"\")","v":""},{"$f":"IF(COUNTBLANK(C997)=0,VLOOKUP(C997,Locks!A:E,6,FALSE),\"\")","v":""}]
[null,{"$f":"IF(COUNTBLANK(A998)=0,VLOOKUP(A998,Users!A:E,5,FALSE),\"\")","v":""},null,{"$f":"IF(COUNTBLANK(C998)=0,VLOOKUP(C998,Locks!A:D,5,FALSE),\"\")","v":""},{"$f":"IF(COUNTBLANK(C998)=0,VLOOKUP(C998,Locks!A:E,6,FALSE),\"\")","v":""}]
[null,{"$f":"IF(COUNTBLANK(A999)=0,VLOOKUP(A999,Users!A:E,5,FALSE),\"\")","v":""},null,{"$f":"IF(COUNTBLANK(C999)=0,VLOOKUP(C999,Locks!A:D,5,FALSE),\"\")","v":""},{"$f":"IF(COUNTBLANK(C999)=0,VLOOKUP(C999,Locks!A:E,6,FALSE),\"\")","v":""}]
[null,{"$f":"IF(COUNTBLANK(A1000)=0,VLOOKUP(A1000,Users!A:E,5,FALSE),\"\")","v":""},null,{"$f":"IF(COUNTBLANK(C1000)=0,VLOOKUP(C1000,Locks!A:D,5,FALSE),\"\")","v":""},{"$f":"IF(COUNTBLANK(C1000)=0,VLOOKUP(C1000,Locks!A:E,6,FALSE),\"\")","v":""}]
[null,{"$f":"IF(COUNTBLANK(A1001)=0,VLOOKUP(A1001,Users!A:E,5,FALSE),\"\")","v":""},null,{"$f":"IF(COUNTBLANK(C1001)=0,VLOOKUP(C1001,Locks!A:D,5,FALSE),\"\")","v":""},{"$f":"IF(COUNTBLANK(C1001)=0,VLOOKUP(C1001,Locks!A:E,6,FALSE),\"\")","v":""}]

{"sheet":"Data - Lock","index":2,"n_rows":2001,"n_cols":12,"rows_kept":2001,"cut":false,"hidden":false,"merged":[]}
["User display name","User ID","Lock display name","Lock ID",{"$f":"IF(COUNTBLANK(C1)=0,VLOOKUP(C1,Locks!A:E,5,FALSE),\"\")","v":"Timezone"},"Start date","Start time","End date","End time","Bluetooth Unlock","Bluetooth Sync","Firmware Update"]
[null,{"$f":"IF(COUNTBLANK(A2)=0,VLOOKUP(A2,Users!A:E,5,FALSE),\"\")","v":""},null,{"$f":"IF(COUNTBLANK(C2)=0,VLOOKUP(C2,Locks!A:D,4,FALSE),\"\")","v":""},{"$f":"IF(COUNTBLANK(C2)=0,VLOOKUP(C2,Locks!A:E,5,FALSE),\"\")","v":""}]
[null,{"$f":"IF(COUNTBLANK(A3)=0,VLOOKUP(A3,Users!A:E,5,FALSE),\"\")","v":""},null,{"$f":"IF(COUNTBLANK(C3)=0,VLOOKUP(C3,Locks!A:D,4,FALSE),\"\")","v":""},{"$f":"IF(COUNTBLANK(C3)=0,VLOOKUP(C3,Locks!A:E,5,FALSE),\"\")","v":""}]
[null,{"$f":"IF(COUNTBLANK(A4)=0,VLOOKUP(A4,Users!A:E,5,FALSE),\"\")","v":""},null,{"$f":"IF(COUNTBLANK(C4)=0,VLOOKUP(C4,Locks!A:D,4,FALSE),\"\")","v":""},{"$f":"IF(COUNTBLANK(C4)=0,VLOOKUP(C4,Locks!A:E,5,FALSE),\"\")","v":""}]
[null,{"$f":"IF(COUNTBLANK(A5)=0,VLOOKUP(A5,Users!A:E,5,FALSE),\"\")","v":""},null,{"$f":"IF(COUNTBLANK(C5)=0,VLOOKUP(C5,Locks!A:D,4,FALSE),\"\")","v":""},{"$f":"IF(COUNTBLANK(C5)=0,VLOOKUP(C5,Locks!A:E,5,FALSE),\"\")","v":""}]
[null,{"$f":"IF(COUNTBLANK(A6)=0,VLOOKUP(A6,Users!A:E,5,FALSE),\"\")","v":""},null,{"$f":"IF(COUNTBLANK(C6)=0,VLOOKUP(C6,Locks!A:D,4,FALSE),\"\")","v":""},{"$f":"IF(COUNTBLANK(C6)=0,VLOOKUP(C6,Locks!A:E,5,FALSE),\"\")","v":""}]
[null,{"$f":"IF(COUNTBLANK(A7)=0,VLOOKUP(A7,Users!A:E,5,FALSE),\"\")","v":""},null,{"$f":"IF(COUNTBLANK(C7)=0,VLOOKUP(C7,Locks!A:D,4,FALSE),\"\")","v":""},{"$f":"IF(COUNTBLANK(C7)=0,VLOOKUP(C7,Locks!A:E,5,FALSE),\"\")","v":""}]
[null,{"$f":"IF(COUNTBLANK(A8)=0,VLOOKUP(A8,Users!A:E,5,FALSE),\"\")","v":""},null,{"$f":"IF(COUNTBLANK(C8)=0,VLOOKUP(C8,Locks!A:D,4,FALSE),\"\")","v":""},{"$f":"IF(COUNTBLANK(C8)=0,VLOOKUP(C8,Locks!A:E,5,FALSE),\"\")","v":""}]
[null,{"$f":"IF(COUNTBLANK(A9)=0,VLOOKUP(A9,Users!A:E,5,FALSE),\"\")","v":""},null,{"$f":"IF(COUNTBLANK(C9)=0,VLOOKUP(C9,Locks!A:D,4,FALSE),\"\")","v":""},{"$f":"IF(COUNTBLANK(C9)=0,VLOOKUP(C9,Locks!A:E,5,FALSE),\"\")","v":""}]
[null,{"$f":"IF(COUNTBLANK(A10)=0,VLOOKUP(A10,Users!A:E,5,FALSE),\"\")","v":""},null,{"$f":"IF(COUNTBLANK(C10)=0,VLOOKUP(C10,Locks!A:D,4,FALSE),\"\")","v":""},{"$f":"IF(COUNTBLANK(C10)=0,VLOOKUP(C10,Locks!A:E,5,FALSE),\"\")","v":""}]
[null,{"$f":"IF(COUNTBLANK(A11)=0,VLOOKUP(A11,Users!A:E,5,FALSE),\"\")","v":""},null,{"$f":"IF(COUNTBLANK(C11)=0,VLOOKUP(C11,Locks!A:D,4,FALSE),\"\")","v":""},{"$f":"IF(COUNTBLANK(C11)=0,VLOOKUP(C11,Locks!A:E,5,FALSE),\"\")","v":""}]
[null,{"$f":"IF(COUNTBLANK(A12)=0,VLOOKUP(A12,Users!A:E,5,FALSE),\"\")","v":""},null,{"$f":"IF(COUNTBLANK(C12)=0,VLOOKUP(C12,Locks!A:D,4,FALSE),\"\")","v":""},{"$f":"IF(COUNTBLANK(C12)=0,VLOOKUP(C12,Locks!A:E,5,FALSE),\"\")","v":""}]
[null,{"$f":"IF(COUNTBLANK(A13)=0,VLOOKUP(A13,Users!A:E,5,FALSE),\"\")","v":""},null,{"$f":"IF(COUNTBLANK(C13)=0,VLOOKUP(C13,Locks!A:D,4,FALSE),\"\")","v":""},{"$f":"IF(COUNTBLANK(C13)=0,VLOOKUP(C13,Locks!A:E,5,FALSE),\"\")","v":""}]
[null,{"$f":"IF(COUNTBLANK(A14)=0,VLOOKUP(A14,Users!A:E,5,FALSE),\"\")","v":""},null,{"$f":"IF(COUNTBLANK(C14)=0,VLOOKUP(C14,Locks!A:D,4,FALSE),\"\")","v":""},{"$f":"IF(COUNTBLANK(C14)=0,VLOOKUP(C14,Locks!A:E,5,FALSE),\"\")","v":""}]
[null,{"$f":"IF(COUNTBLANK(A15)=0,VLOOKUP(A15,Users!A:E,5,FALSE),\"\")","v":""},null,{"$f":"IF(COUNTBLANK(C15)=0,VLOOKUP(C15,Locks!A:D,4,FALSE),\"\")","v":""},{"$f":"IF(COUNTBLANK(C15)=0,VLOOKUP(C15,Locks!A:E,5,FALSE),\"\")","v":""}]
[null,{"$f":"IF(COUNTBLANK(A16)=0,VLOOKUP(A16,Users!A:E,5,FALSE),\"\")","v":""},null,{"$f":"IF(COUNTBLANK(C16)=0,VLOOKUP(C16,Locks!A:D,4,FALSE),\"\")","v":""},{"$f":"IF(COUNTBLANK(C16)=0,VLOOKUP(C16,Locks!A:E,5,FALSE),\"\")","v":""}]
[null,{"$f":"IF(COUNTBLANK(A17)=0,VLOOKUP(A17,Users!A:E,5,FALSE),\"\")","v":""},null,{"$f":"IF(COUNTBLANK(C17)=0,VLOOKUP(C17,Locks!A:D,4,FALSE),\"\")","v":""},{"$f":"IF(COUNTBLANK(C17)=0,VLOOKUP(C17,Locks!A:E,5,FALSE),\"\")","v":""}]
[null,{"$f":"IF(COUNTBLANK(A18)=0,VLOOKUP(A18,Users!A:E,5,FALSE),\"\")","v":""},null,{"$f":"IF(COUNTBLANK(C18)=0,VLOOKUP(C18,Locks!A:D,4,FALSE),\"\")","v":""},{"$f":"IF(COUNTBLANK(C18)=0,VLOOKUP(C18,Locks!A:E,5,FALSE),\"\")","v":""}]
[null,{"$f":"IF(COUNTBLANK(A19)=0,VLOOKUP(A19,Users!A:E,5,FALSE),\"\")","v":""},null,{"$f":"IF(COUNTBLANK(C19)=0,VLOOKUP(C19,Locks!A:D,4,FALSE),\"\")","v":""},{"$f":"IF(COUNTBLANK(C19)=0,VLOOKUP(C19,Locks!A:E,5,FALSE),\"\")","v":""}]
[null,{"$f":"IF(COUNTBLANK(A20)=0,VLOOKUP(A20,Users!A:E,5,FALSE),\"\")","v":""},null,{"$f":"IF(COUNTBLANK(C20)=0,VLOOKUP(C20,Locks!A:D,4,FALSE),\"\")","v":""},{"$f":"IF(COUNTBLANK(C20)=0,VLOOKUP(C20,Locks!A:E,5,FALSE),\"\")","v":""}]
[null,{"$f":"IF(COUNTBLANK(A21)=0,VLOOKUP(A21,Users!A:E,5,FALSE),\"\")","v":""},null,{"$f":"IF(COUNTBLANK(C21)=0,VLOOKUP(C21,Locks!A:D,4,FALSE),\"\")","v":""},{"$f":"IF(COUNTBLANK(C21)=0,VLOOKUP(C21,Locks!A:E,5,FALSE),\"\")","v":""}]
[null,{"$f":"IF(COUNTBLANK(A22)=0,VLOOKUP(A22,Users!A:E,5,FALSE),\"\")","v":""},null,{"$f":"IF(COUNTBLANK(C22)=0,VLOOKUP(C22,Locks!A:D,4,FALSE),\"\")","v":""},{"$f":"IF(COUNTBLANK(C22)=0,VLOOKUP(C22,Locks!A:E,5,FALSE),\"\")","v":""}]
[null,{"$f":"IF(COUNTBLANK(A23)=0,VLOOKUP(A23,Users!A:E,5,FALSE),\"\")","v":""},null,{"$f":"IF(COUNTBLANK(C23)=0,VLOOKUP(C23,Locks!A:D,4,FALSE),\"\")","v":""},{"$f":"IF(COUNTBLANK(C23)=0,VLOOKUP(C23,Locks!A:E,5,FALSE),\"\")","v":""}]
[null,{"$f":"IF(COUNTBLANK(A24)=0,VLOOKUP(A24,Users!A:E,5,FALSE),\"\")","v":""},null,{"$f":"IF(COUNTBLANK(C24)=0,VLOOKUP(C24,Locks!A:D,4,FALSE),\"\")","v":""},{"$f":"IF(COUNTBLANK(C24)=0,VLOOKUP(C24,Locks!A:E,5,FALSE),\"\")","v":""}]
[null,{"$f":"IF(COUNTBLANK(A25)=0,VLOOKUP(A25,Users!A:E,5,FALSE),\"\")","v":""},null,{"$f":"IF(COUNTBLANK(C25)=0,VLOOKUP(C25,Locks!A:D,4,FALSE),\"\")","v":""},{"$f":"IF(COUNTBLANK(C25)=0,VLOOKUP(C25,Locks!A:E,5,FALSE),\"\")","v":""}]
[null,{"$f":"IF(COUNTBLANK(A26)=0,VLOOKUP(A26,Users!A:E,5,FALSE),\"\")","v":""},null,{"$f":"IF(COUNTBLANK(C26)=0,VLOOKUP(C26,Locks!A:D,4,FALSE),\"\")","v":""},{"$f":"IF(COUNTBLANK(C26)=0,VLOOKUP(C26,Locks!A:E,5,FALSE),\"\")","v":""}]
[null,{"$f":"IF(COUNTBLANK(A27)=0,VLOOKUP(A27,Users!A:E,5,FALSE),\"\")","v":""},null,{"$f":"IF(COUNTBLANK(C27)=0,VLOOKUP(C27,Locks!A:D,4,FALSE),\"\")","v":""},{"$f":"IF(COUNTBLANK(C27)=0,VLOOKUP(C27,Locks!A:E,5,FALSE),\"\")","v":""}]
[null,{"$f":"IF(COUNTBLANK(A28)=0,VLOOKUP(A28,Users!A:E,5,FALSE),\"\")","v":""},null,{"$f":"IF(COUNTBLANK(C28)=0,VLOOKUP(C28,Locks!A:D,4,FALSE),\"\")","v":""},{"$f":"IF(COUNTBLANK(C28)=0,VLOOKUP(C28,Locks!A:E,5,FALSE),\"\")","v":""}]
[null,{"$f":"IF(COUNTBLANK(A29)=0,VLOOKUP(A29,Users!A:E,5,FALSE),\"\")","v":""},null,{"$f":"IF(COUNTBLANK(C29)=0,VLOOKUP(C29,Locks!A:D,4,FALSE),\"\")","v":""},{"$f":"IF(COUNTBLANK(C29)=0,VLOOKUP(C29,Locks!A:E,5,FALSE),\"\")","v":""}]
[null,{"$f":"IF(COUNTBLANK(A30)=0,VLOOKUP(A30,Users!A:E,5,FALSE),\"\")","v":""},null,{"$f":"IF(COUNTBLANK(C30)=0,VLOOKUP(C30,Locks!A:D,4,FALSE),\"\")","v":""},{"$f":"IF(COUNTBLANK(C30)=0,VLOOKUP(C30,Locks!A:E,5,FALSE),\"\")","v":""}]
[null,{"$f":"IF(COUNTBLANK(A31)=0,VLOOKUP(A31,Users!A:E,5,FALSE),\"\")","v":""},null,{"$f":"IF(COUNTBLANK(C31)=0,VLOOKUP(C31,Locks!A:D,4,FALSE),\"\")","v":""},{"$f":"IF(COUNTBLANK(C31)=0,VLOOKUP(C31,Locks!A:E,5,FALSE),\"\")","v":""}]
[null,{"$f":"IF(COUNTBLANK(A32)=0,VLOOKUP(A32,Users!A:E,5,FALSE),\"\")","v":""},null,{"$f":"IF(COUNTBLANK(C32)=0,VLOOKUP(C32,Locks!A:D,4,FALSE),\"\")","v":""},{"$f":"IF(COUNTBLANK(C32)=0,VLOOKUP(C32,Locks!A:E,5,FALSE),\"\")","v":""}]
[null,{"$f":"IF(COUNTBLANK(A33)=0,VLOOKUP(A33,Users!A:E,5,FALSE),\"\")","v":""},null,{"$f":"IF(COUNTBLANK(C33)=0,VLOOKUP(C33,Locks!A:D,4,FALSE),\"\")","v":""},{"$f":"IF(COUNTBLANK(C33)=0,VLOOKUP(C33,Locks!A:E,5,FALSE),\"\")","v":""}]
[null,{"$f":"IF(COUNTBLANK(A34)=0,VLOOKUP(A34,Users!A:E,5,FALSE),\"\")","v":""},null,{"$f":"IF(COUNTBLANK(C34)=0,VLOOKUP(C34,Locks!A:D,4,FALSE),\"\")","v":""},{"$f":"IF(COUNTBLANK(C34)=0,VLOOKUP(C34,Locks!A:E,5,FALSE),\"\")","v":""}]
[null,{"$f":"IF(COUNTBLANK(A35)=0,VLOOKUP(A35,Users!A:E,5,FALSE),\"\")","v":""},null,{"$f":"IF(COUNTBLANK(C35)=0,VLOOKUP(C35,Locks!A:D,4,FALSE),\"\")","v":""},{"$f":"IF(COUNTBLANK(C35)=0,VLOOKUP(C35,Locks!A:E,5,FALSE),\"\")","v":""}]
[null,{"$f":"IF(COUNTBLANK(A36)=0,VLOOKUP(A36,Users!A:E,5,FALSE),\"\")","v":""},null,{"$f":"IF(COUNTBLANK(C36)=0,VLOOKUP(C36,Locks!A:D,4,FALSE),\"\")","v":""},{"$f":"IF(COUNTBLANK(C36)=0,VLOOKUP(C36,Locks!A:E,5,FALSE),\"\")","v":""}]
[null,{"$f":"IF(COUNTBLANK(A37)=0,VLOOKUP(A37,Users!A:E,5,FALSE),\"\")","v":""},null,{"$f":"IF(COUNTBLANK(C37)=0,VLOOKUP(C37,Locks!A:D,4,FALSE),\"\")","v":""},{"$f":"IF(COUNTBLANK(C37)=0,VLOOKUP(C37,Locks!A:E,5,FALSE),\"\")","v":""}]
[null,{"$f":"IF(COUNTBLANK(A38)=0,VLOOKUP(A38,Users!A:E,5,FALSE),\"\")","v":""},null,{"$f":"IF(COUNTBLANK(C38)=0,VLOOKUP(C38,Locks!A:D,4,FALSE),\"\")","v":""},{"$f":"IF(COUNTBLANK(C38)=0,VLOOKUP(C38,Locks!A:E,5,FALSE),\"\")","v":""}]
[null,{"$f":"IF(COUNTBLANK(A39)=0,VLOOKUP(A39,Users!A:E,5,FALSE),\"\")","v":""},null,{"$f":"IF(COUNTBLANK(C39)=0,VLOOKUP(C39,Locks!A:D,4,FALSE),\"\")","v":""},{"$f":"IF(COUNTBLANK(C39)=0,VLOOKUP(C39,Locks!A:E,5,FALSE),\"\")","v":""}]
[null,{"$f":"IF(COUNTBLANK(A40)=0,VLOOKUP(A40,Users!A:E,5,FALSE),\"\")","v":""},null,{"$f":"IF(COUNTBLANK(C40)=0,VLOOKUP(C40,Locks!A:D,4,FALSE),\"\")","v":""},{"$f":"IF(COUNTBLANK(C40)=0,VLOOKUP(C40,Locks!A:E,5,FALSE),\"\")","v":""}]
[null,{"$f":"IF(COUNTBLANK(A41)=0,VLOOKUP(A41,Users!A:E,5,FALSE),\"\")","v":""},null,{"$f":"IF(COUNTBLANK(C41)=0,VLOOKUP(C41,Locks!A:D,4,FALSE),\"\")","v":""},{"$f":"IF(COUNTBLANK(C41)=0,VLOOKUP(C41,Locks!A:E,5,FALSE),\"\")","v":""}]
[null,{"$f":"IF(COUNTBLANK(A42)=0,VLOOKUP(A42,Users!A:E,5,FALSE),\"\")","v":""},null,{"$f":"IF(COUNTBLANK(C42)=0,VLOOKUP(C42,Locks!A:D,4,FALSE),\"\")","v":""},{"$f":"IF(COUNTBLANK(C42)=0,VLOOKUP(C42,Locks!A:E,5,FALSE),\"\")","v":""}]
[null,{"$f":"IF(COUNTBLANK(A43)=0,VLOOKUP(A43,Users!A:E,5,FALSE),\"\")","v":""},null,{"$f":"IF(COUNTBLANK(C43)=0,VLOOKUP(C43,Locks!A:D,4,FALSE),\"\")","v":""},{"$f":"IF(COUNTBLANK(C43)=0,VLOOKUP(C43,Locks!A:E,5,FALSE),\"\")","v":""}]
[null,{"$f":"IF(COUNTBLANK(A44)=0,VLOOKUP(A44,Users!A:E,5,FALSE),\"\")","v":""},null,{"$f":"IF(COUNTBLANK(C44)=0,VLOOKUP(C44,Locks!A:D,4,FALSE),\"\")","v":""},{"$f":"IF(COUNTBLANK(C44)=0,VLOOKUP(C44,Locks!A:E,5,FALSE),\"\")","v":""}]
[null,{"$f":"IF(COUNTBLANK(A45)=0,VLOOKUP(A45,Users!A:E,5,FALSE),\"\")","v":""},null,{"$f":"IF(COUNTBLANK(C45)=0,VLOOKUP(C45,Locks!A:D,4,FALSE),\"\")","v":""},{"$f":"IF(COUNTBLANK(C45)=0,VLOOKUP(C45,Locks!A:E,5,FALSE),\"\")","v":""}]
[null,{"$f":"IF(COUNTBLANK(A46)=0,VLOOKUP(A46,Users!A:E,5,FALSE),\"\")","v":""},null,{"$f":"IF(COUNTBLANK(C46)=0,VLOOKUP(C46,Locks!A:D,4,FALSE),\"\")","v":""},{"$f":"IF(COUNTBLANK(C46)=0,VLOOKUP(C46,Locks!A:E,5,FALSE),\"\")","v":""}]
[null,{"$f":"IF(COUNTBLANK(A47)=0,VLOOKUP(A47,Users!A:E,5,FALSE),\"\")","v":""},null,{"$f":"IF(COUNTBLANK(C47)=0,VLOOKUP(C47,Locks!A:D,4,FALSE),\"\")","v":""},{"$f":"IF(COUNTBLANK(C47)=0,VLOOKUP(C47,Locks!A:E,5,FALSE),\"\")","v":""}]
[null,{"$f":"IF(COUNTBLANK(A48)=0,VLOOKUP(A48,Users!A:E,5,FALSE),\"\")","v":""},null,{"$f":"IF(COUNTBLANK(C48)=0,VLOOKUP(C48,Locks!A:D,4,FALSE),\"\")","v":""},{"$f":"IF(COUNTBLANK(C48)=0,VLOOKUP(C48,Locks!A:E,5,FALSE),\"\")","v":""}]
[null,{"$f":"IF(COUNTBLANK(A49)=0,VLOOKUP(A49,Users!A:E,5,FALSE),\"\")","v":""},null,{"$f":"IF(COUNTBLANK(C49)=0,VLOOKUP(C49,Locks!A:D,4,FALSE),\"\")","v":""},{"$f":"IF(COUNTBLANK(C49)=0,VLOOKUP(C49,Locks!A:E,5,FALSE),\"\")","v":""}]
[null,{"$f":"IF(COUNTBLANK(A50)=0,VLOOKUP(A50,Users!A:E,5,FALSE),\"\")","v":""},null,{"$f":"IF(COUNTBLANK(C50)=0,VLOOKUP(C50,Locks!A:D,4,FALSE),\"\")","v":""},{"$f":"IF(COUNTBLANK(C50)=0,VLOOKUP(C50,Locks!A:E,5,FALSE),\"\")","v":""}]
[null,{"$f":"IF(COUNTBLANK(A51)=0,VLOOKUP(A51,Users!A:E,5,FALSE),\"\")","v":""},null,{"$f":"IF(COUNTBLANK(C51)=0,VLOOKUP(C51,Locks!A:D,4,FALSE),\"\")","v":""},{"$f":"IF(COUNTBLANK(C51)=0,VLOOKUP(C51,Locks!A:E,5,FALSE),\"\")","v":""}]
[null,{"$f":"IF(COUNTBLANK(A52)=0,VLOOKUP(A52,Users!A:E,5,FALSE),\"\")","v":""},null,{"$f":"IF(COUNTBLANK(C52)=0,VLOOKUP(C52,Locks!A:D,4,FALSE),\"\")","v":""},{"$f":"IF(COUNTBLANK(C52)=0,VLOOKUP(C52,Locks!A:E,5,FALSE),\"\")","v":""}]
[null,{"$f":"IF(COUNTBLANK(A53)=0,VLOOKUP(A53,Users!A:E,5,FALSE),\"\")","v":""},null,{"$f":"IF(COUNTBLANK(C53)=0,VLOOKUP(C53,Locks!A:D,4,FALSE),\"\")","v":""},{"$f":"IF(COUNTBLANK(C53)=0,VLOOKUP(C53,Locks!A:E,5,FALSE),\"\")","v":""}]
[null,{"$f":"IF(COUNTBLANK(A54)=0,VLOOKUP(A54,Users!A:E,5,FALSE),\"\")","v":""},null,{"$f":"IF(COUNTBLANK(C54)=0,VLOOKUP(C54,Locks!A:D,4,FALSE),\"\")","v":""},{"$f":"IF(COUNTBLANK(C54)=0,VLOOKUP(C54,Locks!A:E,5,FALSE),\"\")","v":""}]
[null,{"$f":"IF(COUNTBLANK(A55)=0,VLOOKUP(A55,Users!A:E,5,FALSE),\"\")","v":""},null,{"$f":"IF(COUNTBLANK(C55)=0,VLOOKUP(C55,Locks!A:D,4,FALSE),\"\")","v":""},{"$f":"IF(COUNTBLANK(C55)=0,VLOOKUP(C55,Locks!A:E,5,FALSE),\"\")","v":""}]
[null,{"$f":"IF(COUNTBLANK(A56)=0,VLOOKUP(A56,Users!A:E,5,FALSE),\"\")","v":""},null,{"$f":"IF(COUNTBLANK(C56)=0,VLOOKUP(C56,Locks!A:D,4,FALSE),\"\")","v":""},{"$f":"IF(COUNTBLANK(C56)=0,VLOOKUP(C56,Locks!A:E,5,FALSE),\"\")","v":""}]
[null,{"$f":"IF(COUNTBLANK(A57)=0,VLOOKUP(A57,Users!A:E,5,FALSE),\"\")","v":""},null,{"$f":"IF(COUNTBLANK(C57)=0,VLOOKUP(C57,Locks!A:D,4,FALSE),\"\")","v":""},{"$f":"IF(COUNTBLANK(C57)=0,VLOOKUP(C57,Locks!A:E,5,FALSE),\"\")","v":""}]
[null,{"$f":"IF(COUNTBLANK(A58)=0,VLOOKUP(A58,Users!A:E,5,FALSE),\"\")","v":""},null,{"$f":"IF(COUNTBLANK(C58)=0,VLOOKUP(C58,Locks!A:D,4,FALSE),\"\")","v":""},{"$f":"IF(COUNTBLANK(C58)=0,VLOOKUP(C58,Locks!A:E,5,FALSE),\"\")","v":""}]
[null,{"$f":"IF(COUNTBLANK(A59)=0,VLOOKUP(A59,Users!A:E,5,FALSE),\"\")","v":""},null,{"$f":"IF(COUNTBLANK(C59)=0,VLOOKUP(C59,Locks!A:D,4,FALSE),\"\")","v":""},{"$f":"IF(COUNTBLANK(C59)=0,VLOOKUP(C59,Locks!A:E,5,FALSE),\"\")","v":""}]
[null,{"$f":"IF(COUNTBLANK(A60)=0,VLOOKUP(A60,Users!A:E,5,FALSE),\"\")","v":""},null,{"$f":"IF(COUNTBLANK(C60)=0,VLOOKUP(C60,Locks!A:D,4,FALSE),\"\")","v":""},{"$f":"IF(COUNTBLANK(C60)=0,VLOOKUP(C60,Locks!A:E,5,FALSE),\"\")","v":""}]
[null,{"$f":"IF(COUNTBLANK(A61)=0,VLOOKUP(A61,Users!A:E,5,FALSE),\"\")","v":""},null,{"$f":"IF(COUNTBLANK(C61)=0,VLOOKUP(C61,Locks!A:D,4,FALSE),\"\")","v":""},{"$f":"IF(COUNTBLANK(C61)=0,VLOOKUP(C61,Locks!A:E,5,FALSE),\"\")","v":""}]
[null,{"$f":"IF(COUNTBLANK(A62)=0,VLOOKUP(A62,Users!A:E,5,FALSE),\"\")","v":""},null,{"$f":"IF(COUNTBLANK(C62)=0,VLOOKUP(C62,Locks!A:D,4,FALSE),\"\")","v":""},{"$f":"IF(COUNTBLANK(C62)=0,VLOOKUP(C62,Locks!A:E,5,FALSE),\"\")","v":""}]
[null,{"$f":"IF(COUNTBLANK(A63)=0,VLOOKUP(A63,Users!A:E,5,FALSE),\"\")","v":""},null,{"$f":"IF(COUNTBLANK(C63)=0,VLOOKUP(C63,Locks!A:D,4,FALSE),\"\")","v":""},{"$f":"IF(COUNTBLANK(C63)=0,VLOOKUP(C63,Locks!A:E,5,FALSE),\"\")","v":""}]
[null,{"$f":"IF(COUNTBLANK(A64)=0,VLOOKUP(A64,Users!A:E,5,FALSE),\"\")","v":""},null,{"$f":"IF(COUNTBLANK(C64)=0,VLOOKUP(C64,Locks!A:D,4,FALSE),\"\")","v":""},{"$f":"IF(COUNTBLANK(C64)=0,VLOOKUP(C64,Locks!A:E,5,FALSE),\"\")","v":""}]
[null,{"$f":"IF(COUNTBLANK(A65)=0,VLOOKUP(A65,Users!A:E,5,FALSE),\"\")","v":""},null,{"$f":"IF(COUNTBLANK(C65)=0,VLOOKUP(C65,Locks!A:D,4,FALSE),\"\")","v":""},{"$f":"IF(COUNTBLANK(C65)=0,VLOOKUP(C65,Locks!A:E,5,FALSE),\"\")","v":""}]
[null,{"$f":"IF(COUNTBLANK(A66)=0,VLOOKUP(A66,Users!A:E,5,FALSE),\"\")","v":""},null,{"$f":"IF(COUNTBLANK(C66)=0,VLOOKUP(C66,Locks!A:D,4,FALSE),\"\")","v":""},{"$f":"IF(COUNTBLANK(C66)=0,VLOOKUP(C66,Locks!A:E,5,FALSE),\"\")","v":""}]
[null,{"$f":"IF(COUNTBLANK(A67)=0,VLOOKUP(A67,Users!A:E,5,FALSE),\"\")","v":""},null,{"$f":"IF(COUNTBLANK(C67)=0,VLOOKUP(C67,Locks!A:D,4,FALSE),\"\")","v":""},{"$f":"IF(COUNTBLANK(C67)=0,VLOOKUP(C67,Locks!A:E,5,FALSE),\"\")","v":""}]
[null,{"$f":"IF(COUNTBLANK(A68)=0,VLOOKUP(A68,Users!A:E,5,FALSE),\"\")","v":""},null,{"$f":"IF(COUNTBLANK(C68)=0,VLOOKUP(C68,Locks!A:D,4,FALSE),\"\")","v":""},{"$f":"IF(COUNTBLANK(C68)=0,VLOOKUP(C68,Locks!A:E,5,FALSE),\"\")","v":""}]
[null,{"$f":"IF(COUNTBLANK(A69)=0,VLOOKUP(A69,Users!A:E,5,FALSE),\"\")","v":""},null,{"$f":"IF(COUNTBLANK(C69)=0,VLOOKUP(C69,Locks!A:D,4,FALSE),\"\")","v":""},{"$f":"IF(COUNTBLANK(C69)=0,VLOOKUP(C69,Locks!A:E,5,FALSE),\"\")","v":""}]
[null,{"$f":"IF(COUNTBLANK(A70)=0,VLOOKUP(A70,Users!A:E,5,FALSE),\"\")","v":""},null,{"$f":"IF(COUNTBLANK(C70)=0,VLOOKUP(C70,Locks!A:D,4,FALSE),\"\")","v":""},{"$f":"IF(COUNTBLANK(C70)=0,VLOOKUP(C70,Locks!A:E,5,FALSE),\"\")","v":""}]
[null,{"$f":"IF(COUNTBLANK(A71)=0,VLOOKUP(A71,Users!A:E,5,FALSE),\"\")","v":""},null,{"$f":"IF(COUNTBLANK(C71)=0,VLOOKUP(C71,Locks!A:D,4,FALSE),\"\")","v":""},{"$f":"IF(COUNTBLANK(C71)=0,VLOOKUP(C71,Locks!A:E,5,FALSE),\"\")","v":""}]
[null,{"$f":"IF(COUNTBLANK(A72)=0,VLOOKUP(A72,Users!A:E,5,FALSE),\"\")","v":""},null,{"$f":"IF(COUNTBLANK(C72)=0,VLOOKUP(C72,Locks!A:D,4,FALSE),\"\")","v":""},{"$f":"IF(COUNTBLANK(C72)=0,VLOOKUP(C72,Locks!A:E,5,FALSE),\"\")","v":""}]
[null,{"$f":"IF(COUNTBLANK(A73)=0,VLOOKUP(A73,Users!A:E,5,FALSE),\"\")","v":""},null,{"$f":"IF(COUNTBLANK(C73)=0,VLOOKUP(C73,Locks!A:D,4,FALSE),\"\")","v":""},{"$f":"IF(COUNTBLANK(C73)=0,VLOOKUP(C73,Locks!A:E,5,FALSE),\"\")","v":""}]
[null,{"$f":"IF(COUNTBLANK(A74)=0,VLOOKUP(A74,Users!A:E,5,FALSE),\"\")","v":""},null,{"$f":"IF(COUNTBLANK(C74)=0,VLOOKUP(C74,Locks!A:D,4,FALSE),\"\")","v":""},{"$f":"IF(COUNTBLANK(C74)=0,VLOOKUP(C74,Locks!A:E,5,FALSE),\"\")","v":""}]
[null,{"$f":"IF(COUNTBLANK(A75)=0,VLOOKUP(A75,Users!A:E,5,FALSE),\"\")","v":""},null,{"$f":"IF(COUNTBLANK(C75)=0,VLOOKUP(C75,Locks!A:D,4,FALSE),\"\")","v":""},{"$f":"IF(COUNTBLANK(C75)=0,VLOOKUP(C75,Locks!A:E,5,FALSE),\"\")","v":""}]
[null,{"$f":"IF(COUNTBLANK(A76)=0,VLOOKUP(A76,Users!A:E,5,FALSE),\"\")","v":""},null,{"$f":"IF(COUNTBLANK(C76)=0,VLOOKUP(C76,Locks!A:D,4,FALSE),\"\")","v":""},{"$f":"IF(COUNTBLANK(C76)=0,VLOOKUP(C76,Locks!A:E,5,FALSE),\"\")","v":""}]
[null,{"$f":"IF(COUNTBLANK(A77)=0,VLOOKUP(A77,Users!A:E,5,FALSE),\"\")","v":""},null,{"$f":"IF(COUNTBLANK(C77)=0,VLOOKUP(C77,Locks!A:D,4,FALSE),\"\")","v":""},{"$f":"IF(COUNTBLANK(C77)=0,VLOOKUP(C77,Locks!A:E,5,FALSE),\"\")","v":""}]
[null,{"$f":"IF(COUNTBLANK(A78)=0,VLOOKUP(A78,Users!A:E,5,FALSE),\"\")","v":""},null,{"$f":"IF(COUNTBLANK(C78)=0,VLOOKUP(C78,Locks!A:D,4,FALSE),\"\")","v":""},{"$f":"IF(COUNTBLANK(C78)=0,VLOOKUP(C78,Locks!A:E,5,FALSE),\"\")","v":""}]
[null,{"$f":"IF(COUNTBLANK(A79)=0,VLOOKUP(A79,Users!A:E,5,FALSE),\"\")","v":""},null,{"$f":"IF(COUNTBLANK(C79)=0,VLOOKUP(C79,Locks!A:D,4,FALSE),\"\")","v":""},{"$f":"IF(COUNTBLANK(C79)=0,VLOOKUP(C79,Locks!A:E,5,FALSE),\"\")","v":""}]
[null,{"$f":"IF(COUNTBLANK(A80)=0,VLOOKUP(A80,Users!A:E,5,FALSE),\"\")","v":""},null,{"$f":"IF(COUNTBLANK(C80)=0,VLOOKUP(C80,Locks!A:D,4,FALSE),\"\")","v":""},{"$f":"IF(COUNTBLANK(C80)=0,VLOOKUP(C80,Locks!A:E,5,FALSE),\"\")","v":""}]
[null,{"$f":"IF(COUNTBLANK(A81)=0,VLOOKUP(A81,Users!A:E,5,FALSE),\"\")","v":""},null,{"$f":"IF(COUNTBLANK(C81)=0,VLOOKUP(C81,Locks!A:D,4,FALSE),\"\")","v":""},{"$f":"IF(COUNTBLANK(C81)=0,VLOOKUP(C81,Locks!A:E,5,FALSE),\"\")","v":""}]
[null,{"$f":"IF(COUNTBLANK(A82)=0,VLOOKUP(A82,Users!A:E,5,FALSE),\"\")","v":""},null,{"$f":"IF(COUNTBLANK(C82)=0,VLOOKUP(C82,Locks!A:D,4,FALSE),\"\")","v":""},{"$f":"IF(COUNTBLANK(C82)=0,VLOOKUP(C82,Locks!A:E,5,FALSE),\"\")","v":""}]
[null,{"$f":"IF(COUNTBLANK(A83)=0,VLOOKUP(A83,Users!A:E,5,FALSE),\"\")","v":""},null,{"$f":"IF(COUNTBLANK(C83)=0,VLOOKUP(C83,Locks!A:D,4,FALSE),\"\")","v":""},{"$f":"IF(COUNTBLANK(C83)=0,VLOOKUP(C83,Locks!A:E,5,FALSE),\"\")","v":""}]
[null,{"$f":"IF(COUNTBLANK(A84)=0,VLOOKUP(A84,Users!A:E,5,FALSE),\"\")","v":""},null,{"$f":"IF(COUNTBLANK(C84)=0,VLOOKUP(C84,Locks!A:D,4,FALSE),\"\")","v":""},{"$f":"IF(COUNTBLANK(C84)=0,VLOOKUP(C84,Locks!A:E,5,FALSE),\"\")","v":""}]
[null,{"$f":"IF(COUNTBLANK(A85)=0,VLOOKUP(A85,Users!A:E,5,FALSE),\"\")","v":""},null,{"$f":"IF(COUNTBLANK(C85)=0,VLOOKUP(C85,Locks!A:D,4,FALSE),\"\")","v":""},{"$f":"IF(COUNTBLANK(C85)=0,VLOOKUP(C85,Locks!A:E,5,FALSE),\"\")","v":""}]
[null,{"$f":"IF(COUNTBLANK(A86)=0,VLOOKUP(A86,Users!A:E,5,FALSE),\"\")","v":""},null,{"$f":"IF(COUNTBLANK(C86)=0,VLOOKUP(C86,Locks!A:D,4,FALSE),\"\")","v":""},{"$f":"IF(COUNTBLANK(C86)=0,VLOOKUP(C86,Locks!A:E,5,FALSE),\"\")","v":""}]
[null,{"$f":"IF(COUNTBLANK(A87)=0,VLOOKUP(A87,Users!A:E,5,FALSE),\"\")","v":""},null,{"$f":"IF(COUNTBLANK(C87)=0,VLOOKUP(C87,Locks!A:D,4,FALSE),\"\")","v":""},{"$f":"IF(COUNTBLANK(C87)=0,VLOOKUP(C87,Locks!A:E,5,FALSE),\"\")","v":""}]
[null,{"$f":"IF(COUNTBLANK(A88)=0,VLOOKUP(A88,Users!A:E,5,FALSE),\"\")","v":""},null,{"$f":"IF(COUNTBLANK(C88)=0,VLOOKUP(C88,Locks!A:D,4,FALSE),\"\")","v":""},{"$f":"IF(COUNTBLANK(C88)=0,VLOOKUP(C88,Locks!A:E,5,FALSE),\"\")","v":""}]
[null,{"$f":"IF(COUNTBLANK(A89)=0,VLOOKUP(A89,Users!A:E,5,FALSE),\"\")","v":""},null,{"$f":"IF(COUNTBLANK(C89)=0,VLOOKUP(C89,Locks!A:D,4,FALSE),\"\")","v":""},{"$f":"IF(COUNTBLANK(C89)=0,VLOOKUP(C89,Locks!A:E,5,FALSE),\"\")","v":""}]
[null,{"$f":"IF(COUNTBLANK(A90)=0,VLOOKUP(A90,Users!A:E,5,FALSE),\"\")","v":""},null,{"$f":"IF(COUNTBLANK(C90)=0,VLOOKUP(C90,Locks!A:D,4,FALSE),\"\")","v":""},{"$f":"IF(COUNTBLANK(C90)=0,VLOOKUP(C90,Locks!A:E,5,FALSE),\"\")","v":""}]
[null,{"$f":"IF(COUNTBLANK(A91)=0,VLOOKUP(A91,Users!A:E,5,FALSE),\"\")","v":""},null,{"$f":"IF(COUNTBLANK(C91)=0,VLOOKUP(C91,Locks!A:D,4,FALSE),\"\")","v":""},{"$f":"IF(COUNTBLANK(C91)=0,VLOOKUP(C91,Locks!A:E,5,FALSE),\"\")","v":""}]
[null,{"$f":"IF(COUNTBLANK(A92)=0,VLOOKUP(A92,Users!A:E,5,FALSE),\"\")","v":""},null,{"$f":"IF(COUNTBLANK(C92)=0,VLOOKUP(C92,Locks!A:D,4,FALSE),\"\")","v":""},{"$f":"IF(COUNTBLANK(C92)=0,VLOOKUP(C92,Locks!A:E,5,FALSE),\"\")","v":""}]
[null,{"$f":"IF(COUNTBLANK(A93)=0,VLOOKUP(A93,Users!A:E,5,FALSE),\"\")","v":""},null,{"$f":"IF(COUNTBLANK(C93)=0,VLOOKUP(C93,Locks!A:D,4,FALSE),\"\")","v":""},{"$f":"IF(COUNTBLANK(C93)=0,VLOOKUP(C93,Locks!A:E,5,FALSE),\"\")","v":""}]
[null,{"$f":"IF(COUNTBLANK(A94)=0,VLOOKUP(A94,Users!A:E,5,FALSE),\"\")","v":""},null,{"$f":"IF(COUNTBLANK(C94)=0,VLOOKUP(C94,Locks!A:D,4,FALSE),\"\")","v":""},{"$f":"IF(COUNTBLANK(C94)=0,VLOOKUP(C94,Locks!A:E,5,FALSE),\"\")","v":""}]
[null,{"$f":"IF(COUNTBLANK(A95)=0,VLOOKUP(A95,Users!A:E,5,FALSE),\"\")","v":""},null,{"$f":"IF(COUNTBLANK(C95)=0,VLOOKUP(C95,Locks!A:D,4,FALSE),\"\")","v":""},{"$f":"IF(COUNTBLANK(C95)=0,VLOOKUP(C95,Locks!A:E,5,FALSE),\"\")","v":""}]
[null,{"$f":"IF(COUNTBLANK(A96)=0,VLOOKUP(A96,Users!A:E,5,FALSE),\"\")","v":""},null,{"$f":"IF(COUNTBLANK(C96)=0,VLOOKUP(C96,Locks!A:D,4,FALSE),\"\")","v":""},{"$f":"IF(COUNTBLANK(C96)=0,VLOOKUP(C96,Locks!A:E,5,FALSE),\"\")","v":""}]
[null,{"$f":"IF(COUNTBLANK(A97)=0,VLOOKUP(A97,Users!A:E,5,FALSE),\"\")","v":""},null,{"$f":"IF(COUNTBLANK(C97)=0,VLOOKUP(C97,Locks!A:D,4,FALSE),\"\")","v":""},{"$f":"IF(COUNTBLANK(C97)=0,VLOOKUP(C97,Locks!A:E,5,FALSE),\"\")","v":""}]
[null,{"$f":"IF(COUNTBLANK(A98)=0,VLOOKUP(A98,Users!A:E,5,FALSE),\"\")","v":""},null,{"$f":"IF(COUNTBLANK(C98)=0,VLOOKUP(C98,Locks!A:D,4,FALSE),\"\")","v":""},{"$f":"IF(COUNTBLANK(C98)=0,VLOOKUP(C98,Locks!A:E,5,FALSE),\"\")","v":""}]
[null,{"$f":"IF(COUNTBLANK(A99)=0,VLOOKUP(A99,Users!A:E,5,FALSE),\"\")","v":""},null,{"$f":"IF(COUNTBLANK(C99)=0,VLOOKUP(C99,Locks!A:D,4,FALSE),\"\")","v":""},{"$f":"IF(COUNTBLANK(C99)=0,VLOOKUP(C99,Locks!A:E,5,FALSE),\"\")","v":""}]
[null,{"$f":"IF(COUNTBLANK(A100)=0,VLOOKUP(A100,Users!A:E,5,FALSE),\"\")","v":""},null,{"$f":"IF(COUNTBLANK(C100)=0,VLOOKUP(C100,Locks!A:D,4,FALSE),\"\")","v":""},{"$f":"IF(COUNTBLANK(C100)=0,VLOOKUP(C100,Locks!A:E,5,FALSE),\"\")","v":""}]
[null,{"$f":"IF(COUNTBLANK(A101)=0,VLOOKUP(A101,Users!A:E,5,FALSE),\"\")","v":""},null,{"$f":"IF(COUNTBLANK(C101)=0,VLOOKUP(C101,Locks!A:D,4,FALSE),\"\")","v":""},{"$f":"IF(COUNTBLANK(C101)=0,VLOOKUP(C101,Locks!A:E,5,FALSE),\"\")","v":""}]
[null,{"$f":"IF(COUNTBLANK(A102)=0,VLOOKUP(A102,Users!A:E,5,FALSE),\"\")","v":""},null,{"$f":"IF(COUNTBLANK(C102)=0,VLOOKUP(C102,Locks!A:D,4,FALSE),\"\")","v":""},{"$f":"IF(COUNTBLANK(C102)=0,VLOOKUP(C102,Locks!A:E,5,FALSE),\"\")","v":""}]
[null,{"$f":"IF(COUNTBLANK(A103)=0,VLOOKUP(A103,Users!A:E,5,FALSE),\"\")","v":""},null,{"$f":"IF(COUNTBLANK(C103)=0,VLOOKUP(C103,Locks!A:D,4,FALSE),\"\")","v":""},{"$f":"IF(COUNTBLANK(C103)=0,VLOOKUP(C103,Locks!A:E,5,FALSE),\"\")","v":""}]
[null,{"$f":"IF(COUNTBLANK(A104)=0,VLOOKUP(A104,Users!A:E,5,FALSE),\"\")","v":""},null,{"$f":"IF(COUNTBLANK(C104)=0,VLOOKUP(C104,Locks!A:D,4,FALSE),\"\")","v":""},{"$f":"IF(COUNTBLANK(C104)=0,VLOOKUP(C104,Locks!A:E,5,FALSE),\"\")","v":""}]
[null,{"$f":"IF(COUNTBLANK(A105)=0,VLOOKUP(A105,Users!A:E,5,FALSE),\"\")","v":""},null,{"$f":"IF(COUNTBLANK(C105)=0,VLOOKUP(C105,Locks!A:D,4,FALSE),\"\")","v":""},{"$f":"IF(COUNTBLANK(C105)=0,VLOOKUP(C105,Locks!A:E,5,FALSE),\"\")","v":""}]
[null,{"$f":"IF(COUNTBLANK(A106)=0,VLOOKUP(A106,Users!A:E,5,FALSE),\"\")","v":""},null,{"$f":"IF(COUNTBLANK(C106)=0,VLOOKUP(C106,Locks!A:D,4,FALSE),\"\")","v":""},{"$f":"IF(COUNTBLANK(C106)=0,VLOOKUP(C106,Locks!A:E,5,FALSE),\"\")","v":""}]
[null,{"$f":"IF(COUNTBLANK(A107)=0,VLOOKUP(A107,Users!A:E,5,FALSE),\"\")","v":""},null,{"$f":"IF(COUNTBLANK(C107)=0,VLOOKUP(C107,Locks!A:D,4,FALSE),\"\")","v":""},{"$f":"IF(COUNTBLANK(C107)=0,VLOOKUP(C107,Locks!A:E,5,FALSE),\"\")","v":""}]
[null,{"$f":"IF(COUNTBLANK(A108)=0,VLOOKUP(A108,Users!A:E,5,FALSE),\"\")","v":""},null,{"$f":"IF(COUNTBLANK(C108)=0,VLOOKUP(C108,Locks!A:D,4,FALSE),\"\")","v":""},{"$f":"IF(COUNTBLANK(C108)=0,VLOOKUP(C108,Locks!A:E,5,FALSE),\"\")","v":""}]
[null,{"$f":"IF(COUNTBLANK(A109)=0,VLOOKUP(A109,Users!A:E,5,FALSE),\"\")","v":""},null,{"$f":"IF(COUNTBLANK(C109)=0,VLOOKUP(C109,Locks!A:D,4,FALSE),\"\")","v":""},{"$f":"IF(COUNTBLANK(C109)=0,VLOOKUP(C109,Locks!A:E,5,FALSE),\"\")","v":""}]
[null,{"$f":"IF(COUNTBLANK(A110)=0,VLOOKUP(A110,Users!A:E,5,FALSE),\"\")","v":""},null,{"$f":"IF(COUNTBLANK(C110)=0,VLOOKUP(C110,Locks!A:D,4,FALSE),\"\")","v":""},{"$f":"IF(COUNTBLANK(C110)=0,VLOOKUP(C110,Locks!A:E,5,FALSE),\"\")","v":""}]
[null,{"$f":"IF(COUNTBLANK(A111)=0,VLOOKUP(A111,Users!A:E,5,FALSE),\"\")","v":""},null,{"$f":"IF(COUNTBLANK(C111)=0,VLOOKUP(C111,Locks!A:D,4,FALSE),\"\")","v":""},{"$f":"IF(COUNTBLANK(C111)=0,VLOOKUP(C111,Locks!A:E,5,FALSE),\"\")","v":""}]
[null,{"$f":"IF(COUNTBLANK(A112)=0,VLOOKUP(A112,Users!A:E,5,FALSE),\"\")","v":""},null,{"$f":"IF(COUNTBLANK(C112)=0,VLOOKUP(C112,Locks!A:D,4,FALSE),\"\")","v":""},{"$f":"IF(COUNTBLANK(C112)=0,VLOOKUP(C112,Locks!A:E,5,FALSE),\"\")","v":""}]
[null,{"$f":"IF(COUNTBLANK(A113)=0,VLOOKUP(A113,Users!A:E,5,FALSE),\"\")","v":""},null,{"$f":"IF(COUNTBLANK(C113)=0,VLOOKUP(C113,Locks!A:D,4,FALSE),\"\")","v":""},{"$f":"IF(COUNTBLANK(C113)=0,VLOOKUP(C113,Locks!A:E,5,FALSE),\"\")","v":""}]
[null,{"$f":"IF(COUNTBLANK(A114)=0,VLOOKUP(A114,Users!A:E,5,FALSE),\"\")","v":""},null,{"$f":"IF(COUNTBLANK(C114)=0,VLOOKUP(C114,Locks!A:D,4,FALSE),\"\")","v":""},{"$f":"IF(COUNTBLANK(C114)=0,VLOOKUP(C114,Locks!A:E,5,FALSE),\"\")","v":""}]
[null,{"$f":"IF(COUNTBLANK(A115)=0,VLOOKUP(A115,Users!A:E,5,FALSE),\"\")","v":""},null,{"$f":"IF(COUNTBLANK(C115)=0,VLOOKUP(C115,Locks!A:D,4,FALSE),\"\")","v":""},{"$f":"IF(COUNTBLANK(C115)=0,VLOOKUP(C115,Locks!A:E,5,FALSE),\"\")","v":""}]
[null,{"$f":"IF(COUNTBLANK(A116)=0,VLOOKUP(A116,Users!A:E,5,FALSE),\"\")","v":""},null,{"$f":"IF(COUNTBLANK(C116)=0,VLOOKUP(C116,Locks!A:D,4,FALSE),\"\")","v":""},{"$f":"IF(COUNTBLANK(C116)=0,VLOOKUP(C116,Locks!A:E,5,FALSE),\"\")","v":""}]
[null,{"$f":"IF(COUNTBLANK(A117)=0,VLOOKUP(A117,Users!A:E,5,FALSE),\"\")","v":""},null,{"$f":"IF(COUNTBLANK(C117)=0,VLOOKUP(C117,Locks!A:D,4,FALSE),\"\")","v":""},{"$f":"IF(COUNTBLANK(C117)=0,VLOOKUP(C117,Locks!A:E,5,FALSE),\"\")","v":""}]
[null,{"$f":"IF(COUNTBLANK(A118)=0,VLOOKUP(A118,Users!A:E,5,FALSE),\"\")","v":""},null,{"$f":"IF(COUNTBLANK(C118)=0,VLOOKUP(C118,Locks!A:D,4,FALSE),\"\")","v":""},{"$f":"IF(COUNTBLANK(C118)=0,VLOOKUP(C118,Locks!A:E,5,FALSE),\"\")","v":""}]
[null,{"$f":"IF(COUNTBLANK(A119)=0,VLOOKUP(A119,Users!A:E,5,FALSE),\"\")","v":""},null,{"$f":"IF(COUNTBLANK(C119)=0,VLOOKUP(C119,Locks!A:D,4,FALSE),\"\")","v":""},{"$f":"IF(COUNTBLANK(C119)=0,VLOOKUP(C119,Locks!A:E,5,FALSE),\"\")","v":""}]
[null,{"$f":"IF(COUNTBLANK(A120)=0,VLOOKUP(A120,Users!A:E,5,FALSE),\"\")","v":""},null,{"$f":"IF(COUNTBLANK(C120)=0,VLOOKUP(C120,Locks!A:D,4,FALSE),\"\")","v":""},{"$f":"IF(COUNTBLANK(C120)=0,VLOOKUP(C120,Locks!A:E,5,FALSE),\"\")","v":""}]
[null,{"$f":"IF(COUNTBLANK(A121)=0,VLOOKUP(A121,Users!A:E,5,FALSE),\"\")","v":""},null,{"$f":"IF(COUNTBLANK(C121)=0,VLOOKUP(C121,Locks!A:D,4,FALSE),\"\")","v":""},{"$f":"IF(COUNTBLANK(C121)=0,VLOOKUP(C121,Locks!A:E,5,FALSE),\"\")","v":""}]
[null,{"$f":"IF(COUNTBLANK(A122)=0,VLOOKUP(A122,Users!A:E,5,FALSE),\"\")","v":""},null,{"$f":"IF(COUNTBLANK(C122)=0,VLOOKUP(C122,Locks!A:D,4,FALSE),\"\")","v":""},{"$f":"IF(COUNTBLANK(C122)=0,VLOOKUP(C122,Locks!A:E,5,FALSE),\"\")","v":""}]
[null,{"$f":"IF(COUNTBLANK(A123)=0,VLOOKUP(A123,Users!A:E,5,FALSE),\"\")","v":""},null,{"$f":"IF(COUNTBLANK(C123)=0,VLOOKUP(C123,Locks!A:D,4,FALSE),\"\")","v":""},{"$f":"IF(COUNTBLANK(C123)=0,VLOOKUP(C123,Locks!A:E,5,FALSE),\"\")","v":""}]
[null,{"$f":"IF(COUNTBLANK(A124)=0,VLOOKUP(A124,Users!A:E,5,FALSE),\"\")","v":""},null,{"$f":"IF(COUNTBLANK(C124)=0,VLOOKUP(C124,Locks!A:D,4,FALSE),\"\")","v":""},{"$f":"IF(COUNTBLANK(C124)=0,VLOOKUP(C124,Locks!A:E,5,FALSE),\"\")","v":""}]
[null,{"$f":"IF(COUNTBLANK(A125)=0,VLOOKUP(A125,Users!A:E,5,FALSE),\"\")","v":""},null,{"$f":"IF(COUNTBLANK(C125)=0,VLOOKUP(C125,Locks!A:D,4,FALSE),\"\")","v":""},{"$f":"IF(COUNTBLANK(C125)=0,VLOOKUP(C125,Locks!A:E,5,FALSE),\"\")","v":""}]
[null,{"$f":"IF(COUNTBLANK(A126)=0,VLOOKUP(A126,Users!A:E,5,FALSE),\"\")","v":""},null,{"$f":"IF(COUNTBLANK(C126)=0,VLOOKUP(C126,Locks!A:D,4,FALSE),\"\")","v":""},{"$f":"IF(COUNTBLANK(C126)=0,VLOOKUP(C126,Locks!A:E,5,FALSE),\"\")","v":""}]
[null,{"$f":"IF(COUNTBLANK(A127)=0,VLOOKUP(A127,Users!A:E,5,FALSE),\"\")","v":""},null,{"$f":"IF(COUNTBLANK(C127)=0,VLOOKUP(C127,Locks!A:D,4,FALSE),\"\")","v":""},{"$f":"IF(COUNTBLANK(C127)=0,VLOOKUP(C127,Locks!A:E,5,FALSE),\"\")","v":""}]
[null,{"$f":"IF(COUNTBLANK(A128)=0,VLOOKUP(A128,Users!A:E,5,FALSE),\"\")","v":""},null,{"$f":"IF(COUNTBLANK(C128)=0,VLOOKUP(C128,Locks!A:D,4,FALSE),\"\")","v":""},{"$f":"IF(COUNTBLANK(C128)=0,VLOOKUP(C128,Locks!A:E,5,FALSE),\"\")","v":""}]
[null,{"$f":"IF(COUNTBLANK(A129)=0,VLOOKUP(A129,Users!A:E,5,FALSE),\"\")","v":""},null,{"$f":"IF(COUNTBLANK(C129)=0,VLOOKUP(C129,Locks!A:D,4,FALSE),\"\")","v":""},{"$f":"IF(COUNTBLANK(C129)=0,VLOOKUP(C129,Locks!A:E,5,FALSE),\"\")","v":""}]
[null,{"$f":"IF(COUNTBLANK(A130)=0,VLOOKUP(A130,Users!A:E,5,FALSE),\"\")","v":""},null,{"$f":"IF(COUNTBLANK(C130)=0,VLOOKUP(C130,Locks!A:D,4,FALSE),\"\")","v":""},{"$f":"IF(COUNTBLANK(C130)=0,VLOOKUP(C130,Locks!A:E,5,FALSE),\"\")","v":""}]
[null,{"$f":"IF(COUNTBLANK(A131)=0,VLOOKUP(A131,Users!A:E,5,FALSE),\"\")","v":""},null,{"$f":"IF(COUNTBLANK(C131)=0,VLOOKUP(C131,Locks!A:D,4,FALSE),\"\")","v":""},{"$f":"IF(COUNTBLANK(C131)=0,VLOOKUP(C131,Locks!A:E,5,FALSE),\"\")","v":""}]
[null,{"$f":"IF(COUNTBLANK(A132)=0,VLOOKUP(A132,Users!A:E,5,FALSE),\"\")","v":""},null,{"$f":"IF(COUNTBLANK(C132)=0,VLOOKUP(C132,Locks!A:D,4,FALSE),\"\")","v":""},{"$f":"IF(COUNTBLANK(C132)=0,VLOOKUP(C132,Locks!A:E,5,FALSE),\"\")","v":""}]
[null,{"$f":"IF(COUNTBLANK(A133)=0,VLOOKUP(A133,Users!A:E,5,FALSE),\"\")","v":""},null,{"$f":"IF(COUNTBLANK(C133)=0,VLOOKUP(C133,Locks!A:D,4,FALSE),\"\")","v":""},{"$f":"IF(COUNTBLANK(C133)=0,VLOOKUP(C133,Locks!A:E,5,FALSE),\"\")","v":""}]
[null,{"$f":"IF(COUNTBLANK(A134)=0,VLOOKUP(A134,Users!A:E,5,FALSE),\"\")","v":""},null,{"$f":"IF(COUNTBLANK(C134)=0,VLOOKUP(C134,Locks!A:D,4,FALSE),\"\")","v":""},{"$f":"IF(COUNTBLANK(C134)=0,VLOOKUP(C134,Locks!A:E,5,FALSE),\"\")","v":""}]
[null,{"$f":"IF(COUNTBLANK(A135)=0,VLOOKUP(A135,Users!A:E,5,FALSE),\"\")","v":""},null,{"$f":"IF(COUNTBLANK(C135)=0,VLOOKUP(C135,Locks!A:D,4,FALSE),\"\")","v":""},{"$f":"IF(COUNTBLANK(C135)=0,VLOOKUP(C135,Locks!A:E,5,FALSE),\"\")","v":""}]
[null,{"$f":"IF(COUNTBLANK(A136)=0,VLOOKUP(A136,Users!A:E,5,FALSE),\"\")","v":""},null,{"$f":"IF(COUNTBLANK(C136)=0,VLOOKUP(C136,Locks!A:D,4,FALSE),\"\")","v":""},{"$f":"IF(COUNTBLANK(C136)=0,VLOOKUP(C136,Locks!A:E,5,FALSE),\"\")","v":""}]
[null,{"$f":"IF(COUNTBLANK(A137)=0,VLOOKUP(A137,Users!A:E,5,FALSE),\"\")","v":""},null,{"$f":"IF(COUNTBLANK(C137)=0,VLOOKUP(C137,Locks!A:D,4,FALSE),\"\")","v":""},{"$f":"IF(COUNTBLANK(C137)=0,VLOOKUP(C137,Locks!A:E,5,FALSE),\"\")","v":""}]
[null,{"$f":"IF(COUNTBLANK(A138)=0,VLOOKUP(A138,Users!A:E,5,FALSE),\"\")","v":""},null,{"$f":"IF(COUNTBLANK(C138)=0,VLOOKUP(C138,Locks!A:D,4,FALSE),\"\")","v":""},{"$f":"IF(COUNTBLANK(C138)=0,VLOOKUP(C138,Locks!A:E,5,FALSE),\"\")","v":""}]
[null,{"$f":"IF(COUNTBLANK(A139)=0,VLOOKUP(A139,Users!A:E,5,FALSE),\"\")","v":""},null,{"$f":"IF(COUNTBLANK(C139)=0,VLOOKUP(C139,Locks!A:D,4,FALSE),\"\")","v":""},{"$f":"IF(COUNTBLANK(C139)=0,VLOOKUP(C139,Locks!A:E,5,FALSE),\"\")","v":""}]
[null,{"$f":"IF(COUNTBLANK(A140)=0,VLOOKUP(A140,Users!A:E,5,FALSE),\"\")","v":""},null,{"$f":"IF(COUNTBLANK(C140)=0,VLOOKUP(C140,Locks!A:D,4,FALSE),\"\")","v":""},{"$f":"IF(COUNTBLANK(C140)=0,VLOOKUP(C140,Locks!A:E,5,FALSE),\"\")","v":""}]
[null,{"$f":"IF(COUNTBLANK(A141)=0,VLOOKUP(A141,Users!A:E,5,FALSE),\"\")","v":""},null,{"$f":"IF(COUNTBLANK(C141)=0,VLOOKUP(C141,Locks!A:D,4,FALSE),\"\")","v":""},{"$f":"IF(COUNTBLANK(C141)=0,VLOOKUP(C141,Locks!A:E,5,FALSE),\"\")","v":""}]
[null,{"$f":"IF(COUNTBLANK(A142)=0,VLOOKUP(A142,Users!A:E,5,FALSE),\"\")","v":""},null,{"$f":"IF(COUNTBLANK(C142)=0,VLOOKUP(C142,Locks!A:D,4,FALSE),\"\")","v":""},{"$f":"IF(COUNTBLANK(C142)=0,VLOOKUP(C142,Locks!A:E,5,FALSE),\"\")","v":""}]
[null,{"$f":"IF(COUNTBLANK(A143)=0,VLOOKUP(A143,Users!A:E,5,FALSE),\"\")","v":""},null,{"$f":"IF(COUNTBLANK(C143)=0,VLOOKUP(C143,Locks!A:D,4,FALSE),\"\")","v":""},{"$f":"IF(COUNTBLANK(C143)=0,VLOOKUP(C143,Locks!A:E,5,FALSE),\"\")","v":""}]
[null,{"$f":"IF(COUNTBLANK(A144)=0,VLOOKUP(A144,Users!A:E,5,FALSE),\"\")","v":""},null,{"$f":"IF(COUNTBLANK(C144)=0,VLOOKUP(C144,Locks!A:D,4,FALSE),\"\")","v":""},{"$f":"IF(COUNTBLANK(C144)=0,VLOOKUP(C144,Locks!A:E,5,FALSE),\"\")","v":""}]
[null,{"$f":"IF(COUNTBLANK(A145)=0,VLOOKUP(A145,Users!A:E,5,FALSE),\"\")","v":""},null,{"$f":"IF(COUNTBLANK(C145)=0,VLOOKUP(C145,Locks!A:D,4,FALSE),\"\")","v":""},{"$f":"IF(COUNTBLANK(C145)=0,VLOOKUP(C145,Locks!A:E,5,FALSE),\"\")","v":""}]
[null,{"$f":"IF(COUNTBLANK(A146)=0,VLOOKUP(A146,Users!A:E,5,FALSE),\"\")","v":""},null,{"$f":"IF(COUNTBLANK(C146)=0,VLOOKUP(C146,Locks!A:D,4,FALSE),\"\")","v":""},{"$f":"IF(COUNTBLANK(C146)=0,VLOOKUP(C146,Locks!A:E,5,FALSE),\"\")","v":""}]
[null,{"$f":"IF(COUNTBLANK(A147)=0,VLOOKUP(A147,Users!A:E,5,FALSE),\"\")","v":""},null,{"$f":"IF(COUNTBLANK(C147)=0,VLOOKUP(C147,Locks!A:D,4,FALSE),\"\")","v":""},{"$f":"IF(COUNTBLANK(C147)=0,VLOOKUP(C147,Locks!A:E,5,FALSE),\"\")","v":""}]
[null,{"$f":"IF(COUNTBLANK(A148)=0,VLOOKUP(A148,Users!A:E,5,FALSE),\"\")","v":""},null,{"$f":"IF(COUNTBLANK(C148)=0,VLOOKUP(C148,Locks!A:D,4,FALSE),\"\")","v":""},{"$f":"IF(COUNTBLANK(C148)=0,VLOOKUP(C148,Locks!A:E,5,FALSE),\"\")","v":""}]
[null,{"$f":"IF(COUNTBLANK(A149)=0,VLOOKUP(A149,Users!A:E,5,FALSE),\"\")","v":""},null,{"$f":"IF(COUNTBLANK(C149)=0,VLOOKUP(C149,Locks!A:D,4,FALSE),\"\")","v":""},{"$f":"IF(COUNTBLANK(C149)=0,VLOOKUP(C149,Locks!A:E,5,FALSE),\"\")","v":""}]
[null,{"$f":"IF(COUNTBLANK(A150)=0,VLOOKUP(A150,Users!A:E,5,FALSE),\"\")","v":""},null,{"$f":"IF(COUNTBLANK(C150)=0,VLOOKUP(C150,Locks!A:D,4,FALSE),\"\")","v":""},{"$f":"IF(COUNTBLANK(C150)=0,VLOOKUP(C150,Locks!A:E,5,FALSE),\"\")","v":""}]
[null,{"$f":"IF(COUNTBLANK(A151)=0,VLOOKUP(A151,Users!A:E,5,FALSE),\"\")","v":""},null,{"$f":"IF(COUNTBLANK(C151)=0,VLOOKUP(C151,Locks!A:D,4,FALSE),\"\")","v":""},{"$f":"IF(COUNTBLANK(C151)=0,VLOOKUP(C151,Locks!A:E,5,FALSE),\"\")","v":""}]
[null,{"$f":"IF(COUNTBLANK(A152)=0,VLOOKUP(A152,Users!A:E,5,FALSE),\"\")","v":""},null,{"$f":"IF(COUNTBLANK(C152)=0,VLOOKUP(C152,Locks!A:D,4,FALSE),\"\")","v":""},{"$f":"IF(COUNTBLANK(C152)=0,VLOOKUP(C152,Locks!A:E,5,FALSE),\"\")","v":""}]
[null,{"$f":"IF(COUNTBLANK(A153)=0,VLOOKUP(A153,Users!A:E,5,FALSE),\"\")","v":""},null,{"$f":"IF(COUNTBLANK(C153)=0,VLOOKUP(C153,Locks!A:D,4,FALSE),\"\")","v":""},{"$f":"IF(COUNTBLANK(C153)=0,VLOOKUP(C153,Locks!A:E,5,FALSE),\"\")","v":""}]
[null,{"$f":"IF(COUNTBLANK(A154)=0,VLOOKUP(A154,Users!A:E,5,FALSE),\"\")","v":""},null,{"$f":"IF(COUNTBLANK(C154)=0,VLOOKUP(C154,Locks!A:D,4,FALSE),\"\")","v":""},{"$f":"IF(COUNTBLANK(C154)=0,VLOOKUP(C154,Locks!A:E,5,FALSE),\"\")","v":""}]
[null,{"$f":"IF(COUNTBLANK(A155)=0,VLOOKUP(A155,Users!A:E,5,FALSE),\"\")","v":""},null,{"$f":"IF(COUNTBLANK(C155)=0,VLOOKUP(C155,Locks!A:D,4,FALSE),\"\")","v":""},{"$f":"IF(COUNTBLANK(C155)=0,VLOOKUP(C155,Locks!A:E,5,FALSE),\"\")","v":""}]
[null,{"$f":"IF(COUNTBLANK(A156)=0,VLOOKUP(A156,Users!A:E,5,FALSE),\"\")","v":""},null,{"$f":"IF(COUNTBLANK(C156)=0,VLOOKUP(C156,Locks!A:D,4,FALSE),\"\")","v":""},{"$f":"IF(COUNTBLANK(C156)=0,VLOOKUP(C156,Locks!A:E,5,FALSE),\"\")","v":""}]
[null,{"$f":"IF(COUNTBLANK(A157)=0,VLOOKUP(A157,Users!A:E,5,FALSE),\"\")","v":""},null,{"$f":"IF(COUNTBLANK(C157)=0,VLOOKUP(C157,Locks!A:D,4,FALSE),\"\")","v":""},{"$f":"IF(COUNTBLANK(C157)=0,VLOOKUP(C157,Locks!A:E,5,FALSE),\"\")","v":""}]
[null,{"$f":"IF(COUNTBLANK(A158)=0,VLOOKUP(A158,Users!A:E,5,FALSE),\"\")","v":""},null,{"$f":"IF(COUNTBLANK(C158)=0,VLOOKUP(C158,Locks!A:D,4,FALSE),\"\")","v":""},{"$f":"IF(COUNTBLANK(C158)=0,VLOOKUP(C158,Locks!A:E,5,FALSE),\"\")","v":""}]
[null,{"$f":"IF(COUNTBLANK(A159)=0,VLOOKUP(A159,Users!A:E,5,FALSE),\"\")","v":""},null,{"$f":"IF(COUNTBLANK(C159)=0,VLOOKUP(C159,Locks!A:D,4,FALSE),\"\")","v":""},{"$f":"IF(COUNTBLANK(C159)=0,VLOOKUP(C159,Locks!A:E,5,FALSE),\"\")","v":""}]
[null,{"$f":"IF(COUNTBLANK(A160)=0,VLOOKUP(A160,Users!A:E,5,FALSE),\"\")","v":""},null,{"$f":"IF(COUNTBLANK(C160)=0,VLOOKUP(C160,Locks!A:D,4,FALSE),\"\")","v":""},{"$f":"IF(COUNTBLANK(C160)=0,VLOOKUP(C160,Locks!A:E,5,FALSE),\"\")","v":""}]
[null,{"$f":"IF(COUNTBLANK(A161)=0,VLOOKUP(A161,Users!A:E,5,FALSE),\"\")","v":""},null,{"$f":"IF(COUNTBLANK(C161)=0,VLOOKUP(C161,Locks!A:D,4,FALSE),\"\")","v":""},{"$f":"IF(COUNTBLANK(C161)=0,VLOOKUP(C161,Locks!A:E,5,FALSE),\"\")","v":""}]
[null,{"$f":"IF(COUNTBLANK(A162)=0,VLOOKUP(A162,Users!A:E,5,FALSE),\"\")","v":""},null,{"$f":"IF(COUNTBLANK(C162)=0,VLOOKUP(C162,Locks!A:D,4,FALSE),\"\")","v":""},{"$f":"IF(COUNTBLANK(C162)=0,VLOOKUP(C162,Locks!A:E,5,FALSE),\"\")","v":""}]
[null,{"$f":"IF(COUNTBLANK(A163)=0,VLOOKUP(A163,Users!A:E,5,FALSE),\"\")","v":""},null,{"$f":"IF(COUNTBLANK(C163)=0,VLOOKUP(C163,Locks!A:D,4,FALSE),\"\")","v":""},{"$f":"IF(COUNTBLANK(C163)=0,VLOOKUP(C163,Locks!A:E,5,FALSE),\"\")","v":""}]
[null,{"$f":"IF(COUNTBLANK(A164)=0,VLOOKUP(A164,Users!A:E,5,FALSE),\"\")","v":""},null,{"$f":"IF(COUNTBLANK(C164)=0,VLOOKUP(C164,Locks!A:D,4,FALSE),\"\")","v":""},{"$f":"IF(COUNTBLANK(C164)=0,VLOOKUP(C164,Locks!A:E,5,FALSE),\"\")","v":""}]
[null,{"$f":"IF(COUNTBLANK(A165)=0,VLOOKUP(A165,Users!A:E,5,FALSE),\"\")","v":""},null,{"$f":"IF(COUNTBLANK(C165)=0,VLOOKUP(C165,Locks!A:D,4,FALSE),\"\")","v":""},{"$f":"IF(COUNTBLANK(C165)=0,VLOOKUP(C165,Locks!A:E,5,FALSE),\"\")","v":""}]
[null,{"$f":"IF(COUNTBLANK(A166)=0,VLOOKUP(A166,Users!A:E,5,FALSE),\"\")","v":""},null,{"$f":"IF(COUNTBLANK(C166)=0,VLOOKUP(C166,Locks!A:D,4,FALSE),\"\")","v":""},{"$f":"IF(COUNTBLANK(C166)=0,VLOOKUP(C166,Locks!A:E,5,FALSE),\"\")","v":""}]
[null,{"$f":"IF(COUNTBLANK(A167)=0,VLOOKUP(A167,Users!A:E,5,FALSE),\"\")","v":""},null,{"$f":"IF(COUNTBLANK(C167)=0,VLOOKUP(C167,Locks!A:D,4,FALSE),\"\")","v":""},{"$f":"IF(COUNTBLANK(C167)=0,VLOOKUP(C167,Locks!A:E,5,FALSE),\"\")","v":""}]
[null,{"$f":"IF(COUNTBLANK(A168)=0,VLOOKUP(A168,Users!A:E,5,FALSE),\"\")","v":""},null,{"$f":"IF(COUNTBLANK(C168)=0,VLOOKUP(C168,Locks!A:D,4,FALSE),\"\")","v":""},{"$f":"IF(COUNTBLANK(C168)=0,VLOOKUP(C168,Locks!A:E,5,FALSE),\"\")","v":""}]
[null,{"$f":"IF(COUNTBLANK(A169)=0,VLOOKUP(A169,Users!A:E,5,FALSE),\"\")","v":""},null,{"$f":"IF(COUNTBLANK(C169)=0,VLOOKUP(C169,Locks!A:D,4,FALSE),\"\")","v":""},{"$f":"IF(COUNTBLANK(C169)=0,VLOOKUP(C169,Locks!A:E,5,FALSE),\"\")","v":""}]
[null,{"$f":"IF(COUNTBLANK(A170)=0,VLOOKUP(A170,Users!A:E,5,FALSE),\"\")","v":""},null,{"$f":"IF(COUNTBLANK(C170)=0,VLOOKUP(C170,Locks!A:D,4,FALSE),\"\")","v":""},{"$f":"IF(COUNTBLANK(C170)=0,VLOOKUP(C170,Locks!A:E,5,FALSE),\"\")","v":""}]
[null,{"$f":"IF(COUNTBLANK(A171)=0,VLOOKUP(A171,Users!A:E,5,FALSE),\"\")","v":""},null,{"$f":"IF(COUNTBLANK(C171)=0,VLOOKUP(C171,Locks!A:D,4,FALSE),\"\")","v":""},{"$f":"IF(COUNTBLANK(C171)=0,VLOOKUP(C171,Locks!A:E,5,FALSE),\"\")","v":""}]
[null,{"$f":"IF(COUNTBLANK(A172)=0,VLOOKUP(A172,Users!A:E,5,FALSE),\"\")","v":""},null,{"$f":"IF(COUNTBLANK(C172)=0,VLOOKUP(C172,Locks!A:D,4,FALSE),\"\")","v":""},{"$f":"IF(COUNTBLANK(C172)=0,VLOOKUP(C172,Locks!A:E,5,FALSE),\"\")","v":""}]
[null,{"$f":"IF(COUNTBLANK(A173)=0,VLOOKUP(A173,Users!A:E,5,FALSE),\"\")","v":""},null,{"$f":"IF(COUNTBLANK(C173)=0,VLOOKUP(C173,Locks!A:D,4,FALSE),\"\")","v":""},{"$f":"IF(COUNTBLANK(C173)=0,VLOOKUP(C173,Locks!A:E,5,FALSE),\"\")","v":""}]
[null,{"$f":"IF(COUNTBLANK(A174)=0,VLOOKUP(A174,Users!A:E,5,FALSE),\"\")","v":""},null,{"$f":"IF(COUNTBLANK(C174)=0,VLOOKUP(C174,Locks!A:D,4,FALSE),\"\")","v":""},{"$f":"IF(COUNTBLANK(C174)=0,VLOOKUP(C174,Locks!A:E,5,FALSE),\"\")","v":""}]
[null,{"$f":"IF(COUNTBLANK(A175)=0,VLOOKUP(A175,Users!A:E,5,FALSE),\"\")","v":""},null,{"$f":"IF(COUNTBLANK(C175)=0,VLOOKUP(C175,Locks!A:D,4,FALSE),\"\")","v":""},{"$f":"IF(COUNTBLANK(C175)=0,VLOOKUP(C175,Locks!A:E,5,FALSE),\"\")","v":""}]
[null,{"$f":"IF(COUNTBLANK(A176)=0,VLOOKUP(A176,Users!A:E,5,FALSE),\"\")","v":""},null,{"$f":"IF(COUNTBLANK(C176)=0,VLOOKUP(C176,Locks!A:D,4,FALSE),\"\")","v":""},{"$f":"IF(COUNTBLANK(C176)=0,VLOOKUP(C176,Locks!A:E,5,FALSE),\"\")","v":""}]
[null,{"$f":"IF(COUNTBLANK(A177)=0,VLOOKUP(A177,Users!A:E,5,FALSE),\"\")","v":""},null,{"$f":"IF(COUNTBLANK(C177)=0,VLOOKUP(C177,Locks!A:D,4,FALSE),\"\")","v":""},{"$f":"IF(COUNTBLANK(C177)=0,VLOOKUP(C177,Locks!A:E,5,FALSE),\"\")","v":""}]
[null,{"$f":"IF(COUNTBLANK(A178)=0,VLOOKUP(A178,Users!A:E,5,FALSE),\"\")","v":""},null,{"$f":"IF(COUNTBLANK(C178)=0,VLOOKUP(C178,Locks!A:D,4,FALSE),\"\")","v":""},{"$f":"IF(COUNTBLANK(C178)=0,VLOOKUP(C178,Locks!A:E,5,FALSE),\"\")","v":""}]
[null,{"$f":"IF(COUNTBLANK(A179)=0,VLOOKUP(A179,Users!A:E,5,FALSE),\"\")","v":""},null,{"$f":"IF(COUNTBLANK(C179)=0,VLOOKUP(C179,Locks!A:D,4,FALSE),\"\")","v":""},{"$f":"IF(COUNTBLANK(C179)=0,VLOOKUP(C179,Locks!A:E,5,FALSE),\"\")","v":""}]
[null,{"$f":"IF(COUNTBLANK(A180)=0,VLOOKUP(A180,Users!A:E,5,FALSE),\"\")","v":""},null,{"$f":"IF(COUNTBLANK(C180)=0,VLOOKUP(C180,Locks!A:D,4,FALSE),\"\")","v":""},{"$f":"IF(COUNTBLANK(C180)=0,VLOOKUP(C180,Locks!A:E,5,FALSE),\"\")","v":""}]
[null,{"$f":"IF(COUNTBLANK(A181)=0,VLOOKUP(A181,Users!A:E,5,FALSE),\"\")","v":""},null,{"$f":"IF(COUNTBLANK(C181)=0,VLOOKUP(C181,Locks!A:D,4,FALSE),\"\")","v":""},{"$f":"IF(COUNTBLANK(C181)=0,VLOOKUP(C181,Locks!A:E,5,FALSE),\"\")","v":""}]
[null,{"$f":"IF(COUNTBLANK(A182)=0,VLOOKUP(A182,Users!A:E,5,FALSE),\"\")","v":""},null,{"$f":"IF(COUNTBLANK(C182)=0,VLOOKUP(C182,Locks!A:D,4,FALSE),\"\")","v":""},{"$f":"IF(COUNTBLANK(C182)=0,VLOOKUP(C182,Locks!A:E,5,FALSE),\"\")","v":""}]
[null,{"$f":"IF(COUNTBLANK(A183)=0,VLOOKUP(A183,Users!A:E,5,FALSE),\"\")","v":""},null,{"$f":"IF(COUNTBLANK(C183)=0,VLOOKUP(C183,Locks!A:D,4,FALSE),\"\")","v":""},{"$f":"IF(COUNTBLANK(C183)=0,VLOOKUP(C183,Locks!A:E,5,FALSE),\"\")","v":""}]
[null,{"$f":"IF(COUNTBLANK(A184)=0,VLOOKUP(A184,Users!A:E,5,FALSE),\"\")","v":""},null,{"$f":"IF(COUNTBLANK(C184)=0,VLOOKUP(C184,Locks!A:D,4,FALSE),\"\")","v":""},{"$f":"IF(COUNTBLANK(C184)=0,VLOOKUP(C184,Locks!A:E,5,FALSE),\"\")","v":""}]
[null,{"$f":"IF(COUNTBLANK(A185)=0,VLOOKUP(A185,Users!A:E,5,FALSE),\"\")","v":""},null,{"$f":"IF(COUNTBLANK(C185)=0,VLOOKUP(C185,Locks!A:D,4,FALSE),\"\")","v":""},{"$f":"IF(COUNTBLANK(C185)=0,VLOOKUP(C185,Locks!A:E,5,FALSE),\"\")","v":""}]
[null,{"$f":"IF(COUNTBLANK(A186)=0,VLOOKUP(A186,Users!A:E,5,FALSE),\"\")","v":""},null,{"$f":"IF(COUNTBLANK(C186)=0,VLOOKUP(C186,Locks!A:D,4,FALSE),\"\")","v":""},{"$f":"IF(COUNTBLANK(C186)=0,VLOOKUP(C186,Locks!A:E,5,FALSE),\"\")","v":""}]
[null,{"$f":"IF(COUNTBLANK(A187)=0,VLOOKUP(A187,Users!A:E,5,FALSE),\"\")","v":""},null,{"$f":"IF(COUNTBLANK(C187)=0,VLOOKUP(C187,Locks!A:D,4,FALSE),\"\")","v":""},{"$f":"IF(COUNTBLANK(C187)=0,VLOOKUP(C187,Locks!A:E,5,FALSE),\"\")","v":""}]
[null,{"$f":"IF(COUNTBLANK(A188)=0,VLOOKUP(A188,Users!A:E,5,FALSE),\"\")","v":""},null,{"$f":"IF(COUNTBLANK(C188)=0,VLOOKUP(C188,Locks!A:D,4,FALSE),\"\")","v":""},{"$f":"IF(COUNTBLANK(C188)=0,VLOOKUP(C188,Locks!A:E,5,FALSE),\"\")","v":""}]
[null,{"$f":"IF(COUNTBLANK(A189)=0,VLOOKUP(A189,Users!A:E,5,FALSE),\"\")","v":""},null,{"$f":"IF(COUNTBLANK(C189)=0,VLOOKUP(C189,Locks!A:D,4,FALSE),\"\")","v":""},{"$f":"IF(COUNTBLANK(C189)=0,VLOOKUP(C189,Locks!A:E,5,FALSE),\"\")","v":""}]
[null,{"$f":"IF(COUNTBLANK(A190)=0,VLOOKUP(A190,Users!A:E,5,FALSE),\"\")","v":""},null,{"$f":"IF(COUNTBLANK(C190)=0,VLOOKUP(C190,Locks!A:D,4,FALSE),\"\")","v":""},{"$f":"IF(COUNTBLANK(C190)=0,VLOOKUP(C190,Locks!A:E,5,FALSE),\"\")","v":""}]
[null,{"$f":"IF(COUNTBLANK(A191)=0,VLOOKUP(A191,Users!A:E,5,FALSE),\"\")","v":""},null,{"$f":"IF(COUNTBLANK(C191)=0,VLOOKUP(C191,Locks!A:D,4,FALSE),\"\")","v":""},{"$f":"IF(COUNTBLANK(C191)=0,VLOOKUP(C191,Locks!A:E,5,FALSE),\"\")","v":""}]
[null,{"$f":"IF(COUNTBLANK(A192)=0,VLOOKUP(A192,Users!A:E,5,FALSE),\"\")","v":""},null,{"$f":"IF(COUNTBLANK(C192)=0,VLOOKUP(C192,Locks!A:D,4,FALSE),\"\")","v":""},{"$f":"IF(COUNTBLANK(C192)=0,VLOOKUP(C192,Locks!A:E,5,FALSE),\"\")","v":""}]
[null,{"$f":"IF(COUNTBLANK(A193)=0,VLOOKUP(A193,Users!A:E,5,FALSE),\"\")","v":""},null,{"$f":"IF(COUNTBLANK(C193)=0,VLOOKUP(C193,Locks!A:D,4,FALSE),\"\")","v":""},{"$f":"IF(COUNTBLANK(C193)=0,VLOOKUP(C193,Locks!A:E,5,FALSE),\"\")","v":""}]
[null,{"$f":"IF(COUNTBLANK(A194)=0,VLOOKUP(A194,Users!A:E,5,FALSE),\"\")","v":""},null,{"$f":"IF(COUNTBLANK(C194)=0,VLOOKUP(C194,Locks!A:D,4,FALSE),\"\")","v":""},{"$f":"IF(COUNTBLANK(C194)=0,VLOOKUP(C194,Locks!A:E,5,FALSE),\"\")","v":""}]
[null,{"$f":"IF(COUNTBLANK(A195)=0,VLOOKUP(A195,Users!A:E,5,FALSE),\"\")","v":""},null,{"$f":"IF(COUNTBLANK(C195)=0,VLOOKUP(C195,Locks!A:D,4,FALSE),\"\")","v":""},{"$f":"IF(COUNTBLANK(C195)=0,VLOOKUP(C195,Locks!A:E,5,FALSE),\"\")","v":""}]
[null,{"$f":"IF(COUNTBLANK(A196)=0,VLOOKUP(A196,Users!A:E,5,FALSE),\"\")","v":""},null,{"$f":"IF(COUNTBLANK(C196)=0,VLOOKUP(C196,Locks!A:D,4,FALSE),\"\")","v":""},{"$f":"IF(COUNTBLANK(C196)=0,VLOOKUP(C196,Locks!A:E,5,FALSE),\"\")","v":""}]
[null,{"$f":"IF(COUNTBLANK(A197)=0,VLOOKUP(A197,Users!A:E,5,FALSE),\"\")","v":""},null,{"$f":"IF(COUNTBLANK(C197)=0,VLOOKUP(C197,Locks!A:D,4,FALSE),\"\")","v":""},{"$f":"IF(COUNTBLANK(C197)=0,VLOOKUP(C197,Locks!A:E,5,FALSE),\"\")","v":""}]
[null,{"$f":"IF(COUNTBLANK(A198)=0,VLOOKUP(A198,Users!A:E,5,FALSE),\"\")","v":""},null,{"$f":"IF(COUNTBLANK(C198)=0,VLOOKUP(C198,Locks!A:D,4,FALSE),\"\")","v":""},{"$f":"IF(COUNTBLANK(C198)=0,VLOOKUP(C198,Locks!A:E,5,FALSE),\"\")","v":""}]
[null,{"$f":"IF(COUNTBLANK(A199)=0,VLOOKUP(A199,Users!A:E,5,FALSE),\"\")","v":""},null,{"$f":"IF(COUNTBLANK(C199)=0,VLOOKUP(C199,Locks!A:D,4,FALSE),\"\")","v":""},{"$f":"IF(COUNTBLANK(C199)=0,VLOOKUP(C199,Locks!A:E,5,FALSE),\"\")","v":""}]
[null,{"$f":"IF(COUNTBLANK(A200)=0,VLOOKUP(A200,Users!A:E,5,FALSE),\"\")","v":""},null,{"$f":"IF(COUNTBLANK(C200)=0,VLOOKUP(C200,Locks!A:D,4,FALSE),\"\")","v":""},{"$f":"IF(COUNTBLANK(C200)=0,VLOOKUP(C200,Locks!A:E,5,FALSE),\"\")","v":""}]
[null,{"$f":"IF(COUNTBLANK(A201)=0,VLOOKUP(A201,Users!A:E,5,FALSE),\"\")","v":""},null,{"$f":"IF(COUNTBLANK(C201)=0,VLOOKUP(C201,Locks!A:D,4,FALSE),\"\")","v":""},{"$f":"IF(COUNTBLANK(C201)=0,VLOOKUP(C201,Locks!A:E,5,FALSE),\"\")","v":""}]
[null,{"$f":"IF(COUNTBLANK(A202)=0,VLOOKUP(A202,Users!A:E,5,FALSE),\"\")","v":""},null,{"$f":"IF(COUNTBLANK(C202)=0,VLOOKUP(C202,Locks!A:D,4,FALSE),\"\")","v":""},{"$f":"IF(COUNTBLANK(C202)=0,VLOOKUP(C202,Locks!A:E,5,FALSE),\"\")","v":""}]
[null,{"$f":"IF(COUNTBLANK(A203)=0,VLOOKUP(A203,Users!A:E,5,FALSE),\"\")","v":""},null,{"$f":"IF(COUNTBLANK(C203)=0,VLOOKUP(C203,Locks!A:D,4,FALSE),\"\")","v":""},{"$f":"IF(COUNTBLANK(C203)=0,VLOOKUP(C203,Locks!A:E,5,FALSE),\"\")","v":""}]
[null,{"$f":"IF(COUNTBLANK(A204)=0,VLOOKUP(A204,Users!A:E,5,FALSE),\"\")","v":""},null,{"$f":"IF(COUNTBLANK(C204)=0,VLOOKUP(C204,Locks!A:D,4,FALSE),\"\")","v":""},{"$f":"IF(COUNTBLANK(C204)=0,VLOOKUP(C204,Locks!A:E,5,FALSE),\"\")","v":""}]
[null,{"$f":"IF(COUNTBLANK(A205)=0,VLOOKUP(A205,Users!A:E,5,FALSE),\"\")","v":""},null,{"$f":"IF(COUNTBLANK(C205)=0,VLOOKUP(C205,Locks!A:D,4,FALSE),\"\")","v":""},{"$f":"IF(COUNTBLANK(C205)=0,VLOOKUP(C205,Locks!A:E,5,FALSE),\"\")","v":""}]
[null,{"$f":"IF(COUNTBLANK(A206)=0,VLOOKUP(A206,Users!A:E,5,FALSE),\"\")","v":""},null,{"$f":"IF(COUNTBLANK(C206)=0,VLOOKUP(C206,Locks!A:D,4,FALSE),\"\")","v":""},{"$f":"IF(COUNTBLANK(C206)=0,VLOOKUP(C206,Locks!A:E,5,FALSE),\"\")","v":""}]
[null,{"$f":"IF(COUNTBLANK(A207)=0,VLOOKUP(A207,Users!A:E,5,FALSE),\"\")","v":""},null,{"$f":"IF(COUNTBLANK(C207)=0,VLOOKUP(C207,Locks!A:D,4,FALSE),\"\")","v":""},{"$f":"IF(COUNTBLANK(C207)=0,VLOOKUP(C207,Locks!A:E,5,FALSE),\"\")","v":""}]
[null,{"$f":"IF(COUNTBLANK(A208)=0,VLOOKUP(A208,Users!A:E,5,FALSE),\"\")","v":""},null,{"$f":"IF(COUNTBLANK(C208)=0,VLOOKUP(C208,Locks!A:D,4,FALSE),\"\")","v":""},{"$f":"IF(COUNTBLANK(C208)=0,VLOOKUP(C208,Locks!A:E,5,FALSE),\"\")","v":""}]
[null,{"$f":"IF(COUNTBLANK(A209)=0,VLOOKUP(A209,Users!A:E,5,FALSE),\"\")","v":""},null,{"$f":"IF(COUNTBLANK(C209)=0,VLOOKUP(C209,Locks!A:D,4,FALSE),\"\")","v":""},{"$f":"IF(COUNTBLANK(C209)=0,VLOOKUP(C209,Locks!A:E,5,FALSE),\"\")","v":""}]
[null,{"$f":"IF(COUNTBLANK(A210)=0,VLOOKUP(A210,Users!A:E,5,FALSE),\"\")","v":""},null,{"$f":"IF(COUNTBLANK(C210)=0,VLOOKUP(C210,Locks!A:D,4,FALSE),\"\")","v":""},{"$f":"IF(COUNTBLANK(C210)=0,VLOOKUP(C210,Locks!A:E,5,FALSE),\"\")","v":""}]
[null,{"$f":"IF(COUNTBLANK(A211)=0,VLOOKUP(A211,Users!A:E,5,FALSE),\"\")","v":""},null,{"$f":"IF(COUNTBLANK(C211)=0,VLOOKUP(C211,Locks!A:D,4,FALSE),\"\")","v":""},{"$f":"IF(COUNTBLANK(C211)=0,VLOOKUP(C211,Locks!A:E,5,FALSE),\"\")","v":""}]
[null,{"$f":"IF(COUNTBLANK(A212)=0,VLOOKUP(A212,Users!A:E,5,FALSE),\"\")","v":""},null,{"$f":"IF(COUNTBLANK(C212)=0,VLOOKUP(C212,Locks!A:D,4,FALSE),\"\")","v":""},{"$f":"IF(COUNTBLANK(C212)=0,VLOOKUP(C212,Locks!A:E,5,FALSE),\"\")","v":""}]
[null,{"$f":"IF(COUNTBLANK(A213)=0,VLOOKUP(A213,Users!A:E,5,FALSE),\"\")","v":""},null,{"$f":"IF(COUNTBLANK(C213)=0,VLOOKUP(C213,Locks!A:D,4,FALSE),\"\")","v":""},{"$f":"IF(COUNTBLANK(C213)=0,VLOOKUP(C213,Locks!A:E,5,FALSE),\"\")","v":""}]
[null,{"$f":"IF(COUNTBLANK(A214)=0,VLOOKUP(A214,Users!A:E,5,FALSE),\"\")","v":""},null,{"$f":"IF(COUNTBLANK(C214)=0,VLOOKUP(C214,Locks!A:D,4,FALSE),\"\")","v":""},{"$f":"IF(COUNTBLANK(C214)=0,VLOOKUP(C214,Locks!A:E,5,FALSE),\"\")","v":""}]
[null,{"$f":"IF(COUNTBLANK(A215)=0,VLOOKUP(A215,Users!A:E,5,FALSE),\"\")","v":""},null,{"$f":"IF(COUNTBLANK(C215)=0,VLOOKUP(C215,Locks!A:D,4,FALSE),\"\")","v":""},{"$f":"IF(COUNTBLANK(C215)=0,VLOOKUP(C215,Locks!A:E,5,FALSE),\"\")","v":""}]
[null,{"$f":"IF(COUNTBLANK(A216)=0,VLOOKUP(A216,Users!A:E,5,FALSE),\"\")","v":""},null,{"$f":"IF(COUNTBLANK(C216)=0,VLOOKUP(C216,Locks!A:D,4,FALSE),\"\")","v":""},{"$f":"IF(COUNTBLANK(C216)=0,VLOOKUP(C216,Locks!A:E,5,FALSE),\"\")","v":""}]
[null,{"$f":"IF(COUNTBLANK(A217)=0,VLOOKUP(A217,Users!A:E,5,FALSE),\"\")","v":""},null,{"$f":"IF(COUNTBLANK(C217)=0,VLOOKUP(C217,Locks!A:D,4,FALSE),\"\")","v":""},{"$f":"IF(COUNTBLANK(C217)=0,VLOOKUP(C217,Locks!A:E,5,FALSE),\"\")","v":""}]
[null,{"$f":"IF(COUNTBLANK(A218)=0,VLOOKUP(A218,Users!A:E,5,FALSE),\"\")","v":""},null,{"$f":"IF(COUNTBLANK(C218)=0,VLOOKUP(C218,Locks!A:D,4,FALSE),\"\")","v":""},{"$f":"IF(COUNTBLANK(C218)=0,VLOOKUP(C218,Locks!A:E,5,FALSE),\"\")","v":""}]
[null,{"$f":"IF(COUNTBLANK(A219)=0,VLOOKUP(A219,Users!A:E,5,FALSE),\"\")","v":""},null,{"$f":"IF(COUNTBLANK(C219)=0,VLOOKUP(C219,Locks!A:D,4,FALSE),\"\")","v":""},{"$f":"IF(COUNTBLANK(C219)=0,VLOOKUP(C219,Locks!A:E,5,FALSE),\"\")","v":""}]
[null,{"$f":"IF(COUNTBLANK(A220)=0,VLOOKUP(A220,Users!A:E,5,FALSE),\"\")","v":""},null,{"$f":"IF(COUNTBLANK(C220)=0,VLOOKUP(C220,Locks!A:D,4,FALSE),\"\")","v":""},{"$f":"IF(COUNTBLANK(C220)=0,VLOOKUP(C220,Locks!A:E,5,FALSE),\"\")","v":""}]
[null,{"$f":"IF(COUNTBLANK(A221)=0,VLOOKUP(A221,Users!A:E,5,FALSE),\"\")","v":""},null,{"$f":"IF(COUNTBLANK(C221)=0,VLOOKUP(C221,Locks!A:D,4,FALSE),\"\")","v":""},{"$f":"IF(COUNTBLANK(C221)=0,VLOOKUP(C221,Locks!A:E,5,FALSE),\"\")","v":""}]
[null,{"$f":"IF(COUNTBLANK(A222)=0,VLOOKUP(A222,Users!A:E,5,FALSE),\"\")","v":""},null,{"$f":"IF(COUNTBLANK(C222)=0,VLOOKUP(C222,Locks!A:D,4,FALSE),\"\")","v":""},{"$f":"IF(COUNTBLANK(C222)=0,VLOOKUP(C222,Locks!A:E,5,FALSE),\"\")","v":""}]
[null,{"$f":"IF(COUNTBLANK(A223)=0,VLOOKUP(A223,Users!A:E,5,FALSE),\"\")","v":""},null,{"$f":"IF(COUNTBLANK(C223)=0,VLOOKUP(C223,Locks!A:D,4,FALSE),\"\")","v":""},{"$f":"IF(COUNTBLANK(C223)=0,VLOOKUP(C223,Locks!A:E,5,FALSE),\"\")","v":""}]
[null,{"$f":"IF(COUNTBLANK(A224)=0,VLOOKUP(A224,Users!A:E,5,FALSE),\"\")","v":""},null,{"$f":"IF(COUNTBLANK(C224)=0,VLOOKUP(C224,Locks!A:D,4,FALSE),\"\")","v":""},{"$f":"IF(COUNTBLANK(C224)=0,VLOOKUP(C224,Locks!A:E,5,FALSE),\"\")","v":""}]
[null,{"$f":"IF(COUNTBLANK(A225)=0,VLOOKUP(A225,Users!A:E,5,FALSE),\"\")","v":""},null,{"$f":"IF(COUNTBLANK(C225)=0,VLOOKUP(C225,Locks!A:D,4,FALSE),\"\")","v":""},{"$f":"IF(COUNTBLANK(C225)=0,VLOOKUP(C225,Locks!A:E,5,FALSE),\"\")","v":""}]
[null,{"$f":"IF(COUNTBLANK(A226)=0,VLOOKUP(A226,Users!A:E,5,FALSE),\"\")","v":""},null,{"$f":"IF(COUNTBLANK(C226)=0,VLOOKUP(C226,Locks!A:D,4,FALSE),\"\")","v":""},{"$f":"IF(COUNTBLANK(C226)=0,VLOOKUP(C226,Locks!A:E,5,FALSE),\"\")","v":""}]
[null,{"$f":"IF(COUNTBLANK(A227)=0,VLOOKUP(A227,Users!A:E,5,FALSE),\"\")","v":""},null,{"$f":"IF(COUNTBLANK(C227)=0,VLOOKUP(C227,Locks!A:D,4,FALSE),\"\")","v":""},{"$f":"IF(COUNTBLANK(C227)=0,VLOOKUP(C227,Locks!A:E,5,FALSE),\"\")","v":""}]
[null,{"$f":"IF(COUNTBLANK(A228)=0,VLOOKUP(A228,Users!A:E,5,FALSE),\"\")","v":""},null,{"$f":"IF(COUNTBLANK(C228)=0,VLOOKUP(C228,Locks!A:D,4,FALSE),\"\")","v":""},{"$f":"IF(COUNTBLANK(C228)=0,VLOOKUP(C228,Locks!A:E,5,FALSE),\"\")","v":""}]
[null,{"$f":"IF(COUNTBLANK(A229)=0,VLOOKUP(A229,Users!A:E,5,FALSE),\"\")","v":""},null,{"$f":"IF(COUNTBLANK(C229)=0,VLOOKUP(C229,Locks!A:D,4,FALSE),\"\")","v":""},{"$f":"IF(COUNTBLANK(C229)=0,VLOOKUP(C229,Locks!A:E,5,FALSE),\"\")","v":""}]
[null,{"$f":"IF(COUNTBLANK(A230)=0,VLOOKUP(A230,Users!A:E,5,FALSE),\"\")","v":""},null,{"$f":"IF(COUNTBLANK(C230)=0,VLOOKUP(C230,Locks!A:D,4,FALSE),\"\")","v":""},{"$f":"IF(COUNTBLANK(C230)=0,VLOOKUP(C230,Locks!A:E,5,FALSE),\"\")","v":""}]
[null,{"$f":"IF(COUNTBLANK(A231)=0,VLOOKUP(A231,Users!A:E,5,FALSE),\"\")","v":""},null,{"$f":"IF(COUNTBLANK(C231)=0,VLOOKUP(C231,Locks!A:D,4,FALSE),\"\")","v":""},{"$f":"IF(COUNTBLANK(C231)=0,VLOOKUP(C231,Locks!A:E,5,FALSE),\"\")","v":""}]
[null,{"$f":"IF(COUNTBLANK(A232)=0,VLOOKUP(A232,Users!A:E,5,FALSE),\"\")","v":""},null,{"$f":"IF(COUNTBLANK(C232)=0,VLOOKUP(C232,Locks!A:D,4,FALSE),\"\")","v":""},{"$f":"IF(COUNTBLANK(C232)=0,VLOOKUP(C232,Locks!A:E,5,FALSE),\"\")","v":""}]
[null,{"$f":"IF(COUNTBLANK(A233)=0,VLOOKUP(A233,Users!A:E,5,FALSE),\"\")","v":""},null,{"$f":"IF(COUNTBLANK(C233)=0,VLOOKUP(C233,Locks!A:D,4,FALSE),\"\")","v":""},{"$f":"IF(COUNTBLANK(C233)=0,VLOOKUP(C233,Locks!A:E,5,FALSE),\"\")","v":""}]
[null,{"$f":"IF(COUNTBLANK(A234)=0,VLOOKUP(A234,Users!A:E,5,FALSE),\"\")","v":""},null,{"$f":"IF(COUNTBLANK(C234)=0,VLOOKUP(C234,Locks!A:D,4,FALSE),\"\")","v":""},{"$f":"IF(COUNTBLANK(C234)=0,VLOOKUP(C234,Locks!A:E,5,FALSE),\"\")","v":""}]
[null,{"$f":"IF(COUNTBLANK(A235)=0,VLOOKUP(A235,Users!A:E,5,FALSE),\"\")","v":""},null,{"$f":"IF(COUNTBLANK(C235)=0,VLOOKUP(C235,Locks!A:D,4,FALSE),\"\")","v":""},{"$f":"IF(COUNTBLANK(C235)=0,VLOOKUP(C235,Locks!A:E,5,FALSE),\"\")","v":""}]
[null,{"$f":"IF(COUNTBLANK(A236)=0,VLOOKUP(A236,Users!A:E,5,FALSE),\"\")","v":""},null,{"$f":"IF(COUNTBLANK(C236)=0,VLOOKUP(C236,Locks!A:D,4,FALSE),\"\")","v":""},{"$f":"IF(COUNTBLANK(C236)=0,VLOOKUP(C236,Locks!A:E,5,FALSE),\"\")","v":""}]
[null,{"$f":"IF(COUNTBLANK(A237)=0,VLOOKUP(A237,Users!A:E,5,FALSE),\"\")","v":""},null,{"$f":"IF(COUNTBLANK(C237)=0,VLOOKUP(C237,Locks!A:D,4,FALSE),\"\")","v":""},{"$f":"IF(COUNTBLANK(C237)=0,VLOOKUP(C237,Locks!A:E,5,FALSE),\"\")","v":""}]
[null,{"$f":"IF(COUNTBLANK(A238)=0,VLOOKUP(A238,Users!A:E,5,FALSE),\"\")","v":""},null,{"$f":"IF(COUNTBLANK(C238)=0,VLOOKUP(C238,Locks!A:D,4,FALSE),\"\")","v":""},{"$f":"IF(COUNTBLANK(C238)=0,VLOOKUP(C238,Locks!A:E,5,FALSE),\"\")","v":""}]
[null,{"$f":"IF(COUNTBLANK(A239)=0,VLOOKUP(A239,Users!A:E,5,FALSE),\"\")","v":""},null,{"$f":"IF(COUNTBLANK(C239)=0,VLOOKUP(C239,Locks!A:D,4,FALSE),\"\")","v":""},{"$f":"IF(COUNTBLANK(C239)=0,VLOOKUP(C239,Locks!A:E,5,FALSE),\"\")","v":""}]
[null,{"$f":"IF(COUNTBLANK(A240)=0,VLOOKUP(A240,Users!A:E,5,FALSE),\"\")","v":""},null,{"$f":"IF(COUNTBLANK(C240)=0,VLOOKUP(C240,Locks!A:D,4,FALSE),\"\")","v":""},{"$f":"IF(COUNTBLANK(C240)=0,VLOOKUP(C240,Locks!A:E,5,FALSE),\"\")","v":""}]
[null,{"$f":"IF(COUNTBLANK(A241)=0,VLOOKUP(A241,Users!A:E,5,FALSE),\"\")","v":""},null,{"$f":"IF(COUNTBLANK(C241)=0,VLOOKUP(C241,Locks!A:D,4,FALSE),\"\")","v":""},{"$f":"IF(COUNTBLANK(C241)=0,VLOOKUP(C241,Locks!A:E,5,FALSE),\"\")","v":""}]
[null,{"$f":"IF(COUNTBLANK(A242)=0,VLOOKUP(A242,Users!A:E,5,FALSE),\"\")","v":""},null,{"$f":"IF(COUNTBLANK(C242)=0,VLOOKUP(C242,Locks!A:D,4,FALSE),\"\")","v":""},{"$f":"IF(COUNTBLANK(C242)=0,VLOOKUP(C242,Locks!A:E,5,FALSE),\"\")","v":""}]
[null,{"$f":"IF(COUNTBLANK(A243)=0,VLOOKUP(A243,Users!A:E,5,FALSE),\"\")","v":""},null,{"$f":"IF(COUNTBLANK(C243)=0,VLOOKUP(C243,Locks!A:D,4,FALSE),\"\")","v":""},{"$f":"IF(COUNTBLANK(C243)=0,VLOOKUP(C243,Locks!A:E,5,FALSE),\"\")","v":""}]
[null,{"$f":"IF(COUNTBLANK(A244)=0,VLOOKUP(A244,Users!A:E,5,FALSE),\"\")","v":""},null,{"$f":"IF(COUNTBLANK(C244)=0,VLOOKUP(C244,Locks!A:D,4,FALSE),\"\")","v":""},{"$f":"IF(COUNTBLANK(C244)=0,VLOOKUP(C244,Locks!A:E,5,FALSE),\"\")","v":""}]
[null,{"$f":"IF(COUNTBLANK(A245)=0,VLOOKUP(A245,Users!A:E,5,FALSE),\"\")","v":""},null,{"$f":"IF(COUNTBLANK(C245)=0,VLOOKUP(C245,Locks!A:D,4,FALSE),\"\")","v":""},{"$f":"IF(COUNTBLANK(C245)=0,VLOOKUP(C245,Locks!A:E,5,FALSE),\"\")","v":""}]
[null,{"$f":"IF(COUNTBLANK(A246)=0,VLOOKUP(A246,Users!A:E,5,FALSE),\"\")","v":""},null,{"$f":"IF(COUNTBLANK(C246)=0,VLOOKUP(C246,Locks!A:D,4,FALSE),\"\")","v":""},{"$f":"IF(COUNTBLANK(C246)=0,VLOOKUP(C246,Locks!A:E,5,FALSE),\"\")","v":""}]
[null,{"$f":"IF(COUNTBLANK(A247)=0,VLOOKUP(A247,Users!A:E,5,FALSE),\"\")","v":""},null,{"$f":"IF(COUNTBLANK(C247)=0,VLOOKUP(C247,Locks!A:D,4,FALSE),\"\")","v":""},{"$f":"IF(COUNTBLANK(C247)=0,VLOOKUP(C247,Locks!A:E,5,FALSE),\"\")","v":""}]
[null,{"$f":"IF(COUNTBLANK(A248)=0,VLOOKUP(A248,Users!A:E,5,FALSE),\"\")","v":""},null,{"$f":"IF(COUNTBLANK(C248)=0,VLOOKUP(C248,Locks!A:D,4,FALSE),\"\")","v":""},{"$f":"IF(COUNTBLANK(C248)=0,VLOOKUP(C248,Locks!A:E,5,FALSE),\"\")","v":""}]
[null,{"$f":"IF(COUNTBLANK(A249)=0,VLOOKUP(A249,Users!A:E,5,FALSE),\"\")","v":""},null,{"$f":"IF(COUNTBLANK(C249)=0,VLOOKUP(C249,Locks!A:D,4,FALSE),\"\")","v":""},{"$f":"IF(COUNTBLANK(C249)=0,VLOOKUP(C249,Locks!A:E,5,FALSE),\"\")","v":""}]
[null,{"$f":"IF(COUNTBLANK(A250)=0,VLOOKUP(A250,Users!A:E,5,FALSE),\"\")","v":""},null,{"$f":"IF(COUNTBLANK(C250)=0,VLOOKUP(C250,Locks!A:D,4,FALSE),\"\")","v":""},{"$f":"IF(COUNTBLANK(C250)=0,VLOOKUP(C250,Locks!A:E,5,FALSE),\"\")","v":""}]
[null,{"$f":"IF(COUNTBLANK(A251)=0,VLOOKUP(A251,Users!A:E,5,FALSE),\"\")","v":""},null,{"$f":"IF(COUNTBLANK(C251)=0,VLOOKUP(C251,Locks!A:D,4,FALSE),\"\")","v":""},{"$f":"IF(COUNTBLANK(C251)=0,VLOOKUP(C251,Locks!A:E,5,FALSE),\"\")","v":""}]
[null,{"$f":"IF(COUNTBLANK(A252)=0,VLOOKUP(A252,Users!A:E,5,FALSE),\"\")","v":""},null,{"$f":"IF(COUNTBLANK(C252)=0,VLOOKUP(C252,Locks!A:D,4,FALSE),\"\")","v":""},{"$f":"IF(COUNTBLANK(C252)=0,VLOOKUP(C252,Locks!A:E,5,FALSE),\"\")","v":""}]
[null,{"$f":"IF(COUNTBLANK(A253)=0,VLOOKUP(A253,Users!A:E,5,FALSE),\"\")","v":""},null,{"$f":"IF(COUNTBLANK(C253)=0,VLOOKUP(C253,Locks!A:D,4,FALSE),\"\")","v":""},{"$f":"IF(COUNTBLANK(C253)=0,VLOOKUP(C253,Locks!A:E,5,FALSE),\"\")","v":""}]
[null,{"$f":"IF(COUNTBLANK(A254)=0,VLOOKUP(A254,Users!A:E,5,FALSE),\"\")","v":""},null,{"$f":"IF(COUNTBLANK(C254)=0,VLOOKUP(C254,Locks!A:D,4,FALSE),\"\")","v":""},{"$f":"IF(COUNTBLANK(C254)=0,VLOOKUP(C254,Locks!A:E,5,FALSE),\"\")","v":""}]
[null,{"$f":"IF(COUNTBLANK(A255)=0,VLOOKUP(A255,Users!A:E,5,FALSE),\"\")","v":""},null,{"$f":"IF(COUNTBLANK(C255)=0,VLOOKUP(C255,Locks!A:D,4,FALSE),\"\")","v":""},{"$f":"IF(COUNTBLANK(C255)=0,VLOOKUP(C255,Locks!A:E,5,FALSE),\"\")","v":""}]
[null,{"$f":"IF(COUNTBLANK(A256)=0,VLOOKUP(A256,Users!A:E,5,FALSE),\"\")","v":""},null,{"$f":"IF(COUNTBLANK(C256)=0,VLOOKUP(C256,Locks!A:D,4,FALSE),\"\")","v":""},{"$f":"IF(COUNTBLANK(C256)=0,VLOOKUP(C256,Locks!A:E,5,FALSE),\"\")","v":""}]
[null,{"$f":"IF(COUNTBLANK(A257)=0,VLOOKUP(A257,Users!A:E,5,FALSE),\"\")","v":""},null,{"$f":"IF(COUNTBLANK(C257)=0,VLOOKUP(C257,Locks!A:D,4,FALSE),\"\")","v":""},{"$f":"IF(COUNTBLANK(C257)=0,VLOOKUP(C257,Locks!A:E,5,FALSE),\"\")","v":""}]
[null,{"$f":"IF(COUNTBLANK(A258)=0,VLOOKUP(A258,Users!A:E,5,FALSE),\"\")","v":""},null,{"$f":"IF(COUNTBLANK(C258)=0,VLOOKUP(C258,Locks!A:D,4,FALSE),\"\")","v":""},{"$f":"IF(COUNTBLANK(C258)=0,VLOOKUP(C258,Locks!A:E,5,FALSE),\"\")","v":""}]
[null,{"$f":"IF(COUNTBLANK(A259)=0,VLOOKUP(A259,Users!A:E,5,FALSE),\"\")","v":""},null,{"$f":"IF(COUNTBLANK(C259)=0,VLOOKUP(C259,Locks!A:D,4,FALSE),\"\")","v":""},{"$f":"IF(COUNTBLANK(C259)=0,VLOOKUP(C259,Locks!A:E,5,FALSE),\"\")","v":""}]
[null,{"$f":"IF(COUNTBLANK(A260)=0,VLOOKUP(A260,Users!A:E,5,FALSE),\"\")","v":""},null,{"$f":"IF(COUNTBLANK(C260)=0,VLOOKUP(C260,Locks!A:D,4,FALSE),\"\")","v":""},{"$f":"IF(COUNTBLANK(C260)=0,VLOOKUP(C260,Locks!A:E,5,FALSE),\"\")","v":""}]
[null,{"$f":"IF(COUNTBLANK(A261)=0,VLOOKUP(A261,Users!A:E,5,FALSE),\"\")","v":""},null,{"$f":"IF(COUNTBLANK(C261)=0,VLOOKUP(C261,Locks!A:D,4,FALSE),\"\")","v":""},{"$f":"IF(COUNTBLANK(C261)=0,VLOOKUP(C261,Locks!A:E,5,FALSE),\"\")","v":""}]
[null,{"$f":"IF(COUNTBLANK(A262)=0,VLOOKUP(A262,Users!A:E,5,FALSE),\"\")","v":""},null,{"$f":"IF(COUNTBLANK(C262)=0,VLOOKUP(C262,Locks!A:D,4,FALSE),\"\")","v":""},{"$f":"IF(COUNTBLANK(C262)=0,VLOOKUP(C262,Locks!A:E,5,FALSE),\"\")","v":""}]
[null,{"$f":"IF(COUNTBLANK(A263)=0,VLOOKUP(A263,Users!A:E,5,FALSE),\"\")","v":""},null,{"$f":"IF(COUNTBLANK(C263)=0,VLOOKUP(C263,Locks!A:D,4,FALSE),\"\")","v":""},{"$f":"IF(COUNTBLANK(C263)=0,VLOOKUP(C263,Locks!A:E,5,FALSE),\"\")","v":""}]
[null,{"$f":"IF(COUNTBLANK(A264)=0,VLOOKUP(A264,Users!A:E,5,FALSE),\"\")","v":""},null,{"$f":"IF(COUNTBLANK(C264)=0,VLOOKUP(C264,Locks!A:D,4,FALSE),\"\")","v":""},{"$f":"IF(COUNTBLANK(C264)=0,VLOOKUP(C264,Locks!A:E,5,FALSE),\"\")","v":""}]
[null,{"$f":"IF(COUNTBLANK(A265)=0,VLOOKUP(A265,Users!A:E,5,FALSE),\"\")","v":""},null,{"$f":"IF(COUNTBLANK(C265)=0,VLOOKUP(C265,Locks!A:D,4,FALSE),\"\")","v":""},{"$f":"IF(COUNTBLANK(C265)=0,VLOOKUP(C265,Locks!A:E,5,FALSE),\"\")","v":""}]
[null,{"$f":"IF(COUNTBLANK(A266)=0,VLOOKUP(A266,Users!A:E,5,FALSE),\"\")","v":""},null,{"$f":"IF(COUNTBLANK(C266)=0,VLOOKUP(C266,Locks!A:D,4,FALSE),\"\")","v":""},{"$f":"IF(COUNTBLANK(C266)=0,VLOOKUP(C266,Locks!A:E,5,FALSE),\"\")","v":""}]
[null,{"$f":"IF(COUNTBLANK(A267)=0,VLOOKUP(A267,Users!A:E,5,FALSE),\"\")","v":""},null,{"$f":"IF(COUNTBLANK(C267)=0,VLOOKUP(C267,Locks!A:D,4,FALSE),\"\")","v":""},{"$f":"IF(COUNTBLANK(C267)=0,VLOOKUP(C267,Locks!A:E,5,FALSE),\"\")","v":""}]
[null,{"$f":"IF(COUNTBLANK(A268)=0,VLOOKUP(A268,Users!A:E,5,FALSE),\"\")","v":""},null,{"$f":"IF(COUNTBLANK(C268)=0,VLOOKUP(C268,Locks!A:D,4,FALSE),\"\")","v":""},{"$f":"IF(COUNTBLANK(C268)=0,VLOOKUP(C268,Locks!A:E,5,FALSE),\"\")","v":""}]
[null,{"$f":"IF(COUNTBLANK(A269)=0,VLOOKUP(A269,Users!A:E,5,FALSE),\"\")","v":""},null,{"$f":"IF(COUNTBLANK(C269)=0,VLOOKUP(C269,Locks!A:D,4,FALSE),\"\")","v":""},{"$f":"IF(COUNTBLANK(C269)=0,VLOOKUP(C269,Locks!A:E,5,FALSE),\"\")","v":""}]
[null,{"$f":"IF(COUNTBLANK(A270)=0,VLOOKUP(A270,Users!A:E,5,FALSE),\"\")","v":""},null,{"$f":"IF(COUNTBLANK(C270)=0,VLOOKUP(C270,Locks!A:D,4,FALSE),\"\")","v":""},{"$f":"IF(COUNTBLANK(C270)=0,VLOOKUP(C270,Locks!A:E,5,FALSE),\"\")","v":""}]
[null,{"$f":"IF(COUNTBLANK(A271)=0,VLOOKUP(A271,Users!A:E,5,FALSE),\"\")","v":""},null,{"$f":"IF(COUNTBLANK(C271)=0,VLOOKUP(C271,Locks!A:D,4,FALSE),\"\")","v":""},{"$f":"IF(COUNTBLANK(C271)=0,VLOOKUP(C271,Locks!A:E,5,FALSE),\"\")","v":""}]
[null,{"$f":"IF(COUNTBLANK(A272)=0,VLOOKUP(A272,Users!A:E,5,FALSE),\"\")","v":""},null,{"$f":"IF(COUNTBLANK(C272)=0,VLOOKUP(C272,Locks!A:D,4,FALSE),\"\")","v":""},{"$f":"IF(COUNTBLANK(C272)=0,VLOOKUP(C272,Locks!A:E,5,FALSE),\"\")","v":""}]
[null,{"$f":"IF(COUNTBLANK(A273)=0,VLOOKUP(A273,Users!A:E,5,FALSE),\"\")","v":""},null,{"$f":"IF(COUNTBLANK(C273)=0,VLOOKUP(C273,Locks!A:D,4,FALSE),\"\")","v":""},{"$f":"IF(COUNTBLANK(C273)=0,VLOOKUP(C273,Locks!A:E,5,FALSE),\"\")","v":""}]
[null,{"$f":"IF(COUNTBLANK(A274)=0,VLOOKUP(A274,Users!A:E,5,FALSE),\"\")","v":""},null,{"$f":"IF(COUNTBLANK(C274)=0,VLOOKUP(C274,Locks!A:D,4,FALSE),\"\")","v":""},{"$f":"IF(COUNTBLANK(C274)=0,VLOOKUP(C274,Locks!A:E,5,FALSE),\"\")","v":""}]
[null,{"$f":"IF(COUNTBLANK(A275)=0,VLOOKUP(A275,Users!A:E,5,FALSE),\"\")","v":""},null,{"$f":"IF(COUNTBLANK(C275)=0,VLOOKUP(C275,Locks!A:D,4,FALSE),\"\")","v":""},{"$f":"IF(COUNTBLANK(C275)=0,VLOOKUP(C275,Locks!A:E,5,FALSE),\"\")","v":""}]
[null,{"$f":"IF(COUNTBLANK(A276)=0,VLOOKUP(A276,Users!A:E,5,FALSE),\"\")","v":""},null,{"$f":"IF(COUNTBLANK(C276)=0,VLOOKUP(C276,Locks!A:D,4,FALSE),\"\")","v":""},{"$f":"IF(COUNTBLANK(C276)=0,VLOOKUP(C276,Locks!A:E,5,FALSE),\"\")","v":""}]
[null,{"$f":"IF(COUNTBLANK(A277)=0,VLOOKUP(A277,Users!A:E,5,FALSE),\"\")","v":""},null,{"$f":"IF(COUNTBLANK(C277)=0,VLOOKUP(C277,Locks!A:D,4,FALSE),\"\")","v":""},{"$f":"IF(COUNTBLANK(C277)=0,VLOOKUP(C277,Locks!A:E,5,FALSE),\"\")","v":""}]
[null,{"$f":"IF(COUNTBLANK(A278)=0,VLOOKUP(A278,Users!A:E,5,FALSE),\"\")","v":""},null,{"$f":"IF(COUNTBLANK(C278)=0,VLOOKUP(C278,Locks!A:D,4,FALSE),\"\")","v":""},{"$f":"IF(COUNTBLANK(C278)=0,VLOOKUP(C278,Locks!A:E,5,FALSE),\"\")","v":""}]
[null,{"$f":"IF(COUNTBLANK(A279)=0,VLOOKUP(A279,Users!A:E,5,FALSE),\"\")","v":""},null,{"$f":"IF(COUNTBLANK(C279)=0,VLOOKUP(C279,Locks!A:D,4,FALSE),\"\")","v":""},{"$f":"IF(COUNTBLANK(C279)=0,VLOOKUP(C279,Locks!A:E,5,FALSE),\"\")","v":""}]
[null,{"$f":"IF(COUNTBLANK(A280)=0,VLOOKUP(A280,Users!A:E,5,FALSE),\"\")","v":""},null,{"$f":"IF(COUNTBLANK(C280)=0,VLOOKUP(C280,Locks!A:D,4,FALSE),\"\")","v":""},{"$f":"IF(COUNTBLANK(C280)=0,VLOOKUP(C280,Locks!A:E,5,FALSE),\"\")","v":""}]
[null,{"$f":"IF(COUNTBLANK(A281)=0,VLOOKUP(A281,Users!A:E,5,FALSE),\"\")","v":""},null,{"$f":"IF(COUNTBLANK(C281)=0,VLOOKUP(C281,Locks!A:D,4,FALSE),\"\")","v":""},{"$f":"IF(COUNTBLANK(C281)=0,VLOOKUP(C281,Locks!A:E,5,FALSE),\"\")","v":""}]
[null,{"$f":"IF(COUNTBLANK(A282)=0,VLOOKUP(A282,Users!A:E,5,FALSE),\"\")","v":""},null,{"$f":"IF(COUNTBLANK(C282)=0,VLOOKUP(C282,Locks!A:D,4,FALSE),\"\")","v":""},{"$f":"IF(COUNTBLANK(C282)=0,VLOOKUP(C282,Locks!A:E,5,FALSE),\"\")","v":""}]
[null,{"$f":"IF(COUNTBLANK(A283)=0,VLOOKUP(A283,Users!A:E,5,FALSE),\"\")","v":""},null,{"$f":"IF(COUNTBLANK(C283)=0,VLOOKUP(C283,Locks!A:D,4,FALSE),\"\")","v":""},{"$f":"IF(COUNTBLANK(C283)=0,VLOOKUP(C283,Locks!A:E,5,FALSE),\"\")","v":""}]
[null,{"$f":"IF(COUNTBLANK(A284)=0,VLOOKUP(A284,Users!A:E,5,FALSE),\"\")","v":""},null,{"$f":"IF(COUNTBLANK(C284)=0,VLOOKUP(C284,Locks!A:D,4,FALSE),\"\")","v":""},{"$f":"IF(COUNTBLANK(C284)=0,VLOOKUP(C284,Locks!A:E,5,FALSE),\"\")","v":""}]
[null,{"$f":"IF(COUNTBLANK(A285)=0,VLOOKUP(A285,Users!A:E,5,FALSE),\"\")","v":""},null,{"$f":"IF(COUNTBLANK(C285)=0,VLOOKUP(C285,Locks!A:D,4,FALSE),\"\")","v":""},{"$f":"IF(COUNTBLANK(C285)=0,VLOOKUP(C285,Locks!A:E,5,FALSE),\"\")","v":""}]
[null,{"$f":"IF(COUNTBLANK(A286)=0,VLOOKUP(A286,Users!A:E,5,FALSE),\"\")","v":""},null,{"$f":"IF(COUNTBLANK(C286)=0,VLOOKUP(C286,Locks!A:D,4,FALSE),\"\")","v":""},{"$f":"IF(COUNTBLANK(C286)=0,VLOOKUP(C286,Locks!A:E,5,FALSE),\"\")","v":""}]
[null,{"$f":"IF(COUNTBLANK(A287)=0,VLOOKUP(A287,Users!A:E,5,FALSE),\"\")","v":""},null,{"$f":"IF(COUNTBLANK(C287)=0,VLOOKUP(C287,Locks!A:D,4,FALSE),\"\")","v":""},{"$f":"IF(COUNTBLANK(C287)=0,VLOOKUP(C287,Locks!A:E,5,FALSE),\"\")","v":""}]
[null,{"$f":"IF(COUNTBLANK(A288)=0,VLOOKUP(A288,Users!A:E,5,FALSE),\"\")","v":""},null,{"$f":"IF(COUNTBLANK(C288)=0,VLOOKUP(C288,Locks!A:D,4,FALSE),\"\")","v":""},{"$f":"IF(COUNTBLANK(C288)=0,VLOOKUP(C288,Locks!A:E,5,FALSE),\"\")","v":""}]
[null,{"$f":"IF(COUNTBLANK(A289)=0,VLOOKUP(A289,Users!A:E,5,FALSE),\"\")","v":""},null,{"$f":"IF(COUNTBLANK(C289)=0,VLOOKUP(C289,Locks!A:D,4,FALSE),\"\")","v":""},{"$f":"IF(COUNTBLANK(C289)=0,VLOOKUP(C289,Locks!A:E,5,FALSE),\"\")","v":""}]
[null,{"$f":"IF(COUNTBLANK(A290)=0,VLOOKUP(A290,Users!A:E,5,FALSE),\"\")","v":""},null,{"$f":"IF(COUNTBLANK(C290)=0,VLOOKUP(C290,Locks!A:D,4,FALSE),\"\")","v":""},{"$f":"IF(COUNTBLANK(C290)=0,VLOOKUP(C290,Locks!A:E,5,FALSE),\"\")","v":""}]
[null,{"$f":"IF(COUNTBLANK(A291)=0,VLOOKUP(A291,Users!A:E,5,FALSE),\"\")","v":""},null,{"$f":"IF(COUNTBLANK(C291)=0,VLOOKUP(C291,Locks!A:D,4,FALSE),\"\")","v":""},{"$f":"IF(COUNTBLANK(C291)=0,VLOOKUP(C291,Locks!A:E,5,FALSE),\"\")","v":""}]
[null,{"$f":"IF(COUNTBLANK(A292)=0,VLOOKUP(A292,Users!A:E,5,FALSE),\"\")","v":""},null,{"$f":"IF(COUNTBLANK(C292)=0,VLOOKUP(C292,Locks!A:D,4,FALSE),\"\")","v":""},{"$f":"IF(COUNTBLANK(C292)=0,VLOOKUP(C292,Locks!A:E,5,FALSE),\"\")","v":""}]
[null,{"$f":"IF(COUNTBLANK(A293)=0,VLOOKUP(A293,Users!A:E,5,FALSE),\"\")","v":""},null,{"$f":"IF(COUNTBLANK(C293)=0,VLOOKUP(C293,Locks!A:D,4,FALSE),\"\")","v":""},{"$f":"IF(COUNTBLANK(C293)=0,VLOOKUP(C293,Locks!A:E,5,FALSE),\"\")","v":""}]
[null,{"$f":"IF(COUNTBLANK(A294)=0,VLOOKUP(A294,Users!A:E,5,FALSE),\"\")","v":""},null,{"$f":"IF(COUNTBLANK(C294)=0,VLOOKUP(C294,Locks!A:D,4,FALSE),\"\")","v":""},{"$f":"IF(COUNTBLANK(C294)=0,VLOOKUP(C294,Locks!A:E,5,FALSE),\"\")","v":""}]
[null,{"$f":"IF(COUNTBLANK(A295)=0,VLOOKUP(A295,Users!A:E,5,FALSE),\"\")","v":""},null,{"$f":"IF(COUNTBLANK(C295)=0,VLOOKUP(C295,Locks!A:D,4,FALSE),\"\")","v":""},{"$f":"IF(COUNTBLANK(C295)=0,VLOOKUP(C295,Locks!A:E,5,FALSE),\"\")","v":""}]
[null,{"$f":"IF(COUNTBLANK(A296)=0,VLOOKUP(A296,Users!A:E,5,FALSE),\"\")","v":""},null,{"$f":"IF(COUNTBLANK(C296)=0,VLOOKUP(C296,Locks!A:D,4,FALSE),\"\")","v":""},{"$f":"IF(COUNTBLANK(C296)=0,VLOOKUP(C296,Locks!A:E,5,FALSE),\"\")","v":""}]
[null,{"$f":"IF(COUNTBLANK(A297)=0,VLOOKUP(A297,Users!A:E,5,FALSE),\"\")","v":""},null,{"$f":"IF(COUNTBLANK(C297)=0,VLOOKUP(C297,Locks!A:D,4,FALSE),\"\")","v":""},{"$f":"IF(COUNTBLANK(C297)=0,VLOOKUP(C297,Locks!A:E,5,FALSE),\"\")","v":""}]
[null,{"$f":"IF(COUNTBLANK(A298)=0,VLOOKUP(A298,Users!A:E,5,FALSE),\"\")","v":""},null,{"$f":"IF(COUNTBLANK(C298)=0,VLOOKUP(C298,Locks!A:D,4,FALSE),\"\")","v":""},{"$f":"IF(COUNTBLANK(C298)=0,VLOOKUP(C298,Locks!A:E,5,FALSE),\"\")","v":""}]
[null,{"$f":"IF(COUNTBLANK(A299)=0,VLOOKUP(A299,Users!A:E,5,FALSE),\"\")","v":""},null,{"$f":"IF(COUNTBLANK(C299)=0,VLOOKUP(C299,Locks!A:D,4,FALSE),\"\")","v":""},{"$f":"IF(COUNTBLANK(C299)=0,VLOOKUP(C299,Locks!A:E,5,FALSE),\"\")","v":""}]
[null,{"$f":"IF(COUNTBLANK(A300)=0,VLOOKUP(A300,Users!A:E,5,FALSE),\"\")","v":""},null,{"$f":"IF(COUNTBLANK(C300)=0,VLOOKUP(C300,Locks!A:D,4,FALSE),\"\")","v":""},{"$f":"IF(COUNTBLANK(C300)=0,VLOOKUP(C300,Locks!A:E,5,FALSE),\"\")","v":""}]
[null,{"$f":"IF(COUNTBLANK(A301)=0,VLOOKUP(A301,Users!A:E,5,FALSE),\"\")","v":""},null,{"$f":"IF(COUNTBLANK(C301)=0,VLOOKUP(C301,Locks!A:D,4,FALSE),\"\")","v":""},{"$f":"IF(COUNTBLANK(C301)=0,VLOOKUP(C301,Locks!A:E,5,FALSE),\"\")","v":""}]
[null,{"$f":"IF(COUNTBLANK(A302)=0,VLOOKUP(A302,Users!A:E,5,FALSE),\"\")","v":""},null,{"$f":"IF(COUNTBLANK(C302)=0,VLOOKUP(C302,Locks!A:D,4,FALSE),\"\")","v":""},{"$f":"IF(COUNTBLANK(C302)=0,VLOOKUP(C302,Locks!A:E,5,FALSE),\"\")","v":""}]
[null,{"$f":"IF(COUNTBLANK(A303)=0,VLOOKUP(A303,Users!A:E,5,FALSE),\"\")","v":""},null,{"$f":"IF(COUNTBLANK(C303)=0,VLOOKUP(C303,Locks!A:D,4,FALSE),\"\")","v":""},{"$f":"IF(COUNTBLANK(C303)=0,VLOOKUP(C303,Locks!A:E,5,FALSE),\"\")","v":""}]
[null,{"$f":"IF(COUNTBLANK(A304)=0,VLOOKUP(A304,Users!A:E,5,FALSE),\"\")","v":""},null,{"$f":"IF(COUNTBLANK(C304)=0,VLOOKUP(C304,Locks!A:D,4,FALSE),\"\")","v":""},{"$f":"IF(COUNTBLANK(C304)=0,VLOOKUP(C304,Locks!A:E,5,FALSE),\"\")","v":""}]
[null,{"$f":"IF(COUNTBLANK(A305)=0,VLOOKUP(A305,Users!A:E,5,FALSE),\"\")","v":""},null,{"$f":"IF(COUNTBLANK(C305)=0,VLOOKUP(C305,Locks!A:D,4,FALSE),\"\")","v":""},{"$f":"IF(COUNTBLANK(C305)=0,VLOOKUP(C305,Locks!A:E,5,FALSE),\"\")","v":""}]
[null,{"$f":"IF(COUNTBLANK(A306)=0,VLOOKUP(A306,Users!A:E,5,FALSE),\"\")","v":""},null,{"$f":"IF(COUNTBLANK(C306)=0,VLOOKUP(C306,Locks!A:D,4,FALSE),\"\")","v":""},{"$f":"IF(COUNTBLANK(C306)=0,VLOOKUP(C306,Locks!A:E,5,FALSE),\"\")","v":""}]
[null,{"$f":"IF(COUNTBLANK(A307)=0,VLOOKUP(A307,Users!A:E,5,FALSE),\"\")","v":""},null,{"$f":"IF(COUNTBLANK(C307)=0,VLOOKUP(C307,Locks!A:D,4,FALSE),\"\")","v":""},{"$f":"IF(COUNTBLANK(C307)=0,VLOOKUP(C307,Locks!A:E,5,FALSE),\"\")","v":""}]
[null,{"$f":"IF(COUNTBLANK(A308)=0,VLOOKUP(A308,Users!A:E,5,FALSE),\"\")","v":""},null,{"$f":"IF(COUNTBLANK(C308)=0,VLOOKUP(C308,Locks!A:D,4,FALSE),\"\")","v":""},{"$f":"IF(COUNTBLANK(C308)=0,VLOOKUP(C308,Locks!A:E,5,FALSE),\"\")","v":""}]
[null,{"$f":"IF(COUNTBLANK(A309)=0,VLOOKUP(A309,Users!A:E,5,FALSE),\"\")","v":""},null,{"$f":"IF(COUNTBLANK(C309)=0,VLOOKUP(C309,Locks!A:D,4,FALSE),\"\")","v":""},{"$f":"IF(COUNTBLANK(C309)=0,VLOOKUP(C309,Locks!A:E,5,FALSE),\"\")","v":""}]
[null,{"$f":"IF(COUNTBLANK(A310)=0,VLOOKUP(A310,Users!A:E,5,FALSE),\"\")","v":""},null,{"$f":"IF(COUNTBLANK(C310)=0,VLOOKUP(C310,Locks!A:D,4,FALSE),\"\")","v":""},{"$f":"IF(COUNTBLANK(C310)=0,VLOOKUP(C310,Locks!A:E,5,FALSE),\"\")","v":""}]
[null,{"$f":"IF(COUNTBLANK(A311)=0,VLOOKUP(A311,Users!A:E,5,FALSE),\"\")","v":""},null,{"$f":"IF(COUNTBLANK(C311)=0,VLOOKUP(C311,Locks!A:D,4,FALSE),\"\")","v":""},{"$f":"IF(COUNTBLANK(C311)=0,VLOOKUP(C311,Locks!A:E,5,FALSE),\"\")","v":""}]
[null,{"$f":"IF(COUNTBLANK(A312)=0,VLOOKUP(A312,Users!A:E,5,FALSE),\"\")","v":""},null,{"$f":"IF(COUNTBLANK(C312)=0,VLOOKUP(C312,Locks!A:D,4,FALSE),\"\")","v":""},{"$f":"IF(COUNTBLANK(C312)=0,VLOOKUP(C312,Locks!A:E,5,FALSE),\"\")","v":""}]
[null,{"$f":"IF(COUNTBLANK(A313)=0,VLOOKUP(A313,Users!A:E,5,FALSE),\"\")","v":""},null,{"$f":"IF(COUNTBLANK(C313)=0,VLOOKUP(C313,Locks!A:D,4,FALSE),\"\")","v":""},{"$f":"IF(COUNTBLANK(C313)=0,VLOOKUP(C313,Locks!A:E,5,FALSE),\"\")","v":""}]
[null,{"$f":"IF(COUNTBLANK(A314)=0,VLOOKUP(A314,Users!A:E,5,FALSE),\"\")","v":""},null,{"$f":"IF(COUNTBLANK(C314)=0,VLOOKUP(C314,Locks!A:D,4,FALSE),\"\")","v":""},{"$f":"IF(COUNTBLANK(C314)=0,VLOOKUP(C314,Locks!A:E,5,FALSE),\"\")","v":""}]
[null,{"$f":"IF(COUNTBLANK(A315)=0,VLOOKUP(A315,Users!A:E,5,FALSE),\"\")","v":""},null,{"$f":"IF(COUNTBLANK(C315)=0,VLOOKUP(C315,Locks!A:D,4,FALSE),\"\")","v":""},{"$f":"IF(COUNTBLANK(C315)=0,VLOOKUP(C315,Locks!A:E,5,FALSE),\"\")","v":""}]
[null,{"$f":"IF(COUNTBLANK(A316)=0,VLOOKUP(A316,Users!A:E,5,FALSE),\"\")","v":""},null,{"$f":"IF(COUNTBLANK(C316)=0,VLOOKUP(C316,Locks!A:D,4,FALSE),\"\")","v":""},{"$f":"IF(COUNTBLANK(C316)=0,VLOOKUP(C316,Locks!A:E,5,FALSE),\"\")","v":""}]
[null,{"$f":"IF(COUNTBLANK(A317)=0,VLOOKUP(A317,Users!A:E,5,FALSE),\"\")","v":""},null,{"$f":"IF(COUNTBLANK(C317)=0,VLOOKUP(C317,Locks!A:D,4,FALSE),\"\")","v":""},{"$f":"IF(COUNTBLANK(C317)=0,VLOOKUP(C317,Locks!A:E,5,FALSE),\"\")","v":""}]
[null,{"$f":"IF(COUNTBLANK(A318)=0,VLOOKUP(A318,Users!A:E,5,FALSE),\"\")","v":""},null,{"$f":"IF(COUNTBLANK(C318)=0,VLOOKUP(C318,Locks!A:D,4,FALSE),\"\")","v":""},{"$f":"IF(COUNTBLANK(C318)=0,VLOOKUP(C318,Locks!A:E,5,FALSE),\"\")","v":""}]
[null,{"$f":"IF(COUNTBLANK(A319)=0,VLOOKUP(A319,Users!A:E,5,FALSE),\"\")","v":""},null,{"$f":"IF(COUNTBLANK(C319)=0,VLOOKUP(C319,Locks!A:D,4,FALSE),\"\")","v":""},{"$f":"IF(COUNTBLANK(C319)=0,VLOOKUP(C319,Locks!A:E,5,FALSE),\"\")","v":""}]
[null,{"$f":"IF(COUNTBLANK(A320)=0,VLOOKUP(A320,Users!A:E,5,FALSE),\"\")","v":""},null,{"$f":"IF(COUNTBLANK(C320)=0,VLOOKUP(C320,Locks!A:D,4,FALSE),\"\")","v":""},{"$f":"IF(COUNTBLANK(C320)=0,VLOOKUP(C320,Locks!A:E,5,FALSE),\"\")","v":""}]
[null,{"$f":"IF(COUNTBLANK(A321)=0,VLOOKUP(A321,Users!A:E,5,FALSE),\"\")","v":""},null,{"$f":"IF(COUNTBLANK(C321)=0,VLOOKUP(C321,Locks!A:D,4,FALSE),\"\")","v":""},{"$f":"IF(COUNTBLANK(C321)=0,VLOOKUP(C321,Locks!A:E,5,FALSE),\"\")","v":""}]
[null,{"$f":"IF(COUNTBLANK(A322)=0,VLOOKUP(A322,Users!A:E,5,FALSE),\"\")","v":""},null,{"$f":"IF(COUNTBLANK(C322)=0,VLOOKUP(C322,Locks!A:D,4,FALSE),\"\")","v":""},{"$f":"IF(COUNTBLANK(C322)=0,VLOOKUP(C322,Locks!A:E,5,FALSE),\"\")","v":""}]
[null,{"$f":"IF(COUNTBLANK(A323)=0,VLOOKUP(A323,Users!A:E,5,FALSE),\"\")","v":""},null,{"$f":"IF(COUNTBLANK(C323)=0,VLOOKUP(C323,Locks!A:D,4,FALSE),\"\")","v":""},{"$f":"IF(COUNTBLANK(C323)=0,VLOOKUP(C323,Locks!A:E,5,FALSE),\"\")","v":""}]
[null,{"$f":"IF(COUNTBLANK(A324)=0,VLOOKUP(A324,Users!A:E,5,FALSE),\"\")","v":""},null,{"$f":"IF(COUNTBLANK(C324)=0,VLOOKUP(C324,Locks!A:D,4,FALSE),\"\")","v":""},{"$f":"IF(COUNTBLANK(C324)=0,VLOOKUP(C324,Locks!A:E,5,FALSE),\"\")","v":""}]
[null,{"$f":"IF(COUNTBLANK(A325)=0,VLOOKUP(A325,Users!A:E,5,FALSE),\"\")","v":""},null,{"$f":"IF(COUNTBLANK(C325)=0,VLOOKUP(C325,Locks!A:D,4,FALSE),\"\")","v":""},{"$f":"IF(COUNTBLANK(C325)=0,VLOOKUP(C325,Locks!A:E,5,FALSE),\"\")","v":""}]
[null,{"$f":"IF(COUNTBLANK(A326)=0,VLOOKUP(A326,Users!A:E,5,FALSE),\"\")","v":""},null,{"$f":"IF(COUNTBLANK(C326)=0,VLOOKUP(C326,Locks!A:D,4,FALSE),\"\")","v":""},{"$f":"IF(COUNTBLANK(C326)=0,VLOOKUP(C326,Locks!A:E,5,FALSE),\"\")","v":""}]
[null,{"$f":"IF(COUNTBLANK(A327)=0,VLOOKUP(A327,Users!A:E,5,FALSE),\"\")","v":""},null,{"$f":"IF(COUNTBLANK(C327)=0,VLOOKUP(C327,Locks!A:D,4,FALSE),\"\")","v":""},{"$f":"IF(COUNTBLANK(C327)=0,VLOOKUP(C327,Locks!A:E,5,FALSE),\"\")","v":""}]
[null,{"$f":"IF(COUNTBLANK(A328)=0,VLOOKUP(A328,Users!A:E,5,FALSE),\"\")","v":""},null,{"$f":"IF(COUNTBLANK(C328)=0,VLOOKUP(C328,Locks!A:D,4,FALSE),\"\")","v":""},{"$f":"IF(COUNTBLANK(C328)=0,VLOOKUP(C328,Locks!A:E,5,FALSE),\"\")","v":""}]
[null,{"$f":"IF(COUNTBLANK(A329)=0,VLOOKUP(A329,Users!A:E,5,FALSE),\"\")","v":""},null,{"$f":"IF(COUNTBLANK(C329)=0,VLOOKUP(C329,Locks!A:D,4,FALSE),\"\")","v":""},{"$f":"IF(COUNTBLANK(C329)=0,VLOOKUP(C329,Locks!A:E,5,FALSE),\"\")","v":""}]
[null,{"$f":"IF(COUNTBLANK(A330)=0,VLOOKUP(A330,Users!A:E,5,FALSE),\"\")","v":""},null,{"$f":"IF(COUNTBLANK(C330)=0,VLOOKUP(C330,Locks!A:D,4,FALSE),\"\")","v":""},{"$f":"IF(COUNTBLANK(C330)=0,VLOOKUP(C330,Locks!A:E,5,FALSE),\"\")","v":""}]
[null,{"$f":"IF(COUNTBLANK(A331)=0,VLOOKUP(A331,Users!A:E,5,FALSE),\"\")","v":""},null,{"$f":"IF(COUNTBLANK(C331)=0,VLOOKUP(C331,Locks!A:D,4,FALSE),\"\")","v":""},{"$f":"IF(COUNTBLANK(C331)=0,VLOOKUP(C331,Locks!A:E,5,FALSE),\"\")","v":""}]
[null,{"$f":"IF(COUNTBLANK(A332)=0,VLOOKUP(A332,Users!A:E,5,FALSE),\"\")","v":""},null,{"$f":"IF(COUNTBLANK(C332)=0,VLOOKUP(C332,Locks!A:D,4,FALSE),\"\")","v":""},{"$f":"IF(COUNTBLANK(C332)=0,VLOOKUP(C332,Locks!A:E,5,FALSE),\"\")","v":""}]
[null,{"$f":"IF(COUNTBLANK(A333)=0,VLOOKUP(A333,Users!A:E,5,FALSE),\"\")","v":""},null,{"$f":"IF(COUNTBLANK(C333)=0,VLOOKUP(C333,Locks!A:D,4,FALSE),\"\")","v":""},{"$f":"IF(COUNTBLANK(C333)=0,VLOOKUP(C333,Locks!A:E,5,FALSE),\"\")","v":""}]
[null,{"$f":"IF(COUNTBLANK(A334)=0,VLOOKUP(A334,Users!A:E,5,FALSE),\"\")","v":""},null,{"$f":"IF(COUNTBLANK(C334)=0,VLOOKUP(C334,Locks!A:D,4,FALSE),\"\")","v":""},{"$f":"IF(COUNTBLANK(C334)=0,VLOOKUP(C334,Locks!A:E,5,FALSE),\"\")","v":""}]
[null,{"$f":"IF(COUNTBLANK(A335)=0,VLOOKUP(A335,Users!A:E,5,FALSE),\"\")","v":""},null,{"$f":"IF(COUNTBLANK(C335)=0,VLOOKUP(C335,Locks!A:D,4,FALSE),\"\")","v":""},{"$f":"IF(COUNTBLANK(C335)=0,VLOOKUP(C335,Locks!A:E,5,FALSE),\"\")","v":""}]
[null,{"$f":"IF(COUNTBLANK(A336)=0,VLOOKUP(A336,Users!A:E,5,FALSE),\"\")","v":""},null,{"$f":"IF(COUNTBLANK(C336)=0,VLOOKUP(C336,Locks!A:D,4,FALSE),\"\")","v":""},{"$f":"IF(COUNTBLANK(C336)=0,VLOOKUP(C336,Locks!A:E,5,FALSE),\"\")","v":""}]
[null,{"$f":"IF(COUNTBLANK(A337)=0,VLOOKUP(A337,Users!A:E,5,FALSE),\"\")","v":""},null,{"$f":"IF(COUNTBLANK(C337)=0,VLOOKUP(C337,Locks!A:D,4,FALSE),\"\")","v":""},{"$f":"IF(COUNTBLANK(C337)=0,VLOOKUP(C337,Locks!A:E,5,FALSE),\"\")","v":""}]
[null,{"$f":"IF(COUNTBLANK(A338)=0,VLOOKUP(A338,Users!A:E,5,FALSE),\"\")","v":""},null,{"$f":"IF(COUNTBLANK(C338)=0,VLOOKUP(C338,Locks!A:D,4,FALSE),\"\")","v":""},{"$f":"IF(COUNTBLANK(C338)=0,VLOOKUP(C338,Locks!A:E,5,FALSE),\"\")","v":""}]
[null,{"$f":"IF(COUNTBLANK(A339)=0,VLOOKUP(A339,Users!A:E,5,FALSE),\"\")","v":""},null,{"$f":"IF(COUNTBLANK(C339)=0,VLOOKUP(C339,Locks!A:D,4,FALSE),\"\")","v":""},{"$f":"IF(COUNTBLANK(C339)=0,VLOOKUP(C339,Locks!A:E,5,FALSE),\"\")","v":""}]
[null,{"$f":"IF(COUNTBLANK(A340)=0,VLOOKUP(A340,Users!A:E,5,FALSE),\"\")","v":""},null,{"$f":"IF(COUNTBLANK(C340)=0,VLOOKUP(C340,Locks!A:D,4,FALSE),\"\")","v":""},{"$f":"IF(COUNTBLANK(C340)=0,VLOOKUP(C340,Locks!A:E,5,FALSE),\"\")","v":""}]
[null,{"$f":"IF(COUNTBLANK(A341)=0,VLOOKUP(A341,Users!A:E,5,FALSE),\"\")","v":""},null,{"$f":"IF(COUNTBLANK(C341)=0,VLOOKUP(C341,Locks!A:D,4,FALSE),\"\")","v":""},{"$f":"IF(COUNTBLANK(C341)=0,VLOOKUP(C341,Locks!A:E,5,FALSE),\"\")","v":""}]
[null,{"$f":"IF(COUNTBLANK(A342)=0,VLOOKUP(A342,Users!A:E,5,FALSE),\"\")","v":""},null,{"$f":"IF(COUNTBLANK(C342)=0,VLOOKUP(C342,Locks!A:D,4,FALSE),\"\")","v":""},{"$f":"IF(COUNTBLANK(C342)=0,VLOOKUP(C342,Locks!A:E,5,FALSE),\"\")","v":""}]
[null,{"$f":"IF(COUNTBLANK(A343)=0,VLOOKUP(A343,Users!A:E,5,FALSE),\"\")","v":""},null,{"$f":"IF(COUNTBLANK(C343)=0,VLOOKUP(C343,Locks!A:D,4,FALSE),\"\")","v":""},{"$f":"IF(COUNTBLANK(C343)=0,VLOOKUP(C343,Locks!A:E,5,FALSE),\"\")","v":""}]
[null,{"$f":"IF(COUNTBLANK(A344)=0,VLOOKUP(A344,Users!A:E,5,FALSE),\"\")","v":""},null,{"$f":"IF(COUNTBLANK(C344)=0,VLOOKUP(C344,Locks!A:D,4,FALSE),\"\")","v":""},{"$f":"IF(COUNTBLANK(C344)=0,VLOOKUP(C344,Locks!A:E,5,FALSE),\"\")","v":""}]
[null,{"$f":"IF(COUNTBLANK(A345)=0,VLOOKUP(A345,Users!A:E,5,FALSE),\"\")","v":""},null,{"$f":"IF(COUNTBLANK(C345)=0,VLOOKUP(C345,Locks!A:D,4,FALSE),\"\")","v":""},{"$f":"IF(COUNTBLANK(C345)=0,VLOOKUP(C345,Locks!A:E,5,FALSE),\"\")","v":""}]
[null,{"$f":"IF(COUNTBLANK(A346)=0,VLOOKUP(A346,Users!A:E,5,FALSE),\"\")","v":""},null,{"$f":"IF(COUNTBLANK(C346)=0,VLOOKUP(C346,Locks!A:D,4,FALSE),\"\")","v":""},{"$f":"IF(COUNTBLANK(C346)=0,VLOOKUP(C346,Locks!A:E,5,FALSE),\"\")","v":""}]
[null,{"$f":"IF(COUNTBLANK(A347)=0,VLOOKUP(A347,Users!A:E,5,FALSE),\"\")","v":""},null,{"$f":"IF(COUNTBLANK(C347)=0,VLOOKUP(C347,Locks!A:D,4,FALSE),\"\")","v":""},{"$f":"IF(COUNTBLANK(C347)=0,VLOOKUP(C347,Locks!A:E,5,FALSE),\"\")","v":""}]
[null,{"$f":"IF(COUNTBLANK(A348)=0,VLOOKUP(A348,Users!A:E,5,FALSE),\"\")","v":""},null,{"$f":"IF(COUNTBLANK(C348)=0,VLOOKUP(C348,Locks!A:D,4,FALSE),\"\")","v":""},{"$f":"IF(COUNTBLANK(C348)=0,VLOOKUP(C348,Locks!A:E,5,FALSE),\"\")","v":""}]
[null,{"$f":"IF(COUNTBLANK(A349)=0,VLOOKUP(A349,Users!A:E,5,FALSE),\"\")","v":""},null,{"$f":"IF(COUNTBLANK(C349)=0,VLOOKUP(C349,Locks!A:D,4,FALSE),\"\")","v":""},{"$f":"IF(COUNTBLANK(C349)=0,VLOOKUP(C349,Locks!A:E,5,FALSE),\"\")","v":""}]
[null,{"$f":"IF(COUNTBLANK(A350)=0,VLOOKUP(A350,Users!A:E,5,FALSE),\"\")","v":""},null,{"$f":"IF(COUNTBLANK(C350)=0,VLOOKUP(C350,Locks!A:D,4,FALSE),\"\")","v":""},{"$f":"IF(COUNTBLANK(C350)=0,VLOOKUP(C350,Locks!A:E,5,FALSE),\"\")","v":""}]
[null,{"$f":"IF(COUNTBLANK(A351)=0,VLOOKUP(A351,Users!A:E,5,FALSE),\"\")","v":""},null,{"$f":"IF(COUNTBLANK(C351)=0,VLOOKUP(C351,Locks!A:D,4,FALSE),\"\")","v":""},{"$f":"IF(COUNTBLANK(C351)=0,VLOOKUP(C351,Locks!A:E,5,FALSE),\"\")","v":""}]
[null,{"$f":"IF(COUNTBLANK(A352)=0,VLOOKUP(A352,Users!A:E,5,FALSE),\"\")","v":""},null,{"$f":"IF(COUNTBLANK(C352)=0,VLOOKUP(C352,Locks!A:D,4,FALSE),\"\")","v":""},{"$f":"IF(COUNTBLANK(C352)=0,VLOOKUP(C352,Locks!A:E,5,FALSE),\"\")","v":""}]
[null,{"$f":"IF(COUNTBLANK(A353)=0,VLOOKUP(A353,Users!A:E,5,FALSE),\"\")","v":""},null,{"$f":"IF(COUNTBLANK(C353)=0,VLOOKUP(C353,Locks!A:D,4,FALSE),\"\")","v":""},{"$f":"IF(COUNTBLANK(C353)=0,VLOOKUP(C353,Locks!A:E,5,FALSE),\"\")","v":""}]
[null,{"$f":"IF(COUNTBLANK(A354)=0,VLOOKUP(A354,Users!A:E,5,FALSE),\"\")","v":""},null,{"$f":"IF(COUNTBLANK(C354)=0,VLOOKUP(C354,Locks!A:D,4,FALSE),\"\")","v":""},{"$f":"IF(COUNTBLANK(C354)=0,VLOOKUP(C354,Locks!A:E,5,FALSE),\"\")","v":""}]
[null,{"$f":"IF(COUNTBLANK(A355)=0,VLOOKUP(A355,Users!A:E,5,FALSE),\"\")","v":""},null,{"$f":"IF(COUNTBLANK(C355)=0,VLOOKUP(C355,Locks!A:D,4,FALSE),\"\")","v":""},{"$f":"IF(COUNTBLANK(C355)=0,VLOOKUP(C355,Locks!A:E,5,FALSE),\"\")","v":""}]
[null,{"$f":"IF(COUNTBLANK(A356)=0,VLOOKUP(A356,Users!A:E,5,FALSE),\"\")","v":""},null,{"$f":"IF(COUNTBLANK(C356)=0,VLOOKUP(C356,Locks!A:D,4,FALSE),\"\")","v":""},{"$f":"IF(COUNTBLANK(C356)=0,VLOOKUP(C356,Locks!A:E,5,FALSE),\"\")","v":""}]
[null,{"$f":"IF(COUNTBLANK(A357)=0,VLOOKUP(A357,Users!A:E,5,FALSE),\"\")","v":""},null,{"$f":"IF(COUNTBLANK(C357)=0,VLOOKUP(C357,Locks!A:D,4,FALSE),\"\")","v":""},{"$f":"IF(COUNTBLANK(C357)=0,VLOOKUP(C357,Locks!A:E,5,FALSE),\"\")","v":""}]
[null,{"$f":"IF(COUNTBLANK(A358)=0,VLOOKUP(A358,Users!A:E,5,FALSE),\"\")","v":""},null,{"$f":"IF(COUNTBLANK(C358)=0,VLOOKUP(C358,Locks!A:D,4,FALSE),\"\")","v":""},{"$f":"IF(COUNTBLANK(C358)=0,VLOOKUP(C358,Locks!A:E,5,FALSE),\"\")","v":""}]
[null,{"$f":"IF(COUNTBLANK(A359)=0,VLOOKUP(A359,Users!A:E,5,FALSE),\"\")","v":""},null,{"$f":"IF(COUNTBLANK(C359)=0,VLOOKUP(C359,Locks!A:D,4,FALSE),\"\")","v":""},{"$f":"IF(COUNTBLANK(C359)=0,VLOOKUP(C359,Locks!A:E,5,FALSE),\"\")","v":""}]
[null,{"$f":"IF(COUNTBLANK(A360)=0,VLOOKUP(A360,Users!A:E,5,FALSE),\"\")","v":""},null,{"$f":"IF(COUNTBLANK(C360)=0,VLOOKUP(C360,Locks!A:D,4,FALSE),\"\")","v":""},{"$f":"IF(COUNTBLANK(C360)=0,VLOOKUP(C360,Locks!A:E,5,FALSE),\"\")","v":""}]
[null,{"$f":"IF(COUNTBLANK(A361)=0,VLOOKUP(A361,Users!A:E,5,FALSE),\"\")","v":""},null,{"$f":"IF(COUNTBLANK(C361)=0,VLOOKUP(C361,Locks!A:D,4,FALSE),\"\")","v":""},{"$f":"IF(COUNTBLANK(C361)=0,VLOOKUP(C361,Locks!A:E,5,FALSE),\"\")","v":""}]
[null,{"$f":"IF(COUNTBLANK(A362)=0,VLOOKUP(A362,Users!A:E,5,FALSE),\"\")","v":""},null,{"$f":"IF(COUNTBLANK(C362)=0,VLOOKUP(C362,Locks!A:D,4,FALSE),\"\")","v":""},{"$f":"IF(COUNTBLANK(C362)=0,VLOOKUP(C362,Locks!A:E,5,FALSE),\"\")","v":""}]
[null,{"$f":"IF(COUNTBLANK(A363)=0,VLOOKUP(A363,Users!A:E,5,FALSE),\"\")","v":""},null,{"$f":"IF(COUNTBLANK(C363)=0,VLOOKUP(C363,Locks!A:D,4,FALSE),\"\")","v":""},{"$f":"IF(COUNTBLANK(C363)=0,VLOOKUP(C363,Locks!A:E,5,FALSE),\"\")","v":""}]
[null,{"$f":"IF(COUNTBLANK(A364)=0,VLOOKUP(A364,Users!A:E,5,FALSE),\"\")","v":""},null,{"$f":"IF(COUNTBLANK(C364)=0,VLOOKUP(C364,Locks!A:D,4,FALSE),\"\")","v":""},{"$f":"IF(COUNTBLANK(C364)=0,VLOOKUP(C364,Locks!A:E,5,FALSE),\"\")","v":""}]
[null,{"$f":"IF(COUNTBLANK(A365)=0,VLOOKUP(A365,Users!A:E,5,FALSE),\"\")","v":""},null,{"$f":"IF(COUNTBLANK(C365)=0,VLOOKUP(C365,Locks!A:D,4,FALSE),\"\")","v":""},{"$f":"IF(COUNTBLANK(C365)=0,VLOOKUP(C365,Locks!A:E,5,FALSE),\"\")","v":""}]
[null,{"$f":"IF(COUNTBLANK(A366)=0,VLOOKUP(A366,Users!A:E,5,FALSE),\"\")","v":""},null,{"$f":"IF(COUNTBLANK(C366)=0,VLOOKUP(C366,Locks!A:D,4,FALSE),\"\")","v":""},{"$f":"IF(COUNTBLANK(C366)=0,VLOOKUP(C366,Locks!A:E,5,FALSE),\"\")","v":""}]
[null,{"$f":"IF(COUNTBLANK(A367)=0,VLOOKUP(A367,Users!A:E,5,FALSE),\"\")","v":""},null,{"$f":"IF(COUNTBLANK(C367)=0,VLOOKUP(C367,Locks!A:D,4,FALSE),\"\")","v":""},{"$f":"IF(COUNTBLANK(C367)=0,VLOOKUP(C367,Locks!A:E,5,FALSE),\"\")","v":""}]
[null,{"$f":"IF(COUNTBLANK(A368)=0,VLOOKUP(A368,Users!A:E,5,FALSE),\"\")","v":""},null,{"$f":"IF(COUNTBLANK(C368)=0,VLOOKUP(C368,Locks!A:D,4,FALSE),\"\")","v":""},{"$f":"IF(COUNTBLANK(C368)=0,VLOOKUP(C368,Locks!A:E,5,FALSE),\"\")","v":""}]
[null,{"$f":"IF(COUNTBLANK(A369)=0,VLOOKUP(A369,Users!A:E,5,FALSE),\"\")","v":""},null,{"$f":"IF(COUNTBLANK(C369)=0,VLOOKUP(C369,Locks!A:D,4,FALSE),\"\")","v":""},{"$f":"IF(COUNTBLANK(C369)=0,VLOOKUP(C369,Locks!A:E,5,FALSE),\"\")","v":""}]
[null,{"$f":"IF(COUNTBLANK(A370)=0,VLOOKUP(A370,Users!A:E,5,FALSE),\"\")","v":""},null,{"$f":"IF(COUNTBLANK(C370)=0,VLOOKUP(C370,Locks!A:D,4,FALSE),\"\")","v":""},{"$f":"IF(COUNTBLANK(C370)=0,VLOOKUP(C370,Locks!A:E,5,FALSE),\"\")","v":""}]
[null,{"$f":"IF(COUNTBLANK(A371)=0,VLOOKUP(A371,Users!A:E,5,FALSE),\"\")","v":""},null,{"$f":"IF(COUNTBLANK(C371)=0,VLOOKUP(C371,Locks!A:D,4,FALSE),\"\")","v":""},{"$f":"IF(COUNTBLANK(C371)=0,VLOOKUP(C371,Locks!A:E,5,FALSE),\"\")","v":""}]
[null,{"$f":"IF(COUNTBLANK(A372)=0,VLOOKUP(A372,Users!A:E,5,FALSE),\"\")","v":""},null,{"$f":"IF(COUNTBLANK(C372)=0,VLOOKUP(C372,Locks!A:D,4,FALSE),\"\")","v":""},{"$f":"IF(COUNTBLANK(C372)=0,VLOOKUP(C372,Locks!A:E,5,FALSE),\"\")","v":""}]
[null,{"$f":"IF(COUNTBLANK(A373)=0,VLOOKUP(A373,Users!A:E,5,FALSE),\"\")","v":""},null,{"$f":"IF(COUNTBLANK(C373)=0,VLOOKUP(C373,Locks!A:D,4,FALSE),\"\")","v":""},{"$f":"IF(COUNTBLANK(C373)=0,VLOOKUP(C373,Locks!A:E,5,FALSE),\"\")","v":""}]
[null,{"$f":"IF(COUNTBLANK(A374)=0,VLOOKUP(A374,Users!A:E,5,FALSE),\"\")","v":""},null,{"$f":"IF(COUNTBLANK(C374)=0,VLOOKUP(C374,Locks!A:D,4,FALSE),\"\")","v":""},{"$f":"IF(COUNTBLANK(C374)=0,VLOOKUP(C374,Locks!A:E,5,FALSE),\"\")","v":""}]
[null,{"$f":"IF(COUNTBLANK(A375)=0,VLOOKUP(A375,Users!A:E,5,FALSE),\"\")","v":""},null,{"$f":"IF(COUNTBLANK(C375)=0,VLOOKUP(C375,Locks!A:D,4,FALSE),\"\")","v":""},{"$f":"IF(COUNTBLANK(C375)=0,VLOOKUP(C375,Locks!A:E,5,FALSE),\"\")","v":""}]
[null,{"$f":"IF(COUNTBLANK(A376)=0,VLOOKUP(A376,Users!A:E,5,FALSE),\"\")","v":""},null,{"$f":"IF(COUNTBLANK(C376)=0,VLOOKUP(C376,Locks!A:D,4,FALSE),\"\")","v":""},{"$f":"IF(COUNTBLANK(C376)=0,VLOOKUP(C376,Locks!A:E,5,FALSE),\"\")","v":""}]
[null,{"$f":"IF(COUNTBLANK(A377)=0,VLOOKUP(A377,Users!A:E,5,FALSE),\"\")","v":""},null,{"$f":"IF(COUNTBLANK(C377)=0,VLOOKUP(C377,Locks!A:D,4,FALSE),\"\")","v":""},{"$f":"IF(COUNTBLANK(C377)=0,VLOOKUP(C377,Locks!A:E,5,FALSE),\"\")","v":""}]
[null,{"$f":"IF(COUNTBLANK(A378)=0,VLOOKUP(A378,Users!A:E,5,FALSE),\"\")","v":""},null,{"$f":"IF(COUNTBLANK(C378)=0,VLOOKUP(C378,Locks!A:D,4,FALSE),\"\")","v":""},{"$f":"IF(COUNTBLANK(C378)=0,VLOOKUP(C378,Locks!A:E,5,FALSE),\"\")","v":""}]
[null,{"$f":"IF(COUNTBLANK(A379)=0,VLOOKUP(A379,Users!A:E,5,FALSE),\"\")","v":""},null,{"$f":"IF(COUNTBLANK(C379)=0,VLOOKUP(C379,Locks!A:D,4,FALSE),\"\")","v":""},{"$f":"IF(COUNTBLANK(C379)=0,VLOOKUP(C379,Locks!A:E,5,FALSE),\"\")","v":""}]
[null,{"$f":"IF(COUNTBLANK(A380)=0,VLOOKUP(A380,Users!A:E,5,FALSE),\"\")","v":""},null,{"$f":"IF(COUNTBLANK(C380)=0,VLOOKUP(C380,Locks!A:D,4,FALSE),\"\")","v":""},{"$f":"IF(COUNTBLANK(C380)=0,VLOOKUP(C380,Locks!A:E,5,FALSE),\"\")","v":""}]
[null,{"$f":"IF(COUNTBLANK(A381)=0,VLOOKUP(A381,Users!A:E,5,FALSE),\"\")","v":""},null,{"$f":"IF(COUNTBLANK(C381)=0,VLOOKUP(C381,Locks!A:D,4,FALSE),\"\")","v":""},{"$f":"IF(COUNTBLANK(C381)=0,VLOOKUP(C381,Locks!A:E,5,FALSE),\"\")","v":""}]
[null,{"$f":"IF(COUNTBLANK(A382)=0,VLOOKUP(A382,Users!A:E,5,FALSE),\"\")","v":""},null,{"$f":"IF(COUNTBLANK(C382)=0,VLOOKUP(C382,Locks!A:D,4,FALSE),\"\")","v":""},{"$f":"IF(COUNTBLANK(C382)=0,VLOOKUP(C382,Locks!A:E,5,FALSE),\"\")","v":""}]
[null,{"$f":"IF(COUNTBLANK(A383)=0,VLOOKUP(A383,Users!A:E,5,FALSE),\"\")","v":""},null,{"$f":"IF(COUNTBLANK(C383)=0,VLOOKUP(C383,Locks!A:D,4,FALSE),\"\")","v":""},{"$f":"IF(COUNTBLANK(C383)=0,VLOOKUP(C383,Locks!A:E,5,FALSE),\"\")","v":""}]
[null,{"$f":"IF(COUNTBLANK(A384)=0,VLOOKUP(A384,Users!A:E,5,FALSE),\"\")","v":""},null,{"$f":"IF(COUNTBLANK(C384)=0,VLOOKUP(C384,Locks!A:D,4,FALSE),\"\")","v":""},{"$f":"IF(COUNTBLANK(C384)=0,VLOOKUP(C384,Locks!A:E,5,FALSE),\"\")","v":""}]
[null,{"$f":"IF(COUNTBLANK(A385)=0,VLOOKUP(A385,Users!A:E,5,FALSE),\"\")","v":""},null,{"$f":"IF(COUNTBLANK(C385)=0,VLOOKUP(C385,Locks!A:D,4,FALSE),\"\")","v":""},{"$f":"IF(COUNTBLANK(C385)=0,VLOOKUP(C385,Locks!A:E,5,FALSE),\"\")","v":""}]
[null,{"$f":"IF(COUNTBLANK(A386)=0,VLOOKUP(A386,Users!A:E,5,FALSE),\"\")","v":""},null,{"$f":"IF(COUNTBLANK(C386)=0,VLOOKUP(C386,Locks!A:D,4,FALSE),\"\")","v":""},{"$f":"IF(COUNTBLANK(C386)=0,VLOOKUP(C386,Locks!A:E,5,FALSE),\"\")","v":""}]
[null,{"$f":"IF(COUNTBLANK(A387)=0,VLOOKUP(A387,Users!A:E,5,FALSE),\"\")","v":""},null,{"$f":"IF(COUNTBLANK(C387)=0,VLOOKUP(C387,Locks!A:D,4,FALSE),\"\")","v":""},{"$f":"IF(COUNTBLANK(C387)=0,VLOOKUP(C387,Locks!A:E,5,FALSE),\"\")","v":""}]
[null,{"$f":"IF(COUNTBLANK(A388)=0,VLOOKUP(A388,Users!A:E,5,FALSE),\"\")","v":""},null,{"$f":"IF(COUNTBLANK(C388)=0,VLOOKUP(C388,Locks!A:D,4,FALSE),\"\")","v":""},{"$f":"IF(COUNTBLANK(C388)=0,VLOOKUP(C388,Locks!A:E,5,FALSE),\"\")","v":""}]
[null,{"$f":"IF(COUNTBLANK(A389)=0,VLOOKUP(A389,Users!A:E,5,FALSE),\"\")","v":""},null,{"$f":"IF(COUNTBLANK(C389)=0,VLOOKUP(C389,Locks!A:D,4,FALSE),\"\")","v":""},{"$f":"IF(COUNTBLANK(C389)=0,VLOOKUP(C389,Locks!A:E,5,FALSE),\"\")","v":""}]
[null,{"$f":"IF(COUNTBLANK(A390)=0,VLOOKUP(A390,Users!A:E,5,FALSE),\"\")","v":""},null,{"$f":"IF(COUNTBLANK(C390)=0,VLOOKUP(C390,Locks!A:D,4,FALSE),\"\")","v":""},{"$f":"IF(COUNTBLANK(C390)=0,VLOOKUP(C390,Locks!A:E,5,FALSE),\"\")","v":""}]
[null,{"$f":"IF(COUNTBLANK(A391)=0,VLOOKUP(A391,Users!A:E,5,FALSE),\"\")","v":""},null,{"$f":"IF(COUNTBLANK(C391)=0,VLOOKUP(C391,Locks!A:D,4,FALSE),\"\")","v":""},{"$f":"IF(COUNTBLANK(C391)=0,VLOOKUP(C391,Locks!A:E,5,FALSE),\"\")","v":""}]
[null,{"$f":"IF(COUNTBLANK(A392)=0,VLOOKUP(A392,Users!A:E,5,FALSE),\"\")","v":""},null,{"$f":"IF(COUNTBLANK(C392)=0,VLOOKUP(C392,Locks!A:D,4,FALSE),\"\")","v":""},{"$f":"IF(COUNTBLANK(C392)=0,VLOOKUP(C392,Locks!A:E,5,FALSE),\"\")","v":""}]
[null,{"$f":"IF(COUNTBLANK(A393)=0,VLOOKUP(A393,Users!A:E,5,FALSE),\"\")","v":""},null,{"$f":"IF(COUNTBLANK(C393)=0,VLOOKUP(C393,Locks!A:D,4,FALSE),\"\")","v":""},{"$f":"IF(COUNTBLANK(C393)=0,VLOOKUP(C393,Locks!A:E,5,FALSE),\"\")","v":""}]
[null,{"$f":"IF(COUNTBLANK(A394)=0,VLOOKUP(A394,Users!A:E,5,FALSE),\"\")","v":""},null,{"$f":"IF(COUNTBLANK(C394)=0,VLOOKUP(C394,Locks!A:D,4,FALSE),\"\")","v":""},{"$f":"IF(COUNTBLANK(C394)=0,VLOOKUP(C394,Locks!A:E,5,FALSE),\"\")","v":""}]
[null,{"$f":"IF(COUNTBLANK(A395)=0,VLOOKUP(A395,Users!A:E,5,FALSE),\"\")","v":""},null,{"$f":"IF(COUNTBLANK(C395)=0,VLOOKUP(C395,Locks!A:D,4,FALSE),\"\")","v":""},{"$f":"IF(COUNTBLANK(C395)=0,VLOOKUP(C395,Locks!A:E,5,FALSE),\"\")","v":""}]
[null,{"$f":"IF(COUNTBLANK(A396)=0,VLOOKUP(A396,Users!A:E,5,FALSE),\"\")","v":""},null,{"$f":"IF(COUNTBLANK(C396)=0,VLOOKUP(C396,Locks!A:D,4,FALSE),\"\")","v":""},{"$f":"IF(COUNTBLANK(C396)=0,VLOOKUP(C396,Locks!A:E,5,FALSE),\"\")","v":""}]
[null,{"$f":"IF(COUNTBLANK(A397)=0,VLOOKUP(A397,Users!A:E,5,FALSE),\"\")","v":""},null,{"$f":"IF(COUNTBLANK(C397)=0,VLOOKUP(C397,Locks!A:D,4,FALSE),\"\")","v":""},{"$f":"IF(COUNTBLANK(C397)=0,VLOOKUP(C397,Locks!A:E,5,FALSE),\"\")","v":""}]
[null,{"$f":"IF(COUNTBLANK(A398)=0,VLOOKUP(A398,Users!A:E,5,FALSE),\"\")","v":""},null,{"$f":"IF(COUNTBLANK(C398)=0,VLOOKUP(C398,Locks!A:D,4,FALSE),\"\")","v":""},{"$f":"IF(COUNTBLANK(C398)=0,VLOOKUP(C398,Locks!A:E,5,FALSE),\"\")","v":""}]
[null,{"$f":"IF(COUNTBLANK(A399)=0,VLOOKUP(A399,Users!A:E,5,FALSE),\"\")","v":""},null,{"$f":"IF(COUNTBLANK(C399)=0,VLOOKUP(C399,Locks!A:D,4,FALSE),\"\")","v":""},{"$f":"IF(COUNTBLANK(C399)=0,VLOOKUP(C399,Locks!A:E,5,FALSE),\"\")","v":""}]
[null,{"$f":"IF(COUNTBLANK(A400)=0,VLOOKUP(A400,Users!A:E,5,FALSE),\"\")","v":""},null,{"$f":"IF(COUNTBLANK(C400)=0,VLOOKUP(C400,Locks!A:D,4,FALSE),\"\")","v":""},{"$f":"IF(COUNTBLANK(C400)=0,VLOOKUP(C400,Locks!A:E,5,FALSE),\"\")","v":""}]
[null,{"$f":"IF(COUNTBLANK(A401)=0,VLOOKUP(A401,Users!A:E,5,FALSE),\"\")","v":""},null,{"$f":"IF(COUNTBLANK(C401)=0,VLOOKUP(C401,Locks!A:D,4,FALSE),\"\")","v":""},{"$f":"IF(COUNTBLANK(C401)=0,VLOOKUP(C401,Locks!A:E,5,FALSE),\"\")","v":""}]
[null,{"$f":"IF(COUNTBLANK(A402)=0,VLOOKUP(A402,Users!A:E,5,FALSE),\"\")","v":""},null,{"$f":"IF(COUNTBLANK(C402)=0,VLOOKUP(C402,Locks!A:D,4,FALSE),\"\")","v":""},{"$f":"IF(COUNTBLANK(C402)=0,VLOOKUP(C402,Locks!A:E,5,FALSE),\"\")","v":""}]
[null,{"$f":"IF(COUNTBLANK(A403)=0,VLOOKUP(A403,Users!A:E,5,FALSE),\"\")","v":""},null,{"$f":"IF(COUNTBLANK(C403)=0,VLOOKUP(C403,Locks!A:D,4,FALSE),\"\")","v":""},{"$f":"IF(COUNTBLANK(C403)=0,VLOOKUP(C403,Locks!A:E,5,FALSE),\"\")","v":""}]
[null,{"$f":"IF(COUNTBLANK(A404)=0,VLOOKUP(A404,Users!A:E,5,FALSE),\"\")","v":""},null,{"$f":"IF(COUNTBLANK(C404)=0,VLOOKUP(C404,Locks!A:D,4,FALSE),\"\")","v":""},{"$f":"IF(COUNTBLANK(C404)=0,VLOOKUP(C404,Locks!A:E,5,FALSE),\"\")","v":""}]
[null,{"$f":"IF(COUNTBLANK(A405)=0,VLOOKUP(A405,Users!A:E,5,FALSE),\"\")","v":""},null,{"$f":"IF(COUNTBLANK(C405)=0,VLOOKUP(C405,Locks!A:D,4,FALSE),\"\")","v":""},{"$f":"IF(COUNTBLANK(C405)=0,VLOOKUP(C405,Locks!A:E,5,FALSE),\"\")","v":""}]
[null,{"$f":"IF(COUNTBLANK(A406)=0,VLOOKUP(A406,Users!A:E,5,FALSE),\"\")","v":""},null,{"$f":"IF(COUNTBLANK(C406)=0,VLOOKUP(C406,Locks!A:D,4,FALSE),\"\")","v":""},{"$f":"IF(COUNTBLANK(C406)=0,VLOOKUP(C406,Locks!A:E,5,FALSE),\"\")","v":""}]
[null,{"$f":"IF(COUNTBLANK(A407)=0,VLOOKUP(A407,Users!A:E,5,FALSE),\"\")","v":""},null,{"$f":"IF(COUNTBLANK(C407)=0,VLOOKUP(C407,Locks!A:D,4,FALSE),\"\")","v":""},{"$f":"IF(COUNTBLANK(C407)=0,VLOOKUP(C407,Locks!A:E,5,FALSE),\"\")","v":""}]
[null,{"$f":"IF(COUNTBLANK(A408)=0,VLOOKUP(A408,Users!A:E,5,FALSE),\"\")","v":""},null,{"$f":"IF(COUNTBLANK(C408)=0,VLOOKUP(C408,Locks!A:D,4,FALSE),\"\")","v":""},{"$f":"IF(COUNTBLANK(C408)=0,VLOOKUP(C408,Locks!A:E,5,FALSE),\"\")","v":""}]
[null,{"$f":"IF(COUNTBLANK(A409)=0,VLOOKUP(A409,Users!A:E,5,FALSE),\"\")","v":""},null,{"$f":"IF(COUNTBLANK(C409)=0,VLOOKUP(C409,Locks!A:D,4,FALSE),\"\")","v":""},{"$f":"IF(COUNTBLANK(C409)=0,VLOOKUP(C409,Locks!A:E,5,FALSE),\"\")","v":""}]
[null,{"$f":"IF(COUNTBLANK(A410)=0,VLOOKUP(A410,Users!A:E,5,FALSE),\"\")","v":""},null,{"$f":"IF(COUNTBLANK(C410)=0,VLOOKUP(C410,Locks!A:D,4,FALSE),\"\")","v":""},{"$f":"IF(COUNTBLANK(C410)=0,VLOOKUP(C410,Locks!A:E,5,FALSE),\"\")","v":""}]
[null,{"$f":"IF(COUNTBLANK(A411)=0,VLOOKUP(A411,Users!A:E,5,FALSE),\"\")","v":""},null,{"$f":"IF(COUNTBLANK(C411)=0,VLOOKUP(C411,Locks!A:D,4,FALSE),\"\")","v":""},{"$f":"IF(COUNTBLANK(C411)=0,VLOOKUP(C411,Locks!A:E,5,FALSE),\"\")","v":""}]
[null,{"$f":"IF(COUNTBLANK(A412)=0,VLOOKUP(A412,Users!A:E,5,FALSE),\"\")","v":""},null,{"$f":"IF(COUNTBLANK(C412)=0,VLOOKUP(C412,Locks!A:D,4,FALSE),\"\")","v":""},{"$f":"IF(COUNTBLANK(C412)=0,VLOOKUP(C412,Locks!A:E,5,FALSE),\"\")","v":""}]
[null,{"$f":"IF(COUNTBLANK(A413)=0,VLOOKUP(A413,Users!A:E,5,FALSE),\"\")","v":""},null,{"$f":"IF(COUNTBLANK(C413)=0,VLOOKUP(C413,Locks!A:D,4,FALSE),\"\")","v":""},{"$f":"IF(COUNTBLANK(C413)=0,VLOOKUP(C413,Locks!A:E,5,FALSE),\"\")","v":""}]
[null,{"$f":"IF(COUNTBLANK(A414)=0,VLOOKUP(A414,Users!A:E,5,FALSE),\"\")","v":""},null,{"$f":"IF(COUNTBLANK(C414)=0,VLOOKUP(C414,Locks!A:D,4,FALSE),\"\")","v":""},{"$f":"IF(COUNTBLANK(C414)=0,VLOOKUP(C414,Locks!A:E,5,FALSE),\"\")","v":""}]
[null,{"$f":"IF(COUNTBLANK(A415)=0,VLOOKUP(A415,Users!A:E,5,FALSE),\"\")","v":""},null,{"$f":"IF(COUNTBLANK(C415)=0,VLOOKUP(C415,Locks!A:D,4,FALSE),\"\")","v":""},{"$f":"IF(COUNTBLANK(C415)=0,VLOOKUP(C415,Locks!A:E,5,FALSE),\"\")","v":""}]
[null,{"$f":"IF(COUNTBLANK(A416)=0,VLOOKUP(A416,Users!A:E,5,FALSE),\"\")","v":""},null,{"$f":"IF(COUNTBLANK(C416)=0,VLOOKUP(C416,Locks!A:D,4,FALSE),\"\")","v":""},{"$f":"IF(COUNTBLANK(C416)=0,VLOOKUP(C416,Locks!A:E,5,FALSE),\"\")","v":""}]
[null,{"$f":"IF(COUNTBLANK(A417)=0,VLOOKUP(A417,Users!A:E,5,FALSE),\"\")","v":""},null,{"$f":"IF(COUNTBLANK(C417)=0,VLOOKUP(C417,Locks!A:D,4,FALSE),\"\")","v":""},{"$f":"IF(COUNTBLANK(C417)=0,VLOOKUP(C417,Locks!A:E,5,FALSE),\"\")","v":""}]
[null,{"$f":"IF(COUNTBLANK(A418)=0,VLOOKUP(A418,Users!A:E,5,FALSE),\"\")","v":""},null,{"$f":"IF(COUNTBLANK(C418)=0,VLOOKUP(C418,Locks!A:D,4,FALSE),\"\")","v":""},{"$f":"IF(COUNTBLANK(C418)=0,VLOOKUP(C418,Locks!A:E,5,FALSE),\"\")","v":""}]
[null,{"$f":"IF(COUNTBLANK(A419)=0,VLOOKUP(A419,Users!A:E,5,FALSE),\"\")","v":""},null,{"$f":"IF(COUNTBLANK(C419)=0,VLOOKUP(C419,Locks!A:D,4,FALSE),\"\")","v":""},{"$f":"IF(COUNTBLANK(C419)=0,VLOOKUP(C419,Locks!A:E,5,FALSE),\"\")","v":""}]
[null,{"$f":"IF(COUNTBLANK(A420)=0,VLOOKUP(A420,Users!A:E,5,FALSE),\"\")","v":""},null,{"$f":"IF(COUNTBLANK(C420)=0,VLOOKUP(C420,Locks!A:D,4,FALSE),\"\")","v":""},{"$f":"IF(COUNTBLANK(C420)=0,VLOOKUP(C420,Locks!A:E,5,FALSE),\"\")","v":""}]
[null,{"$f":"IF(COUNTBLANK(A421)=0,VLOOKUP(A421,Users!A:E,5,FALSE),\"\")","v":""},null,{"$f":"IF(COUNTBLANK(C421)=0,VLOOKUP(C421,Locks!A:D,4,FALSE),\"\")","v":""},{"$f":"IF(COUNTBLANK(C421)=0,VLOOKUP(C421,Locks!A:E,5,FALSE),\"\")","v":""}]
[null,{"$f":"IF(COUNTBLANK(A422)=0,VLOOKUP(A422,Users!A:E,5,FALSE),\"\")","v":""},null,{"$f":"IF(COUNTBLANK(C422)=0,VLOOKUP(C422,Locks!A:D,4,FALSE),\"\")","v":""},{"$f":"IF(COUNTBLANK(C422)=0,VLOOKUP(C422,Locks!A:E,5,FALSE),\"\")","v":""}]
[null,{"$f":"IF(COUNTBLANK(A423)=0,VLOOKUP(A423,Users!A:E,5,FALSE),\"\")","v":""},null,{"$f":"IF(COUNTBLANK(C423)=0,VLOOKUP(C423,Locks!A:D,4,FALSE),\"\")","v":""},{"$f":"IF(COUNTBLANK(C423)=0,VLOOKUP(C423,Locks!A:E,5,FALSE),\"\")","v":""}]
[null,{"$f":"IF(COUNTBLANK(A424)=0,VLOOKUP(A424,Users!A:E,5,FALSE),\"\")","v":""},null,{"$f":"IF(COUNTBLANK(C424)=0,VLOOKUP(C424,Locks!A:D,4,FALSE),\"\")","v":""},{"$f":"IF(COUNTBLANK(C424)=0,VLOOKUP(C424,Locks!A:E,5,FALSE),\"\")","v":""}]
[null,{"$f":"IF(COUNTBLANK(A425)=0,VLOOKUP(A425,Users!A:E,5,FALSE),\"\")","v":""},null,{"$f":"IF(COUNTBLANK(C425)=0,VLOOKUP(C425,Locks!A:D,4,FALSE),\"\")","v":""},{"$f":"IF(COUNTBLANK(C425)=0,VLOOKUP(C425,Locks!A:E,5,FALSE),\"\")","v":""}]
[null,{"$f":"IF(COUNTBLANK(A426)=0,VLOOKUP(A426,Users!A:E,5,FALSE),\"\")","v":""},null,{"$f":"IF(COUNTBLANK(C426)=0,VLOOKUP(C426,Locks!A:D,4,FALSE),\"\")","v":""},{"$f":"IF(COUNTBLANK(C426)=0,VLOOKUP(C426,Locks!A:E,5,FALSE),\"\")","v":""}]
[null,{"$f":"IF(COUNTBLANK(A427)=0,VLOOKUP(A427,Users!A:E,5,FALSE),\"\")","v":""},null,{"$f":"IF(COUNTBLANK(C427)=0,VLOOKUP(C427,Locks!A:D,4,FALSE),\"\")","v":""},{"$f":"IF(COUNTBLANK(C427)=0,VLOOKUP(C427,Locks!A:E,5,FALSE),\"\")","v":""}]
[null,{"$f":"IF(COUNTBLANK(A428)=0,VLOOKUP(A428,Users!A:E,5,FALSE),\"\")","v":""},null,{"$f":"IF(COUNTBLANK(C428)=0,VLOOKUP(C428,Locks!A:D,4,FALSE),\"\")","v":""},{"$f":"IF(COUNTBLANK(C428)=0,VLOOKUP(C428,Locks!A:E,5,FALSE),\"\")","v":""}]
[null,{"$f":"IF(COUNTBLANK(A429)=0,VLOOKUP(A429,Users!A:E,5,FALSE),\"\")","v":""},null,{"$f":"IF(COUNTBLANK(C429)=0,VLOOKUP(C429,Locks!A:D,4,FALSE),\"\")","v":""},{"$f":"IF(COUNTBLANK(C429)=0,VLOOKUP(C429,Locks!A:E,5,FALSE),\"\")","v":""}]
[null,{"$f":"IF(COUNTBLANK(A430)=0,VLOOKUP(A430,Users!A:E,5,FALSE),\"\")","v":""},null,{"$f":"IF(COUNTBLANK(C430)=0,VLOOKUP(C430,Locks!A:D,4,FALSE),\"\")","v":""},{"$f":"IF(COUNTBLANK(C430)=0,VLOOKUP(C430,Locks!A:E,5,FALSE),\"\")","v":""}]
[null,{"$f":"IF(COUNTBLANK(A431)=0,VLOOKUP(A431,Users!A:E,5,FALSE),\"\")","v":""},null,{"$f":"IF(COUNTBLANK(C431)=0,VLOOKUP(C431,Locks!A:D,4,FALSE),\"\")","v":""},{"$f":"IF(COUNTBLANK(C431)=0,VLOOKUP(C431,Locks!A:E,5,FALSE),\"\")","v":""}]
[null,{"$f":"IF(COUNTBLANK(A432)=0,VLOOKUP(A432,Users!A:E,5,FALSE),\"\")","v":""},null,{"$f":"IF(COUNTBLANK(C432)=0,VLOOKUP(C432,Locks!A:D,4,FALSE),\"\")","v":""},{"$f":"IF(COUNTBLANK(C432)=0,VLOOKUP(C432,Locks!A:E,5,FALSE),\"\")","v":""}]
[null,{"$f":"IF(COUNTBLANK(A433)=0,VLOOKUP(A433,Users!A:E,5,FALSE),\"\")","v":""},null,{"$f":"IF(COUNTBLANK(C433)=0,VLOOKUP(C433,Locks!A:D,4,FALSE),\"\")","v":""},{"$f":"IF(COUNTBLANK(C433)=0,VLOOKUP(C433,Locks!A:E,5,FALSE),\"\")","v":""}]
[null,{"$f":"IF(COUNTBLANK(A434)=0,VLOOKUP(A434,Users!A:E,5,FALSE),\"\")","v":""},null,{"$f":"IF(COUNTBLANK(C434)=0,VLOOKUP(C434,Locks!A:D,4,FALSE),\"\")","v":""},{"$f":"IF(COUNTBLANK(C434)=0,VLOOKUP(C434,Locks!A:E,5,FALSE),\"\")","v":""}]
[null,{"$f":"IF(COUNTBLANK(A435)=0,VLOOKUP(A435,Users!A:E,5,FALSE),\"\")","v":""},null,{"$f":"IF(COUNTBLANK(C435)=0,VLOOKUP(C435,Locks!A:D,4,FALSE),\"\")","v":""},{"$f":"IF(COUNTBLANK(C435)=0,VLOOKUP(C435,Locks!A:E,5,FALSE),\"\")","v":""}]
[null,{"$f":"IF(COUNTBLANK(A436)=0,VLOOKUP(A436,Users!A:E,5,FALSE),\"\")","v":""},null,{"$f":"IF(COUNTBLANK(C436)=0,VLOOKUP(C436,Locks!A:D,4,FALSE),\"\")","v":""},{"$f":"IF(COUNTBLANK(C436)=0,VLOOKUP(C436,Locks!A:E,5,FALSE),\"\")","v":""}]
[null,{"$f":"IF(COUNTBLANK(A437)=0,VLOOKUP(A437,Users!A:E,5,FALSE),\"\")","v":""},null,{"$f":"IF(COUNTBLANK(C437)=0,VLOOKUP(C437,Locks!A:D,4,FALSE),\"\")","v":""},{"$f":"IF(COUNTBLANK(C437)=0,VLOOKUP(C437,Locks!A:E,5,FALSE),\"\")","v":""}]
[null,{"$f":"IF(COUNTBLANK(A438)=0,VLOOKUP(A438,Users!A:E,5,FALSE),\"\")","v":""},null,{"$f":"IF(COUNTBLANK(C438)=0,VLOOKUP(C438,Locks!A:D,4,FALSE),\"\")","v":""},{"$f":"IF(COUNTBLANK(C438)=0,VLOOKUP(C438,Locks!A:E,5,FALSE),\"\")","v":""}]
[null,{"$f":"IF(COUNTBLANK(A439)=0,VLOOKUP(A439,Users!A:E,5,FALSE),\"\")","v":""},null,{"$f":"IF(COUNTBLANK(C439)=0,VLOOKUP(C439,Locks!A:D,4,FALSE),\"\")","v":""},{"$f":"IF(COUNTBLANK(C439)=0,VLOOKUP(C439,Locks!A:E,5,FALSE),\"\")","v":""}]
[null,{"$f":"IF(COUNTBLANK(A440)=0,VLOOKUP(A440,Users!A:E,5,FALSE),\"\")","v":""},null,{"$f":"IF(COUNTBLANK(C440)=0,VLOOKUP(C440,Locks!A:D,4,FALSE),\"\")","v":""},{"$f":"IF(COUNTBLANK(C440)=0,VLOOKUP(C440,Locks!A:E,5,FALSE),\"\")","v":""}]
[null,{"$f":"IF(COUNTBLANK(A441)=0,VLOOKUP(A441,Users!A:E,5,FALSE),\"\")","v":""},null,{"$f":"IF(COUNTBLANK(C441)=0,VLOOKUP(C441,Locks!A:D,4,FALSE),\"\")","v":""},{"$f":"IF(COUNTBLANK(C441)=0,VLOOKUP(C441,Locks!A:E,5,FALSE),\"\")","v":""}]
[null,{"$f":"IF(COUNTBLANK(A442)=0,VLOOKUP(A442,Users!A:E,5,FALSE),\"\")","v":""},null,{"$f":"IF(COUNTBLANK(C442)=0,VLOOKUP(C442,Locks!A:D,4,FALSE),\"\")","v":""},{"$f":"IF(COUNTBLANK(C442)=0,VLOOKUP(C442,Locks!A:E,5,FALSE),\"\")","v":""}]
[null,{"$f":"IF(COUNTBLANK(A443)=0,VLOOKUP(A443,Users!A:E,5,FALSE),\"\")","v":""},null,{"$f":"IF(COUNTBLANK(C443)=0,VLOOKUP(C443,Locks!A:D,4,FALSE),\"\")","v":""},{"$f":"IF(COUNTBLANK(C443)=0,VLOOKUP(C443,Locks!A:E,5,FALSE),\"\")","v":""}]
[null,{"$f":"IF(COUNTBLANK(A444)=0,VLOOKUP(A444,Users!A:E,5,FALSE),\"\")","v":""},null,{"$f":"IF(COUNTBLANK(C444)=0,VLOOKUP(C444,Locks!A:D,4,FALSE),\"\")","v":""},{"$f":"IF(COUNTBLANK(C444)=0,VLOOKUP(C444,Locks!A:E,5,FALSE),\"\")","v":""}]
[null,{"$f":"IF(COUNTBLANK(A445)=0,VLOOKUP(A445,Users!A:E,5,FALSE),\"\")","v":""},null,{"$f":"IF(COUNTBLANK(C445)=0,VLOOKUP(C445,Locks!A:D,4,FALSE),\"\")","v":""},{"$f":"IF(COUNTBLANK(C445)=0,VLOOKUP(C445,Locks!A:E,5,FALSE),\"\")","v":""}]
[null,{"$f":"IF(COUNTBLANK(A446)=0,VLOOKUP(A446,Users!A:E,5,FALSE),\"\")","v":""},null,{"$f":"IF(COUNTBLANK(C446)=0,VLOOKUP(C446,Locks!A:D,4,FALSE),\"\")","v":""},{"$f":"IF(COUNTBLANK(C446)=0,VLOOKUP(C446,Locks!A:E,5,FALSE),\"\")","v":""}]
[null,{"$f":"IF(COUNTBLANK(A447)=0,VLOOKUP(A447,Users!A:E,5,FALSE),\"\")","v":""},null,{"$f":"IF(COUNTBLANK(C447)=0,VLOOKUP(C447,Locks!A:D,4,FALSE),\"\")","v":""},{"$f":"IF(COUNTBLANK(C447)=0,VLOOKUP(C447,Locks!A:E,5,FALSE),\"\")","v":""}]
[null,{"$f":"IF(COUNTBLANK(A448)=0,VLOOKUP(A448,Users!A:E,5,FALSE),\"\")","v":""},null,{"$f":"IF(COUNTBLANK(C448)=0,VLOOKUP(C448,Locks!A:D,4,FALSE),\"\")","v":""},{"$f":"IF(COUNTBLANK(C448)=0,VLOOKUP(C448,Locks!A:E,5,FALSE),\"\")","v":""}]
[null,{"$f":"IF(COUNTBLANK(A449)=0,VLOOKUP(A449,Users!A:E,5,FALSE),\"\")","v":""},null,{"$f":"IF(COUNTBLANK(C449)=0,VLOOKUP(C449,Locks!A:D,4,FALSE),\"\")","v":""},{"$f":"IF(COUNTBLANK(C449)=0,VLOOKUP(C449,Locks!A:E,5,FALSE),\"\")","v":""}]
[null,{"$f":"IF(COUNTBLANK(A450)=0,VLOOKUP(A450,Users!A:E,5,FALSE),\"\")","v":""},null,{"$f":"IF(COUNTBLANK(C450)=0,VLOOKUP(C450,Locks!A:D,4,FALSE),\"\")","v":""},{"$f":"IF(COUNTBLANK(C450)=0,VLOOKUP(C450,Locks!A:E,5,FALSE),\"\")","v":""}]
[null,{"$f":"IF(COUNTBLANK(A451)=0,VLOOKUP(A451,Users!A:E,5,FALSE),\"\")","v":""},null,{"$f":"IF(COUNTBLANK(C451)=0,VLOOKUP(C451,Locks!A:D,4,FALSE),\"\")","v":""},{"$f":"IF(COUNTBLANK(C451)=0,VLOOKUP(C451,Locks!A:E,5,FALSE),\"\")","v":""}]
[null,{"$f":"IF(COUNTBLANK(A452)=0,VLOOKUP(A452,Users!A:E,5,FALSE),\"\")","v":""},null,{"$f":"IF(COUNTBLANK(C452)=0,VLOOKUP(C452,Locks!A:D,4,FALSE),\"\")","v":""},{"$f":"IF(COUNTBLANK(C452)=0,VLOOKUP(C452,Locks!A:E,5,FALSE),\"\")","v":""}]
[null,{"$f":"IF(COUNTBLANK(A453)=0,VLOOKUP(A453,Users!A:E,5,FALSE),\"\")","v":""},null,{"$f":"IF(COUNTBLANK(C453)=0,VLOOKUP(C453,Locks!A:D,4,FALSE),\"\")","v":""},{"$f":"IF(COUNTBLANK(C453)=0,VLOOKUP(C453,Locks!A:E,5,FALSE),\"\")","v":""}]
[null,{"$f":"IF(COUNTBLANK(A454)=0,VLOOKUP(A454,Users!A:E,5,FALSE),\"\")","v":""},null,{"$f":"IF(COUNTBLANK(C454)=0,VLOOKUP(C454,Locks!A:D,4,FALSE),\"\")","v":""},{"$f":"IF(COUNTBLANK(C454)=0,VLOOKUP(C454,Locks!A:E,5,FALSE),\"\")","v":""}]
[null,{"$f":"IF(COUNTBLANK(A455)=0,VLOOKUP(A455,Users!A:E,5,FALSE),\"\")","v":""},null,{"$f":"IF(COUNTBLANK(C455)=0,VLOOKUP(C455,Locks!A:D,4,FALSE),\"\")","v":""},{"$f":"IF(COUNTBLANK(C455)=0,VLOOKUP(C455,Locks!A:E,5,FALSE),\"\")","v":""}]
[null,{"$f":"IF(COUNTBLANK(A456)=0,VLOOKUP(A456,Users!A:E,5,FALSE),\"\")","v":""},null,{"$f":"IF(COUNTBLANK(C456)=0,VLOOKUP(C456,Locks!A:D,4,FALSE),\"\")","v":""},{"$f":"IF(COUNTBLANK(C456)=0,VLOOKUP(C456,Locks!A:E,5,FALSE),\"\")","v":""}]
[null,{"$f":"IF(COUNTBLANK(A457)=0,VLOOKUP(A457,Users!A:E,5,FALSE),\"\")","v":""},null,{"$f":"IF(COUNTBLANK(C457)=0,VLOOKUP(C457,Locks!A:D,4,FALSE),\"\")","v":""},{"$f":"IF(COUNTBLANK(C457)=0,VLOOKUP(C457,Locks!A:E,5,FALSE),\"\")","v":""}]
[null,{"$f":"IF(COUNTBLANK(A458)=0,VLOOKUP(A458,Users!A:E,5,FALSE),\"\")","v":""},null,{"$f":"IF(COUNTBLANK(C458)=0,VLOOKUP(C458,Locks!A:D,4,FALSE),\"\")","v":""},{"$f":"IF(COUNTBLANK(C458)=0,VLOOKUP(C458,Locks!A:E,5,FALSE),\"\")","v":""}]
[null,{"$f":"IF(COUNTBLANK(A459)=0,VLOOKUP(A459,Users!A:E,5,FALSE),\"\")","v":""},null,{"$f":"IF(COUNTBLANK(C459)=0,VLOOKUP(C459,Locks!A:D,4,FALSE),\"\")","v":""},{"$f":"IF(COUNTBLANK(C459)=0,VLOOKUP(C459,Locks!A:E,5,FALSE),\"\")","v":""}]
[null,{"$f":"IF(COUNTBLANK(A460)=0,VLOOKUP(A460,Users!A:E,5,FALSE),\"\")","v":""},null,{"$f":"IF(COUNTBLANK(C460)=0,VLOOKUP(C460,Locks!A:D,4,FALSE),\"\")","v":""},{"$f":"IF(COUNTBLANK(C460)=0,VLOOKUP(C460,Locks!A:E,5,FALSE),\"\")","v":""}]
[null,{"$f":"IF(COUNTBLANK(A461)=0,VLOOKUP(A461,Users!A:E,5,FALSE),\"\")","v":""},null,{"$f":"IF(COUNTBLANK(C461)=0,VLOOKUP(C461,Locks!A:D,4,FALSE),\"\")","v":""},{"$f":"IF(COUNTBLANK(C461)=0,VLOOKUP(C461,Locks!A:E,5,FALSE),\"\")","v":""}]
[null,{"$f":"IF(COUNTBLANK(A462)=0,VLOOKUP(A462,Users!A:E,5,FALSE),\"\")","v":""},null,{"$f":"IF(COUNTBLANK(C462)=0,VLOOKUP(C462,Locks!A:D,4,FALSE),\"\")","v":""},{"$f":"IF(COUNTBLANK(C462)=0,VLOOKUP(C462,Locks!A:E,5,FALSE),\"\")","v":""}]
[null,{"$f":"IF(COUNTBLANK(A463)=0,VLOOKUP(A463,Users!A:E,5,FALSE),\"\")","v":""},null,{"$f":"IF(COUNTBLANK(C463)=0,VLOOKUP(C463,Locks!A:D,4,FALSE),\"\")","v":""},{"$f":"IF(COUNTBLANK(C463)=0,VLOOKUP(C463,Locks!A:E,5,FALSE),\"\")","v":""}]
[null,{"$f":"IF(COUNTBLANK(A464)=0,VLOOKUP(A464,Users!A:E,5,FALSE),\"\")","v":""},null,{"$f":"IF(COUNTBLANK(C464)=0,VLOOKUP(C464,Locks!A:D,4,FALSE),\"\")","v":""},{"$f":"IF(COUNTBLANK(C464)=0,VLOOKUP(C464,Locks!A:E,5,FALSE),\"\")","v":""}]
[null,{"$f":"IF(COUNTBLANK(A465)=0,VLOOKUP(A465,Users!A:E,5,FALSE),\"\")","v":""},null,{"$f":"IF(COUNTBLANK(C465)=0,VLOOKUP(C465,Locks!A:D,4,FALSE),\"\")","v":""},{"$f":"IF(COUNTBLANK(C465)=0,VLOOKUP(C465,Locks!A:E,5,FALSE),\"\")","v":""}]
[null,{"$f":"IF(COUNTBLANK(A466)=0,VLOOKUP(A466,Users!A:E,5,FALSE),\"\")","v":""},null,{"$f":"IF(COUNTBLANK(C466)=0,VLOOKUP(C466,Locks!A:D,4,FALSE),\"\")","v":""},{"$f":"IF(COUNTBLANK(C466)=0,VLOOKUP(C466,Locks!A:E,5,FALSE),\"\")","v":""}]
[null,{"$f":"IF(COUNTBLANK(A467)=0,VLOOKUP(A467,Users!A:E,5,FALSE),\"\")","v":""},null,{"$f":"IF(COUNTBLANK(C467)=0,VLOOKUP(C467,Locks!A:D,4,FALSE),\"\")","v":""},{"$f":"IF(COUNTBLANK(C467)=0,VLOOKUP(C467,Locks!A:E,5,FALSE),\"\")","v":""}]
[null,{"$f":"IF(COUNTBLANK(A468)=0,VLOOKUP(A468,Users!A:E,5,FALSE),\"\")","v":""},null,{"$f":"IF(COUNTBLANK(C468)=0,VLOOKUP(C468,Locks!A:D,4,FALSE),\"\")","v":""},{"$f":"IF(COUNTBLANK(C468)=0,VLOOKUP(C468,Locks!A:E,5,FALSE),\"\")","v":""}]
[null,{"$f":"IF(COUNTBLANK(A469)=0,VLOOKUP(A469,Users!A:E,5,FALSE),\"\")","v":""},null,{"$f":"IF(COUNTBLANK(C469)=0,VLOOKUP(C469,Locks!A:D,4,FALSE),\"\")","v":""},{"$f":"IF(COUNTBLANK(C469)=0,VLOOKUP(C469,Locks!A:E,5,FALSE),\"\")","v":""}]
[null,{"$f":"IF(COUNTBLANK(A470)=0,VLOOKUP(A470,Users!A:E,5,FALSE),\"\")","v":""},null,{"$f":"IF(COUNTBLANK(C470)=0,VLOOKUP(C470,Locks!A:D,4,FALSE),\"\")","v":""},{"$f":"IF(COUNTBLANK(C470)=0,VLOOKUP(C470,Locks!A:E,5,FALSE),\"\")","v":""}]
[null,{"$f":"IF(COUNTBLANK(A471)=0,VLOOKUP(A471,Users!A:E,5,FALSE),\"\")","v":""},null,{"$f":"IF(COUNTBLANK(C471)=0,VLOOKUP(C471,Locks!A:D,4,FALSE),\"\")","v":""},{"$f":"IF(COUNTBLANK(C471)=0,VLOOKUP(C471,Locks!A:E,5,FALSE),\"\")","v":""}]
[null,{"$f":"IF(COUNTBLANK(A472)=0,VLOOKUP(A472,Users!A:E,5,FALSE),\"\")","v":""},null,{"$f":"IF(COUNTBLANK(C472)=0,VLOOKUP(C472,Locks!A:D,4,FALSE),\"\")","v":""},{"$f":"IF(COUNTBLANK(C472)=0,VLOOKUP(C472,Locks!A:E,5,FALSE),\"\")","v":""}]
[null,{"$f":"IF(COUNTBLANK(A473)=0,VLOOKUP(A473,Users!A:E,5,FALSE),\"\")","v":""},null,{"$f":"IF(COUNTBLANK(C473)=0,VLOOKUP(C473,Locks!A:D,4,FALSE),\"\")","v":""},{"$f":"IF(COUNTBLANK(C473)=0,VLOOKUP(C473,Locks!A:E,5,FALSE),\"\")","v":""}]
[null,{"$f":"IF(COUNTBLANK(A474)=0,VLOOKUP(A474,Users!A:E,5,FALSE),\"\")","v":""},null,{"$f":"IF(COUNTBLANK(C474)=0,VLOOKUP(C474,Locks!A:D,4,FALSE),\"\")","v":""},{"$f":"IF(COUNTBLANK(C474)=0,VLOOKUP(C474,Locks!A:E,5,FALSE),\"\")","v":""}]
[null,{"$f":"IF(COUNTBLANK(A475)=0,VLOOKUP(A475,Users!A:E,5,FALSE),\"\")","v":""},null,{"$f":"IF(COUNTBLANK(C475)=0,VLOOKUP(C475,Locks!A:D,4,FALSE),\"\")","v":""},{"$f":"IF(COUNTBLANK(C475)=0,VLOOKUP(C475,Locks!A:E,5,FALSE),\"\")","v":""}]
[null,{"$f":"IF(COUNTBLANK(A476)=0,VLOOKUP(A476,Users!A:E,5,FALSE),\"\")","v":""},null,{"$f":"IF(COUNTBLANK(C476)=0,VLOOKUP(C476,Locks!A:D,4,FALSE),\"\")","v":""},{"$f":"IF(COUNTBLANK(C476)=0,VLOOKUP(C476,Locks!A:E,5,FALSE),\"\")","v":""}]
[null,{"$f":"IF(COUNTBLANK(A477)=0,VLOOKUP(A477,Users!A:E,5,FALSE),\"\")","v":""},null,{"$f":"IF(COUNTBLANK(C477)=0,VLOOKUP(C477,Locks!A:D,4,FALSE),\"\")","v":""},{"$f":"IF(COUNTBLANK(C477)=0,VLOOKUP(C477,Locks!A:E,5,FALSE),\"\")","v":""}]
[null,{"$f":"IF(COUNTBLANK(A478)=0,VLOOKUP(A478,Users!A:E,5,FALSE),\"\")","v":""},null,{"$f":"IF(COUNTBLANK(C478)=0,VLOOKUP(C478,Locks!A:D,4,FALSE),\"\")","v":""},{"$f":"IF(COUNTBLANK(C478)=0,VLOOKUP(C478,Locks!A:E,5,FALSE),\"\")","v":""}]
[null,{"$f":"IF(COUNTBLANK(A479)=0,VLOOKUP(A479,Users!A:E,5,FALSE),\"\")","v":""},null,{"$f":"IF(COUNTBLANK(C479)=0,VLOOKUP(C479,Locks!A:D,4,FALSE),\"\")","v":""},{"$f":"IF(COUNTBLANK(C479)=0,VLOOKUP(C479,Locks!A:E,5,FALSE),\"\")","v":""}]
[null,{"$f":"IF(COUNTBLANK(A480)=0,VLOOKUP(A480,Users!A:E,5,FALSE),\"\")","v":""},null,{"$f":"IF(COUNTBLANK(C480)=0,VLOOKUP(C480,Locks!A:D,4,FALSE),\"\")","v":""},{"$f":"IF(COUNTBLANK(C480)=0,VLOOKUP(C480,Locks!A:E,5,FALSE),\"\")","v":""}]
[null,{"$f":"IF(COUNTBLANK(A481)=0,VLOOKUP(A481,Users!A:E,5,FALSE),\"\")","v":""},null,{"$f":"IF(COUNTBLANK(C481)=0,VLOOKUP(C481,Locks!A:D,4,FALSE),\"\")","v":""},{"$f":"IF(COUNTBLANK(C481)=0,VLOOKUP(C481,Locks!A:E,5,FALSE),\"\")","v":""}]
[null,{"$f":"IF(COUNTBLANK(A482)=0,VLOOKUP(A482,Users!A:E,5,FALSE),\"\")","v":""},null,{"$f":"IF(COUNTBLANK(C482)=0,VLOOKUP(C482,Locks!A:D,4,FALSE),\"\")","v":""},{"$f":"IF(COUNTBLANK(C482)=0,VLOOKUP(C482,Locks!A:E,5,FALSE),\"\")","v":""}]
[null,{"$f":"IF(COUNTBLANK(A483)=0,VLOOKUP(A483,Users!A:E,5,FALSE),\"\")","v":""},null,{"$f":"IF(COUNTBLANK(C483)=0,VLOOKUP(C483,Locks!A:D,4,FALSE),\"\")","v":""},{"$f":"IF(COUNTBLANK(C483)=0,VLOOKUP(C483,Locks!A:E,5,FALSE),\"\")","v":""}]
[null,{"$f":"IF(COUNTBLANK(A484)=0,VLOOKUP(A484,Users!A:E,5,FALSE),\"\")","v":""},null,{"$f":"IF(COUNTBLANK(C484)=0,VLOOKUP(C484,Locks!A:D,4,FALSE),\"\")","v":""},{"$f":"IF(COUNTBLANK(C484)=0,VLOOKUP(C484,Locks!A:E,5,FALSE),\"\")","v":""}]
[null,{"$f":"IF(COUNTBLANK(A485)=0,VLOOKUP(A485,Users!A:E,5,FALSE),\"\")","v":""},null,{"$f":"IF(COUNTBLANK(C485)=0,VLOOKUP(C485,Locks!A:D,4,FALSE),\"\")","v":""},{"$f":"IF(COUNTBLANK(C485)=0,VLOOKUP(C485,Locks!A:E,5,FALSE),\"\")","v":""}]
[null,{"$f":"IF(COUNTBLANK(A486)=0,VLOOKUP(A486,Users!A:E,5,FALSE),\"\")","v":""},null,{"$f":"IF(COUNTBLANK(C486)=0,VLOOKUP(C486,Locks!A:D,4,FALSE),\"\")","v":""},{"$f":"IF(COUNTBLANK(C486)=0,VLOOKUP(C486,Locks!A:E,5,FALSE),\"\")","v":""}]
[null,{"$f":"IF(COUNTBLANK(A487)=0,VLOOKUP(A487,Users!A:E,5,FALSE),\"\")","v":""},null,{"$f":"IF(COUNTBLANK(C487)=0,VLOOKUP(C487,Locks!A:D,4,FALSE),\"\")","v":""},{"$f":"IF(COUNTBLANK(C487)=0,VLOOKUP(C487,Locks!A:E,5,FALSE),\"\")","v":""}]
[null,{"$f":"IF(COUNTBLANK(A488)=0,VLOOKUP(A488,Users!A:E,5,FALSE),\"\")","v":""},null,{"$f":"IF(COUNTBLANK(C488)=0,VLOOKUP(C488,Locks!A:D,4,FALSE),\"\")","v":""},{"$f":"IF(COUNTBLANK(C488)=0,VLOOKUP(C488,Locks!A:E,5,FALSE),\"\")","v":""}]
[null,{"$f":"IF(COUNTBLANK(A489)=0,VLOOKUP(A489,Users!A:E,5,FALSE),\"\")","v":""},null,{"$f":"IF(COUNTBLANK(C489)=0,VLOOKUP(C489,Locks!A:D,4,FALSE),\"\")","v":""},{"$f":"IF(COUNTBLANK(C489)=0,VLOOKUP(C489,Locks!A:E,5,FALSE),\"\")","v":""}]
[null,{"$f":"IF(COUNTBLANK(A490)=0,VLOOKUP(A490,Users!A:E,5,FALSE),\"\")","v":""},null,{"$f":"IF(COUNTBLANK(C490)=0,VLOOKUP(C490,Locks!A:D,4,FALSE),\"\")","v":""},{"$f":"IF(COUNTBLANK(C490)=0,VLOOKUP(C490,Locks!A:E,5,FALSE),\"\")","v":""}]
[null,{"$f":"IF(COUNTBLANK(A491)=0,VLOOKUP(A491,Users!A:E,5,FALSE),\"\")","v":""},null,{"$f":"IF(COUNTBLANK(C491)=0,VLOOKUP(C491,Locks!A:D,4,FALSE),\"\")","v":""},{"$f":"IF(COUNTBLANK(C491)=0,VLOOKUP(C491,Locks!A:E,5,FALSE),\"\")","v":""}]
[null,{"$f":"IF(COUNTBLANK(A492)=0,VLOOKUP(A492,Users!A:E,5,FALSE),\"\")","v":""},null,{"$f":"IF(COUNTBLANK(C492)=0,VLOOKUP(C492,Locks!A:D,4,FALSE),\"\")","v":""},{"$f":"IF(COUNTBLANK(C492)=0,VLOOKUP(C492,Locks!A:E,5,FALSE),\"\")","v":""}]
[null,{"$f":"IF(COUNTBLANK(A493)=0,VLOOKUP(A493,Users!A:E,5,FALSE),\"\")","v":""},null,{"$f":"IF(COUNTBLANK(C493)=0,VLOOKUP(C493,Locks!A:D,4,FALSE),\"\")","v":""},{"$f":"IF(COUNTBLANK(C493)=0,VLOOKUP(C493,Locks!A:E,5,FALSE),\"\")","v":""}]
[null,{"$f":"IF(COUNTBLANK(A494)=0,VLOOKUP(A494,Users!A:E,5,FALSE),\"\")","v":""},null,{"$f":"IF(COUNTBLANK(C494)=0,VLOOKUP(C494,Locks!A:D,4,FALSE),\"\")","v":""},{"$f":"IF(COUNTBLANK(C494)=0,VLOOKUP(C494,Locks!A:E,5,FALSE),\"\")","v":""}]
[null,{"$f":"IF(COUNTBLANK(A495)=0,VLOOKUP(A495,Users!A:E,5,FALSE),\"\")","v":""},null,{"$f":"IF(COUNTBLANK(C495)=0,VLOOKUP(C495,Locks!A:D,4,FALSE),\"\")","v":""},{"$f":"IF(COUNTBLANK(C495)=0,VLOOKUP(C495,Locks!A:E,5,FALSE),\"\")","v":""}]
[null,{"$f":"IF(COUNTBLANK(A496)=0,VLOOKUP(A496,Users!A:E,5,FALSE),\"\")","v":""},null,{"$f":"IF(COUNTBLANK(C496)=0,VLOOKUP(C496,Locks!A:D,4,FALSE),\"\")","v":""},{"$f":"IF(COUNTBLANK(C496)=0,VLOOKUP(C496,Locks!A:E,5,FALSE),\"\")","v":""}]
[null,{"$f":"IF(COUNTBLANK(A497)=0,VLOOKUP(A497,Users!A:E,5,FALSE),\"\")","v":""},null,{"$f":"IF(COUNTBLANK(C497)=0,VLOOKUP(C497,Locks!A:D,4,FALSE),\"\")","v":""},{"$f":"IF(COUNTBLANK(C497)=0,VLOOKUP(C497,Locks!A:E,5,FALSE),\"\")","v":""}]
[null,{"$f":"IF(COUNTBLANK(A498)=0,VLOOKUP(A498,Users!A:E,5,FALSE),\"\")","v":""},null,{"$f":"IF(COUNTBLANK(C498)=0,VLOOKUP(C498,Locks!A:D,4,FALSE),\"\")","v":""},{"$f":"IF(COUNTBLANK(C498)=0,VLOOKUP(C498,Locks!A:E,5,FALSE),\"\")","v":""}]
[null,{"$f":"IF(COUNTBLANK(A499)=0,VLOOKUP(A499,Users!A:E,5,FALSE),\"\")","v":""},null,{"$f":"IF(COUNTBLANK(C499)=0,VLOOKUP(C499,Locks!A:D,4,FALSE),\"\")","v":""},{"$f":"IF(COUNTBLANK(C499)=0,VLOOKUP(C499,Locks!A:E,5,FALSE),\"\")","v":""}]
[null,{"$f":"IF(COUNTBLANK(A500)=0,VLOOKUP(A500,Users!A:E,5,FALSE),\"\")","v":""},null,{"$f":"IF(COUNTBLANK(C500)=0,VLOOKUP(C500,Locks!A:D,4,FALSE),\"\")","v":""},{"$f":"IF(COUNTBLANK(C500)=0,VLOOKUP(C500,Locks!A:E,5,FALSE),\"\")","v":""}]
[null,{"$f":"IF(COUNTBLANK(A501)=0,VLOOKUP(A501,Users!A:E,5,FALSE),\"\")","v":""},null,{"$f":"IF(COUNTBLANK(C501)=0,VLOOKUP(C501,Locks!A:D,4,FALSE),\"\")","v":""},{"$f":"IF(COUNTBLANK(C501)=0,VLOOKUP(C501,Locks!A:E,5,FALSE),\"\")","v":""}]
[null,{"$f":"IF(COUNTBLANK(A502)=0,VLOOKUP(A502,Users!A:E,5,FALSE),\"\")","v":""},null,{"$f":"IF(COUNTBLANK(C502)=0,VLOOKUP(C502,Locks!A:D,4,FALSE),\"\")","v":""},{"$f":"IF(COUNTBLANK(C502)=0,VLOOKUP(C502,Locks!A:E,5,FALSE),\"\")","v":""}]
[null,{"$f":"IF(COUNTBLANK(A503)=0,VLOOKUP(A503,Users!A:E,5,FALSE),\"\")","v":""},null,{"$f":"IF(COUNTBLANK(C503)=0,VLOOKUP(C503,Locks!A:D,4,FALSE),\"\")","v":""},{"$f":"IF(COUNTBLANK(C503)=0,VLOOKUP(C503,Locks!A:E,5,FALSE),\"\")","v":""}]
[null,{"$f":"IF(COUNTBLANK(A504)=0,VLOOKUP(A504,Users!A:E,5,FALSE),\"\")","v":""},null,{"$f":"IF(COUNTBLANK(C504)=0,VLOOKUP(C504,Locks!A:D,4,FALSE),\"\")","v":""},{"$f":"IF(COUNTBLANK(C504)=0,VLOOKUP(C504,Locks!A:E,5,FALSE),\"\")","v":""}]
[null,{"$f":"IF(COUNTBLANK(A505)=0,VLOOKUP(A505,Users!A:E,5,FALSE),\"\")","v":""},null,{"$f":"IF(COUNTBLANK(C505)=0,VLOOKUP(C505,Locks!A:D,4,FALSE),\"\")","v":""},{"$f":"IF(COUNTBLANK(C505)=0,VLOOKUP(C505,Locks!A:E,5,FALSE),\"\")","v":""}]
[null,{"$f":"IF(COUNTBLANK(A506)=0,VLOOKUP(A506,Users!A:E,5,FALSE),\"\")","v":""},null,{"$f":"IF(COUNTBLANK(C506)=0,VLOOKUP(C506,Locks!A:D,4,FALSE),\"\")","v":""},{"$f":"IF(COUNTBLANK(C506)=0,VLOOKUP(C506,Locks!A:E,5,FALSE),\"\")","v":""}]
[null,{"$f":"IF(COUNTBLANK(A507)=0,VLOOKUP(A507,Users!A:E,5,FALSE),\"\")","v":""},null,{"$f":"IF(COUNTBLANK(C507)=0,VLOOKUP(C507,Locks!A:D,4,FALSE),\"\")","v":""},{"$f":"IF(COUNTBLANK(C507)=0,VLOOKUP(C507,Locks!A:E,5,FALSE),\"\")","v":""}]
[null,{"$f":"IF(COUNTBLANK(A508)=0,VLOOKUP(A508,Users!A:E,5,FALSE),\"\")","v":""},null,{"$f":"IF(COUNTBLANK(C508)=0,VLOOKUP(C508,Locks!A:D,4,FALSE),\"\")","v":""},{"$f":"IF(COUNTBLANK(C508)=0,VLOOKUP(C508,Locks!A:E,5,FALSE),\"\")","v":""}]
[null,{"$f":"IF(COUNTBLANK(A509)=0,VLOOKUP(A509,Users!A:E,5,FALSE),\"\")","v":""},null,{"$f":"IF(COUNTBLANK(C509)=0,VLOOKUP(C509,Locks!A:D,4,FALSE),\"\")","v":""},{"$f":"IF(COUNTBLANK(C509)=0,VLOOKUP(C509,Locks!A:E,5,FALSE),\"\")","v":""}]
[null,{"$f":"IF(COUNTBLANK(A510)=0,VLOOKUP(A510,Users!A:E,5,FALSE),\"\")","v":""},null,{"$f":"IF(COUNTBLANK(C510)=0,VLOOKUP(C510,Locks!A:D,4,FALSE),\"\")","v":""},{"$f":"IF(COUNTBLANK(C510)=0,VLOOKUP(C510,Locks!A:E,5,FALSE),\"\")","v":""}]
[null,{"$f":"IF(COUNTBLANK(A511)=0,VLOOKUP(A511,Users!A:E,5,FALSE),\"\")","v":""},null,{"$f":"IF(COUNTBLANK(C511)=0,VLOOKUP(C511,Locks!A:D,4,FALSE),\"\")","v":""},{"$f":"IF(COUNTBLANK(C511)=0,VLOOKUP(C511,Locks!A:E,5,FALSE),\"\")","v":""}]
[null,{"$f":"IF(COUNTBLANK(A512)=0,VLOOKUP(A512,Users!A:E,5,FALSE),\"\")","v":""},null,{"$f":"IF(COUNTBLANK(C512)=0,VLOOKUP(C512,Locks!A:D,4,FALSE),\"\")","v":""},{"$f":"IF(COUNTBLANK(C512)=0,VLOOKUP(C512,Locks!A:E,5,FALSE),\"\")","v":""}]
[null,{"$f":"IF(COUNTBLANK(A513)=0,VLOOKUP(A513,Users!A:E,5,FALSE),\"\")","v":""},null,{"$f":"IF(COUNTBLANK(C513)=0,VLOOKUP(C513,Locks!A:D,4,FALSE),\"\")","v":""},{"$f":"IF(COUNTBLANK(C513)=0,VLOOKUP(C513,Locks!A:E,5,FALSE),\"\")","v":""}]
[null,{"$f":"IF(COUNTBLANK(A514)=0,VLOOKUP(A514,Users!A:E,5,FALSE),\"\")","v":""},null,{"$f":"IF(COUNTBLANK(C514)=0,VLOOKUP(C514,Locks!A:D,4,FALSE),\"\")","v":""},{"$f":"IF(COUNTBLANK(C514)=0,VLOOKUP(C514,Locks!A:E,5,FALSE),\"\")","v":""}]
[null,{"$f":"IF(COUNTBLANK(A515)=0,VLOOKUP(A515,Users!A:E,5,FALSE),\"\")","v":""},null,{"$f":"IF(COUNTBLANK(C515)=0,VLOOKUP(C515,Locks!A:D,4,FALSE),\"\")","v":""},{"$f":"IF(COUNTBLANK(C515)=0,VLOOKUP(C515,Locks!A:E,5,FALSE),\"\")","v":""}]
[null,{"$f":"IF(COUNTBLANK(A516)=0,VLOOKUP(A516,Users!A:E,5,FALSE),\"\")","v":""},null,{"$f":"IF(COUNTBLANK(C516)=0,VLOOKUP(C516,Locks!A:D,4,FALSE),\"\")","v":""},{"$f":"IF(COUNTBLANK(C516)=0,VLOOKUP(C516,Locks!A:E,5,FALSE),\"\")","v":""}]
[null,{"$f":"IF(COUNTBLANK(A517)=0,VLOOKUP(A517,Users!A:E,5,FALSE),\"\")","v":""},null,{"$f":"IF(COUNTBLANK(C517)=0,VLOOKUP(C517,Locks!A:D,4,FALSE),\"\")","v":""},{"$f":"IF(COUNTBLANK(C517)=0,VLOOKUP(C517,Locks!A:E,5,FALSE),\"\")","v":""}]
[null,{"$f":"IF(COUNTBLANK(A518)=0,VLOOKUP(A518,Users!A:E,5,FALSE),\"\")","v":""},null,{"$f":"IF(COUNTBLANK(C518)=0,VLOOKUP(C518,Locks!A:D,4,FALSE),\"\")","v":""},{"$f":"IF(COUNTBLANK(C518)=0,VLOOKUP(C518,Locks!A:E,5,FALSE),\"\")","v":""}]
[null,{"$f":"IF(COUNTBLANK(A519)=0,VLOOKUP(A519,Users!A:E,5,FALSE),\"\")","v":""},null,{"$f":"IF(COUNTBLANK(C519)=0,VLOOKUP(C519,Locks!A:D,4,FALSE),\"\")","v":""},{"$f":"IF(COUNTBLANK(C519)=0,VLOOKUP(C519,Locks!A:E,5,FALSE),\"\")","v":""}]
[null,{"$f":"IF(COUNTBLANK(A520)=0,VLOOKUP(A520,Users!A:E,5,FALSE),\"\")","v":""},null,{"$f":"IF(COUNTBLANK(C520)=0,VLOOKUP(C520,Locks!A:D,4,FALSE),\"\")","v":""},{"$f":"IF(COUNTBLANK(C520)=0,VLOOKUP(C520,Locks!A:E,5,FALSE),\"\")","v":""}]
[null,{"$f":"IF(COUNTBLANK(A521)=0,VLOOKUP(A521,Users!A:E,5,FALSE),\"\")","v":""},null,{"$f":"IF(COUNTBLANK(C521)=0,VLOOKUP(C521,Locks!A:D,4,FALSE),\"\")","v":""},{"$f":"IF(COUNTBLANK(C521)=0,VLOOKUP(C521,Locks!A:E,5,FALSE),\"\")","v":""}]
[null,{"$f":"IF(COUNTBLANK(A522)=0,VLOOKUP(A522,Users!A:E,5,FALSE),\"\")","v":""},null,{"$f":"IF(COUNTBLANK(C522)=0,VLOOKUP(C522,Locks!A:D,4,FALSE),\"\")","v":""},{"$f":"IF(COUNTBLANK(C522)=0,VLOOKUP(C522,Locks!A:E,5,FALSE),\"\")","v":""}]
[null,{"$f":"IF(COUNTBLANK(A523)=0,VLOOKUP(A523,Users!A:E,5,FALSE),\"\")","v":""},null,{"$f":"IF(COUNTBLANK(C523)=0,VLOOKUP(C523,Locks!A:D,4,FALSE),\"\")","v":""},{"$f":"IF(COUNTBLANK(C523)=0,VLOOKUP(C523,Locks!A:E,5,FALSE),\"\")","v":""}]
[null,{"$f":"IF(COUNTBLANK(A524)=0,VLOOKUP(A524,Users!A:E,5,FALSE),\"\")","v":""},null,{"$f":"IF(COUNTBLANK(C524)=0,VLOOKUP(C524,Locks!A:D,4,FALSE),\"\")","v":""},{"$f":"IF(COUNTBLANK(C524)=0,VLOOKUP(C524,Locks!A:E,5,FALSE),\"\")","v":""}]
[null,{"$f":"IF(COUNTBLANK(A525)=0,VLOOKUP(A525,Users!A:E,5,FALSE),\"\")","v":""},null,{"$f":"IF(COUNTBLANK(C525)=0,VLOOKUP(C525,Locks!A:D,4,FALSE),\"\")","v":""},{"$f":"IF(COUNTBLANK(C525)=0,VLOOKUP(C525,Locks!A:E,5,FALSE),\"\")","v":""}]
[null,{"$f":"IF(COUNTBLANK(A526)=0,VLOOKUP(A526,Users!A:E,5,FALSE),\"\")","v":""},null,{"$f":"IF(COUNTBLANK(C526)=0,VLOOKUP(C526,Locks!A:D,4,FALSE),\"\")","v":""},{"$f":"IF(COUNTBLANK(C526)=0,VLOOKUP(C526,Locks!A:E,5,FALSE),\"\")","v":""}]
[null,{"$f":"IF(COUNTBLANK(A527)=0,VLOOKUP(A527,Users!A:E,5,FALSE),\"\")","v":""},null,{"$f":"IF(COUNTBLANK(C527)=0,VLOOKUP(C527,Locks!A:D,4,FALSE),\"\")","v":""},{"$f":"IF(COUNTBLANK(C527)=0,VLOOKUP(C527,Locks!A:E,5,FALSE),\"\")","v":""}]
[null,{"$f":"IF(COUNTBLANK(A528)=0,VLOOKUP(A528,Users!A:E,5,FALSE),\"\")","v":""},null,{"$f":"IF(COUNTBLANK(C528)=0,VLOOKUP(C528,Locks!A:D,4,FALSE),\"\")","v":""},{"$f":"IF(COUNTBLANK(C528)=0,VLOOKUP(C528,Locks!A:E,5,FALSE),\"\")","v":""}]
[null,{"$f":"IF(COUNTBLANK(A529)=0,VLOOKUP(A529,Users!A:E,5,FALSE),\"\")","v":""},null,{"$f":"IF(COUNTBLANK(C529)=0,VLOOKUP(C529,Locks!A:D,4,FALSE),\"\")","v":""},{"$f":"IF(COUNTBLANK(C529)=0,VLOOKUP(C529,Locks!A:E,5,FALSE),\"\")","v":""}]
[null,{"$f":"IF(COUNTBLANK(A530)=0,VLOOKUP(A530,Users!A:E,5,FALSE),\"\")","v":""},null,{"$f":"IF(COUNTBLANK(C530)=0,VLOOKUP(C530,Locks!A:D,4,FALSE),\"\")","v":""},{"$f":"IF(COUNTBLANK(C530)=0,VLOOKUP(C530,Locks!A:E,5,FALSE),\"\")","v":""}]
[null,{"$f":"IF(COUNTBLANK(A531)=0,VLOOKUP(A531,Users!A:E,5,FALSE),\"\")","v":""},null,{"$f":"IF(COUNTBLANK(C531)=0,VLOOKUP(C531,Locks!A:D,4,FALSE),\"\")","v":""},{"$f":"IF(COUNTBLANK(C531)=0,VLOOKUP(C531,Locks!A:E,5,FALSE),\"\")","v":""}]
[null,{"$f":"IF(COUNTBLANK(A532)=0,VLOOKUP(A532,Users!A:E,5,FALSE),\"\")","v":""},null,{"$f":"IF(COUNTBLANK(C532)=0,VLOOKUP(C532,Locks!A:D,4,FALSE),\"\")","v":""},{"$f":"IF(COUNTBLANK(C532)=0,VLOOKUP(C532,Locks!A:E,5,FALSE),\"\")","v":""}]
[null,{"$f":"IF(COUNTBLANK(A533)=0,VLOOKUP(A533,Users!A:E,5,FALSE),\"\")","v":""},null,{"$f":"IF(COUNTBLANK(C533)=0,VLOOKUP(C533,Locks!A:D,4,FALSE),\"\")","v":""},{"$f":"IF(COUNTBLANK(C533)=0,VLOOKUP(C533,Locks!A:E,5,FALSE),\"\")","v":""}]
[null,{"$f":"IF(COUNTBLANK(A534)=0,VLOOKUP(A534,Users!A:E,5,FALSE),\"\")","v":""},null,{"$f":"IF(COUNTBLANK(C534)=0,VLOOKUP(C534,Locks!A:D,4,FALSE),\"\")","v":""},{"$f":"IF(COUNTBLANK(C534)=0,VLOOKUP(C534,Locks!A:E,5,FALSE),\"\")","v":""}]
[null,{"$f":"IF(COUNTBLANK(A535)=0,VLOOKUP(A535,Users!A:E,5,FALSE),\"\")","v":""},null,{"$f":"IF(COUNTBLANK(C535)=0,VLOOKUP(C535,Locks!A:D,4,FALSE),\"\")","v":""},{"$f":"IF(COUNTBLANK(C535)=0,VLOOKUP(C535,Locks!A:E,5,FALSE),\"\")","v":""}]
[null,{"$f":"IF(COUNTBLANK(A536)=0,VLOOKUP(A536,Users!A:E,5,FALSE),\"\")","v":""},null,{"$f":"IF(COUNTBLANK(C536)=0,VLOOKUP(C536,Locks!A:D,4,FALSE),\"\")","v":""},{"$f":"IF(COUNTBLANK(C536)=0,VLOOKUP(C536,Locks!A:E,5,FALSE),\"\")","v":""}]
[null,{"$f":"IF(COUNTBLANK(A537)=0,VLOOKUP(A537,Users!A:E,5,FALSE),\"\")","v":""},null,{"$f":"IF(COUNTBLANK(C537)=0,VLOOKUP(C537,Locks!A:D,4,FALSE),\"\")","v":""},{"$f":"IF(COUNTBLANK(C537)=0,VLOOKUP(C537,Locks!A:E,5,FALSE),\"\")","v":""}]
[null,{"$f":"IF(COUNTBLANK(A538)=0,VLOOKUP(A538,Users!A:E,5,FALSE),\"\")","v":""},null,{"$f":"IF(COUNTBLANK(C538)=0,VLOOKUP(C538,Locks!A:D,4,FALSE),\"\")","v":""},{"$f":"IF(COUNTBLANK(C538)=0,VLOOKUP(C538,Locks!A:E,5,FALSE),\"\")","v":""}]
[null,{"$f":"IF(COUNTBLANK(A539)=0,VLOOKUP(A539,Users!A:E,5,FALSE),\"\")","v":""},null,{"$f":"IF(COUNTBLANK(C539)=0,VLOOKUP(C539,Locks!A:D,4,FALSE),\"\")","v":""},{"$f":"IF(COUNTBLANK(C539)=0,VLOOKUP(C539,Locks!A:E,5,FALSE),\"\")","v":""}]
[null,{"$f":"IF(COUNTBLANK(A540)=0,VLOOKUP(A540,Users!A:E,5,FALSE),\"\")","v":""},null,{"$f":"IF(COUNTBLANK(C540)=0,VLOOKUP(C540,Locks!A:D,4,FALSE),\"\")","v":""},{"$f":"IF(COUNTBLANK(C540)=0,VLOOKUP(C540,Locks!A:E,5,FALSE),\"\")","v":""}]
[null,{"$f":"IF(COUNTBLANK(A541)=0,VLOOKUP(A541,Users!A:E,5,FALSE),\"\")","v":""},null,{"$f":"IF(COUNTBLANK(C541)=0,VLOOKUP(C541,Locks!A:D,4,FALSE),\"\")","v":""},{"$f":"IF(COUNTBLANK(C541)=0,VLOOKUP(C541,Locks!A:E,5,FALSE),\"\")","v":""}]
[null,{"$f":"IF(COUNTBLANK(A542)=0,VLOOKUP(A542,Users!A:E,5,FALSE),\"\")","v":""},null,{"$f":"IF(COUNTBLANK(C542)=0,VLOOKUP(C542,Locks!A:D,4,FALSE),\"\")","v":""},{"$f":"IF(COUNTBLANK(C542)=0,VLOOKUP(C542,Locks!A:E,5,FALSE),\"\")","v":""}]
[null,{"$f":"IF(COUNTBLANK(A543)=0,VLOOKUP(A543,Users!A:E,5,FALSE),\"\")","v":""},null,{"$f":"IF(COUNTBLANK(C543)=0,VLOOKUP(C543,Locks!A:D,4,FALSE),\"\")","v":""},{"$f":"IF(COUNTBLANK(C543)=0,VLOOKUP(C543,Locks!A:E,5,FALSE),\"\")","v":""}]
[null,{"$f":"IF(COUNTBLANK(A544)=0,VLOOKUP(A544,Users!A:E,5,FALSE),\"\")","v":""},null,{"$f":"IF(COUNTBLANK(C544)=0,VLOOKUP(C544,Locks!A:D,4,FALSE),\"\")","v":""},{"$f":"IF(COUNTBLANK(C544)=0,VLOOKUP(C544,Locks!A:E,5,FALSE),\"\")","v":""}]
[null,{"$f":"IF(COUNTBLANK(A545)=0,VLOOKUP(A545,Users!A:E,5,FALSE),\"\")","v":""},null,{"$f":"IF(COUNTBLANK(C545)=0,VLOOKUP(C545,Locks!A:D,4,FALSE),\"\")","v":""},{"$f":"IF(COUNTBLANK(C545)=0,VLOOKUP(C545,Locks!A:E,5,FALSE),\"\")","v":""}]
[null,{"$f":"IF(COUNTBLANK(A546)=0,VLOOKUP(A546,Users!A:E,5,FALSE),\"\")","v":""},null,{"$f":"IF(COUNTBLANK(C546)=0,VLOOKUP(C546,Locks!A:D,4,FALSE),\"\")","v":""},{"$f":"IF(COUNTBLANK(C546)=0,VLOOKUP(C546,Locks!A:E,5,FALSE),\"\")","v":""}]
[null,{"$f":"IF(COUNTBLANK(A547)=0,VLOOKUP(A547,Users!A:E,5,FALSE),\"\")","v":""},null,{"$f":"IF(COUNTBLANK(C547)=0,VLOOKUP(C547,Locks!A:D,4,FALSE),\"\")","v":""},{"$f":"IF(COUNTBLANK(C547)=0,VLOOKUP(C547,Locks!A:E,5,FALSE),\"\")","v":""}]
[null,{"$f":"IF(COUNTBLANK(A548)=0,VLOOKUP(A548,Users!A:E,5,FALSE),\"\")","v":""},null,{"$f":"IF(COUNTBLANK(C548)=0,VLOOKUP(C548,Locks!A:D,4,FALSE),\"\")","v":""},{"$f":"IF(COUNTBLANK(C548)=0,VLOOKUP(C548,Locks!A:E,5,FALSE),\"\")","v":""}]
[null,{"$f":"IF(COUNTBLANK(A549)=0,VLOOKUP(A549,Users!A:E,5,FALSE),\"\")","v":""},null,{"$f":"IF(COUNTBLANK(C549)=0,VLOOKUP(C549,Locks!A:D,4,FALSE),\"\")","v":""},{"$f":"IF(COUNTBLANK(C549)=0,VLOOKUP(C549,Locks!A:E,5,FALSE),\"\")","v":""}]
[null,{"$f":"IF(COUNTBLANK(A550)=0,VLOOKUP(A550,Users!A:E,5,FALSE),\"\")","v":""},null,{"$f":"IF(COUNTBLANK(C550)=0,VLOOKUP(C550,Locks!A:D,4,FALSE),\"\")","v":""},{"$f":"IF(COUNTBLANK(C550)=0,VLOOKUP(C550,Locks!A:E,5,FALSE),\"\")","v":""}]
[null,{"$f":"IF(COUNTBLANK(A551)=0,VLOOKUP(A551,Users!A:E,5,FALSE),\"\")","v":""},null,{"$f":"IF(COUNTBLANK(C551)=0,VLOOKUP(C551,Locks!A:D,4,FALSE),\"\")","v":""},{"$f":"IF(COUNTBLANK(C551)=0,VLOOKUP(C551,Locks!A:E,5,FALSE),\"\")","v":""}]
[null,{"$f":"IF(COUNTBLANK(A552)=0,VLOOKUP(A552,Users!A:E,5,FALSE),\"\")","v":""},null,{"$f":"IF(COUNTBLANK(C552)=0,VLOOKUP(C552,Locks!A:D,4,FALSE),\"\")","v":""},{"$f":"IF(COUNTBLANK(C552)=0,VLOOKUP(C552,Locks!A:E,5,FALSE),\"\")","v":""}]
[null,{"$f":"IF(COUNTBLANK(A553)=0,VLOOKUP(A553,Users!A:E,5,FALSE),\"\")","v":""},null,{"$f":"IF(COUNTBLANK(C553)=0,VLOOKUP(C553,Locks!A:D,4,FALSE),\"\")","v":""},{"$f":"IF(COUNTBLANK(C553)=0,VLOOKUP(C553,Locks!A:E,5,FALSE),\"\")","v":""}]
[null,{"$f":"IF(COUNTBLANK(A554)=0,VLOOKUP(A554,Users!A:E,5,FALSE),\"\")","v":""},null,{"$f":"IF(COUNTBLANK(C554)=0,VLOOKUP(C554,Locks!A:D,4,FALSE),\"\")","v":""},{"$f":"IF(COUNTBLANK(C554)=0,VLOOKUP(C554,Locks!A:E,5,FALSE),\"\")","v":""}]
[null,{"$f":"IF(COUNTBLANK(A555)=0,VLOOKUP(A555,Users!A:E,5,FALSE),\"\")","v":""},null,{"$f":"IF(COUNTBLANK(C555)=0,VLOOKUP(C555,Locks!A:D,4,FALSE),\"\")","v":""},{"$f":"IF(COUNTBLANK(C555)=0,VLOOKUP(C555,Locks!A:E,5,FALSE),\"\")","v":""}]
[null,{"$f":"IF(COUNTBLANK(A556)=0,VLOOKUP(A556,Users!A:E,5,FALSE),\"\")","v":""},null,{"$f":"IF(COUNTBLANK(C556)=0,VLOOKUP(C556,Locks!A:D,4,FALSE),\"\")","v":""},{"$f":"IF(COUNTBLANK(C556)=0,VLOOKUP(C556,Locks!A:E,5,FALSE),\"\")","v":""}]
[null,{"$f":"IF(COUNTBLANK(A557)=0,VLOOKUP(A557,Users!A:E,5,FALSE),\"\")","v":""},null,{"$f":"IF(COUNTBLANK(C557)=0,VLOOKUP(C557,Locks!A:D,4,FALSE),\"\")","v":""},{"$f":"IF(COUNTBLANK(C557)=0,VLOOKUP(C557,Locks!A:E,5,FALSE),\"\")","v":""}]
[null,{"$f":"IF(COUNTBLANK(A558)=0,VLOOKUP(A558,Users!A:E,5,FALSE),\"\")","v":""},null,{"$f":"IF(COUNTBLANK(C558)=0,VLOOKUP(C558,Locks!A:D,4,FALSE),\"\")","v":""},{"$f":"IF(COUNTBLANK(C558)=0,VLOOKUP(C558,Locks!A:E,5,FALSE),\"\")","v":""}]
[null,{"$f":"IF(COUNTBLANK(A559)=0,VLOOKUP(A559,Users!A:E,5,FALSE),\"\")","v":""},null,{"$f":"IF(COUNTBLANK(C559)=0,VLOOKUP(C559,Locks!A:D,4,FALSE),\"\")","v":""},{"$f":"IF(COUNTBLANK(C559)=0,VLOOKUP(C559,Locks!A:E,5,FALSE),\"\")","v":""}]
[null,{"$f":"IF(COUNTBLANK(A560)=0,VLOOKUP(A560,Users!A:E,5,FALSE),\"\")","v":""},null,{"$f":"IF(COUNTBLANK(C560)=0,VLOOKUP(C560,Locks!A:D,4,FALSE),\"\")","v":""},{"$f":"IF(COUNTBLANK(C560)=0,VLOOKUP(C560,Locks!A:E,5,FALSE),\"\")","v":""}]
[null,{"$f":"IF(COUNTBLANK(A561)=0,VLOOKUP(A561,Users!A:E,5,FALSE),\"\")","v":""},null,{"$f":"IF(COUNTBLANK(C561)=0,VLOOKUP(C561,Locks!A:D,4,FALSE),\"\")","v":""},{"$f":"IF(COUNTBLANK(C561)=0,VLOOKUP(C561,Locks!A:E,5,FALSE),\"\")","v":""}]
[null,{"$f":"IF(COUNTBLANK(A562)=0,VLOOKUP(A562,Users!A:E,5,FALSE),\"\")","v":""},null,{"$f":"IF(COUNTBLANK(C562)=0,VLOOKUP(C562,Locks!A:D,4,FALSE),\"\")","v":""},{"$f":"IF(COUNTBLANK(C562)=0,VLOOKUP(C562,Locks!A:E,5,FALSE),\"\")","v":""}]
[null,{"$f":"IF(COUNTBLANK(A563)=0,VLOOKUP(A563,Users!A:E,5,FALSE),\"\")","v":""},null,{"$f":"IF(COUNTBLANK(C563)=0,VLOOKUP(C563,Locks!A:D,4,FALSE),\"\")","v":""},{"$f":"IF(COUNTBLANK(C563)=0,VLOOKUP(C563,Locks!A:E,5,FALSE),\"\")","v":""}]
[null,{"$f":"IF(COUNTBLANK(A564)=0,VLOOKUP(A564,Users!A:E,5,FALSE),\"\")","v":""},null,{"$f":"IF(COUNTBLANK(C564)=0,VLOOKUP(C564,Locks!A:D,4,FALSE),\"\")","v":""},{"$f":"IF(COUNTBLANK(C564)=0,VLOOKUP(C564,Locks!A:E,5,FALSE),\"\")","v":""}]
[null,{"$f":"IF(COUNTBLANK(A565)=0,VLOOKUP(A565,Users!A:E,5,FALSE),\"\")","v":""},null,{"$f":"IF(COUNTBLANK(C565)=0,VLOOKUP(C565,Locks!A:D,4,FALSE),\"\")","v":""},{"$f":"IF(COUNTBLANK(C565)=0,VLOOKUP(C565,Locks!A:E,5,FALSE),\"\")","v":""}]
[null,{"$f":"IF(COUNTBLANK(A566)=0,VLOOKUP(A566,Users!A:E,5,FALSE),\"\")","v":""},null,{"$f":"IF(COUNTBLANK(C566)=0,VLOOKUP(C566,Locks!A:D,4,FALSE),\"\")","v":""},{"$f":"IF(COUNTBLANK(C566)=0,VLOOKUP(C566,Locks!A:E,5,FALSE),\"\")","v":""}]
[null,{"$f":"IF(COUNTBLANK(A567)=0,VLOOKUP(A567,Users!A:E,5,FALSE),\"\")","v":""},null,{"$f":"IF(COUNTBLANK(C567)=0,VLOOKUP(C567,Locks!A:D,4,FALSE),\"\")","v":""},{"$f":"IF(COUNTBLANK(C567)=0,VLOOKUP(C567,Locks!A:E,5,FALSE),\"\")","v":""}]
[null,{"$f":"IF(COUNTBLANK(A568)=0,VLOOKUP(A568,Users!A:E,5,FALSE),\"\")","v":""},null,{"$f":"IF(COUNTBLANK(C568)=0,VLOOKUP(C568,Locks!A:D,4,FALSE),\"\")","v":""},{"$f":"IF(COUNTBLANK(C568)=0,VLOOKUP(C568,Locks!A:E,5,FALSE),\"\")","v":""}]
[null,{"$f":"IF(COUNTBLANK(A569)=0,VLOOKUP(A569,Users!A:E,5,FALSE),\"\")","v":""},null,{"$f":"IF(COUNTBLANK(C569)=0,VLOOKUP(C569,Locks!A:D,4,FALSE),\"\")","v":""},{"$f":"IF(COUNTBLANK(C569)=0,VLOOKUP(C569,Locks!A:E,5,FALSE),\"\")","v":""}]
[null,{"$f":"IF(COUNTBLANK(A570)=0,VLOOKUP(A570,Users!A:E,5,FALSE),\"\")","v":""},null,{"$f":"IF(COUNTBLANK(C570)=0,VLOOKUP(C570,Locks!A:D,4,FALSE),\"\")","v":""},{"$f":"IF(COUNTBLANK(C570)=0,VLOOKUP(C570,Locks!A:E,5,FALSE),\"\")","v":""}]
[null,{"$f":"IF(COUNTBLANK(A571)=0,VLOOKUP(A571,Users!A:E,5,FALSE),\"\")","v":""},null,{"$f":"IF(COUNTBLANK(C571)=0,VLOOKUP(C571,Locks!A:D,4,FALSE),\"\")","v":""},{"$f":"IF(COUNTBLANK(C571)=0,VLOOKUP(C571,Locks!A:E,5,FALSE),\"\")","v":""}]
[null,{"$f":"IF(COUNTBLANK(A572)=0,VLOOKUP(A572,Users!A:E,5,FALSE),\"\")","v":""},null,{"$f":"IF(COUNTBLANK(C572)=0,VLOOKUP(C572,Locks!A:D,4,FALSE),\"\")","v":""},{"$f":"IF(COUNTBLANK(C572)=0,VLOOKUP(C572,Locks!A:E,5,FALSE),\"\")","v":""}]
[null,{"$f":"IF(COUNTBLANK(A573)=0,VLOOKUP(A573,Users!A:E,5,FALSE),\"\")","v":""},null,{"$f":"IF(COUNTBLANK(C573)=0,VLOOKUP(C573,Locks!A:D,4,FALSE),\"\")","v":""},{"$f":"IF(COUNTBLANK(C573)=0,VLOOKUP(C573,Locks!A:E,5,FALSE),\"\")","v":""}]
[null,{"$f":"IF(COUNTBLANK(A574)=0,VLOOKUP(A574,Users!A:E,5,FALSE),\"\")","v":""},null,{"$f":"IF(COUNTBLANK(C574)=0,VLOOKUP(C574,Locks!A:D,4,FALSE),\"\")","v":""},{"$f":"IF(COUNTBLANK(C574)=0,VLOOKUP(C574,Locks!A:E,5,FALSE),\"\")","v":""}]
[null,{"$f":"IF(COUNTBLANK(A575)=0,VLOOKUP(A575,Users!A:E,5,FALSE),\"\")","v":""},null,{"$f":"IF(COUNTBLANK(C575)=0,VLOOKUP(C575,Locks!A:D,4,FALSE),\"\")","v":""},{"$f":"IF(COUNTBLANK(C575)=0,VLOOKUP(C575,Locks!A:E,5,FALSE),\"\")","v":""}]
[null,{"$f":"IF(COUNTBLANK(A576)=0,VLOOKUP(A576,Users!A:E,5,FALSE),\"\")","v":""},null,{"$f":"IF(COUNTBLANK(C576)=0,VLOOKUP(C576,Locks!A:D,4,FALSE),\"\")","v":""},{"$f":"IF(COUNTBLANK(C576)=0,VLOOKUP(C576,Locks!A:E,5,FALSE),\"\")","v":""}]
[null,{"$f":"IF(COUNTBLANK(A577)=0,VLOOKUP(A577,Users!A:E,5,FALSE),\"\")","v":""},null,{"$f":"IF(COUNTBLANK(C577)=0,VLOOKUP(C577,Locks!A:D,4,FALSE),\"\")","v":""},{"$f":"IF(COUNTBLANK(C577)=0,VLOOKUP(C577,Locks!A:E,5,FALSE),\"\")","v":""}]
[null,{"$f":"IF(COUNTBLANK(A578)=0,VLOOKUP(A578,Users!A:E,5,FALSE),\"\")","v":""},null,{"$f":"IF(COUNTBLANK(C578)=0,VLOOKUP(C578,Locks!A:D,4,FALSE),\"\")","v":""},{"$f":"IF(COUNTBLANK(C578)=0,VLOOKUP(C578,Locks!A:E,5,FALSE),\"\")","v":""}]
[null,{"$f":"IF(COUNTBLANK(A579)=0,VLOOKUP(A579,Users!A:E,5,FALSE),\"\")","v":""},null,{"$f":"IF(COUNTBLANK(C579)=0,VLOOKUP(C579,Locks!A:D,4,FALSE),\"\")","v":""},{"$f":"IF(COUNTBLANK(C579)=0,VLOOKUP(C579,Locks!A:E,5,FALSE),\"\")","v":""}]
[null,{"$f":"IF(COUNTBLANK(A580)=0,VLOOKUP(A580,Users!A:E,5,FALSE),\"\")","v":""},null,{"$f":"IF(COUNTBLANK(C580)=0,VLOOKUP(C580,Locks!A:D,4,FALSE),\"\")","v":""},{"$f":"IF(COUNTBLANK(C580)=0,VLOOKUP(C580,Locks!A:E,5,FALSE),\"\")","v":""}]
[null,{"$f":"IF(COUNTBLANK(A581)=0,VLOOKUP(A581,Users!A:E,5,FALSE),\"\")","v":""},null,{"$f":"IF(COUNTBLANK(C581)=0,VLOOKUP(C581,Locks!A:D,4,FALSE),\"\")","v":""},{"$f":"IF(COUNTBLANK(C581)=0,VLOOKUP(C581,Locks!A:E,5,FALSE),\"\")","v":""}]
[null,{"$f":"IF(COUNTBLANK(A582)=0,VLOOKUP(A582,Users!A:E,5,FALSE),\"\")","v":""},null,{"$f":"IF(COUNTBLANK(C582)=0,VLOOKUP(C582,Locks!A:D,4,FALSE),\"\")","v":""},{"$f":"IF(COUNTBLANK(C582)=0,VLOOKUP(C582,Locks!A:E,5,FALSE),\"\")","v":""}]
[null,{"$f":"IF(COUNTBLANK(A583)=0,VLOOKUP(A583,Users!A:E,5,FALSE),\"\")","v":""},null,{"$f":"IF(COUNTBLANK(C583)=0,VLOOKUP(C583,Locks!A:D,4,FALSE),\"\")","v":""},{"$f":"IF(COUNTBLANK(C583)=0,VLOOKUP(C583,Locks!A:E,5,FALSE),\"\")","v":""}]
[null,{"$f":"IF(COUNTBLANK(A584)=0,VLOOKUP(A584,Users!A:E,5,FALSE),\"\")","v":""},null,{"$f":"IF(COUNTBLANK(C584)=0,VLOOKUP(C584,Locks!A:D,4,FALSE),\"\")","v":""},{"$f":"IF(COUNTBLANK(C584)=0,VLOOKUP(C584,Locks!A:E,5,FALSE),\"\")","v":""}]
[null,{"$f":"IF(COUNTBLANK(A585)=0,VLOOKUP(A585,Users!A:E,5,FALSE),\"\")","v":""},null,{"$f":"IF(COUNTBLANK(C585)=0,VLOOKUP(C585,Locks!A:D,4,FALSE),\"\")","v":""},{"$f":"IF(COUNTBLANK(C585)=0,VLOOKUP(C585,Locks!A:E,5,FALSE),\"\")","v":""}]
[null,{"$f":"IF(COUNTBLANK(A586)=0,VLOOKUP(A586,Users!A:E,5,FALSE),\"\")","v":""},null,{"$f":"IF(COUNTBLANK(C586)=0,VLOOKUP(C586,Locks!A:D,4,FALSE),\"\")","v":""},{"$f":"IF(COUNTBLANK(C586)=0,VLOOKUP(C586,Locks!A:E,5,FALSE),\"\")","v":""}]
[null,{"$f":"IF(COUNTBLANK(A587)=0,VLOOKUP(A587,Users!A:E,5,FALSE),\"\")","v":""},null,{"$f":"IF(COUNTBLANK(C587)=0,VLOOKUP(C587,Locks!A:D,4,FALSE),\"\")","v":""},{"$f":"IF(COUNTBLANK(C587)=0,VLOOKUP(C587,Locks!A:E,5,FALSE),\"\")","v":""}]
[null,{"$f":"IF(COUNTBLANK(A588)=0,VLOOKUP(A588,Users!A:E,5,FALSE),\"\")","v":""},null,{"$f":"IF(COUNTBLANK(C588)=0,VLOOKUP(C588,Locks!A:D,4,FALSE),\"\")","v":""},{"$f":"IF(COUNTBLANK(C588)=0,VLOOKUP(C588,Locks!A:E,5,FALSE),\"\")","v":""}]
[null,{"$f":"IF(COUNTBLANK(A589)=0,VLOOKUP(A589,Users!A:E,5,FALSE),\"\")","v":""},null,{"$f":"IF(COUNTBLANK(C589)=0,VLOOKUP(C589,Locks!A:D,4,FALSE),\"\")","v":""},{"$f":"IF(COUNTBLANK(C589)=0,VLOOKUP(C589,Locks!A:E,5,FALSE),\"\")","v":""}]
[null,{"$f":"IF(COUNTBLANK(A590)=0,VLOOKUP(A590,Users!A:E,5,FALSE),\"\")","v":""},null,{"$f":"IF(COUNTBLANK(C590)=0,VLOOKUP(C590,Locks!A:D,4,FALSE),\"\")","v":""},{"$f":"IF(COUNTBLANK(C590)=0,VLOOKUP(C590,Locks!A:E,5,FALSE),\"\")","v":""}]
[null,{"$f":"IF(COUNTBLANK(A591)=0,VLOOKUP(A591,Users!A:E,5,FALSE),\"\")","v":""},null,{"$f":"IF(COUNTBLANK(C591)=0,VLOOKUP(C591,Locks!A:D,4,FALSE),\"\")","v":""},{"$f":"IF(COUNTBLANK(C591)=0,VLOOKUP(C591,Locks!A:E,5,FALSE),\"\")","v":""}]
[null,{"$f":"IF(COUNTBLANK(A592)=0,VLOOKUP(A592,Users!A:E,5,FALSE),\"\")","v":""},null,{"$f":"IF(COUNTBLANK(C592)=0,VLOOKUP(C592,Locks!A:D,4,FALSE),\"\")","v":""},{"$f":"IF(COUNTBLANK(C592)=0,VLOOKUP(C592,Locks!A:E,5,FALSE),\"\")","v":""}]
[null,{"$f":"IF(COUNTBLANK(A593)=0,VLOOKUP(A593,Users!A:E,5,FALSE),\"\")","v":""},null,{"$f":"IF(COUNTBLANK(C593)=0,VLOOKUP(C593,Locks!A:D,4,FALSE),\"\")","v":""},{"$f":"IF(COUNTBLANK(C593)=0,VLOOKUP(C593,Locks!A:E,5,FALSE),\"\")","v":""}]
[null,{"$f":"IF(COUNTBLANK(A594)=0,VLOOKUP(A594,Users!A:E,5,FALSE),\"\")","v":""},null,{"$f":"IF(COUNTBLANK(C594)=0,VLOOKUP(C594,Locks!A:D,4,FALSE),\"\")","v":""},{"$f":"IF(COUNTBLANK(C594)=0,VLOOKUP(C594,Locks!A:E,5,FALSE),\"\")","v":""}]
[null,{"$f":"IF(COUNTBLANK(A595)=0,VLOOKUP(A595,Users!A:E,5,FALSE),\"\")","v":""},null,{"$f":"IF(COUNTBLANK(C595)=0,VLOOKUP(C595,Locks!A:D,4,FALSE),\"\")","v":""},{"$f":"IF(COUNTBLANK(C595)=0,VLOOKUP(C595,Locks!A:E,5,FALSE),\"\")","v":""}]
[null,{"$f":"IF(COUNTBLANK(A596)=0,VLOOKUP(A596,Users!A:E,5,FALSE),\"\")","v":""},null,{"$f":"IF(COUNTBLANK(C596)=0,VLOOKUP(C596,Locks!A:D,4,FALSE),\"\")","v":""},{"$f":"IF(COUNTBLANK(C596)=0,VLOOKUP(C596,Locks!A:E,5,FALSE),\"\")","v":""}]
[null,{"$f":"IF(COUNTBLANK(A597)=0,VLOOKUP(A597,Users!A:E,5,FALSE),\"\")","v":""},null,{"$f":"IF(COUNTBLANK(C597)=0,VLOOKUP(C597,Locks!A:D,4,FALSE),\"\")","v":""},{"$f":"IF(COUNTBLANK(C597)=0,VLOOKUP(C597,Locks!A:E,5,FALSE),\"\")","v":""}]
[null,{"$f":"IF(COUNTBLANK(A598)=0,VLOOKUP(A598,Users!A:E,5,FALSE),\"\")","v":""},null,{"$f":"IF(COUNTBLANK(C598)=0,VLOOKUP(C598,Locks!A:D,4,FALSE),\"\")","v":""},{"$f":"IF(COUNTBLANK(C598)=0,VLOOKUP(C598,Locks!A:E,5,FALSE),\"\")","v":""}]
[null,{"$f":"IF(COUNTBLANK(A599)=0,VLOOKUP(A599,Users!A:E,5,FALSE),\"\")","v":""},null,{"$f":"IF(COUNTBLANK(C599)=0,VLOOKUP(C599,Locks!A:D,4,FALSE),\"\")","v":""},{"$f":"IF(COUNTBLANK(C599)=0,VLOOKUP(C599,Locks!A:E,5,FALSE),\"\")","v":""}]
[null,{"$f":"IF(COUNTBLANK(A600)=0,VLOOKUP(A600,Users!A:E,5,FALSE),\"\")","v":""},null,{"$f":"IF(COUNTBLANK(C600)=0,VLOOKUP(C600,Locks!A:D,4,FALSE),\"\")","v":""},{"$f":"IF(COUNTBLANK(C600)=0,VLOOKUP(C600,Locks!A:E,5,FALSE),\"\")","v":""}]
[null,{"$f":"IF(COUNTBLANK(A601)=0,VLOOKUP(A601,Users!A:E,5,FALSE),\"\")","v":""},null,{"$f":"IF(COUNTBLANK(C601)=0,VLOOKUP(C601,Locks!A:D,4,FALSE),\"\")","v":""},{"$f":"IF(COUNTBLANK(C601)=0,VLOOKUP(C601,Locks!A:E,5,FALSE),\"\")","v":""}]
[null,{"$f":"IF(COUNTBLANK(A602)=0,VLOOKUP(A602,Users!A:E,5,FALSE),\"\")","v":""},null,{"$f":"IF(COUNTBLANK(C602)=0,VLOOKUP(C602,Locks!A:D,4,FALSE),\"\")","v":""},{"$f":"IF(COUNTBLANK(C602)=0,VLOOKUP(C602,Locks!A:E,5,FALSE),\"\")","v":""}]
[null,{"$f":"IF(COUNTBLANK(A603)=0,VLOOKUP(A603,Users!A:E,5,FALSE),\"\")","v":""},null,{"$f":"IF(COUNTBLANK(C603)=0,VLOOKUP(C603,Locks!A:D,4,FALSE),\"\")","v":""},{"$f":"IF(COUNTBLANK(C603)=0,VLOOKUP(C603,Locks!A:E,5,FALSE),\"\")","v":""}]
[null,{"$f":"IF(COUNTBLANK(A604)=0,VLOOKUP(A604,Users!A:E,5,FALSE),\"\")","v":""},null,{"$f":"IF(COUNTBLANK(C604)=0,VLOOKUP(C604,Locks!A:D,4,FALSE),\"\")","v":""},{"$f":"IF(COUNTBLANK(C604)=0,VLOOKUP(C604,Locks!A:E,5,FALSE),\"\")","v":""}]
[null,{"$f":"IF(COUNTBLANK(A605)=0,VLOOKUP(A605,Users!A:E,5,FALSE),\"\")","v":""},null,{"$f":"IF(COUNTBLANK(C605)=0,VLOOKUP(C605,Locks!A:D,4,FALSE),\"\")","v":""},{"$f":"IF(COUNTBLANK(C605)=0,VLOOKUP(C605,Locks!A:E,5,FALSE),\"\")","v":""}]
[null,{"$f":"IF(COUNTBLANK(A606)=0,VLOOKUP(A606,Users!A:E,5,FALSE),\"\")","v":""},null,{"$f":"IF(COUNTBLANK(C606)=0,VLOOKUP(C606,Locks!A:D,4,FALSE),\"\")","v":""},{"$f":"IF(COUNTBLANK(C606)=0,VLOOKUP(C606,Locks!A:E,5,FALSE),\"\")","v":""}]
[null,{"$f":"IF(COUNTBLANK(A607)=0,VLOOKUP(A607,Users!A:E,5,FALSE),\"\")","v":""},null,{"$f":"IF(COUNTBLANK(C607)=0,VLOOKUP(C607,Locks!A:D,4,FALSE),\"\")","v":""},{"$f":"IF(COUNTBLANK(C607)=0,VLOOKUP(C607,Locks!A:E,5,FALSE),\"\")","v":""}]
[null,{"$f":"IF(COUNTBLANK(A608)=0,VLOOKUP(A608,Users!A:E,5,FALSE),\"\")","v":""},null,{"$f":"IF(COUNTBLANK(C608)=0,VLOOKUP(C608,Locks!A:D,4,FALSE),\"\")","v":""},{"$f":"IF(COUNTBLANK(C608)=0,VLOOKUP(C608,Locks!A:E,5,FALSE),\"\")","v":""}]
[null,{"$f":"IF(COUNTBLANK(A609)=0,VLOOKUP(A609,Users!A:E,5,FALSE),\"\")","v":""},null,{"$f":"IF(COUNTBLANK(C609)=0,VLOOKUP(C609,Locks!A:D,4,FALSE),\"\")","v":""},{"$f":"IF(COUNTBLANK(C609)=0,VLOOKUP(C609,Locks!A:E,5,FALSE),\"\")","v":""}]
[null,{"$f":"IF(COUNTBLANK(A610)=0,VLOOKUP(A610,Users!A:E,5,FALSE),\"\")","v":""},null,{"$f":"IF(COUNTBLANK(C610)=0,VLOOKUP(C610,Locks!A:D,4,FALSE),\"\")","v":""},{"$f":"IF(COUNTBLANK(C610)=0,VLOOKUP(C610,Locks!A:E,5,FALSE),\"\")","v":""}]
[null,{"$f":"IF(COUNTBLANK(A611)=0,VLOOKUP(A611,Users!A:E,5,FALSE),\"\")","v":""},null,{"$f":"IF(COUNTBLANK(C611)=0,VLOOKUP(C611,Locks!A:D,4,FALSE),\"\")","v":""},{"$f":"IF(COUNTBLANK(C611)=0,VLOOKUP(C611,Locks!A:E,5,FALSE),\"\")","v":""}]
[null,{"$f":"IF(COUNTBLANK(A612)=0,VLOOKUP(A612,Users!A:E,5,FALSE),\"\")","v":""},null,{"$f":"IF(COUNTBLANK(C612)=0,VLOOKUP(C612,Locks!A:D,4,FALSE),\"\")","v":""},{"$f":"IF(COUNTBLANK(C612)=0,VLOOKUP(C612,Locks!A:E,5,FALSE),\"\")","v":""}]
[null,{"$f":"IF(COUNTBLANK(A613)=0,VLOOKUP(A613,Users!A:E,5,FALSE),\"\")","v":""},null,{"$f":"IF(COUNTBLANK(C613)=0,VLOOKUP(C613,Locks!A:D,4,FALSE),\"\")","v":""},{"$f":"IF(COUNTBLANK(C613)=0,VLOOKUP(C613,Locks!A:E,5,FALSE),\"\")","v":""}]
[null,{"$f":"IF(COUNTBLANK(A614)=0,VLOOKUP(A614,Users!A:E,5,FALSE),\"\")","v":""},null,{"$f":"IF(COUNTBLANK(C614)=0,VLOOKUP(C614,Locks!A:D,4,FALSE),\"\")","v":""},{"$f":"IF(COUNTBLANK(C614)=0,VLOOKUP(C614,Locks!A:E,5,FALSE),\"\")","v":""}]
[null,{"$f":"IF(COUNTBLANK(A615)=0,VLOOKUP(A615,Users!A:E,5,FALSE),\"\")","v":""},null,{"$f":"IF(COUNTBLANK(C615)=0,VLOOKUP(C615,Locks!A:D,4,FALSE),\"\")","v":""},{"$f":"IF(COUNTBLANK(C615)=0,VLOOKUP(C615,Locks!A:E,5,FALSE),\"\")","v":""}]
[null,{"$f":"IF(COUNTBLANK(A616)=0,VLOOKUP(A616,Users!A:E,5,FALSE),\"\")","v":""},null,{"$f":"IF(COUNTBLANK(C616)=0,VLOOKUP(C616,Locks!A:D,4,FALSE),\"\")","v":""},{"$f":"IF(COUNTBLANK(C616)=0,VLOOKUP(C616,Locks!A:E,5,FALSE),\"\")","v":""}]
[null,{"$f":"IF(COUNTBLANK(A617)=0,VLOOKUP(A617,Users!A:E,5,FALSE),\"\")","v":""},null,{"$f":"IF(COUNTBLANK(C617)=0,VLOOKUP(C617,Locks!A:D,4,FALSE),\"\")","v":""},{"$f":"IF(COUNTBLANK(C617)=0,VLOOKUP(C617,Locks!A:E,5,FALSE),\"\")","v":""}]
[null,{"$f":"IF(COUNTBLANK(A618)=0,VLOOKUP(A618,Users!A:E,5,FALSE),\"\")","v":""},null,{"$f":"IF(COUNTBLANK(C618)=0,VLOOKUP(C618,Locks!A:D,4,FALSE),\"\")","v":""},{"$f":"IF(COUNTBLANK(C618)=0,VLOOKUP(C618,Locks!A:E,5,FALSE),\"\")","v":""}]
[null,{"$f":"IF(COUNTBLANK(A619)=0,VLOOKUP(A619,Users!A:E,5,FALSE),\"\")","v":""},null,{"$f":"IF(COUNTBLANK(C619)=0,VLOOKUP(C619,Locks!A:D,4,FALSE),\"\")","v":""},{"$f":"IF(COUNTBLANK(C619)=0,VLOOKUP(C619,Locks!A:E,5,FALSE),\"\")","v":""}]
[null,{"$f":"IF(COUNTBLANK(A620)=0,VLOOKUP(A620,Users!A:E,5,FALSE),\"\")","v":""},null,{"$f":"IF(COUNTBLANK(C620)=0,VLOOKUP(C620,Locks!A:D,4,FALSE),\"\")","v":""},{"$f":"IF(COUNTBLANK(C620)=0,VLOOKUP(C620,Locks!A:E,5,FALSE),\"\")","v":""}]
[null,{"$f":"IF(COUNTBLANK(A621)=0,VLOOKUP(A621,Users!A:E,5,FALSE),\"\")","v":""},null,{"$f":"IF(COUNTBLANK(C621)=0,VLOOKUP(C621,Locks!A:D,4,FALSE),\"\")","v":""},{"$f":"IF(COUNTBLANK(C621)=0,VLOOKUP(C621,Locks!A:E,5,FALSE),\"\")","v":""}]
[null,{"$f":"IF(COUNTBLANK(A622)=0,VLOOKUP(A622,Users!A:E,5,FALSE),\"\")","v":""},null,{"$f":"IF(COUNTBLANK(C622)=0,VLOOKUP(C622,Locks!A:D,4,FALSE),\"\")","v":""},{"$f":"IF(COUNTBLANK(C622)=0,VLOOKUP(C622,Locks!A:E,5,FALSE),\"\")","v":""}]
[null,{"$f":"IF(COUNTBLANK(A623)=0,VLOOKUP(A623,Users!A:E,5,FALSE),\"\")","v":""},null,{"$f":"IF(COUNTBLANK(C623)=0,VLOOKUP(C623,Locks!A:D,4,FALSE),\"\")","v":""},{"$f":"IF(COUNTBLANK(C623)=0,VLOOKUP(C623,Locks!A:E,5,FALSE),\"\")","v":""}]
[null,{"$f":"IF(COUNTBLANK(A624)=0,VLOOKUP(A624,Users!A:E,5,FALSE),\"\")","v":""},null,{"$f":"IF(COUNTBLANK(C624)=0,VLOOKUP(C624,Locks!A:D,4,FALSE),\"\")","v":""},{"$f":"IF(COUNTBLANK(C624)=0,VLOOKUP(C624,Locks!A:E,5,FALSE),\"\")","v":""}]
[null,{"$f":"IF(COUNTBLANK(A625)=0,VLOOKUP(A625,Users!A:E,5,FALSE),\"\")","v":""},null,{"$f":"IF(COUNTBLANK(C625)=0,VLOOKUP(C625,Locks!A:D,4,FALSE),\"\")","v":""},{"$f":"IF(COUNTBLANK(C625)=0,VLOOKUP(C625,Locks!A:E,5,FALSE),\"\")","v":""}]
[null,{"$f":"IF(COUNTBLANK(A626)=0,VLOOKUP(A626,Users!A:E,5,FALSE),\"\")","v":""},null,{"$f":"IF(COUNTBLANK(C626)=0,VLOOKUP(C626,Locks!A:D,4,FALSE),\"\")","v":""},{"$f":"IF(COUNTBLANK(C626)=0,VLOOKUP(C626,Locks!A:E,5,FALSE),\"\")","v":""}]
[null,{"$f":"IF(COUNTBLANK(A627)=0,VLOOKUP(A627,Users!A:E,5,FALSE),\"\")","v":""},null,{"$f":"IF(COUNTBLANK(C627)=0,VLOOKUP(C627,Locks!A:D,4,FALSE),\"\")","v":""},{"$f":"IF(COUNTBLANK(C627)=0,VLOOKUP(C627,Locks!A:E,5,FALSE),\"\")","v":""}]
[null,{"$f":"IF(COUNTBLANK(A628)=0,VLOOKUP(A628,Users!A:E,5,FALSE),\"\")","v":""},null,{"$f":"IF(COUNTBLANK(C628)=0,VLOOKUP(C628,Locks!A:D,4,FALSE),\"\")","v":""},{"$f":"IF(COUNTBLANK(C628)=0,VLOOKUP(C628,Locks!A:E,5,FALSE),\"\")","v":""}]
[null,{"$f":"IF(COUNTBLANK(A629)=0,VLOOKUP(A629,Users!A:E,5,FALSE),\"\")","v":""},null,{"$f":"IF(COUNTBLANK(C629)=0,VLOOKUP(C629,Locks!A:D,4,FALSE),\"\")","v":""},{"$f":"IF(COUNTBLANK(C629)=0,VLOOKUP(C629,Locks!A:E,5,FALSE),\"\")","v":""}]
[null,{"$f":"IF(COUNTBLANK(A630)=0,VLOOKUP(A630,Users!A:E,5,FALSE),\"\")","v":""},null,{"$f":"IF(COUNTBLANK(C630)=0,VLOOKUP(C630,Locks!A:D,4,FALSE),\"\")","v":""},{"$f":"IF(COUNTBLANK(C630)=0,VLOOKUP(C630,Locks!A:E,5,FALSE),\"\")","v":""}]
[null,{"$f":"IF(COUNTBLANK(A631)=0,VLOOKUP(A631,Users!A:E,5,FALSE),\"\")","v":""},null,{"$f":"IF(COUNTBLANK(C631)=0,VLOOKUP(C631,Locks!A:D,4,FALSE),\"\")","v":""},{"$f":"IF(COUNTBLANK(C631)=0,VLOOKUP(C631,Locks!A:E,5,FALSE),\"\")","v":""}]
[null,{"$f":"IF(COUNTBLANK(A632)=0,VLOOKUP(A632,Users!A:E,5,FALSE),\"\")","v":""},null,{"$f":"IF(COUNTBLANK(C632)=0,VLOOKUP(C632,Locks!A:D,4,FALSE),\"\")","v":""},{"$f":"IF(COUNTBLANK(C632)=0,VLOOKUP(C632,Locks!A:E,5,FALSE),\"\")","v":""}]
[null,{"$f":"IF(COUNTBLANK(A633)=0,VLOOKUP(A633,Users!A:E,5,FALSE),\"\")","v":""},null,{"$f":"IF(COUNTBLANK(C633)=0,VLOOKUP(C633,Locks!A:D,4,FALSE),\"\")","v":""},{"$f":"IF(COUNTBLANK(C633)=0,VLOOKUP(C633,Locks!A:E,5,FALSE),\"\")","v":""}]
[null,{"$f":"IF(COUNTBLANK(A634)=0,VLOOKUP(A634,Users!A:E,5,FALSE),\"\")","v":""},null,{"$f":"IF(COUNTBLANK(C634)=0,VLOOKUP(C634,Locks!A:D,4,FALSE),\"\")","v":""},{"$f":"IF(COUNTBLANK(C634)=0,VLOOKUP(C634,Locks!A:E,5,FALSE),\"\")","v":""}]
[null,{"$f":"IF(COUNTBLANK(A635)=0,VLOOKUP(A635,Users!A:E,5,FALSE),\"\")","v":""},null,{"$f":"IF(COUNTBLANK(C635)=0,VLOOKUP(C635,Locks!A:D,4,FALSE),\"\")","v":""},{"$f":"IF(COUNTBLANK(C635)=0,VLOOKUP(C635,Locks!A:E,5,FALSE),\"\")","v":""}]
[null,{"$f":"IF(COUNTBLANK(A636)=0,VLOOKUP(A636,Users!A:E,5,FALSE),\"\")","v":""},null,{"$f":"IF(COUNTBLANK(C636)=0,VLOOKUP(C636,Locks!A:D,4,FALSE),\"\")","v":""},{"$f":"IF(COUNTBLANK(C636)=0,VLOOKUP(C636,Locks!A:E,5,FALSE),\"\")","v":""}]
[null,{"$f":"IF(COUNTBLANK(A637)=0,VLOOKUP(A637,Users!A:E,5,FALSE),\"\")","v":""},null,{"$f":"IF(COUNTBLANK(C637)=0,VLOOKUP(C637,Locks!A:D,4,FALSE),\"\")","v":""},{"$f":"IF(COUNTBLANK(C637)=0,VLOOKUP(C637,Locks!A:E,5,FALSE),\"\")","v":""}]
[null,{"$f":"IF(COUNTBLANK(A638)=0,VLOOKUP(A638,Users!A:E,5,FALSE),\"\")","v":""},null,{"$f":"IF(COUNTBLANK(C638)=0,VLOOKUP(C638,Locks!A:D,4,FALSE),\"\")","v":""},{"$f":"IF(COUNTBLANK(C638)=0,VLOOKUP(C638,Locks!A:E,5,FALSE),\"\")","v":""}]
[null,{"$f":"IF(COUNTBLANK(A639)=0,VLOOKUP(A639,Users!A:E,5,FALSE),\"\")","v":""},null,{"$f":"IF(COUNTBLANK(C639)=0,VLOOKUP(C639,Locks!A:D,4,FALSE),\"\")","v":""},{"$f":"IF(COUNTBLANK(C639)=0,VLOOKUP(C639,Locks!A:E,5,FALSE),\"\")","v":""}]
[null,{"$f":"IF(COUNTBLANK(A640)=0,VLOOKUP(A640,Users!A:E,5,FALSE),\"\")","v":""},null,{"$f":"IF(COUNTBLANK(C640)=0,VLOOKUP(C640,Locks!A:D,4,FALSE),\"\")","v":""},{"$f":"IF(COUNTBLANK(C640)=0,VLOOKUP(C640,Locks!A:E,5,FALSE),\"\")","v":""}]
[null,{"$f":"IF(COUNTBLANK(A641)=0,VLOOKUP(A641,Users!A:E,5,FALSE),\"\")","v":""},null,{"$f":"IF(COUNTBLANK(C641)=0,VLOOKUP(C641,Locks!A:D,4,FALSE),\"\")","v":""},{"$f":"IF(COUNTBLANK(C641)=0,VLOOKUP(C641,Locks!A:E,5,FALSE),\"\")","v":""}]
[null,{"$f":"IF(COUNTBLANK(A642)=0,VLOOKUP(A642,Users!A:E,5,FALSE),\"\")","v":""},null,{"$f":"IF(COUNTBLANK(C642)=0,VLOOKUP(C642,Locks!A:D,4,FALSE),\"\")","v":""},{"$f":"IF(COUNTBLANK(C642)=0,VLOOKUP(C642,Locks!A:E,5,FALSE),\"\")","v":""}]
[null,{"$f":"IF(COUNTBLANK(A643)=0,VLOOKUP(A643,Users!A:E,5,FALSE),\"\")","v":""},null,{"$f":"IF(COUNTBLANK(C643)=0,VLOOKUP(C643,Locks!A:D,4,FALSE),\"\")","v":""},{"$f":"IF(COUNTBLANK(C643)=0,VLOOKUP(C643,Locks!A:E,5,FALSE),\"\")","v":""}]
[null,{"$f":"IF(COUNTBLANK(A644)=0,VLOOKUP(A644,Users!A:E,5,FALSE),\"\")","v":""},null,{"$f":"IF(COUNTBLANK(C644)=0,VLOOKUP(C644,Locks!A:D,4,FALSE),\"\")","v":""},{"$f":"IF(COUNTBLANK(C644)=0,VLOOKUP(C644,Locks!A:E,5,FALSE),\"\")","v":""}]
[null,{"$f":"IF(COUNTBLANK(A645)=0,VLOOKUP(A645,Users!A:E,5,FALSE),\"\")","v":""},null,{"$f":"IF(COUNTBLANK(C645)=0,VLOOKUP(C645,Locks!A:D,4,FALSE),\"\")","v":""},{"$f":"IF(COUNTBLANK(C645)=0,VLOOKUP(C645,Locks!A:E,5,FALSE),\"\")","v":""}]
[null,{"$f":"IF(COUNTBLANK(A646)=0,VLOOKUP(A646,Users!A:E,5,FALSE),\"\")","v":""},null,{"$f":"IF(COUNTBLANK(C646)=0,VLOOKUP(C646,Locks!A:D,4,FALSE),\"\")","v":""},{"$f":"IF(COUNTBLANK(C646)=0,VLOOKUP(C646,Locks!A:E,5,FALSE),\"\")","v":""}]
[null,{"$f":"IF(COUNTBLANK(A647)=0,VLOOKUP(A647,Users!A:E,5,FALSE),\"\")","v":""},null,{"$f":"IF(COUNTBLANK(C647)=0,VLOOKUP(C647,Locks!A:D,4,FALSE),\"\")","v":""},{"$f":"IF(COUNTBLANK(C647)=0,VLOOKUP(C647,Locks!A:E,5,FALSE),\"\")","v":""}]
[null,{"$f":"IF(COUNTBLANK(A648)=0,VLOOKUP(A648,Users!A:E,5,FALSE),\"\")","v":""},null,{"$f":"IF(COUNTBLANK(C648)=0,VLOOKUP(C648,Locks!A:D,4,FALSE),\"\")","v":""},{"$f":"IF(COUNTBLANK(C648)=0,VLOOKUP(C648,Locks!A:E,5,FALSE),\"\")","v":""}]
[null,{"$f":"IF(COUNTBLANK(A649)=0,VLOOKUP(A649,Users!A:E,5,FALSE),\"\")","v":""},null,{"$f":"IF(COUNTBLANK(C649)=0,VLOOKUP(C649,Locks!A:D,4,FALSE),\"\")","v":""},{"$f":"IF(COUNTBLANK(C649)=0,VLOOKUP(C649,Locks!A:E,5,FALSE),\"\")","v":""}]
[null,{"$f":"IF(COUNTBLANK(A650)=0,VLOOKUP(A650,Users!A:E,5,FALSE),\"\")","v":""},null,{"$f":"IF(COUNTBLANK(C650)=0,VLOOKUP(C650,Locks!A:D,4,FALSE),\"\")","v":""},{"$f":"IF(COUNTBLANK(C650)=0,VLOOKUP(C650,Locks!A:E,5,FALSE),\"\")","v":""}]
[null,{"$f":"IF(COUNTBLANK(A651)=0,VLOOKUP(A651,Users!A:E,5,FALSE),\"\")","v":""},null,{"$f":"IF(COUNTBLANK(C651)=0,VLOOKUP(C651,Locks!A:D,4,FALSE),\"\")","v":""},{"$f":"IF(COUNTBLANK(C651)=0,VLOOKUP(C651,Locks!A:E,5,FALSE),\"\")","v":""}]
[null,{"$f":"IF(COUNTBLANK(A652)=0,VLOOKUP(A652,Users!A:E,5,FALSE),\"\")","v":""},null,{"$f":"IF(COUNTBLANK(C652)=0,VLOOKUP(C652,Locks!A:D,4,FALSE),\"\")","v":""},{"$f":"IF(COUNTBLANK(C652)=0,VLOOKUP(C652,Locks!A:E,5,FALSE),\"\")","v":""}]
[null,{"$f":"IF(COUNTBLANK(A653)=0,VLOOKUP(A653,Users!A:E,5,FALSE),\"\")","v":""},null,{"$f":"IF(COUNTBLANK(C653)=0,VLOOKUP(C653,Locks!A:D,4,FALSE),\"\")","v":""},{"$f":"IF(COUNTBLANK(C653)=0,VLOOKUP(C653,Locks!A:E,5,FALSE),\"\")","v":""}]
[null,{"$f":"IF(COUNTBLANK(A654)=0,VLOOKUP(A654,Users!A:E,5,FALSE),\"\")","v":""},null,{"$f":"IF(COUNTBLANK(C654)=0,VLOOKUP(C654,Locks!A:D,4,FALSE),\"\")","v":""},{"$f":"IF(COUNTBLANK(C654)=0,VLOOKUP(C654,Locks!A:E,5,FALSE),\"\")","v":""}]
[null,{"$f":"IF(COUNTBLANK(A655)=0,VLOOKUP(A655,Users!A:E,5,FALSE),\"\")","v":""},null,{"$f":"IF(COUNTBLANK(C655)=0,VLOOKUP(C655,Locks!A:D,4,FALSE),\"\")","v":""},{"$f":"IF(COUNTBLANK(C655)=0,VLOOKUP(C655,Locks!A:E,5,FALSE),\"\")","v":""}]
[null,{"$f":"IF(COUNTBLANK(A656)=0,VLOOKUP(A656,Users!A:E,5,FALSE),\"\")","v":""},null,{"$f":"IF(COUNTBLANK(C656)=0,VLOOKUP(C656,Locks!A:D,4,FALSE),\"\")","v":""},{"$f":"IF(COUNTBLANK(C656)=0,VLOOKUP(C656,Locks!A:E,5,FALSE),\"\")","v":""}]
[null,{"$f":"IF(COUNTBLANK(A657)=0,VLOOKUP(A657,Users!A:E,5,FALSE),\"\")","v":""},null,{"$f":"IF(COUNTBLANK(C657)=0,VLOOKUP(C657,Locks!A:D,4,FALSE),\"\")","v":""},{"$f":"IF(COUNTBLANK(C657)=0,VLOOKUP(C657,Locks!A:E,5,FALSE),\"\")","v":""}]
[null,{"$f":"IF(COUNTBLANK(A658)=0,VLOOKUP(A658,Users!A:E,5,FALSE),\"\")","v":""},null,{"$f":"IF(COUNTBLANK(C658)=0,VLOOKUP(C658,Locks!A:D,4,FALSE),\"\")","v":""},{"$f":"IF(COUNTBLANK(C658)=0,VLOOKUP(C658,Locks!A:E,5,FALSE),\"\")","v":""}]
[null,{"$f":"IF(COUNTBLANK(A659)=0,VLOOKUP(A659,Users!A:E,5,FALSE),\"\")","v":""},null,{"$f":"IF(COUNTBLANK(C659)=0,VLOOKUP(C659,Locks!A:D,4,FALSE),\"\")","v":""},{"$f":"IF(COUNTBLANK(C659)=0,VLOOKUP(C659,Locks!A:E,5,FALSE),\"\")","v":""}]
[null,{"$f":"IF(COUNTBLANK(A660)=0,VLOOKUP(A660,Users!A:E,5,FALSE),\"\")","v":""},null,{"$f":"IF(COUNTBLANK(C660)=0,VLOOKUP(C660,Locks!A:D,4,FALSE),\"\")","v":""},{"$f":"IF(COUNTBLANK(C660)=0,VLOOKUP(C660,Locks!A:E,5,FALSE),\"\")","v":""}]
[null,{"$f":"IF(COUNTBLANK(A661)=0,VLOOKUP(A661,Users!A:E,5,FALSE),\"\")","v":""},null,{"$f":"IF(COUNTBLANK(C661)=0,VLOOKUP(C661,Locks!A:D,4,FALSE),\"\")","v":""},{"$f":"IF(COUNTBLANK(C661)=0,VLOOKUP(C661,Locks!A:E,5,FALSE),\"\")","v":""}]
[null,{"$f":"IF(COUNTBLANK(A662)=0,VLOOKUP(A662,Users!A:E,5,FALSE),\"\")","v":""},null,{"$f":"IF(COUNTBLANK(C662)=0,VLOOKUP(C662,Locks!A:D,4,FALSE),\"\")","v":""},{"$f":"IF(COUNTBLANK(C662)=0,VLOOKUP(C662,Locks!A:E,5,FALSE),\"\")","v":""}]
[null,{"$f":"IF(COUNTBLANK(A663)=0,VLOOKUP(A663,Users!A:E,5,FALSE),\"\")","v":""},null,{"$f":"IF(COUNTBLANK(C663)=0,VLOOKUP(C663,Locks!A:D,4,FALSE),\"\")","v":""},{"$f":"IF(COUNTBLANK(C663)=0,VLOOKUP(C663,Locks!A:E,5,FALSE),\"\")","v":""}]
[null,{"$f":"IF(COUNTBLANK(A664)=0,VLOOKUP(A664,Users!A:E,5,FALSE),\"\")","v":""},null,{"$f":"IF(COUNTBLANK(C664)=0,VLOOKUP(C664,Locks!A:D,4,FALSE),\"\")","v":""},{"$f":"IF(COUNTBLANK(C664)=0,VLOOKUP(C664,Locks!A:E,5,FALSE),\"\")","v":""}]
[null,{"$f":"IF(COUNTBLANK(A665)=0,VLOOKUP(A665,Users!A:E,5,FALSE),\"\")","v":""},null,{"$f":"IF(COUNTBLANK(C665)=0,VLOOKUP(C665,Locks!A:D,4,FALSE),\"\")","v":""},{"$f":"IF(COUNTBLANK(C665)=0,VLOOKUP(C665,Locks!A:E,5,FALSE),\"\")","v":""}]
[null,{"$f":"IF(COUNTBLANK(A666)=0,VLOOKUP(A666,Users!A:E,5,FALSE),\"\")","v":""},null,{"$f":"IF(COUNTBLANK(C666)=0,VLOOKUP(C666,Locks!A:D,4,FALSE),\"\")","v":""},{"$f":"IF(COUNTBLANK(C666)=0,VLOOKUP(C666,Locks!A:E,5,FALSE),\"\")","v":""}]
[null,{"$f":"IF(COUNTBLANK(A667)=0,VLOOKUP(A667,Users!A:E,5,FALSE),\"\")","v":""},null,{"$f":"IF(COUNTBLANK(C667)=0,VLOOKUP(C667,Locks!A:D,4,FALSE),\"\")","v":""},{"$f":"IF(COUNTBLANK(C667)=0,VLOOKUP(C667,Locks!A:E,5,FALSE),\"\")","v":""}]
[null,{"$f":"IF(COUNTBLANK(A668)=0,VLOOKUP(A668,Users!A:E,5,FALSE),\"\")","v":""},null,{"$f":"IF(COUNTBLANK(C668)=0,VLOOKUP(C668,Locks!A:D,4,FALSE),\"\")","v":""},{"$f":"IF(COUNTBLANK(C668)=0,VLOOKUP(C668,Locks!A:E,5,FALSE),\"\")","v":""}]
[null,{"$f":"IF(COUNTBLANK(A669)=0,VLOOKUP(A669,Users!A:E,5,FALSE),\"\")","v":""},null,{"$f":"IF(COUNTBLANK(C669)=0,VLOOKUP(C669,Locks!A:D,4,FALSE),\"\")","v":""},{"$f":"IF(COUNTBLANK(C669)=0,VLOOKUP(C669,Locks!A:E,5,FALSE),\"\")","v":""}]
[null,{"$f":"IF(COUNTBLANK(A670)=0,VLOOKUP(A670,Users!A:E,5,FALSE),\"\")","v":""},null,{"$f":"IF(COUNTBLANK(C670)=0,VLOOKUP(C670,Locks!A:D,4,FALSE),\"\")","v":""},{"$f":"IF(COUNTBLANK(C670)=0,VLOOKUP(C670,Locks!A:E,5,FALSE),\"\")","v":""}]
[null,{"$f":"IF(COUNTBLANK(A671)=0,VLOOKUP(A671,Users!A:E,5,FALSE),\"\")","v":""},null,{"$f":"IF(COUNTBLANK(C671)=0,VLOOKUP(C671,Locks!A:D,4,FALSE),\"\")","v":""},{"$f":"IF(COUNTBLANK(C671)=0,VLOOKUP(C671,Locks!A:E,5,FALSE),\"\")","v":""}]
[null,{"$f":"IF(COUNTBLANK(A672)=0,VLOOKUP(A672,Users!A:E,5,FALSE),\"\")","v":""},null,{"$f":"IF(COUNTBLANK(C672)=0,VLOOKUP(C672,Locks!A:D,4,FALSE),\"\")","v":""},{"$f":"IF(COUNTBLANK(C672)=0,VLOOKUP(C672,Locks!A:E,5,FALSE),\"\")","v":""}]
[null,{"$f":"IF(COUNTBLANK(A673)=0,VLOOKUP(A673,Users!A:E,5,FALSE),\"\")","v":""},null,{"$f":"IF(COUNTBLANK(C673)=0,VLOOKUP(C673,Locks!A:D,4,FALSE),\"\")","v":""},{"$f":"IF(COUNTBLANK(C673)=0,VLOOKUP(C673,Locks!A:E,5,FALSE),\"\")","v":""}]
[null,{"$f":"IF(COUNTBLANK(A674)=0,VLOOKUP(A674,Users!A:E,5,FALSE),\"\")","v":""},null,{"$f":"IF(COUNTBLANK(C674)=0,VLOOKUP(C674,Locks!A:D,4,FALSE),\"\")","v":""},{"$f":"IF(COUNTBLANK(C674)=0,VLOOKUP(C674,Locks!A:E,5,FALSE),\"\")","v":""}]
[null,{"$f":"IF(COUNTBLANK(A675)=0,VLOOKUP(A675,Users!A:E,5,FALSE),\"\")","v":""},null,{"$f":"IF(COUNTBLANK(C675)=0,VLOOKUP(C675,Locks!A:D,4,FALSE),\"\")","v":""},{"$f":"IF(COUNTBLANK(C675)=0,VLOOKUP(C675,Locks!A:E,5,FALSE),\"\")","v":""}]
[null,{"$f":"IF(COUNTBLANK(A676)=0,VLOOKUP(A676,Users!A:E,5,FALSE),\"\")","v":""},null,{"$f":"IF(COUNTBLANK(C676)=0,VLOOKUP(C676,Locks!A:D,4,FALSE),\"\")","v":""},{"$f":"IF(COUNTBLANK(C676)=0,VLOOKUP(C676,Locks!A:E,5,FALSE),\"\")","v":""}]
[null,{"$f":"IF(COUNTBLANK(A677)=0,VLOOKUP(A677,Users!A:E,5,FALSE),\"\")","v":""},null,{"$f":"IF(COUNTBLANK(C677)=0,VLOOKUP(C677,Locks!A:D,4,FALSE),\"\")","v":""},{"$f":"IF(COUNTBLANK(C677)=0,VLOOKUP(C677,Locks!A:E,5,FALSE),\"\")","v":""}]
[null,{"$f":"IF(COUNTBLANK(A678)=0,VLOOKUP(A678,Users!A:E,5,FALSE),\"\")","v":""},null,{"$f":"IF(COUNTBLANK(C678)=0,VLOOKUP(C678,Locks!A:D,4,FALSE),\"\")","v":""},{"$f":"IF(COUNTBLANK(C678)=0,VLOOKUP(C678,Locks!A:E,5,FALSE),\"\")","v":""}]
[null,{"$f":"IF(COUNTBLANK(A679)=0,VLOOKUP(A679,Users!A:E,5,FALSE),\"\")","v":""},null,{"$f":"IF(COUNTBLANK(C679)=0,VLOOKUP(C679,Locks!A:D,4,FALSE),\"\")","v":""},{"$f":"IF(COUNTBLANK(C679)=0,VLOOKUP(C679,Locks!A:E,5,FALSE),\"\")","v":""}]
[null,{"$f":"IF(COUNTBLANK(A680)=0,VLOOKUP(A680,Users!A:E,5,FALSE),\"\")","v":""},null,{"$f":"IF(COUNTBLANK(C680)=0,VLOOKUP(C680,Locks!A:D,4,FALSE),\"\")","v":""},{"$f":"IF(COUNTBLANK(C680)=0,VLOOKUP(C680,Locks!A:E,5,FALSE),\"\")","v":""}]
[null,{"$f":"IF(COUNTBLANK(A681)=0,VLOOKUP(A681,Users!A:E,5,FALSE),\"\")","v":""},null,{"$f":"IF(COUNTBLANK(C681)=0,VLOOKUP(C681,Locks!A:D,4,FALSE),\"\")","v":""},{"$f":"IF(COUNTBLANK(C681)=0,VLOOKUP(C681,Locks!A:E,5,FALSE),\"\")","v":""}]
[null,{"$f":"IF(COUNTBLANK(A682)=0,VLOOKUP(A682,Users!A:E,5,FALSE),\"\")","v":""},null,{"$f":"IF(COUNTBLANK(C682)=0,VLOOKUP(C682,Locks!A:D,4,FALSE),\"\")","v":""},{"$f":"IF(COUNTBLANK(C682)=0,VLOOKUP(C682,Locks!A:E,5,FALSE),\"\")","v":""}]
[null,{"$f":"IF(COUNTBLANK(A683)=0,VLOOKUP(A683,Users!A:E,5,FALSE),\"\")","v":""},null,{"$f":"IF(COUNTBLANK(C683)=0,VLOOKUP(C683,Locks!A:D,4,FALSE),\"\")","v":""},{"$f":"IF(COUNTBLANK(C683)=0,VLOOKUP(C683,Locks!A:E,5,FALSE),\"\")","v":""}]
[null,{"$f":"IF(COUNTBLANK(A684)=0,VLOOKUP(A684,Users!A:E,5,FALSE),\"\")","v":""},null,{"$f":"IF(COUNTBLANK(C684)=0,VLOOKUP(C684,Locks!A:D,4,FALSE),\"\")","v":""},{"$f":"IF(COUNTBLANK(C684)=0,VLOOKUP(C684,Locks!A:E,5,FALSE),\"\")","v":""}]
[null,{"$f":"IF(COUNTBLANK(A685)=0,VLOOKUP(A685,Users!A:E,5,FALSE),\"\")","v":""},null,{"$f":"IF(COUNTBLANK(C685)=0,VLOOKUP(C685,Locks!A:D,4,FALSE),\"\")","v":""},{"$f":"IF(COUNTBLANK(C685)=0,VLOOKUP(C685,Locks!A:E,5,FALSE),\"\")","v":""}]
[null,{"$f":"IF(COUNTBLANK(A686)=0,VLOOKUP(A686,Users!A:E,5,FALSE),\"\")","v":""},null,{"$f":"IF(COUNTBLANK(C686)=0,VLOOKUP(C686,Locks!A:D,4,FALSE),\"\")","v":""},{"$f":"IF(COUNTBLANK(C686)=0,VLOOKUP(C686,Locks!A:E,5,FALSE),\"\")","v":""}]
[null,{"$f":"IF(COUNTBLANK(A687)=0,VLOOKUP(A687,Users!A:E,5,FALSE),\"\")","v":""},null,{"$f":"IF(COUNTBLANK(C687)=0,VLOOKUP(C687,Locks!A:D,4,FALSE),\"\")","v":""},{"$f":"IF(COUNTBLANK(C687)=0,VLOOKUP(C687,Locks!A:E,5,FALSE),\"\")","v":""}]
[null,{"$f":"IF(COUNTBLANK(A688)=0,VLOOKUP(A688,Users!A:E,5,FALSE),\"\")","v":""},null,{"$f":"IF(COUNTBLANK(C688)=0,VLOOKUP(C688,Locks!A:D,4,FALSE),\"\")","v":""},{"$f":"IF(COUNTBLANK(C688)=0,VLOOKUP(C688,Locks!A:E,5,FALSE),\"\")","v":""}]
[null,{"$f":"IF(COUNTBLANK(A689)=0,VLOOKUP(A689,Users!A:E,5,FALSE),\"\")","v":""},null,{"$f":"IF(COUNTBLANK(C689)=0,VLOOKUP(C689,Locks!A:D,4,FALSE),\"\")","v":""},{"$f":"IF(COUNTBLANK(C689)=0,VLOOKUP(C689,Locks!A:E,5,FALSE),\"\")","v":""}]
[null,{"$f":"IF(COUNTBLANK(A690)=0,VLOOKUP(A690,Users!A:E,5,FALSE),\"\")","v":""},null,{"$f":"IF(COUNTBLANK(C690)=0,VLOOKUP(C690,Locks!A:D,4,FALSE),\"\")","v":""},{"$f":"IF(COUNTBLANK(C690)=0,VLOOKUP(C690,Locks!A:E,5,FALSE),\"\")","v":""}]
[null,{"$f":"IF(COUNTBLANK(A691)=0,VLOOKUP(A691,Users!A:E,5,FALSE),\"\")","v":""},null,{"$f":"IF(COUNTBLANK(C691)=0,VLOOKUP(C691,Locks!A:D,4,FALSE),\"\")","v":""},{"$f":"IF(COUNTBLANK(C691)=0,VLOOKUP(C691,Locks!A:E,5,FALSE),\"\")","v":""}]
[null,{"$f":"IF(COUNTBLANK(A692)=0,VLOOKUP(A692,Users!A:E,5,FALSE),\"\")","v":""},null,{"$f":"IF(COUNTBLANK(C692)=0,VLOOKUP(C692,Locks!A:D,4,FALSE),\"\")","v":""},{"$f":"IF(COUNTBLANK(C692)=0,VLOOKUP(C692,Locks!A:E,5,FALSE),\"\")","v":""}]
[null,{"$f":"IF(COUNTBLANK(A693)=0,VLOOKUP(A693,Users!A:E,5,FALSE),\"\")","v":""},null,{"$f":"IF(COUNTBLANK(C693)=0,VLOOKUP(C693,Locks!A:D,4,FALSE),\"\")","v":""},{"$f":"IF(COUNTBLANK(C693)=0,VLOOKUP(C693,Locks!A:E,5,FALSE),\"\")","v":""}]
[null,{"$f":"IF(COUNTBLANK(A694)=0,VLOOKUP(A694,Users!A:E,5,FALSE),\"\")","v":""},null,{"$f":"IF(COUNTBLANK(C694)=0,VLOOKUP(C694,Locks!A:D,4,FALSE),\"\")","v":""},{"$f":"IF(COUNTBLANK(C694)=0,VLOOKUP(C694,Locks!A:E,5,FALSE),\"\")","v":""}]
[null,{"$f":"IF(COUNTBLANK(A695)=0,VLOOKUP(A695,Users!A:E,5,FALSE),\"\")","v":""},null,{"$f":"IF(COUNTBLANK(C695)=0,VLOOKUP(C695,Locks!A:D,4,FALSE),\"\")","v":""},{"$f":"IF(COUNTBLANK(C695)=0,VLOOKUP(C695,Locks!A:E,5,FALSE),\"\")","v":""}]
[null,{"$f":"IF(COUNTBLANK(A696)=0,VLOOKUP(A696,Users!A:E,5,FALSE),\"\")","v":""},null,{"$f":"IF(COUNTBLANK(C696)=0,VLOOKUP(C696,Locks!A:D,4,FALSE),\"\")","v":""},{"$f":"IF(COUNTBLANK(C696)=0,VLOOKUP(C696,Locks!A:E,5,FALSE),\"\")","v":""}]
[null,{"$f":"IF(COUNTBLANK(A697)=0,VLOOKUP(A697,Users!A:E,5,FALSE),\"\")","v":""},null,{"$f":"IF(COUNTBLANK(C697)=0,VLOOKUP(C697,Locks!A:D,4,FALSE),\"\")","v":""},{"$f":"IF(COUNTBLANK(C697)=0,VLOOKUP(C697,Locks!A:E,5,FALSE),\"\")","v":""}]
[null,{"$f":"IF(COUNTBLANK(A698)=0,VLOOKUP(A698,Users!A:E,5,FALSE),\"\")","v":""},null,{"$f":"IF(COUNTBLANK(C698)=0,VLOOKUP(C698,Locks!A:D,4,FALSE),\"\")","v":""},{"$f":"IF(COUNTBLANK(C698)=0,VLOOKUP(C698,Locks!A:E,5,FALSE),\"\")","v":""}]
[null,{"$f":"IF(COUNTBLANK(A699)=0,VLOOKUP(A699,Users!A:E,5,FALSE),\"\")","v":""},null,{"$f":"IF(COUNTBLANK(C699)=0,VLOOKUP(C699,Locks!A:D,4,FALSE),\"\")","v":""},{"$f":"IF(COUNTBLANK(C699)=0,VLOOKUP(C699,Locks!A:E,5,FALSE),\"\")","v":""}]
[null,{"$f":"IF(COUNTBLANK(A700)=0,VLOOKUP(A700,Users!A:E,5,FALSE),\"\")","v":""},null,{"$f":"IF(COUNTBLANK(C700)=0,VLOOKUP(C700,Locks!A:D,4,FALSE),\"\")","v":""},{"$f":"IF(COUNTBLANK(C700)=0,VLOOKUP(C700,Locks!A:E,5,FALSE),\"\")","v":""}]
[null,{"$f":"IF(COUNTBLANK(A701)=0,VLOOKUP(A701,Users!A:E,5,FALSE),\"\")","v":""},null,{"$f":"IF(COUNTBLANK(C701)=0,VLOOKUP(C701,Locks!A:D,4,FALSE),\"\")","v":""},{"$f":"IF(COUNTBLANK(C701)=0,VLOOKUP(C701,Locks!A:E,5,FALSE),\"\")","v":""}]
[null,{"$f":"IF(COUNTBLANK(A702)=0,VLOOKUP(A702,Users!A:E,5,FALSE),\"\")","v":""},null,{"$f":"IF(COUNTBLANK(C702)=0,VLOOKUP(C702,Locks!A:D,4,FALSE),\"\")","v":""},{"$f":"IF(COUNTBLANK(C702)=0,VLOOKUP(C702,Locks!A:E,5,FALSE),\"\")","v":""}]
[null,{"$f":"IF(COUNTBLANK(A703)=0,VLOOKUP(A703,Users!A:E,5,FALSE),\"\")","v":""},null,{"$f":"IF(COUNTBLANK(C703)=0,VLOOKUP(C703,Locks!A:D,4,FALSE),\"\")","v":""},{"$f":"IF(COUNTBLANK(C703)=0,VLOOKUP(C703,Locks!A:E,5,FALSE),\"\")","v":""}]
[null,{"$f":"IF(COUNTBLANK(A704)=0,VLOOKUP(A704,Users!A:E,5,FALSE),\"\")","v":""},null,{"$f":"IF(COUNTBLANK(C704)=0,VLOOKUP(C704,Locks!A:D,4,FALSE),\"\")","v":""},{"$f":"IF(COUNTBLANK(C704)=0,VLOOKUP(C704,Locks!A:E,5,FALSE),\"\")","v":""}]
[null,{"$f":"IF(COUNTBLANK(A705)=0,VLOOKUP(A705,Users!A:E,5,FALSE),\"\")","v":""},null,{"$f":"IF(COUNTBLANK(C705)=0,VLOOKUP(C705,Locks!A:D,4,FALSE),\"\")","v":""},{"$f":"IF(COUNTBLANK(C705)=0,VLOOKUP(C705,Locks!A:E,5,FALSE),\"\")","v":""}]
[null,{"$f":"IF(COUNTBLANK(A706)=0,VLOOKUP(A706,Users!A:E,5,FALSE),\"\")","v":""},null,{"$f":"IF(COUNTBLANK(C706)=0,VLOOKUP(C706,Locks!A:D,4,FALSE),\"\")","v":""},{"$f":"IF(COUNTBLANK(C706)=0,VLOOKUP(C706,Locks!A:E,5,FALSE),\"\")","v":""}]
[null,{"$f":"IF(COUNTBLANK(A707)=0,VLOOKUP(A707,Users!A:E,5,FALSE),\"\")","v":""},null,{"$f":"IF(COUNTBLANK(C707)=0,VLOOKUP(C707,Locks!A:D,4,FALSE),\"\")","v":""},{"$f":"IF(COUNTBLANK(C707)=0,VLOOKUP(C707,Locks!A:E,5,FALSE),\"\")","v":""}]
[null,{"$f":"IF(COUNTBLANK(A708)=0,VLOOKUP(A708,Users!A:E,5,FALSE),\"\")","v":""},null,{"$f":"IF(COUNTBLANK(C708)=0,VLOOKUP(C708,Locks!A:D,4,FALSE),\"\")","v":""},{"$f":"IF(COUNTBLANK(C708)=0,VLOOKUP(C708,Locks!A:E,5,FALSE),\"\")","v":""}]
[null,{"$f":"IF(COUNTBLANK(A709)=0,VLOOKUP(A709,Users!A:E,5,FALSE),\"\")","v":""},null,{"$f":"IF(COUNTBLANK(C709)=0,VLOOKUP(C709,Locks!A:D,4,FALSE),\"\")","v":""},{"$f":"IF(COUNTBLANK(C709)=0,VLOOKUP(C709,Locks!A:E,5,FALSE),\"\")","v":""}]
[null,{"$f":"IF(COUNTBLANK(A710)=0,VLOOKUP(A710,Users!A:E,5,FALSE),\"\")","v":""},null,{"$f":"IF(COUNTBLANK(C710)=0,VLOOKUP(C710,Locks!A:D,4,FALSE),\"\")","v":""},{"$f":"IF(COUNTBLANK(C710)=0,VLOOKUP(C710,Locks!A:E,5,FALSE),\"\")","v":""}]
[null,{"$f":"IF(COUNTBLANK(A711)=0,VLOOKUP(A711,Users!A:E,5,FALSE),\"\")","v":""},null,{"$f":"IF(COUNTBLANK(C711)=0,VLOOKUP(C711,Locks!A:D,4,FALSE),\"\")","v":""},{"$f":"IF(COUNTBLANK(C711)=0,VLOOKUP(C711,Locks!A:E,5,FALSE),\"\")","v":""}]
[null,{"$f":"IF(COUNTBLANK(A712)=0,VLOOKUP(A712,Users!A:E,5,FALSE),\"\")","v":""},null,{"$f":"IF(COUNTBLANK(C712)=0,VLOOKUP(C712,Locks!A:D,4,FALSE),\"\")","v":""},{"$f":"IF(COUNTBLANK(C712)=0,VLOOKUP(C712,Locks!A:E,5,FALSE),\"\")","v":""}]
[null,{"$f":"IF(COUNTBLANK(A713)=0,VLOOKUP(A713,Users!A:E,5,FALSE),\"\")","v":""},null,{"$f":"IF(COUNTBLANK(C713)=0,VLOOKUP(C713,Locks!A:D,4,FALSE),\"\")","v":""},{"$f":"IF(COUNTBLANK(C713)=0,VLOOKUP(C713,Locks!A:E,5,FALSE),\"\")","v":""}]
[null,{"$f":"IF(COUNTBLANK(A714)=0,VLOOKUP(A714,Users!A:E,5,FALSE),\"\")","v":""},null,{"$f":"IF(COUNTBLANK(C714)=0,VLOOKUP(C714,Locks!A:D,4,FALSE),\"\")","v":""},{"$f":"IF(COUNTBLANK(C714)=0,VLOOKUP(C714,Locks!A:E,5,FALSE),\"\")","v":""}]
[null,{"$f":"IF(COUNTBLANK(A715)=0,VLOOKUP(A715,Users!A:E,5,FALSE),\"\")","v":""},null,{"$f":"IF(COUNTBLANK(C715)=0,VLOOKUP(C715,Locks!A:D,4,FALSE),\"\")","v":""},{"$f":"IF(COUNTBLANK(C715)=0,VLOOKUP(C715,Locks!A:E,5,FALSE),\"\")","v":""}]
[null,{"$f":"IF(COUNTBLANK(A716)=0,VLOOKUP(A716,Users!A:E,5,FALSE),\"\")","v":""},null,{"$f":"IF(COUNTBLANK(C716)=0,VLOOKUP(C716,Locks!A:D,4,FALSE),\"\")","v":""},{"$f":"IF(COUNTBLANK(C716)=0,VLOOKUP(C716,Locks!A:E,5,FALSE),\"\")","v":""}]
[null,{"$f":"IF(COUNTBLANK(A717)=0,VLOOKUP(A717,Users!A:E,5,FALSE),\"\")","v":""},null,{"$f":"IF(COUNTBLANK(C717)=0,VLOOKUP(C717,Locks!A:D,4,FALSE),\"\")","v":""},{"$f":"IF(COUNTBLANK(C717)=0,VLOOKUP(C717,Locks!A:E,5,FALSE),\"\")","v":""}]
[null,{"$f":"IF(COUNTBLANK(A718)=0,VLOOKUP(A718,Users!A:E,5,FALSE),\"\")","v":""},null,{"$f":"IF(COUNTBLANK(C718)=0,VLOOKUP(C718,Locks!A:D,4,FALSE),\"\")","v":""},{"$f":"IF(COUNTBLANK(C718)=0,VLOOKUP(C718,Locks!A:E,5,FALSE),\"\")","v":""}]
[null,{"$f":"IF(COUNTBLANK(A719)=0,VLOOKUP(A719,Users!A:E,5,FALSE),\"\")","v":""},null,{"$f":"IF(COUNTBLANK(C719)=0,VLOOKUP(C719,Locks!A:D,4,FALSE),\"\")","v":""},{"$f":"IF(COUNTBLANK(C719)=0,VLOOKUP(C719,Locks!A:E,5,FALSE),\"\")","v":""}]
[null,{"$f":"IF(COUNTBLANK(A720)=0,VLOOKUP(A720,Users!A:E,5,FALSE),\"\")","v":""},null,{"$f":"IF(COUNTBLANK(C720)=0,VLOOKUP(C720,Locks!A:D,4,FALSE),\"\")","v":""},{"$f":"IF(COUNTBLANK(C720)=0,VLOOKUP(C720,Locks!A:E,5,FALSE),\"\")","v":""}]
[null,{"$f":"IF(COUNTBLANK(A721)=0,VLOOKUP(A721,Users!A:E,5,FALSE),\"\")","v":""},null,{"$f":"IF(COUNTBLANK(C721)=0,VLOOKUP(C721,Locks!A:D,4,FALSE),\"\")","v":""},{"$f":"IF(COUNTBLANK(C721)=0,VLOOKUP(C721,Locks!A:E,5,FALSE),\"\")","v":""}]
[null,{"$f":"IF(COUNTBLANK(A722)=0,VLOOKUP(A722,Users!A:E,5,FALSE),\"\")","v":""},null,{"$f":"IF(COUNTBLANK(C722)=0,VLOOKUP(C722,Locks!A:D,4,FALSE),\"\")","v":""},{"$f":"IF(COUNTBLANK(C722)=0,VLOOKUP(C722,Locks!A:E,5,FALSE),\"\")","v":""}]
[null,{"$f":"IF(COUNTBLANK(A723)=0,VLOOKUP(A723,Users!A:E,5,FALSE),\"\")","v":""},null,{"$f":"IF(COUNTBLANK(C723)=0,VLOOKUP(C723,Locks!A:D,4,FALSE),\"\")","v":""},{"$f":"IF(COUNTBLANK(C723)=0,VLOOKUP(C723,Locks!A:E,5,FALSE),\"\")","v":""}]
[null,{"$f":"IF(COUNTBLANK(A724)=0,VLOOKUP(A724,Users!A:E,5,FALSE),\"\")","v":""},null,{"$f":"IF(COUNTBLANK(C724)=0,VLOOKUP(C724,Locks!A:D,4,FALSE),\"\")","v":""},{"$f":"IF(COUNTBLANK(C724)=0,VLOOKUP(C724,Locks!A:E,5,FALSE),\"\")","v":""}]
[null,{"$f":"IF(COUNTBLANK(A725)=0,VLOOKUP(A725,Users!A:E,5,FALSE),\"\")","v":""},null,{"$f":"IF(COUNTBLANK(C725)=0,VLOOKUP(C725,Locks!A:D,4,FALSE),\"\")","v":""},{"$f":"IF(COUNTBLANK(C725)=0,VLOOKUP(C725,Locks!A:E,5,FALSE),\"\")","v":""}]
[null,{"$f":"IF(COUNTBLANK(A726)=0,VLOOKUP(A726,Users!A:E,5,FALSE),\"\")","v":""},null,{"$f":"IF(COUNTBLANK(C726)=0,VLOOKUP(C726,Locks!A:D,4,FALSE),\"\")","v":""},{"$f":"IF(COUNTBLANK(C726)=0,VLOOKUP(C726,Locks!A:E,5,FALSE),\"\")","v":""}]
[null,{"$f":"IF(COUNTBLANK(A727)=0,VLOOKUP(A727,Users!A:E,5,FALSE),\"\")","v":""},null,{"$f":"IF(COUNTBLANK(C727)=0,VLOOKUP(C727,Locks!A:D,4,FALSE),\"\")","v":""},{"$f":"IF(COUNTBLANK(C727)=0,VLOOKUP(C727,Locks!A:E,5,FALSE),\"\")","v":""}]
[null,{"$f":"IF(COUNTBLANK(A728)=0,VLOOKUP(A728,Users!A:E,5,FALSE),\"\")","v":""},null,{"$f":"IF(COUNTBLANK(C728)=0,VLOOKUP(C728,Locks!A:D,4,FALSE),\"\")","v":""},{"$f":"IF(COUNTBLANK(C728)=0,VLOOKUP(C728,Locks!A:E,5,FALSE),\"\")","v":""}]
[null,{"$f":"IF(COUNTBLANK(A729)=0,VLOOKUP(A729,Users!A:E,5,FALSE),\"\")","v":""},null,{"$f":"IF(COUNTBLANK(C729)=0,VLOOKUP(C729,Locks!A:D,4,FALSE),\"\")","v":""},{"$f":"IF(COUNTBLANK(C729)=0,VLOOKUP(C729,Locks!A:E,5,FALSE),\"\")","v":""}]
[null,{"$f":"IF(COUNTBLANK(A730)=0,VLOOKUP(A730,Users!A:E,5,FALSE),\"\")","v":""},null,{"$f":"IF(COUNTBLANK(C730)=0,VLOOKUP(C730,Locks!A:D,4,FALSE),\"\")","v":""},{"$f":"IF(COUNTBLANK(C730)=0,VLOOKUP(C730,Locks!A:E,5,FALSE),\"\")","v":""}]
[null,{"$f":"IF(COUNTBLANK(A731)=0,VLOOKUP(A731,Users!A:E,5,FALSE),\"\")","v":""},null,{"$f":"IF(COUNTBLANK(C731)=0,VLOOKUP(C731,Locks!A:D,4,FALSE),\"\")","v":""},{"$f":"IF(COUNTBLANK(C731)=0,VLOOKUP(C731,Locks!A:E,5,FALSE),\"\")","v":""}]
[null,{"$f":"IF(COUNTBLANK(A732)=0,VLOOKUP(A732,Users!A:E,5,FALSE),\"\")","v":""},null,{"$f":"IF(COUNTBLANK(C732)=0,VLOOKUP(C732,Locks!A:D,4,FALSE),\"\")","v":""},{"$f":"IF(COUNTBLANK(C732)=0,VLOOKUP(C732,Locks!A:E,5,FALSE),\"\")","v":""}]
[null,{"$f":"IF(COUNTBLANK(A733)=0,VLOOKUP(A733,Users!A:E,5,FALSE),\"\")","v":""},null,{"$f":"IF(COUNTBLANK(C733)=0,VLOOKUP(C733,Locks!A:D,4,FALSE),\"\")","v":""},{"$f":"IF(COUNTBLANK(C733)=0,VLOOKUP(C733,Locks!A:E,5,FALSE),\"\")","v":""}]
[null,{"$f":"IF(COUNTBLANK(A734)=0,VLOOKUP(A734,Users!A:E,5,FALSE),\"\")","v":""},null,{"$f":"IF(COUNTBLANK(C734)=0,VLOOKUP(C734,Locks!A:D,4,FALSE),\"\")","v":""},{"$f":"IF(COUNTBLANK(C734)=0,VLOOKUP(C734,Locks!A:E,5,FALSE),\"\")","v":""}]
[null,{"$f":"IF(COUNTBLANK(A735)=0,VLOOKUP(A735,Users!A:E,5,FALSE),\"\")","v":""},null,{"$f":"IF(COUNTBLANK(C735)=0,VLOOKUP(C735,Locks!A:D,4,FALSE),\"\")","v":""},{"$f":"IF(COUNTBLANK(C735)=0,VLOOKUP(C735,Locks!A:E,5,FALSE),\"\")","v":""}]
[null,{"$f":"IF(COUNTBLANK(A736)=0,VLOOKUP(A736,Users!A:E,5,FALSE),\"\")","v":""},null,{"$f":"IF(COUNTBLANK(C736)=0,VLOOKUP(C736,Locks!A:D,4,FALSE),\"\")","v":""},{"$f":"IF(COUNTBLANK(C736)=0,VLOOKUP(C736,Locks!A:E,5,FALSE),\"\")","v":""}]
[null,{"$f":"IF(COUNTBLANK(A737)=0,VLOOKUP(A737,Users!A:E,5,FALSE),\"\")","v":""},null,{"$f":"IF(COUNTBLANK(C737)=0,VLOOKUP(C737,Locks!A:D,4,FALSE),\"\")","v":""},{"$f":"IF(COUNTBLANK(C737)=0,VLOOKUP(C737,Locks!A:E,5,FALSE),\"\")","v":""}]
[null,{"$f":"IF(COUNTBLANK(A738)=0,VLOOKUP(A738,Users!A:E,5,FALSE),\"\")","v":""},null,{"$f":"IF(COUNTBLANK(C738)=0,VLOOKUP(C738,Locks!A:D,4,FALSE),\"\")","v":""},{"$f":"IF(COUNTBLANK(C738)=0,VLOOKUP(C738,Locks!A:E,5,FALSE),\"\")","v":""}]
[null,{"$f":"IF(COUNTBLANK(A739)=0,VLOOKUP(A739,Users!A:E,5,FALSE),\"\")","v":""},null,{"$f":"IF(COUNTBLANK(C739)=0,VLOOKUP(C739,Locks!A:D,4,FALSE),\"\")","v":""},{"$f":"IF(COUNTBLANK(C739)=0,VLOOKUP(C739,Locks!A:E,5,FALSE),\"\")","v":""}]
[null,{"$f":"IF(COUNTBLANK(A740)=0,VLOOKUP(A740,Users!A:E,5,FALSE),\"\")","v":""},null,{"$f":"IF(COUNTBLANK(C740)=0,VLOOKUP(C740,Locks!A:D,4,FALSE),\"\")","v":""},{"$f":"IF(COUNTBLANK(C740)=0,VLOOKUP(C740,Locks!A:E,5,FALSE),\"\")","v":""}]
[null,{"$f":"IF(COUNTBLANK(A741)=0,VLOOKUP(A741,Users!A:E,5,FALSE),\"\")","v":""},null,{"$f":"IF(COUNTBLANK(C741)=0,VLOOKUP(C741,Locks!A:D,4,FALSE),\"\")","v":""},{"$f":"IF(COUNTBLANK(C741)=0,VLOOKUP(C741,Locks!A:E,5,FALSE),\"\")","v":""}]
[null,{"$f":"IF(COUNTBLANK(A742)=0,VLOOKUP(A742,Users!A:E,5,FALSE),\"\")","v":""},null,{"$f":"IF(COUNTBLANK(C742)=0,VLOOKUP(C742,Locks!A:D,4,FALSE),\"\")","v":""},{"$f":"IF(COUNTBLANK(C742)=0,VLOOKUP(C742,Locks!A:E,5,FALSE),\"\")","v":""}]
[null,{"$f":"IF(COUNTBLANK(A743)=0,VLOOKUP(A743,Users!A:E,5,FALSE),\"\")","v":""},null,{"$f":"IF(COUNTBLANK(C743)=0,VLOOKUP(C743,Locks!A:D,4,FALSE),\"\")","v":""},{"$f":"IF(COUNTBLANK(C743)=0,VLOOKUP(C743,Locks!A:E,5,FALSE),\"\")","v":""}]
[null,{"$f":"IF(COUNTBLANK(A744)=0,VLOOKUP(A744,Users!A:E,5,FALSE),\"\")","v":""},null,{"$f":"IF(COUNTBLANK(C744)=0,VLOOKUP(C744,Locks!A:D,4,FALSE),\"\")","v":""},{"$f":"IF(COUNTBLANK(C744)=0,VLOOKUP(C744,Locks!A:E,5,FALSE),\"\")","v":""}]
[null,{"$f":"IF(COUNTBLANK(A745)=0,VLOOKUP(A745,Users!A:E,5,FALSE),\"\")","v":""},null,{"$f":"IF(COUNTBLANK(C745)=0,VLOOKUP(C745,Locks!A:D,4,FALSE),\"\")","v":""},{"$f":"IF(COUNTBLANK(C745)=0,VLOOKUP(C745,Locks!A:E,5,FALSE),\"\")","v":""}]
[null,{"$f":"IF(COUNTBLANK(A746)=0,VLOOKUP(A746,Users!A:E,5,FALSE),\"\")","v":""},null,{"$f":"IF(COUNTBLANK(C746)=0,VLOOKUP(C746,Locks!A:D,4,FALSE),\"\")","v":""},{"$f":"IF(COUNTBLANK(C746)=0,VLOOKUP(C746,Locks!A:E,5,FALSE),\"\")","v":""}]
[null,{"$f":"IF(COUNTBLANK(A747)=0,VLOOKUP(A747,Users!A:E,5,FALSE),\"\")","v":""},null,{"$f":"IF(COUNTBLANK(C747)=0,VLOOKUP(C747,Locks!A:D,4,FALSE),\"\")","v":""},{"$f":"IF(COUNTBLANK(C747)=0,VLOOKUP(C747,Locks!A:E,5,FALSE),\"\")","v":""}]
[null,{"$f":"IF(COUNTBLANK(A748)=0,VLOOKUP(A748,Users!A:E,5,FALSE),\"\")","v":""},null,{"$f":"IF(COUNTBLANK(C748)=0,VLOOKUP(C748,Locks!A:D,4,FALSE),\"\")","v":""},{"$f":"IF(COUNTBLANK(C748)=0,VLOOKUP(C748,Locks!A:E,5,FALSE),\"\")","v":""}]
[null,{"$f":"IF(COUNTBLANK(A749)=0,VLOOKUP(A749,Users!A:E,5,FALSE),\"\")","v":""},null,{"$f":"IF(COUNTBLANK(C749)=0,VLOOKUP(C749,Locks!A:D,4,FALSE),\"\")","v":""},{"$f":"IF(COUNTBLANK(C749)=0,VLOOKUP(C749,Locks!A:E,5,FALSE),\"\")","v":""}]
[null,{"$f":"IF(COUNTBLANK(A750)=0,VLOOKUP(A750,Users!A:E,5,FALSE),\"\")","v":""},null,{"$f":"IF(COUNTBLANK(C750)=0,VLOOKUP(C750,Locks!A:D,4,FALSE),\"\")","v":""},{"$f":"IF(COUNTBLANK(C750)=0,VLOOKUP(C750,Locks!A:E,5,FALSE),\"\")","v":""}]
[null,{"$f":"IF(COUNTBLANK(A751)=0,VLOOKUP(A751,Users!A:E,5,FALSE),\"\")","v":""},null,{"$f":"IF(COUNTBLANK(C751)=0,VLOOKUP(C751,Locks!A:D,4,FALSE),\"\")","v":""},{"$f":"IF(COUNTBLANK(C751)=0,VLOOKUP(C751,Locks!A:E,5,FALSE),\"\")","v":""}]
[null,{"$f":"IF(COUNTBLANK(A752)=0,VLOOKUP(A752,Users!A:E,5,FALSE),\"\")","v":""},null,{"$f":"IF(COUNTBLANK(C752)=0,VLOOKUP(C752,Locks!A:D,4,FALSE),\"\")","v":""},{"$f":"IF(COUNTBLANK(C752)=0,VLOOKUP(C752,Locks!A:E,5,FALSE),\"\")","v":""}]
[null,{"$f":"IF(COUNTBLANK(A753)=0,VLOOKUP(A753,Users!A:E,5,FALSE),\"\")","v":""},null,{"$f":"IF(COUNTBLANK(C753)=0,VLOOKUP(C753,Locks!A:D,4,FALSE),\"\")","v":""},{"$f":"IF(COUNTBLANK(C753)=0,VLOOKUP(C753,Locks!A:E,5,FALSE),\"\")","v":""}]
[null,{"$f":"IF(COUNTBLANK(A754)=0,VLOOKUP(A754,Users!A:E,5,FALSE),\"\")","v":""},null,{"$f":"IF(COUNTBLANK(C754)=0,VLOOKUP(C754,Locks!A:D,4,FALSE),\"\")","v":""},{"$f":"IF(COUNTBLANK(C754)=0,VLOOKUP(C754,Locks!A:E,5,FALSE),\"\")","v":""}]
[null,{"$f":"IF(COUNTBLANK(A755)=0,VLOOKUP(A755,Users!A:E,5,FALSE),\"\")","v":""},null,{"$f":"IF(COUNTBLANK(C755)=0,VLOOKUP(C755,Locks!A:D,4,FALSE),\"\")","v":""},{"$f":"IF(COUNTBLANK(C755)=0,VLOOKUP(C755,Locks!A:E,5,FALSE),\"\")","v":""}]
[null,{"$f":"IF(COUNTBLANK(A756)=0,VLOOKUP(A756,Users!A:E,5,FALSE),\"\")","v":""},null,{"$f":"IF(COUNTBLANK(C756)=0,VLOOKUP(C756,Locks!A:D,4,FALSE),\"\")","v":""},{"$f":"IF(COUNTBLANK(C756)=0,VLOOKUP(C756,Locks!A:E,5,FALSE),\"\")","v":""}]
[null,{"$f":"IF(COUNTBLANK(A757)=0,VLOOKUP(A757,Users!A:E,5,FALSE),\"\")","v":""},null,{"$f":"IF(COUNTBLANK(C757)=0,VLOOKUP(C757,Locks!A:D,4,FALSE),\"\")","v":""},{"$f":"IF(COUNTBLANK(C757)=0,VLOOKUP(C757,Locks!A:E,5,FALSE),\"\")","v":""}]
[null,{"$f":"IF(COUNTBLANK(A758)=0,VLOOKUP(A758,Users!A:E,5,FALSE),\"\")","v":""},null,{"$f":"IF(COUNTBLANK(C758)=0,VLOOKUP(C758,Locks!A:D,4,FALSE),\"\")","v":""},{"$f":"IF(COUNTBLANK(C758)=0,VLOOKUP(C758,Locks!A:E,5,FALSE),\"\")","v":""}]
[null,{"$f":"IF(COUNTBLANK(A759)=0,VLOOKUP(A759,Users!A:E,5,FALSE),\"\")","v":""},null,{"$f":"IF(COUNTBLANK(C759)=0,VLOOKUP(C759,Locks!A:D,4,FALSE),\"\")","v":""},{"$f":"IF(COUNTBLANK(C759)=0,VLOOKUP(C759,Locks!A:E,5,FALSE),\"\")","v":""}]
[null,{"$f":"IF(COUNTBLANK(A760)=0,VLOOKUP(A760,Users!A:E,5,FALSE),\"\")","v":""},null,{"$f":"IF(COUNTBLANK(C760)=0,VLOOKUP(C760,Locks!A:D,4,FALSE),\"\")","v":""},{"$f":"IF(COUNTBLANK(C760)=0,VLOOKUP(C760,Locks!A:E,5,FALSE),\"\")","v":""}]
[null,{"$f":"IF(COUNTBLANK(A761)=0,VLOOKUP(A761,Users!A:E,5,FALSE),\"\")","v":""},null,{"$f":"IF(COUNTBLANK(C761)=0,VLOOKUP(C761,Locks!A:D,4,FALSE),\"\")","v":""},{"$f":"IF(COUNTBLANK(C761)=0,VLOOKUP(C761,Locks!A:E,5,FALSE),\"\")","v":""}]
[null,{"$f":"IF(COUNTBLANK(A762)=0,VLOOKUP(A762,Users!A:E,5,FALSE),\"\")","v":""},null,{"$f":"IF(COUNTBLANK(C762)=0,VLOOKUP(C762,Locks!A:D,4,FALSE),\"\")","v":""},{"$f":"IF(COUNTBLANK(C762)=0,VLOOKUP(C762,Locks!A:E,5,FALSE),\"\")","v":""}]
[null,{"$f":"IF(COUNTBLANK(A763)=0,VLOOKUP(A763,Users!A:E,5,FALSE),\"\")","v":""},null,{"$f":"IF(COUNTBLANK(C763)=0,VLOOKUP(C763,Locks!A:D,4,FALSE),\"\")","v":""},{"$f":"IF(COUNTBLANK(C763)=0,VLOOKUP(C763,Locks!A:E,5,FALSE),\"\")","v":""}]
[null,{"$f":"IF(COUNTBLANK(A764)=0,VLOOKUP(A764,Users!A:E,5,FALSE),\"\")","v":""},null,{"$f":"IF(COUNTBLANK(C764)=0,VLOOKUP(C764,Locks!A:D,4,FALSE),\"\")","v":""},{"$f":"IF(COUNTBLANK(C764)=0,VLOOKUP(C764,Locks!A:E,5,FALSE),\"\")","v":""}]
[null,{"$f":"IF(COUNTBLANK(A765)=0,VLOOKUP(A765,Users!A:E,5,FALSE),\"\")","v":""},null,{"$f":"IF(COUNTBLANK(C765)=0,VLOOKUP(C765,Locks!A:D,4,FALSE),\"\")","v":""},{"$f":"IF(COUNTBLANK(C765)=0,VLOOKUP(C765,Locks!A:E,5,FALSE),\"\")","v":""}]
[null,{"$f":"IF(COUNTBLANK(A766)=0,VLOOKUP(A766,Users!A:E,5,FALSE),\"\")","v":""},null,{"$f":"IF(COUNTBLANK(C766)=0,VLOOKUP(C766,Locks!A:D,4,FALSE),\"\")","v":""},{"$f":"IF(COUNTBLANK(C766)=0,VLOOKUP(C766,Locks!A:E,5,FALSE),\"\")","v":""}]
[null,{"$f":"IF(COUNTBLANK(A767)=0,VLOOKUP(A767,Users!A:E,5,FALSE),\"\")","v":""},null,{"$f":"IF(COUNTBLANK(C767)=0,VLOOKUP(C767,Locks!A:D,4,FALSE),\"\")","v":""},{"$f":"IF(COUNTBLANK(C767)=0,VLOOKUP(C767,Locks!A:E,5,FALSE),\"\")","v":""}]
[null,{"$f":"IF(COUNTBLANK(A768)=0,VLOOKUP(A768,Users!A:E,5,FALSE),\"\")","v":""},null,{"$f":"IF(COUNTBLANK(C768)=0,VLOOKUP(C768,Locks!A:D,4,FALSE),\"\")","v":""},{"$f":"IF(COUNTBLANK(C768)=0,VLOOKUP(C768,Locks!A:E,5,FALSE),\"\")","v":""}]
[null,{"$f":"IF(COUNTBLANK(A769)=0,VLOOKUP(A769,Users!A:E,5,FALSE),\"\")","v":""},null,{"$f":"IF(COUNTBLANK(C769)=0,VLOOKUP(C769,Locks!A:D,4,FALSE),\"\")","v":""},{"$f":"IF(COUNTBLANK(C769)=0,VLOOKUP(C769,Locks!A:E,5,FALSE),\"\")","v":""}]
[null,{"$f":"IF(COUNTBLANK(A770)=0,VLOOKUP(A770,Users!A:E,5,FALSE),\"\")","v":""},null,{"$f":"IF(COUNTBLANK(C770)=0,VLOOKUP(C770,Locks!A:D,4,FALSE),\"\")","v":""},{"$f":"IF(COUNTBLANK(C770)=0,VLOOKUP(C770,Locks!A:E,5,FALSE),\"\")","v":""}]
[null,{"$f":"IF(COUNTBLANK(A771)=0,VLOOKUP(A771,Users!A:E,5,FALSE),\"\")","v":""},null,{"$f":"IF(COUNTBLANK(C771)=0,VLOOKUP(C771,Locks!A:D,4,FALSE),\"\")","v":""},{"$f":"IF(COUNTBLANK(C771)=0,VLOOKUP(C771,Locks!A:E,5,FALSE),\"\")","v":""}]
[null,{"$f":"IF(COUNTBLANK(A772)=0,VLOOKUP(A772,Users!A:E,5,FALSE),\"\")","v":""},null,{"$f":"IF(COUNTBLANK(C772)=0,VLOOKUP(C772,Locks!A:D,4,FALSE),\"\")","v":""},{"$f":"IF(COUNTBLANK(C772)=0,VLOOKUP(C772,Locks!A:E,5,FALSE),\"\")","v":""}]
[null,{"$f":"IF(COUNTBLANK(A773)=0,VLOOKUP(A773,Users!A:E,5,FALSE),\"\")","v":""},null,{"$f":"IF(COUNTBLANK(C773)=0,VLOOKUP(C773,Locks!A:D,4,FALSE),\"\")","v":""},{"$f":"IF(COUNTBLANK(C773)=0,VLOOKUP(C773,Locks!A:E,5,FALSE),\"\")","v":""}]
[null,{"$f":"IF(COUNTBLANK(A774)=0,VLOOKUP(A774,Users!A:E,5,FALSE),\"\")","v":""},null,{"$f":"IF(COUNTBLANK(C774)=0,VLOOKUP(C774,Locks!A:D,4,FALSE),\"\")","v":""},{"$f":"IF(COUNTBLANK(C774)=0,VLOOKUP(C774,Locks!A:E,5,FALSE),\"\")","v":""}]
[null,{"$f":"IF(COUNTBLANK(A775)=0,VLOOKUP(A775,Users!A:E,5,FALSE),\"\")","v":""},null,{"$f":"IF(COUNTBLANK(C775)=0,VLOOKUP(C775,Locks!A:D,4,FALSE),\"\")","v":""},{"$f":"IF(COUNTBLANK(C775)=0,VLOOKUP(C775,Locks!A:E,5,FALSE),\"\")","v":""}]
[null,{"$f":"IF(COUNTBLANK(A776)=0,VLOOKUP(A776,Users!A:E,5,FALSE),\"\")","v":""},null,{"$f":"IF(COUNTBLANK(C776)=0,VLOOKUP(C776,Locks!A:D,4,FALSE),\"\")","v":""},{"$f":"IF(COUNTBLANK(C776)=0,VLOOKUP(C776,Locks!A:E,5,FALSE),\"\")","v":""}]
[null,{"$f":"IF(COUNTBLANK(A777)=0,VLOOKUP(A777,Users!A:E,5,FALSE),\"\")","v":""},null,{"$f":"IF(COUNTBLANK(C777)=0,VLOOKUP(C777,Locks!A:D,4,FALSE),\"\")","v":""},{"$f":"IF(COUNTBLANK(C777)=0,VLOOKUP(C777,Locks!A:E,5,FALSE),\"\")","v":""}]
[null,{"$f":"IF(COUNTBLANK(A778)=0,VLOOKUP(A778,Users!A:E,5,FALSE),\"\")","v":""},null,{"$f":"IF(COUNTBLANK(C778)=0,VLOOKUP(C778,Locks!A:D,4,FALSE),\"\")","v":""},{"$f":"IF(COUNTBLANK(C778)=0,VLOOKUP(C778,Locks!A:E,5,FALSE),\"\")","v":""}]
[null,{"$f":"IF(COUNTBLANK(A779)=0,VLOOKUP(A779,Users!A:E,5,FALSE),\"\")","v":""},null,{"$f":"IF(COUNTBLANK(C779)=0,VLOOKUP(C779,Locks!A:D,4,FALSE),\"\")","v":""},{"$f":"IF(COUNTBLANK(C779)=0,VLOOKUP(C779,Locks!A:E,5,FALSE),\"\")","v":""}]
[null,{"$f":"IF(COUNTBLANK(A780)=0,VLOOKUP(A780,Users!A:E,5,FALSE),\"\")","v":""},null,{"$f":"IF(COUNTBLANK(C780)=0,VLOOKUP(C780,Locks!A:D,4,FALSE),\"\")","v":""},{"$f":"IF(COUNTBLANK(C780)=0,VLOOKUP(C780,Locks!A:E,5,FALSE),\"\")","v":""}]
[null,{"$f":"IF(COUNTBLANK(A781)=0,VLOOKUP(A781,Users!A:E,5,FALSE),\"\")","v":""},null,{"$f":"IF(COUNTBLANK(C781)=0,VLOOKUP(C781,Locks!A:D,4,FALSE),\"\")","v":""},{"$f":"IF(COUNTBLANK(C781)=0,VLOOKUP(C781,Locks!A:E,5,FALSE),\"\")","v":""}]
[null,{"$f":"IF(COUNTBLANK(A782)=0,VLOOKUP(A782,Users!A:E,5,FALSE),\"\")","v":""},null,{"$f":"IF(COUNTBLANK(C782)=0,VLOOKUP(C782,Locks!A:D,4,FALSE),\"\")","v":""},{"$f":"IF(COUNTBLANK(C782)=0,VLOOKUP(C782,Locks!A:E,5,FALSE),\"\")","v":""}]
[null,{"$f":"IF(COUNTBLANK(A783)=0,VLOOKUP(A783,Users!A:E,5,FALSE),\"\")","v":""},null,{"$f":"IF(COUNTBLANK(C783)=0,VLOOKUP(C783,Locks!A:D,4,FALSE),\"\")","v":""},{"$f":"IF(COUNTBLANK(C783)=0,VLOOKUP(C783,Locks!A:E,5,FALSE),\"\")","v":""}]
[null,{"$f":"IF(COUNTBLANK(A784)=0,VLOOKUP(A784,Users!A:E,5,FALSE),\"\")","v":""},null,{"$f":"IF(COUNTBLANK(C784)=0,VLOOKUP(C784,Locks!A:D,4,FALSE),\"\")","v":""},{"$f":"IF(COUNTBLANK(C784)=0,VLOOKUP(C784,Locks!A:E,5,FALSE),\"\")","v":""}]
[null,{"$f":"IF(COUNTBLANK(A785)=0,VLOOKUP(A785,Users!A:E,5,FALSE),\"\")","v":""},null,{"$f":"IF(COUNTBLANK(C785)=0,VLOOKUP(C785,Locks!A:D,4,FALSE),\"\")","v":""},{"$f":"IF(COUNTBLANK(C785)=0,VLOOKUP(C785,Locks!A:E,5,FALSE),\"\")","v":""}]
[null,{"$f":"IF(COUNTBLANK(A786)=0,VLOOKUP(A786,Users!A:E,5,FALSE),\"\")","v":""},null,{"$f":"IF(COUNTBLANK(C786)=0,VLOOKUP(C786,Locks!A:D,4,FALSE),\"\")","v":""},{"$f":"IF(COUNTBLANK(C786)=0,VLOOKUP(C786,Locks!A:E,5,FALSE),\"\")","v":""}]
[null,{"$f":"IF(COUNTBLANK(A787)=0,VLOOKUP(A787,Users!A:E,5,FALSE),\"\")","v":""},null,{"$f":"IF(COUNTBLANK(C787)=0,VLOOKUP(C787,Locks!A:D,4,FALSE),\"\")","v":""},{"$f":"IF(COUNTBLANK(C787)=0,VLOOKUP(C787,Locks!A:E,5,FALSE),\"\")","v":""}]
[null,{"$f":"IF(COUNTBLANK(A788)=0,VLOOKUP(A788,Users!A:E,5,FALSE),\"\")","v":""},null,{"$f":"IF(COUNTBLANK(C788)=0,VLOOKUP(C788,Locks!A:D,4,FALSE),\"\")","v":""},{"$f":"IF(COUNTBLANK(C788)=0,VLOOKUP(C788,Locks!A:E,5,FALSE),\"\")","v":""}]
[null,{"$f":"IF(COUNTBLANK(A789)=0,VLOOKUP(A789,Users!A:E,5,FALSE),\"\")","v":""},null,{"$f":"IF(COUNTBLANK(C789)=0,VLOOKUP(C789,Locks!A:D,4,FALSE),\"\")","v":""},{"$f":"IF(COUNTBLANK(C789)=0,VLOOKUP(C789,Locks!A:E,5,FALSE),\"\")","v":""}]
[null,{"$f":"IF(COUNTBLANK(A790)=0,VLOOKUP(A790,Users!A:E,5,FALSE),\"\")","v":""},null,{"$f":"IF(COUNTBLANK(C790)=0,VLOOKUP(C790,Locks!A:D,4,FALSE),\"\")","v":""},{"$f":"IF(COUNTBLANK(C790)=0,VLOOKUP(C790,Locks!A:E,5,FALSE),\"\")","v":""}]
[null,{"$f":"IF(COUNTBLANK(A791)=0,VLOOKUP(A791,Users!A:E,5,FALSE),\"\")","v":""},null,{"$f":"IF(COUNTBLANK(C791)=0,VLOOKUP(C791,Locks!A:D,4,FALSE),\"\")","v":""},{"$f":"IF(COUNTBLANK(C791)=0,VLOOKUP(C791,Locks!A:E,5,FALSE),\"\")","v":""}]
[null,{"$f":"IF(COUNTBLANK(A792)=0,VLOOKUP(A792,Users!A:E,5,FALSE),\"\")","v":""},null,{"$f":"IF(COUNTBLANK(C792)=0,VLOOKUP(C792,Locks!A:D,4,FALSE),\"\")","v":""},{"$f":"IF(COUNTBLANK(C792)=0,VLOOKUP(C792,Locks!A:E,5,FALSE),\"\")","v":""}]
[null,{"$f":"IF(COUNTBLANK(A793)=0,VLOOKUP(A793,Users!A:E,5,FALSE),\"\")","v":""},null,{"$f":"IF(COUNTBLANK(C793)=0,VLOOKUP(C793,Locks!A:D,4,FALSE),\"\")","v":""},{"$f":"IF(COUNTBLANK(C793)=0,VLOOKUP(C793,Locks!A:E,5,FALSE),\"\")","v":""}]
[null,{"$f":"IF(COUNTBLANK(A794)=0,VLOOKUP(A794,Users!A:E,5,FALSE),\"\")","v":""},null,{"$f":"IF(COUNTBLANK(C794)=0,VLOOKUP(C794,Locks!A:D,4,FALSE),\"\")","v":""},{"$f":"IF(COUNTBLANK(C794)=0,VLOOKUP(C794,Locks!A:E,5,FALSE),\"\")","v":""}]
[null,{"$f":"IF(COUNTBLANK(A795)=0,VLOOKUP(A795,Users!A:E,5,FALSE),\"\")","v":""},null,{"$f":"IF(COUNTBLANK(C795)=0,VLOOKUP(C795,Locks!A:D,4,FALSE),\"\")","v":""},{"$f":"IF(COUNTBLANK(C795)=0,VLOOKUP(C795,Locks!A:E,5,FALSE),\"\")","v":""}]
[null,{"$f":"IF(COUNTBLANK(A796)=0,VLOOKUP(A796,Users!A:E,5,FALSE),\"\")","v":""},null,{"$f":"IF(COUNTBLANK(C796)=0,VLOOKUP(C796,Locks!A:D,4,FALSE),\"\")","v":""},{"$f":"IF(COUNTBLANK(C796)=0,VLOOKUP(C796,Locks!A:E,5,FALSE),\"\")","v":""}]
[null,{"$f":"IF(COUNTBLANK(A797)=0,VLOOKUP(A797,Users!A:E,5,FALSE),\"\")","v":""},null,{"$f":"IF(COUNTBLANK(C797)=0,VLOOKUP(C797,Locks!A:D,4,FALSE),\"\")","v":""},{"$f":"IF(COUNTBLANK(C797)=0,VLOOKUP(C797,Locks!A:E,5,FALSE),\"\")","v":""}]
[null,{"$f":"IF(COUNTBLANK(A798)=0,VLOOKUP(A798,Users!A:E,5,FALSE),\"\")","v":""},null,{"$f":"IF(COUNTBLANK(C798)=0,VLOOKUP(C798,Locks!A:D,4,FALSE),\"\")","v":""},{"$f":"IF(COUNTBLANK(C798)=0,VLOOKUP(C798,Locks!A:E,5,FALSE),\"\")","v":""}]
[null,{"$f":"IF(COUNTBLANK(A799)=0,VLOOKUP(A799,Users!A:E,5,FALSE),\"\")","v":""},null,{"$f":"IF(COUNTBLANK(C799)=0,VLOOKUP(C799,Locks!A:D,4,FALSE),\"\")","v":""},{"$f":"IF(COUNTBLANK(C799)=0,VLOOKUP(C799,Locks!A:E,5,FALSE),\"\")","v":""}]
[null,{"$f":"IF(COUNTBLANK(A800)=0,VLOOKUP(A800,Users!A:E,5,FALSE),\"\")","v":""},null,{"$f":"IF(COUNTBLANK(C800)=0,VLOOKUP(C800,Locks!A:D,4,FALSE),\"\")","v":""},{"$f":"IF(COUNTBLANK(C800)=0,VLOOKUP(C800,Locks!A:E,5,FALSE),\"\")","v":""}]
[null,{"$f":"IF(COUNTBLANK(A801)=0,VLOOKUP(A801,Users!A:E,5,FALSE),\"\")","v":""},null,{"$f":"IF(COUNTBLANK(C801)=0,VLOOKUP(C801,Locks!A:D,4,FALSE),\"\")","v":""},{"$f":"IF(COUNTBLANK(C801)=0,VLOOKUP(C801,Locks!A:E,5,FALSE),\"\")","v":""}]
[null,{"$f":"IF(COUNTBLANK(A802)=0,VLOOKUP(A802,Users!A:E,5,FALSE),\"\")","v":""},null,{"$f":"IF(COUNTBLANK(C802)=0,VLOOKUP(C802,Locks!A:D,4,FALSE),\"\")","v":""},{"$f":"IF(COUNTBLANK(C802)=0,VLOOKUP(C802,Locks!A:E,5,FALSE),\"\")","v":""}]
[null,{"$f":"IF(COUNTBLANK(A803)=0,VLOOKUP(A803,Users!A:E,5,FALSE),\"\")","v":""},null,{"$f":"IF(COUNTBLANK(C803)=0,VLOOKUP(C803,Locks!A:D,4,FALSE),\"\")","v":""},{"$f":"IF(COUNTBLANK(C803)=0,VLOOKUP(C803,Locks!A:E,5,FALSE),\"\")","v":""}]
[null,{"$f":"IF(COUNTBLANK(A804)=0,VLOOKUP(A804,Users!A:E,5,FALSE),\"\")","v":""},null,{"$f":"IF(COUNTBLANK(C804)=0,VLOOKUP(C804,Locks!A:D,4,FALSE),\"\")","v":""},{"$f":"IF(COUNTBLANK(C804)=0,VLOOKUP(C804,Locks!A:E,5,FALSE),\"\")","v":""}]
[null,{"$f":"IF(COUNTBLANK(A805)=0,VLOOKUP(A805,Users!A:E,5,FALSE),\"\")","v":""},null,{"$f":"IF(COUNTBLANK(C805)=0,VLOOKUP(C805,Locks!A:D,4,FALSE),\"\")","v":""},{"$f":"IF(COUNTBLANK(C805)=0,VLOOKUP(C805,Locks!A:E,5,FALSE),\"\")","v":""}]
[null,{"$f":"IF(COUNTBLANK(A806)=0,VLOOKUP(A806,Users!A:E,5,FALSE),\"\")","v":""},null,{"$f":"IF(COUNTBLANK(C806)=0,VLOOKUP(C806,Locks!A:D,4,FALSE),\"\")","v":""},{"$f":"IF(COUNTBLANK(C806)=0,VLOOKUP(C806,Locks!A:E,5,FALSE),\"\")","v":""}]
[null,{"$f":"IF(COUNTBLANK(A807)=0,VLOOKUP(A807,Users!A:E,5,FALSE),\"\")","v":""},null,{"$f":"IF(COUNTBLANK(C807)=0,VLOOKUP(C807,Locks!A:D,4,FALSE),\"\")","v":""},{"$f":"IF(COUNTBLANK(C807)=0,VLOOKUP(C807,Locks!A:E,5,FALSE),\"\")","v":""}]
[null,{"$f":"IF(COUNTBLANK(A808)=0,VLOOKUP(A808,Users!A:E,5,FALSE),\"\")","v":""},null,{"$f":"IF(COUNTBLANK(C808)=0,VLOOKUP(C808,Locks!A:D,4,FALSE),\"\")","v":""},{"$f":"IF(COUNTBLANK(C808)=0,VLOOKUP(C808,Locks!A:E,5,FALSE),\"\")","v":""}]
[null,{"$f":"IF(COUNTBLANK(A809)=0,VLOOKUP(A809,Users!A:E,5,FALSE),\"\")","v":""},null,{"$f":"IF(COUNTBLANK(C809)=0,VLOOKUP(C809,Locks!A:D,4,FALSE),\"\")","v":""},{"$f":"IF(COUNTBLANK(C809)=0,VLOOKUP(C809,Locks!A:E,5,FALSE),\"\")","v":""}]
[null,{"$f":"IF(COUNTBLANK(A810)=0,VLOOKUP(A810,Users!A:E,5,FALSE),\"\")","v":""},null,{"$f":"IF(COUNTBLANK(C810)=0,VLOOKUP(C810,Locks!A:D,4,FALSE),\"\")","v":""},{"$f":"IF(COUNTBLANK(C810)=0,VLOOKUP(C810,Locks!A:E,5,FALSE),\"\")","v":""}]
[null,{"$f":"IF(COUNTBLANK(A811)=0,VLOOKUP(A811,Users!A:E,5,FALSE),\"\")","v":""},null,{"$f":"IF(COUNTBLANK(C811)=0,VLOOKUP(C811,Locks!A:D,4,FALSE),\"\")","v":""},{"$f":"IF(COUNTBLANK(C811)=0,VLOOKUP(C811,Locks!A:E,5,FALSE),\"\")","v":""}]
[null,{"$f":"IF(COUNTBLANK(A812)=0,VLOOKUP(A812,Users!A:E,5,FALSE),\"\")","v":""},null,{"$f":"IF(COUNTBLANK(C812)=0,VLOOKUP(C812,Locks!A:D,4,FALSE),\"\")","v":""},{"$f":"IF(COUNTBLANK(C812)=0,VLOOKUP(C812,Locks!A:E,5,FALSE),\"\")","v":""}]
[null,{"$f":"IF(COUNTBLANK(A813)=0,VLOOKUP(A813,Users!A:E,5,FALSE),\"\")","v":""},null,{"$f":"IF(COUNTBLANK(C813)=0,VLOOKUP(C813,Locks!A:D,4,FALSE),\"\")","v":""},{"$f":"IF(COUNTBLANK(C813)=0,VLOOKUP(C813,Locks!A:E,5,FALSE),\"\")","v":""}]
[null,{"$f":"IF(COUNTBLANK(A814)=0,VLOOKUP(A814,Users!A:E,5,FALSE),\"\")","v":""},null,{"$f":"IF(COUNTBLANK(C814)=0,VLOOKUP(C814,Locks!A:D,4,FALSE),\"\")","v":""},{"$f":"IF(COUNTBLANK(C814)=0,VLOOKUP(C814,Locks!A:E,5,FALSE),\"\")","v":""}]
[null,{"$f":"IF(COUNTBLANK(A815)=0,VLOOKUP(A815,Users!A:E,5,FALSE),\"\")","v":""},null,{"$f":"IF(COUNTBLANK(C815)=0,VLOOKUP(C815,Locks!A:D,4,FALSE),\"\")","v":""},{"$f":"IF(COUNTBLANK(C815)=0,VLOOKUP(C815,Locks!A:E,5,FALSE),\"\")","v":""}]
[null,{"$f":"IF(COUNTBLANK(A816)=0,VLOOKUP(A816,Users!A:E,5,FALSE),\"\")","v":""},null,{"$f":"IF(COUNTBLANK(C816)=0,VLOOKUP(C816,Locks!A:D,4,FALSE),\"\")","v":""},{"$f":"IF(COUNTBLANK(C816)=0,VLOOKUP(C816,Locks!A:E,5,FALSE),\"\")","v":""}]
[null,{"$f":"IF(COUNTBLANK(A817)=0,VLOOKUP(A817,Users!A:E,5,FALSE),\"\")","v":""},null,{"$f":"IF(COUNTBLANK(C817)=0,VLOOKUP(C817,Locks!A:D,4,FALSE),\"\")","v":""},{"$f":"IF(COUNTBLANK(C817)=0,VLOOKUP(C817,Locks!A:E,5,FALSE),\"\")","v":""}]
[null,{"$f":"IF(COUNTBLANK(A818)=0,VLOOKUP(A818,Users!A:E,5,FALSE),\"\")","v":""},null,{"$f":"IF(COUNTBLANK(C818)=0,VLOOKUP(C818,Locks!A:D,4,FALSE),\"\")","v":""},{"$f":"IF(COUNTBLANK(C818)=0,VLOOKUP(C818,Locks!A:E,5,FALSE),\"\")","v":""}]
[null,{"$f":"IF(COUNTBLANK(A819)=0,VLOOKUP(A819,Users!A:E,5,FALSE),\"\")","v":""},null,{"$f":"IF(COUNTBLANK(C819)=0,VLOOKUP(C819,Locks!A:D,4,FALSE),\"\")","v":""},{"$f":"IF(COUNTBLANK(C819)=0,VLOOKUP(C819,Locks!A:E,5,FALSE),\"\")","v":""}]
[null,{"$f":"IF(COUNTBLANK(A820)=0,VLOOKUP(A820,Users!A:E,5,FALSE),\"\")","v":""},null,{"$f":"IF(COUNTBLANK(C820)=0,VLOOKUP(C820,Locks!A:D,4,FALSE),\"\")","v":""},{"$f":"IF(COUNTBLANK(C820)=0,VLOOKUP(C820,Locks!A:E,5,FALSE),\"\")","v":""}]
[null,{"$f":"IF(COUNTBLANK(A821)=0,VLOOKUP(A821,Users!A:E,5,FALSE),\"\")","v":""},null,{"$f":"IF(COUNTBLANK(C821)=0,VLOOKUP(C821,Locks!A:D,4,FALSE),\"\")","v":""},{"$f":"IF(COUNTBLANK(C821)=0,VLOOKUP(C821,Locks!A:E,5,FALSE),\"\")","v":""}]
[null,{"$f":"IF(COUNTBLANK(A822)=0,VLOOKUP(A822,Users!A:E,5,FALSE),\"\")","v":""},null,{"$f":"IF(COUNTBLANK(C822)=0,VLOOKUP(C822,Locks!A:D,4,FALSE),\"\")","v":""},{"$f":"IF(COUNTBLANK(C822)=0,VLOOKUP(C822,Locks!A:E,5,FALSE),\"\")","v":""}]
[null,{"$f":"IF(COUNTBLANK(A823)=0,VLOOKUP(A823,Users!A:E,5,FALSE),\"\")","v":""},null,{"$f":"IF(COUNTBLANK(C823)=0,VLOOKUP(C823,Locks!A:D,4,FALSE),\"\")","v":""},{"$f":"IF(COUNTBLANK(C823)=0,VLOOKUP(C823,Locks!A:E,5,FALSE),\"\")","v":""}]
[null,{"$f":"IF(COUNTBLANK(A824)=0,VLOOKUP(A824,Users!A:E,5,FALSE),\"\")","v":""},null,{"$f":"IF(COUNTBLANK(C824)=0,VLOOKUP(C824,Locks!A:D,4,FALSE),\"\")","v":""},{"$f":"IF(COUNTBLANK(C824)=0,VLOOKUP(C824,Locks!A:E,5,FALSE),\"\")","v":""}]
[null,{"$f":"IF(COUNTBLANK(A825)=0,VLOOKUP(A825,Users!A:E,5,FALSE),\"\")","v":""},null,{"$f":"IF(COUNTBLANK(C825)=0,VLOOKUP(C825,Locks!A:D,4,FALSE),\"\")","v":""},{"$f":"IF(COUNTBLANK(C825)=0,VLOOKUP(C825,Locks!A:E,5,FALSE),\"\")","v":""}]
[null,{"$f":"IF(COUNTBLANK(A826)=0,VLOOKUP(A826,Users!A:E,5,FALSE),\"\")","v":""},null,{"$f":"IF(COUNTBLANK(C826)=0,VLOOKUP(C826,Locks!A:D,4,FALSE),\"\")","v":""},{"$f":"IF(COUNTBLANK(C826)=0,VLOOKUP(C826,Locks!A:E,5,FALSE),\"\")","v":""}]
[null,{"$f":"IF(COUNTBLANK(A827)=0,VLOOKUP(A827,Users!A:E,5,FALSE),\"\")","v":""},null,{"$f":"IF(COUNTBLANK(C827)=0,VLOOKUP(C827,Locks!A:D,4,FALSE),\"\")","v":""},{"$f":"IF(COUNTBLANK(C827)=0,VLOOKUP(C827,Locks!A:E,5,FALSE),\"\")","v":""}]
[null,{"$f":"IF(COUNTBLANK(A828)=0,VLOOKUP(A828,Users!A:E,5,FALSE),\"\")","v":""},null,{"$f":"IF(COUNTBLANK(C828)=0,VLOOKUP(C828,Locks!A:D,4,FALSE),\"\")","v":""},{"$f":"IF(COUNTBLANK(C828)=0,VLOOKUP(C828,Locks!A:E,5,FALSE),\"\")","v":""}]
[null,{"$f":"IF(COUNTBLANK(A829)=0,VLOOKUP(A829,Users!A:E,5,FALSE),\"\")","v":""},null,{"$f":"IF(COUNTBLANK(C829)=0,VLOOKUP(C829,Locks!A:D,4,FALSE),\"\")","v":""},{"$f":"IF(COUNTBLANK(C829)=0,VLOOKUP(C829,Locks!A:E,5,FALSE),\"\")","v":""}]
[null,{"$f":"IF(COUNTBLANK(A830)=0,VLOOKUP(A830,Users!A:E,5,FALSE),\"\")","v":""},null,{"$f":"IF(COUNTBLANK(C830)=0,VLOOKUP(C830,Locks!A:D,4,FALSE),\"\")","v":""},{"$f":"IF(COUNTBLANK(C830)=0,VLOOKUP(C830,Locks!A:E,5,FALSE),\"\")","v":""}]
[null,{"$f":"IF(COUNTBLANK(A831)=0,VLOOKUP(A831,Users!A:E,5,FALSE),\"\")","v":""},null,{"$f":"IF(COUNTBLANK(C831)=0,VLOOKUP(C831,Locks!A:D,4,FALSE),\"\")","v":""},{"$f":"IF(COUNTBLANK(C831)=0,VLOOKUP(C831,Locks!A:E,5,FALSE),\"\")","v":""}]
[null,{"$f":"IF(COUNTBLANK(A832)=0,VLOOKUP(A832,Users!A:E,5,FALSE),\"\")","v":""},null,{"$f":"IF(COUNTBLANK(C832)=0,VLOOKUP(C832,Locks!A:D,4,FALSE),\"\")","v":""},{"$f":"IF(COUNTBLANK(C832)=0,VLOOKUP(C832,Locks!A:E,5,FALSE),\"\")","v":""}]
[null,{"$f":"IF(COUNTBLANK(A833)=0,VLOOKUP(A833,Users!A:E,5,FALSE),\"\")","v":""},null,{"$f":"IF(COUNTBLANK(C833)=0,VLOOKUP(C833,Locks!A:D,4,FALSE),\"\")","v":""},{"$f":"IF(COUNTBLANK(C833)=0,VLOOKUP(C833,Locks!A:E,5,FALSE),\"\")","v":""}]
[null,{"$f":"IF(COUNTBLANK(A834)=0,VLOOKUP(A834,Users!A:E,5,FALSE),\"\")","v":""},null,{"$f":"IF(COUNTBLANK(C834)=0,VLOOKUP(C834,Locks!A:D,4,FALSE),\"\")","v":""},{"$f":"IF(COUNTBLANK(C834)=0,VLOOKUP(C834,Locks!A:E,5,FALSE),\"\")","v":""}]
[null,{"$f":"IF(COUNTBLANK(A835)=0,VLOOKUP(A835,Users!A:E,5,FALSE),\"\")","v":""},null,{"$f":"IF(COUNTBLANK(C835)=0,VLOOKUP(C835,Locks!A:D,4,FALSE),\"\")","v":""},{"$f":"IF(COUNTBLANK(C835)=0,VLOOKUP(C835,Locks!A:E,5,FALSE),\"\")","v":""}]
[null,{"$f":"IF(COUNTBLANK(A836)=0,VLOOKUP(A836,Users!A:E,5,FALSE),\"\")","v":""},null,{"$f":"IF(COUNTBLANK(C836)=0,VLOOKUP(C836,Locks!A:D,4,FALSE),\"\")","v":""},{"$f":"IF(COUNTBLANK(C836)=0,VLOOKUP(C836,Locks!A:E,5,FALSE),\"\")","v":""}]
[null,{"$f":"IF(COUNTBLANK(A837)=0,VLOOKUP(A837,Users!A:E,5,FALSE),\"\")","v":""},null,{"$f":"IF(COUNTBLANK(C837)=0,VLOOKUP(C837,Locks!A:D,4,FALSE),\"\")","v":""},{"$f":"IF(COUNTBLANK(C837)=0,VLOOKUP(C837,Locks!A:E,5,FALSE),\"\")","v":""}]
[null,{"$f":"IF(COUNTBLANK(A838)=0,VLOOKUP(A838,Users!A:E,5,FALSE),\"\")","v":""},null,{"$f":"IF(COUNTBLANK(C838)=0,VLOOKUP(C838,Locks!A:D,4,FALSE),\"\")","v":""},{"$f":"IF(COUNTBLANK(C838)=0,VLOOKUP(C838,Locks!A:E,5,FALSE),\"\")","v":""}]
[null,{"$f":"IF(COUNTBLANK(A839)=0,VLOOKUP(A839,Users!A:E,5,FALSE),\"\")","v":""},null,{"$f":"IF(COUNTBLANK(C839)=0,VLOOKUP(C839,Locks!A:D,4,FALSE),\"\")","v":""},{"$f":"IF(COUNTBLANK(C839)=0,VLOOKUP(C839,Locks!A:E,5,FALSE),\"\")","v":""}]
[null,{"$f":"IF(COUNTBLANK(A840)=0,VLOOKUP(A840,Users!A:E,5,FALSE),\"\")","v":""},null,{"$f":"IF(COUNTBLANK(C840)=0,VLOOKUP(C840,Locks!A:D,4,FALSE),\"\")","v":""},{"$f":"IF(COUNTBLANK(C840)=0,VLOOKUP(C840,Locks!A:E,5,FALSE),\"\")","v":""}]
[null,{"$f":"IF(COUNTBLANK(A841)=0,VLOOKUP(A841,Users!A:E,5,FALSE),\"\")","v":""},null,{"$f":"IF(COUNTBLANK(C841)=0,VLOOKUP(C841,Locks!A:D,4,FALSE),\"\")","v":""},{"$f":"IF(COUNTBLANK(C841)=0,VLOOKUP(C841,Locks!A:E,5,FALSE),\"\")","v":""}]
[null,{"$f":"IF(COUNTBLANK(A842)=0,VLOOKUP(A842,Users!A:E,5,FALSE),\"\")","v":""},null,{"$f":"IF(COUNTBLANK(C842)=0,VLOOKUP(C842,Locks!A:D,4,FALSE),\"\")","v":""},{"$f":"IF(COUNTBLANK(C842)=0,VLOOKUP(C842,Locks!A:E,5,FALSE),\"\")","v":""}]
[null,{"$f":"IF(COUNTBLANK(A843)=0,VLOOKUP(A843,Users!A:E,5,FALSE),\"\")","v":""},null,{"$f":"IF(COUNTBLANK(C843)=0,VLOOKUP(C843,Locks!A:D,4,FALSE),\"\")","v":""},{"$f":"IF(COUNTBLANK(C843)=0,VLOOKUP(C843,Locks!A:E,5,FALSE),\"\")","v":""}]
[null,{"$f":"IF(COUNTBLANK(A844)=0,VLOOKUP(A844,Users!A:E,5,FALSE),\"\")","v":""},null,{"$f":"IF(COUNTBLANK(C844)=0,VLOOKUP(C844,Locks!A:D,4,FALSE),\"\")","v":""},{"$f":"IF(COUNTBLANK(C844)=0,VLOOKUP(C844,Locks!A:E,5,FALSE),\"\")","v":""}]
[null,{"$f":"IF(COUNTBLANK(A845)=0,VLOOKUP(A845,Users!A:E,5,FALSE),\"\")","v":""},null,{"$f":"IF(COUNTBLANK(C845)=0,VLOOKUP(C845,Locks!A:D,4,FALSE),\"\")","v":""},{"$f":"IF(COUNTBLANK(C845)=0,VLOOKUP(C845,Locks!A:E,5,FALSE),\"\")","v":""}]
[null,{"$f":"IF(COUNTBLANK(A846)=0,VLOOKUP(A846,Users!A:E,5,FALSE),\"\")","v":""},null,{"$f":"IF(COUNTBLANK(C846)=0,VLOOKUP(C846,Locks!A:D,4,FALSE),\"\")","v":""},{"$f":"IF(COUNTBLANK(C846)=0,VLOOKUP(C846,Locks!A:E,5,FALSE),\"\")","v":""}]
[null,{"$f":"IF(COUNTBLANK(A847)=0,VLOOKUP(A847,Users!A:E,5,FALSE),\"\")","v":""},null,{"$f":"IF(COUNTBLANK(C847)=0,VLOOKUP(C847,Locks!A:D,4,FALSE),\"\")","v":""},{"$f":"IF(COUNTBLANK(C847)=0,VLOOKUP(C847,Locks!A:E,5,FALSE),\"\")","v":""}]
[null,{"$f":"IF(COUNTBLANK(A848)=0,VLOOKUP(A848,Users!A:E,5,FALSE),\"\")","v":""},null,{"$f":"IF(COUNTBLANK(C848)=0,VLOOKUP(C848,Locks!A:D,4,FALSE),\"\")","v":""},{"$f":"IF(COUNTBLANK(C848)=0,VLOOKUP(C848,Locks!A:E,5,FALSE),\"\")","v":""}]
[null,{"$f":"IF(COUNTBLANK(A849)=0,VLOOKUP(A849,Users!A:E,5,FALSE),\"\")","v":""},null,{"$f":"IF(COUNTBLANK(C849)=0,VLOOKUP(C849,Locks!A:D,4,FALSE),\"\")","v":""},{"$f":"IF(COUNTBLANK(C849)=0,VLOOKUP(C849,Locks!A:E,5,FALSE),\"\")","v":""}]
[null,{"$f":"IF(COUNTBLANK(A850)=0,VLOOKUP(A850,Users!A:E,5,FALSE),\"\")","v":""},null,{"$f":"IF(COUNTBLANK(C850)=0,VLOOKUP(C850,Locks!A:D,4,FALSE),\"\")","v":""},{"$f":"IF(COUNTBLANK(C850)=0,VLOOKUP(C850,Locks!A:E,5,FALSE),\"\")","v":""}]
[null,{"$f":"IF(COUNTBLANK(A851)=0,VLOOKUP(A851,Users!A:E,5,FALSE),\"\")","v":""},null,{"$f":"IF(COUNTBLANK(C851)=0,VLOOKUP(C851,Locks!A:D,4,FALSE),\"\")","v":""},{"$f":"IF(COUNTBLANK(C851)=0,VLOOKUP(C851,Locks!A:E,5,FALSE),\"\")","v":""}]
[null,{"$f":"IF(COUNTBLANK(A852)=0,VLOOKUP(A852,Users!A:E,5,FALSE),\"\")","v":""},null,{"$f":"IF(COUNTBLANK(C852)=0,VLOOKUP(C852,Locks!A:D,4,FALSE),\"\")","v":""},{"$f":"IF(COUNTBLANK(C852)=0,VLOOKUP(C852,Locks!A:E,5,FALSE),\"\")","v":""}]
[null,{"$f":"IF(COUNTBLANK(A853)=0,VLOOKUP(A853,Users!A:E,5,FALSE),\"\")","v":""},null,{"$f":"IF(COUNTBLANK(C853)=0,VLOOKUP(C853,Locks!A:D,4,FALSE),\"\")","v":""},{"$f":"IF(COUNTBLANK(C853)=0,VLOOKUP(C853,Locks!A:E,5,FALSE),\"\")","v":""}]
[null,{"$f":"IF(COUNTBLANK(A854)=0,VLOOKUP(A854,Users!A:E,5,FALSE),\"\")","v":""},null,{"$f":"IF(COUNTBLANK(C854)=0,VLOOKUP(C854,Locks!A:D,4,FALSE),\"\")","v":""},{"$f":"IF(COUNTBLANK(C854)=0,VLOOKUP(C854,Locks!A:E,5,FALSE),\"\")","v":""}]
[null,{"$f":"IF(COUNTBLANK(A855)=0,VLOOKUP(A855,Users!A:E,5,FALSE),\"\")","v":""},null,{"$f":"IF(COUNTBLANK(C855)=0,VLOOKUP(C855,Locks!A:D,4,FALSE),\"\")","v":""},{"$f":"IF(COUNTBLANK(C855)=0,VLOOKUP(C855,Locks!A:E,5,FALSE),\"\")","v":""}]
[null,{"$f":"IF(COUNTBLANK(A856)=0,VLOOKUP(A856,Users!A:E,5,FALSE),\"\")","v":""},null,{"$f":"IF(COUNTBLANK(C856)=0,VLOOKUP(C856,Locks!A:D,4,FALSE),\"\")","v":""},{"$f":"IF(COUNTBLANK(C856)=0,VLOOKUP(C856,Locks!A:E,5,FALSE),\"\")","v":""}]
[null,{"$f":"IF(COUNTBLANK(A857)=0,VLOOKUP(A857,Users!A:E,5,FALSE),\"\")","v":""},null,{"$f":"IF(COUNTBLANK(C857)=0,VLOOKUP(C857,Locks!A:D,4,FALSE),\"\")","v":""},{"$f":"IF(COUNTBLANK(C857)=0,VLOOKUP(C857,Locks!A:E,5,FALSE),\"\")","v":""}]
[null,{"$f":"IF(COUNTBLANK(A858)=0,VLOOKUP(A858,Users!A:E,5,FALSE),\"\")","v":""},null,{"$f":"IF(COUNTBLANK(C858)=0,VLOOKUP(C858,Locks!A:D,4,FALSE),\"\")","v":""},{"$f":"IF(COUNTBLANK(C858)=0,VLOOKUP(C858,Locks!A:E,5,FALSE),\"\")","v":""}]
[null,{"$f":"IF(COUNTBLANK(A859)=0,VLOOKUP(A859,Users!A:E,5,FALSE),\"\")","v":""},null,{"$f":"IF(COUNTBLANK(C859)=0,VLOOKUP(C859,Locks!A:D,4,FALSE),\"\")","v":""},{"$f":"IF(COUNTBLANK(C859)=0,VLOOKUP(C859,Locks!A:E,5,FALSE),\"\")","v":""}]
[null,{"$f":"IF(COUNTBLANK(A860)=0,VLOOKUP(A860,Users!A:E,5,FALSE),\"\")","v":""},null,{"$f":"IF(COUNTBLANK(C860)=0,VLOOKUP(C860,Locks!A:D,4,FALSE),\"\")","v":""},{"$f":"IF(COUNTBLANK(C860)=0,VLOOKUP(C860,Locks!A:E,5,FALSE),\"\")","v":""}]
[null,{"$f":"IF(COUNTBLANK(A861)=0,VLOOKUP(A861,Users!A:E,5,FALSE),\"\")","v":""},null,{"$f":"IF(COUNTBLANK(C861)=0,VLOOKUP(C861,Locks!A:D,4,FALSE),\"\")","v":""},{"$f":"IF(COUNTBLANK(C861)=0,VLOOKUP(C861,Locks!A:E,5,FALSE),\"\")","v":""}]
[null,{"$f":"IF(COUNTBLANK(A862)=0,VLOOKUP(A862,Users!A:E,5,FALSE),\"\")","v":""},null,{"$f":"IF(COUNTBLANK(C862)=0,VLOOKUP(C862,Locks!A:D,4,FALSE),\"\")","v":""},{"$f":"IF(COUNTBLANK(C862)=0,VLOOKUP(C862,Locks!A:E,5,FALSE),\"\")","v":""}]
[null,{"$f":"IF(COUNTBLANK(A863)=0,VLOOKUP(A863,Users!A:E,5,FALSE),\"\")","v":""},null,{"$f":"IF(COUNTBLANK(C863)=0,VLOOKUP(C863,Locks!A:D,4,FALSE),\"\")","v":""},{"$f":"IF(COUNTBLANK(C863)=0,VLOOKUP(C863,Locks!A:E,5,FALSE),\"\")","v":""}]
[null,{"$f":"IF(COUNTBLANK(A864)=0,VLOOKUP(A864,Users!A:E,5,FALSE),\"\")","v":""},null,{"$f":"IF(COUNTBLANK(C864)=0,VLOOKUP(C864,Locks!A:D,4,FALSE),\"\")","v":""},{"$f":"IF(COUNTBLANK(C864)=0,VLOOKUP(C864,Locks!A:E,5,FALSE),\"\")","v":""}]
[null,{"$f":"IF(COUNTBLANK(A865)=0,VLOOKUP(A865,Users!A:E,5,FALSE),\"\")","v":""},null,{"$f":"IF(COUNTBLANK(C865)=0,VLOOKUP(C865,Locks!A:D,4,FALSE),\"\")","v":""},{"$f":"IF(COUNTBLANK(C865)=0,VLOOKUP(C865,Locks!A:E,5,FALSE),\"\")","v":""}]
[null,{"$f":"IF(COUNTBLANK(A866)=0,VLOOKUP(A866,Users!A:E,5,FALSE),\"\")","v":""},null,{"$f":"IF(COUNTBLANK(C866)=0,VLOOKUP(C866,Locks!A:D,4,FALSE),\"\")","v":""},{"$f":"IF(COUNTBLANK(C866)=0,VLOOKUP(C866,Locks!A:E,5,FALSE),\"\")","v":""}]
[null,{"$f":"IF(COUNTBLANK(A867)=0,VLOOKUP(A867,Users!A:E,5,FALSE),\"\")","v":""},null,{"$f":"IF(COUNTBLANK(C867)=0,VLOOKUP(C867,Locks!A:D,4,FALSE),\"\")","v":""},{"$f":"IF(COUNTBLANK(C867)=0,VLOOKUP(C867,Locks!A:E,5,FALSE),\"\")","v":""}]
[null,{"$f":"IF(COUNTBLANK(A868)=0,VLOOKUP(A868,Users!A:E,5,FALSE),\"\")","v":""},null,{"$f":"IF(COUNTBLANK(C868)=0,VLOOKUP(C868,Locks!A:D,4,FALSE),\"\")","v":""},{"$f":"IF(COUNTBLANK(C868)=0,VLOOKUP(C868,Locks!A:E,5,FALSE),\"\")","v":""}]
[null,{"$f":"IF(COUNTBLANK(A869)=0,VLOOKUP(A869,Users!A:E,5,FALSE),\"\")","v":""},null,{"$f":"IF(COUNTBLANK(C869)=0,VLOOKUP(C869,Locks!A:D,4,FALSE),\"\")","v":""},{"$f":"IF(COUNTBLANK(C869)=0,VLOOKUP(C869,Locks!A:E,5,FALSE),\"\")","v":""}]
[null,{"$f":"IF(COUNTBLANK(A870)=0,VLOOKUP(A870,Users!A:E,5,FALSE),\"\")","v":""},null,{"$f":"IF(COUNTBLANK(C870)=0,VLOOKUP(C870,Locks!A:D,4,FALSE),\"\")","v":""},{"$f":"IF(COUNTBLANK(C870)=0,VLOOKUP(C870,Locks!A:E,5,FALSE),\"\")","v":""}]
[null,{"$f":"IF(COUNTBLANK(A871)=0,VLOOKUP(A871,Users!A:E,5,FALSE),\"\")","v":""},null,{"$f":"IF(COUNTBLANK(C871)=0,VLOOKUP(C871,Locks!A:D,4,FALSE),\"\")","v":""},{"$f":"IF(COUNTBLANK(C871)=0,VLOOKUP(C871,Locks!A:E,5,FALSE),\"\")","v":""}]
[null,{"$f":"IF(COUNTBLANK(A872)=0,VLOOKUP(A872,Users!A:E,5,FALSE),\"\")","v":""},null,{"$f":"IF(COUNTBLANK(C872)=0,VLOOKUP(C872,Locks!A:D,4,FALSE),\"\")","v":""},{"$f":"IF(COUNTBLANK(C872)=0,VLOOKUP(C872,Locks!A:E,5,FALSE),\"\")","v":""}]
[null,{"$f":"IF(COUNTBLANK(A873)=0,VLOOKUP(A873,Users!A:E,5,FALSE),\"\")","v":""},null,{"$f":"IF(COUNTBLANK(C873)=0,VLOOKUP(C873,Locks!A:D,4,FALSE),\"\")","v":""},{"$f":"IF(COUNTBLANK(C873)=0,VLOOKUP(C873,Locks!A:E,5,FALSE),\"\")","v":""}]
[null,{"$f":"IF(COUNTBLANK(A874)=0,VLOOKUP(A874,Users!A:E,5,FALSE),\"\")","v":""},null,{"$f":"IF(COUNTBLANK(C874)=0,VLOOKUP(C874,Locks!A:D,4,FALSE),\"\")","v":""},{"$f":"IF(COUNTBLANK(C874)=0,VLOOKUP(C874,Locks!A:E,5,FALSE),\"\")","v":""}]
[null,{"$f":"IF(COUNTBLANK(A875)=0,VLOOKUP(A875,Users!A:E,5,FALSE),\"\")","v":""},null,{"$f":"IF(COUNTBLANK(C875)=0,VLOOKUP(C875,Locks!A:D,4,FALSE),\"\")","v":""},{"$f":"IF(COUNTBLANK(C875)=0,VLOOKUP(C875,Locks!A:E,5,FALSE),\"\")","v":""}]
[null,{"$f":"IF(COUNTBLANK(A876)=0,VLOOKUP(A876,Users!A:E,5,FALSE),\"\")","v":""},null,{"$f":"IF(COUNTBLANK(C876)=0,VLOOKUP(C876,Locks!A:D,4,FALSE),\"\")","v":""},{"$f":"IF(COUNTBLANK(C876)=0,VLOOKUP(C876,Locks!A:E,5,FALSE),\"\")","v":""}]
[null,{"$f":"IF(COUNTBLANK(A877)=0,VLOOKUP(A877,Users!A:E,5,FALSE),\"\")","v":""},null,{"$f":"IF(COUNTBLANK(C877)=0,VLOOKUP(C877,Locks!A:D,4,FALSE),\"\")","v":""},{"$f":"IF(COUNTBLANK(C877)=0,VLOOKUP(C877,Locks!A:E,5,FALSE),\"\")","v":""}]
[null,{"$f":"IF(COUNTBLANK(A878)=0,VLOOKUP(A878,Users!A:E,5,FALSE),\"\")","v":""},null,{"$f":"IF(COUNTBLANK(C878)=0,VLOOKUP(C878,Locks!A:D,4,FALSE),\"\")","v":""},{"$f":"IF(COUNTBLANK(C878)=0,VLOOKUP(C878,Locks!A:E,5,FALSE),\"\")","v":""}]
[null,{"$f":"IF(COUNTBLANK(A879)=0,VLOOKUP(A879,Users!A:E,5,FALSE),\"\")","v":""},null,{"$f":"IF(COUNTBLANK(C879)=0,VLOOKUP(C879,Locks!A:D,4,FALSE),\"\")","v":""},{"$f":"IF(COUNTBLANK(C879)=0,VLOOKUP(C879,Locks!A:E,5,FALSE),\"\")","v":""}]
[null,{"$f":"IF(COUNTBLANK(A880)=0,VLOOKUP(A880,Users!A:E,5,FALSE),\"\")","v":""},null,{"$f":"IF(COUNTBLANK(C880)=0,VLOOKUP(C880,Locks!A:D,4,FALSE),\"\")","v":""},{"$f":"IF(COUNTBLANK(C880)=0,VLOOKUP(C880,Locks!A:E,5,FALSE),\"\")","v":""}]
[null,{"$f":"IF(COUNTBLANK(A881)=0,VLOOKUP(A881,Users!A:E,5,FALSE),\"\")","v":""},null,{"$f":"IF(COUNTBLANK(C881)=0,VLOOKUP(C881,Locks!A:D,4,FALSE),\"\")","v":""},{"$f":"IF(COUNTBLANK(C881)=0,VLOOKUP(C881,Locks!A:E,5,FALSE),\"\")","v":""}]
[null,{"$f":"IF(COUNTBLANK(A882)=0,VLOOKUP(A882,Users!A:E,5,FALSE),\"\")","v":""},null,{"$f":"IF(COUNTBLANK(C882)=0,VLOOKUP(C882,Locks!A:D,4,FALSE),\"\")","v":""},{"$f":"IF(COUNTBLANK(C882)=0,VLOOKUP(C882,Locks!A:E,5,FALSE),\"\")","v":""}]
[null,{"$f":"IF(COUNTBLANK(A883)=0,VLOOKUP(A883,Users!A:E,5,FALSE),\"\")","v":""},null,{"$f":"IF(COUNTBLANK(C883)=0,VLOOKUP(C883,Locks!A:D,4,FALSE),\"\")","v":""},{"$f":"IF(COUNTBLANK(C883)=0,VLOOKUP(C883,Locks!A:E,5,FALSE),\"\")","v":""}]
[null,{"$f":"IF(COUNTBLANK(A884)=0,VLOOKUP(A884,Users!A:E,5,FALSE),\"\")","v":""},null,{"$f":"IF(COUNTBLANK(C884)=0,VLOOKUP(C884,Locks!A:D,4,FALSE),\"\")","v":""},{"$f":"IF(COUNTBLANK(C884)=0,VLOOKUP(C884,Locks!A:E,5,FALSE),\"\")","v":""}]
[null,{"$f":"IF(COUNTBLANK(A885)=0,VLOOKUP(A885,Users!A:E,5,FALSE),\"\")","v":""},null,{"$f":"IF(COUNTBLANK(C885)=0,VLOOKUP(C885,Locks!A:D,4,FALSE),\"\")","v":""},{"$f":"IF(COUNTBLANK(C885)=0,VLOOKUP(C885,Locks!A:E,5,FALSE),\"\")","v":""}]
[null,{"$f":"IF(COUNTBLANK(A886)=0,VLOOKUP(A886,Users!A:E,5,FALSE),\"\")","v":""},null,{"$f":"IF(COUNTBLANK(C886)=0,VLOOKUP(C886,Locks!A:D,4,FALSE),\"\")","v":""},{"$f":"IF(COUNTBLANK(C886)=0,VLOOKUP(C886,Locks!A:E,5,FALSE),\"\")","v":""}]
[null,{"$f":"IF(COUNTBLANK(A887)=0,VLOOKUP(A887,Users!A:E,5,FALSE),\"\")","v":""},null,{"$f":"IF(COUNTBLANK(C887)=0,VLOOKUP(C887,Locks!A:D,4,FALSE),\"\")","v":""},{"$f":"IF(COUNTBLANK(C887)=0,VLOOKUP(C887,Locks!A:E,5,FALSE),\"\")","v":""}]
[null,{"$f":"IF(COUNTBLANK(A888)=0,VLOOKUP(A888,Users!A:E,5,FALSE),\"\")","v":""},null,{"$f":"IF(COUNTBLANK(C888)=0,VLOOKUP(C888,Locks!A:D,4,FALSE),\"\")","v":""},{"$f":"IF(COUNTBLANK(C888)=0,VLOOKUP(C888,Locks!A:E,5,FALSE),\"\")","v":""}]
[null,{"$f":"IF(COUNTBLANK(A889)=0,VLOOKUP(A889,Users!A:E,5,FALSE),\"\")","v":""},null,{"$f":"IF(COUNTBLANK(C889)=0,VLOOKUP(C889,Locks!A:D,4,FALSE),\"\")","v":""},{"$f":"IF(COUNTBLANK(C889)=0,VLOOKUP(C889,Locks!A:E,5,FALSE),\"\")","v":""}]
[null,{"$f":"IF(COUNTBLANK(A890)=0,VLOOKUP(A890,Users!A:E,5,FALSE),\"\")","v":""},null,{"$f":"IF(COUNTBLANK(C890)=0,VLOOKUP(C890,Locks!A:D,4,FALSE),\"\")","v":""},{"$f":"IF(COUNTBLANK(C890)=0,VLOOKUP(C890,Locks!A:E,5,FALSE),\"\")","v":""}]
[null,{"$f":"IF(COUNTBLANK(A891)=0,VLOOKUP(A891,Users!A:E,5,FALSE),\"\")","v":""},null,{"$f":"IF(COUNTBLANK(C891)=0,VLOOKUP(C891,Locks!A:D,4,FALSE),\"\")","v":""},{"$f":"IF(COUNTBLANK(C891)=0,VLOOKUP(C891,Locks!A:E,5,FALSE),\"\")","v":""}]
[null,{"$f":"IF(COUNTBLANK(A892)=0,VLOOKUP(A892,Users!A:E,5,FALSE),\"\")","v":""},null,{"$f":"IF(COUNTBLANK(C892)=0,VLOOKUP(C892,Locks!A:D,4,FALSE),\"\")","v":""},{"$f":"IF(COUNTBLANK(C892)=0,VLOOKUP(C892,Locks!A:E,5,FALSE),\"\")","v":""}]
[null,{"$f":"IF(COUNTBLANK(A893)=0,VLOOKUP(A893,Users!A:E,5,FALSE),\"\")","v":""},null,{"$f":"IF(COUNTBLANK(C893)=0,VLOOKUP(C893,Locks!A:D,4,FALSE),\"\")","v":""},{"$f":"IF(COUNTBLANK(C893)=0,VLOOKUP(C893,Locks!A:E,5,FALSE),\"\")","v":""}]
[null,{"$f":"IF(COUNTBLANK(A894)=0,VLOOKUP(A894,Users!A:E,5,FALSE),\"\")","v":""},null,{"$f":"IF(COUNTBLANK(C894)=0,VLOOKUP(C894,Locks!A:D,4,FALSE),\"\")","v":""},{"$f":"IF(COUNTBLANK(C894)=0,VLOOKUP(C894,Locks!A:E,5,FALSE),\"\")","v":""}]
[null,{"$f":"IF(COUNTBLANK(A895)=0,VLOOKUP(A895,Users!A:E,5,FALSE),\"\")","v":""},null,{"$f":"IF(COUNTBLANK(C895)=0,VLOOKUP(C895,Locks!A:D,4,FALSE),\"\")","v":""},{"$f":"IF(COUNTBLANK(C895)=0,VLOOKUP(C895,Locks!A:E,5,FALSE),\"\")","v":""}]
[null,{"$f":"IF(COUNTBLANK(A896)=0,VLOOKUP(A896,Users!A:E,5,FALSE),\"\")","v":""},null,{"$f":"IF(COUNTBLANK(C896)=0,VLOOKUP(C896,Locks!A:D,4,FALSE),\"\")","v":""},{"$f":"IF(COUNTBLANK(C896)=0,VLOOKUP(C896,Locks!A:E,5,FALSE),\"\")","v":""}]
[null,{"$f":"IF(COUNTBLANK(A897)=0,VLOOKUP(A897,Users!A:E,5,FALSE),\"\")","v":""},null,{"$f":"IF(COUNTBLANK(C897)=0,VLOOKUP(C897,Locks!A:D,4,FALSE),\"\")","v":""},{"$f":"IF(COUNTBLANK(C897)=0,VLOOKUP(C897,Locks!A:E,5,FALSE),\"\")","v":""}]
[null,{"$f":"IF(COUNTBLANK(A898)=0,VLOOKUP(A898,Users!A:E,5,FALSE),\"\")","v":""},null,{"$f":"IF(COUNTBLANK(C898)=0,VLOOKUP(C898,Locks!A:D,4,FALSE),\"\")","v":""},{"$f":"IF(COUNTBLANK(C898)=0,VLOOKUP(C898,Locks!A:E,5,FALSE),\"\")","v":""}]
[null,{"$f":"IF(COUNTBLANK(A899)=0,VLOOKUP(A899,Users!A:E,5,FALSE),\"\")","v":""},null,{"$f":"IF(COUNTBLANK(C899)=0,VLOOKUP(C899,Locks!A:D,4,FALSE),\"\")","v":""},{"$f":"IF(COUNTBLANK(C899)=0,VLOOKUP(C899,Locks!A:E,5,FALSE),\"\")","v":""}]
[null,{"$f":"IF(COUNTBLANK(A900)=0,VLOOKUP(A900,Users!A:E,5,FALSE),\"\")","v":""},null,{"$f":"IF(COUNTBLANK(C900)=0,VLOOKUP(C900,Locks!A:D,4,FALSE),\"\")","v":""},{"$f":"IF(COUNTBLANK(C900)=0,VLOOKUP(C900,Locks!A:E,5,FALSE),\"\")","v":""}]
[null,{"$f":"IF(COUNTBLANK(A901)=0,VLOOKUP(A901,Users!A:E,5,FALSE),\"\")","v":""},null,{"$f":"IF(COUNTBLANK(C901)=0,VLOOKUP(C901,Locks!A:D,4,FALSE),\"\")","v":""},{"$f":"IF(COUNTBLANK(C901)=0,VLOOKUP(C901,Locks!A:E,5,FALSE),\"\")","v":""}]
[null,{"$f":"IF(COUNTBLANK(A902)=0,VLOOKUP(A902,Users!A:E,5,FALSE),\"\")","v":""},null,{"$f":"IF(COUNTBLANK(C902)=0,VLOOKUP(C902,Locks!A:D,4,FALSE),\"\")","v":""},{"$f":"IF(COUNTBLANK(C902)=0,VLOOKUP(C902,Locks!A:E,5,FALSE),\"\")","v":""}]
[null,{"$f":"IF(COUNTBLANK(A903)=0,VLOOKUP(A903,Users!A:E,5,FALSE),\"\")","v":""},null,{"$f":"IF(COUNTBLANK(C903)=0,VLOOKUP(C903,Locks!A:D,4,FALSE),\"\")","v":""},{"$f":"IF(COUNTBLANK(C903)=0,VLOOKUP(C903,Locks!A:E,5,FALSE),\"\")","v":""}]
[null,{"$f":"IF(COUNTBLANK(A904)=0,VLOOKUP(A904,Users!A:E,5,FALSE),\"\")","v":""},null,{"$f":"IF(COUNTBLANK(C904)=0,VLOOKUP(C904,Locks!A:D,4,FALSE),\"\")","v":""},{"$f":"IF(COUNTBLANK(C904)=0,VLOOKUP(C904,Locks!A:E,5,FALSE),\"\")","v":""}]
[null,{"$f":"IF(COUNTBLANK(A905)=0,VLOOKUP(A905,Users!A:E,5,FALSE),\"\")","v":""},null,{"$f":"IF(COUNTBLANK(C905)=0,VLOOKUP(C905,Locks!A:D,4,FALSE),\"\")","v":""},{"$f":"IF(COUNTBLANK(C905)=0,VLOOKUP(C905,Locks!A:E,5,FALSE),\"\")","v":""}]
[null,{"$f":"IF(COUNTBLANK(A906)=0,VLOOKUP(A906,Users!A:E,5,FALSE),\"\")","v":""},null,{"$f":"IF(COUNTBLANK(C906)=0,VLOOKUP(C906,Locks!A:D,4,FALSE),\"\")","v":""},{"$f":"IF(COUNTBLANK(C906)=0,VLOOKUP(C906,Locks!A:E,5,FALSE),\"\")","v":""}]
[null,{"$f":"IF(COUNTBLANK(A907)=0,VLOOKUP(A907,Users!A:E,5,FALSE),\"\")","v":""},null,{"$f":"IF(COUNTBLANK(C907)=0,VLOOKUP(C907,Locks!A:D,4,FALSE),\"\")","v":""},{"$f":"IF(COUNTBLANK(C907)=0,VLOOKUP(C907,Locks!A:E,5,FALSE),\"\")","v":""}]
[null,{"$f":"IF(COUNTBLANK(A908)=0,VLOOKUP(A908,Users!A:E,5,FALSE),\"\")","v":""},null,{"$f":"IF(COUNTBLANK(C908)=0,VLOOKUP(C908,Locks!A:D,4,FALSE),\"\")","v":""},{"$f":"IF(COUNTBLANK(C908)=0,VLOOKUP(C908,Locks!A:E,5,FALSE),\"\")","v":""}]
[null,{"$f":"IF(COUNTBLANK(A909)=0,VLOOKUP(A909,Users!A:E,5,FALSE),\"\")","v":""},null,{"$f":"IF(COUNTBLANK(C909)=0,VLOOKUP(C909,Locks!A:D,4,FALSE),\"\")","v":""},{"$f":"IF(COUNTBLANK(C909)=0,VLOOKUP(C909,Locks!A:E,5,FALSE),\"\")","v":""}]
[null,{"$f":"IF(COUNTBLANK(A910)=0,VLOOKUP(A910,Users!A:E,5,FALSE),\"\")","v":""},null,{"$f":"IF(COUNTBLANK(C910)=0,VLOOKUP(C910,Locks!A:D,4,FALSE),\"\")","v":""},{"$f":"IF(COUNTBLANK(C910)=0,VLOOKUP(C910,Locks!A:E,5,FALSE),\"\")","v":""}]
[null,{"$f":"IF(COUNTBLANK(A911)=0,VLOOKUP(A911,Users!A:E,5,FALSE),\"\")","v":""},null,{"$f":"IF(COUNTBLANK(C911)=0,VLOOKUP(C911,Locks!A:D,4,FALSE),\"\")","v":""},{"$f":"IF(COUNTBLANK(C911)=0,VLOOKUP(C911,Locks!A:E,5,FALSE),\"\")","v":""}]
[null,{"$f":"IF(COUNTBLANK(A912)=0,VLOOKUP(A912,Users!A:E,5,FALSE),\"\")","v":""},null,{"$f":"IF(COUNTBLANK(C912)=0,VLOOKUP(C912,Locks!A:D,4,FALSE),\"\")","v":""},{"$f":"IF(COUNTBLANK(C912)=0,VLOOKUP(C912,Locks!A:E,5,FALSE),\"\")","v":""}]
[null,{"$f":"IF(COUNTBLANK(A913)=0,VLOOKUP(A913,Users!A:E,5,FALSE),\"\")","v":""},null,{"$f":"IF(COUNTBLANK(C913)=0,VLOOKUP(C913,Locks!A:D,4,FALSE),\"\")","v":""},{"$f":"IF(COUNTBLANK(C913)=0,VLOOKUP(C913,Locks!A:E,5,FALSE),\"\")","v":""}]
[null,{"$f":"IF(COUNTBLANK(A914)=0,VLOOKUP(A914,Users!A:E,5,FALSE),\"\")","v":""},null,{"$f":"IF(COUNTBLANK(C914)=0,VLOOKUP(C914,Locks!A:D,4,FALSE),\"\")","v":""},{"$f":"IF(COUNTBLANK(C914)=0,VLOOKUP(C914,Locks!A:E,5,FALSE),\"\")","v":""}]
[null,{"$f":"IF(COUNTBLANK(A915)=0,VLOOKUP(A915,Users!A:E,5,FALSE),\"\")","v":""},null,{"$f":"IF(COUNTBLANK(C915)=0,VLOOKUP(C915,Locks!A:D,4,FALSE),\"\")","v":""},{"$f":"IF(COUNTBLANK(C915)=0,VLOOKUP(C915,Locks!A:E,5,FALSE),\"\")","v":""}]
[null,{"$f":"IF(COUNTBLANK(A916)=0,VLOOKUP(A916,Users!A:E,5,FALSE),\"\")","v":""},null,{"$f":"IF(COUNTBLANK(C916)=0,VLOOKUP(C916,Locks!A:D,4,FALSE),\"\")","v":""},{"$f":"IF(COUNTBLANK(C916)=0,VLOOKUP(C916,Locks!A:E,5,FALSE),\"\")","v":""}]
[null,{"$f":"IF(COUNTBLANK(A917)=0,VLOOKUP(A917,Users!A:E,5,FALSE),\"\")","v":""},null,{"$f":"IF(COUNTBLANK(C917)=0,VLOOKUP(C917,Locks!A:D,4,FALSE),\"\")","v":""},{"$f":"IF(COUNTBLANK(C917)=0,VLOOKUP(C917,Locks!A:E,5,FALSE),\"\")","v":""}]
[null,{"$f":"IF(COUNTBLANK(A918)=0,VLOOKUP(A918,Users!A:E,5,FALSE),\"\")","v":""},null,{"$f":"IF(COUNTBLANK(C918)=0,VLOOKUP(C918,Locks!A:D,4,FALSE),\"\")","v":""},{"$f":"IF(COUNTBLANK(C918)=0,VLOOKUP(C918,Locks!A:E,5,FALSE),\"\")","v":""}]
[null,{"$f":"IF(COUNTBLANK(A919)=0,VLOOKUP(A919,Users!A:E,5,FALSE),\"\")","v":""},null,{"$f":"IF(COUNTBLANK(C919)=0,VLOOKUP(C919,Locks!A:D,4,FALSE),\"\")","v":""},{"$f":"IF(COUNTBLANK(C919)=0,VLOOKUP(C919,Locks!A:E,5,FALSE),\"\")","v":""}]
[null,{"$f":"IF(COUNTBLANK(A920)=0,VLOOKUP(A920,Users!A:E,5,FALSE),\"\")","v":""},null,{"$f":"IF(COUNTBLANK(C920)=0,VLOOKUP(C920,Locks!A:D,4,FALSE),\"\")","v":""},{"$f":"IF(COUNTBLANK(C920)=0,VLOOKUP(C920,Locks!A:E,5,FALSE),\"\")","v":""}]
[null,{"$f":"IF(COUNTBLANK(A921)=0,VLOOKUP(A921,Users!A:E,5,FALSE),\"\")","v":""},null,{"$f":"IF(COUNTBLANK(C921)=0,VLOOKUP(C921,Locks!A:D,4,FALSE),\"\")","v":""},{"$f":"IF(COUNTBLANK(C921)=0,VLOOKUP(C921,Locks!A:E,5,FALSE),\"\")","v":""}]
[null,{"$f":"IF(COUNTBLANK(A922)=0,VLOOKUP(A922,Users!A:E,5,FALSE),\"\")","v":""},null,{"$f":"IF(COUNTBLANK(C922)=0,VLOOKUP(C922,Locks!A:D,4,FALSE),\"\")","v":""},{"$f":"IF(COUNTBLANK(C922)=0,VLOOKUP(C922,Locks!A:E,5,FALSE),\"\")","v":""}]
[null,{"$f":"IF(COUNTBLANK(A923)=0,VLOOKUP(A923,Users!A:E,5,FALSE),\"\")","v":""},null,{"$f":"IF(COUNTBLANK(C923)=0,VLOOKUP(C923,Locks!A:D,4,FALSE),\"\")","v":""},{"$f":"IF(COUNTBLANK(C923)=0,VLOOKUP(C923,Locks!A:E,5,FALSE),\"\")","v":""}]
[null,{"$f":"IF(COUNTBLANK(A924)=0,VLOOKUP(A924,Users!A:E,5,FALSE),\"\")","v":""},null,{"$f":"IF(COUNTBLANK(C924)=0,VLOOKUP(C924,Locks!A:D,4,FALSE),\"\")","v":""},{"$f":"IF(COUNTBLANK(C924)=0,VLOOKUP(C924,Locks!A:E,5,FALSE),\"\")","v":""}]
[null,{"$f":"IF(COUNTBLANK(A925)=0,VLOOKUP(A925,Users!A:E,5,FALSE),\"\")","v":""},null,{"$f":"IF(COUNTBLANK(C925)=0,VLOOKUP(C925,Locks!A:D,4,FALSE),\"\")","v":""},{"$f":"IF(COUNTBLANK(C925)=0,VLOOKUP(C925,Locks!A:E,5,FALSE),\"\")","v":""}]
[null,{"$f":"IF(COUNTBLANK(A926)=0,VLOOKUP(A926,Users!A:E,5,FALSE),\"\")","v":""},null,{"$f":"IF(COUNTBLANK(C926)=0,VLOOKUP(C926,Locks!A:D,4,FALSE),\"\")","v":""},{"$f":"IF(COUNTBLANK(C926)=0,VLOOKUP(C926,Locks!A:E,5,FALSE),\"\")","v":""}]
[null,{"$f":"IF(COUNTBLANK(A927)=0,VLOOKUP(A927,Users!A:E,5,FALSE),\"\")","v":""},null,{"$f":"IF(COUNTBLANK(C927)=0,VLOOKUP(C927,Locks!A:D,4,FALSE),\"\")","v":""},{"$f":"IF(COUNTBLANK(C927)=0,VLOOKUP(C927,Locks!A:E,5,FALSE),\"\")","v":""}]
[null,{"$f":"IF(COUNTBLANK(A928)=0,VLOOKUP(A928,Users!A:E,5,FALSE),\"\")","v":""},null,{"$f":"IF(COUNTBLANK(C928)=0,VLOOKUP(C928,Locks!A:D,4,FALSE),\"\")","v":""},{"$f":"IF(COUNTBLANK(C928)=0,VLOOKUP(C928,Locks!A:E,5,FALSE),\"\")","v":""}]
[null,{"$f":"IF(COUNTBLANK(A929)=0,VLOOKUP(A929,Users!A:E,5,FALSE),\"\")","v":""},null,{"$f":"IF(COUNTBLANK(C929)=0,VLOOKUP(C929,Locks!A:D,4,FALSE),\"\")","v":""},{"$f":"IF(COUNTBLANK(C929)=0,VLOOKUP(C929,Locks!A:E,5,FALSE),\"\")","v":""}]
[null,{"$f":"IF(COUNTBLANK(A930)=0,VLOOKUP(A930,Users!A:E,5,FALSE),\"\")","v":""},null,{"$f":"IF(COUNTBLANK(C930)=0,VLOOKUP(C930,Locks!A:D,4,FALSE),\"\")","v":""},{"$f":"IF(COUNTBLANK(C930)=0,VLOOKUP(C930,Locks!A:E,5,FALSE),\"\")","v":""}]
[null,{"$f":"IF(COUNTBLANK(A931)=0,VLOOKUP(A931,Users!A:E,5,FALSE),\"\")","v":""},null,{"$f":"IF(COUNTBLANK(C931)=0,VLOOKUP(C931,Locks!A:D,4,FALSE),\"\")","v":""},{"$f":"IF(COUNTBLANK(C931)=0,VLOOKUP(C931,Locks!A:E,5,FALSE),\"\")","v":""}]
[null,{"$f":"IF(COUNTBLANK(A932)=0,VLOOKUP(A932,Users!A:E,5,FALSE),\"\")","v":""},null,{"$f":"IF(COUNTBLANK(C932)=0,VLOOKUP(C932,Locks!A:D,4,FALSE),\"\")","v":""},{"$f":"IF(COUNTBLANK(C932)=0,VLOOKUP(C932,Locks!A:E,5,FALSE),\"\")","v":""}]
[null,{"$f":"IF(COUNTBLANK(A933)=0,VLOOKUP(A933,Users!A:E,5,FALSE),\"\")","v":""},null,{"$f":"IF(COUNTBLANK(C933)=0,VLOOKUP(C933,Locks!A:D,4,FALSE),\"\")","v":""},{"$f":"IF(COUNTBLANK(C933)=0,VLOOKUP(C933,Locks!A:E,5,FALSE),\"\")","v":""}]
[null,{"$f":"IF(COUNTBLANK(A934)=0,VLOOKUP(A934,Users!A:E,5,FALSE),\"\")","v":""},null,{"$f":"IF(COUNTBLANK(C934)=0,VLOOKUP(C934,Locks!A:D,4,FALSE),\"\")","v":""},{"$f":"IF(COUNTBLANK(C934)=0,VLOOKUP(C934,Locks!A:E,5,FALSE),\"\")","v":""}]
[null,{"$f":"IF(COUNTBLANK(A935)=0,VLOOKUP(A935,Users!A:E,5,FALSE),\"\")","v":""},null,{"$f":"IF(COUNTBLANK(C935)=0,VLOOKUP(C935,Locks!A:D,4,FALSE),\"\")","v":""},{"$f":"IF(COUNTBLANK(C935)=0,VLOOKUP(C935,Locks!A:E,5,FALSE),\"\")","v":""}]
[null,{"$f":"IF(COUNTBLANK(A936)=0,VLOOKUP(A936,Users!A:E,5,FALSE),\"\")","v":""},null,{"$f":"IF(COUNTBLANK(C936)=0,VLOOKUP(C936,Locks!A:D,4,FALSE),\"\")","v":""},{"$f":"IF(COUNTBLANK(C936)=0,VLOOKUP(C936,Locks!A:E,5,FALSE),\"\")","v":""}]
[null,{"$f":"IF(COUNTBLANK(A937)=0,VLOOKUP(A937,Users!A:E,5,FALSE),\"\")","v":""},null,{"$f":"IF(COUNTBLANK(C937)=0,VLOOKUP(C937,Locks!A:D,4,FALSE),\"\")","v":""},{"$f":"IF(COUNTBLANK(C937)=0,VLOOKUP(C937,Locks!A:E,5,FALSE),\"\")","v":""}]
[null,{"$f":"IF(COUNTBLANK(A938)=0,VLOOKUP(A938,Users!A:E,5,FALSE),\"\")","v":""},null,{"$f":"IF(COUNTBLANK(C938)=0,VLOOKUP(C938,Locks!A:D,4,FALSE),\"\")","v":""},{"$f":"IF(COUNTBLANK(C938)=0,VLOOKUP(C938,Locks!A:E,5,FALSE),\"\")","v":""}]
[null,{"$f":"IF(COUNTBLANK(A939)=0,VLOOKUP(A939,Users!A:E,5,FALSE),\"\")","v":""},null,{"$f":"IF(COUNTBLANK(C939)=0,VLOOKUP(C939,Locks!A:D,4,FALSE),\"\")","v":""},{"$f":"IF(COUNTBLANK(C939)=0,VLOOKUP(C939,Locks!A:E,5,FALSE),\"\")","v":""}]
[null,{"$f":"IF(COUNTBLANK(A940)=0,VLOOKUP(A940,Users!A:E,5,FALSE),\"\")","v":""},null,{"$f":"IF(COUNTBLANK(C940)=0,VLOOKUP(C940,Locks!A:D,4,FALSE),\"\")","v":""},{"$f":"IF(COUNTBLANK(C940)=0,VLOOKUP(C940,Locks!A:E,5,FALSE),\"\")","v":""}]
[null,{"$f":"IF(COUNTBLANK(A941)=0,VLOOKUP(A941,Users!A:E,5,FALSE),\"\")","v":""},null,{"$f":"IF(COUNTBLANK(C941)=0,VLOOKUP(C941,Locks!A:D,4,FALSE),\"\")","v":""},{"$f":"IF(COUNTBLANK(C941)=0,VLOOKUP(C941,Locks!A:E,5,FALSE),\"\")","v":""}]
[null,{"$f":"IF(COUNTBLANK(A942)=0,VLOOKUP(A942,Users!A:E,5,FALSE),\"\")","v":""},null,{"$f":"IF(COUNTBLANK(C942)=0,VLOOKUP(C942,Locks!A:D,4,FALSE),\"\")","v":""},{"$f":"IF(COUNTBLANK(C942)=0,VLOOKUP(C942,Locks!A:E,5,FALSE),\"\")","v":""}]
[null,{"$f":"IF(COUNTBLANK(A943)=0,VLOOKUP(A943,Users!A:E,5,FALSE),\"\")","v":""},null,{"$f":"IF(COUNTBLANK(C943)=0,VLOOKUP(C943,Locks!A:D,4,FALSE),\"\")","v":""},{"$f":"IF(COUNTBLANK(C943)=0,VLOOKUP(C943,Locks!A:E,5,FALSE),\"\")","v":""}]
[null,{"$f":"IF(COUNTBLANK(A944)=0,VLOOKUP(A944,Users!A:E,5,FALSE),\"\")","v":""},null,{"$f":"IF(COUNTBLANK(C944)=0,VLOOKUP(C944,Locks!A:D,4,FALSE),\"\")","v":""},{"$f":"IF(COUNTBLANK(C944)=0,VLOOKUP(C944,Locks!A:E,5,FALSE),\"\")","v":""}]
[null,{"$f":"IF(COUNTBLANK(A945)=0,VLOOKUP(A945,Users!A:E,5,FALSE),\"\")","v":""},null,{"$f":"IF(COUNTBLANK(C945)=0,VLOOKUP(C945,Locks!A:D,4,FALSE),\"\")","v":""},{"$f":"IF(COUNTBLANK(C945)=0,VLOOKUP(C945,Locks!A:E,5,FALSE),\"\")","v":""}]
[null,{"$f":"IF(COUNTBLANK(A946)=0,VLOOKUP(A946,Users!A:E,5,FALSE),\"\")","v":""},null,{"$f":"IF(COUNTBLANK(C946)=0,VLOOKUP(C946,Locks!A:D,4,FALSE),\"\")","v":""},{"$f":"IF(COUNTBLANK(C946)=0,VLOOKUP(C946,Locks!A:E,5,FALSE),\"\")","v":""}]
[null,{"$f":"IF(COUNTBLANK(A947)=0,VLOOKUP(A947,Users!A:E,5,FALSE),\"\")","v":""},null,{"$f":"IF(COUNTBLANK(C947)=0,VLOOKUP(C947,Locks!A:D,4,FALSE),\"\")","v":""},{"$f":"IF(COUNTBLANK(C947)=0,VLOOKUP(C947,Locks!A:E,5,FALSE),\"\")","v":""}]
[null,{"$f":"IF(COUNTBLANK(A948)=0,VLOOKUP(A948,Users!A:E,5,FALSE),\"\")","v":""},null,{"$f":"IF(COUNTBLANK(C948)=0,VLOOKUP(C948,Locks!A:D,4,FALSE),\"\")","v":""},{"$f":"IF(COUNTBLANK(C948)=0,VLOOKUP(C948,Locks!A:E,5,FALSE),\"\")","v":""}]
[null,{"$f":"IF(COUNTBLANK(A949)=0,VLOOKUP(A949,Users!A:E,5,FALSE),\"\")","v":""},null,{"$f":"IF(COUNTBLANK(C949)=0,VLOOKUP(C949,Locks!A:D,4,FALSE),\"\")","v":""},{"$f":"IF(COUNTBLANK(C949)=0,VLOOKUP(C949,Locks!A:E,5,FALSE),\"\")","v":""}]
[null,{"$f":"IF(COUNTBLANK(A950)=0,VLOOKUP(A950,Users!A:E,5,FALSE),\"\")","v":""},null,{"$f":"IF(COUNTBLANK(C950)=0,VLOOKUP(C950,Locks!A:D,4,FALSE),\"\")","v":""},{"$f":"IF(COUNTBLANK(C950)=0,VLOOKUP(C950,Locks!A:E,5,FALSE),\"\")","v":""}]
[null,{"$f":"IF(COUNTBLANK(A951)=0,VLOOKUP(A951,Users!A:E,5,FALSE),\"\")","v":""},null,{"$f":"IF(COUNTBLANK(C951)=0,VLOOKUP(C951,Locks!A:D,4,FALSE),\"\")","v":""},{"$f":"IF(COUNTBLANK(C951)=0,VLOOKUP(C951,Locks!A:E,5,FALSE),\"\")","v":""}]
[null,{"$f":"IF(COUNTBLANK(A952)=0,VLOOKUP(A952,Users!A:E,5,FALSE),\"\")","v":""},null,{"$f":"IF(COUNTBLANK(C952)=0,VLOOKUP(C952,Locks!A:D,4,FALSE),\"\")","v":""},{"$f":"IF(COUNTBLANK(C952)=0,VLOOKUP(C952,Locks!A:E,5,FALSE),\"\")","v":""}]
[null,{"$f":"IF(COUNTBLANK(A953)=0,VLOOKUP(A953,Users!A:E,5,FALSE),\"\")","v":""},null,{"$f":"IF(COUNTBLANK(C953)=0,VLOOKUP(C953,Locks!A:D,4,FALSE),\"\")","v":""},{"$f":"IF(COUNTBLANK(C953)=0,VLOOKUP(C953,Locks!A:E,5,FALSE),\"\")","v":""}]
[null,{"$f":"IF(COUNTBLANK(A954)=0,VLOOKUP(A954,Users!A:E,5,FALSE),\"\")","v":""},null,{"$f":"IF(COUNTBLANK(C954)=0,VLOOKUP(C954,Locks!A:D,4,FALSE),\"\")","v":""},{"$f":"IF(COUNTBLANK(C954)=0,VLOOKUP(C954,Locks!A:E,5,FALSE),\"\")","v":""}]
[null,{"$f":"IF(COUNTBLANK(A955)=0,VLOOKUP(A955,Users!A:E,5,FALSE),\"\")","v":""},null,{"$f":"IF(COUNTBLANK(C955)=0,VLOOKUP(C955,Locks!A:D,4,FALSE),\"\")","v":""},{"$f":"IF(COUNTBLANK(C955)=0,VLOOKUP(C955,Locks!A:E,5,FALSE),\"\")","v":""}]
[null,{"$f":"IF(COUNTBLANK(A956)=0,VLOOKUP(A956,Users!A:E,5,FALSE),\"\")","v":""},null,{"$f":"IF(COUNTBLANK(C956)=0,VLOOKUP(C956,Locks!A:D,4,FALSE),\"\")","v":""},{"$f":"IF(COUNTBLANK(C956)=0,VLOOKUP(C956,Locks!A:E,5,FALSE),\"\")","v":""}]
[null,{"$f":"IF(COUNTBLANK(A957)=0,VLOOKUP(A957,Users!A:E,5,FALSE),\"\")","v":""},null,{"$f":"IF(COUNTBLANK(C957)=0,VLOOKUP(C957,Locks!A:D,4,FALSE),\"\")","v":""},{"$f":"IF(COUNTBLANK(C957)=0,VLOOKUP(C957,Locks!A:E,5,FALSE),\"\")","v":""}]
[null,{"$f":"IF(COUNTBLANK(A958)=0,VLOOKUP(A958,Users!A:E,5,FALSE),\"\")","v":""},null,{"$f":"IF(COUNTBLANK(C958)=0,VLOOKUP(C958,Locks!A:D,4,FALSE),\"\")","v":""},{"$f":"IF(COUNTBLANK(C958)=0,VLOOKUP(C958,Locks!A:E,5,FALSE),\"\")","v":""}]
[null,{"$f":"IF(COUNTBLANK(A959)=0,VLOOKUP(A959,Users!A:E,5,FALSE),\"\")","v":""},null,{"$f":"IF(COUNTBLANK(C959)=0,VLOOKUP(C959,Locks!A:D,4,FALSE),\"\")","v":""},{"$f":"IF(COUNTBLANK(C959)=0,VLOOKUP(C959,Locks!A:E,5,FALSE),\"\")","v":""}]
[null,{"$f":"IF(COUNTBLANK(A960)=0,VLOOKUP(A960,Users!A:E,5,FALSE),\"\")","v":""},null,{"$f":"IF(COUNTBLANK(C960)=0,VLOOKUP(C960,Locks!A:D,4,FALSE),\"\")","v":""},{"$f":"IF(COUNTBLANK(C960)=0,VLOOKUP(C960,Locks!A:E,5,FALSE),\"\")","v":""}]
[null,{"$f":"IF(COUNTBLANK(A961)=0,VLOOKUP(A961,Users!A:E,5,FALSE),\"\")","v":""},null,{"$f":"IF(COUNTBLANK(C961)=0,VLOOKUP(C961,Locks!A:D,4,FALSE),\"\")","v":""},{"$f":"IF(COUNTBLANK(C961)=0,VLOOKUP(C961,Locks!A:E,5,FALSE),\"\")","v":""}]
[null,{"$f":"IF(COUNTBLANK(A962)=0,VLOOKUP(A962,Users!A:E,5,FALSE),\"\")","v":""},null,{"$f":"IF(COUNTBLANK(C962)=0,VLOOKUP(C962,Locks!A:D,4,FALSE),\"\")","v":""},{"$f":"IF(COUNTBLANK(C962)=0,VLOOKUP(C962,Locks!A:E,5,FALSE),\"\")","v":""}]
[null,{"$f":"IF(COUNTBLANK(A963)=0,VLOOKUP(A963,Users!A:E,5,FALSE),\"\")","v":""},null,{"$f":"IF(COUNTBLANK(C963)=0,VLOOKUP(C963,Locks!A:D,4,FALSE),\"\")","v":""},{"$f":"IF(COUNTBLANK(C963)=0,VLOOKUP(C963,Locks!A:E,5,FALSE),\"\")","v":""}]
[null,{"$f":"IF(COUNTBLANK(A964)=0,VLOOKUP(A964,Users!A:E,5,FALSE),\"\")","v":""},null,{"$f":"IF(COUNTBLANK(C964)=0,VLOOKUP(C964,Locks!A:D,4,FALSE),\"\")","v":""},{"$f":"IF(COUNTBLANK(C964)=0,VLOOKUP(C964,Locks!A:E,5,FALSE),\"\")","v":""}]
[null,{"$f":"IF(COUNTBLANK(A965)=0,VLOOKUP(A965,Users!A:E,5,FALSE),\"\")","v":""},null,{"$f":"IF(COUNTBLANK(C965)=0,VLOOKUP(C965,Locks!A:D,4,FALSE),\"\")","v":""},{"$f":"IF(COUNTBLANK(C965)=0,VLOOKUP(C965,Locks!A:E,5,FALSE),\"\")","v":""}]
[null,{"$f":"IF(COUNTBLANK(A966)=0,VLOOKUP(A966,Users!A:E,5,FALSE),\"\")","v":""},null,{"$f":"IF(COUNTBLANK(C966)=0,VLOOKUP(C966,Locks!A:D,4,FALSE),\"\")","v":""},{"$f":"IF(COUNTBLANK(C966)=0,VLOOKUP(C966,Locks!A:E,5,FALSE),\"\")","v":""}]
[null,{"$f":"IF(COUNTBLANK(A967)=0,VLOOKUP(A967,Users!A:E,5,FALSE),\"\")","v":""},null,{"$f":"IF(COUNTBLANK(C967)=0,VLOOKUP(C967,Locks!A:D,4,FALSE),\"\")","v":""},{"$f":"IF(COUNTBLANK(C967)=0,VLOOKUP(C967,Locks!A:E,5,FALSE),\"\")","v":""}]
[null,{"$f":"IF(COUNTBLANK(A968)=0,VLOOKUP(A968,Users!A:E,5,FALSE),\"\")","v":""},null,{"$f":"IF(COUNTBLANK(C968)=0,VLOOKUP(C968,Locks!A:D,4,FALSE),\"\")","v":""},{"$f":"IF(COUNTBLANK(C968)=0,VLOOKUP(C968,Locks!A:E,5,FALSE),\"\")","v":""}]
[null,{"$f":"IF(COUNTBLANK(A969)=0,VLOOKUP(A969,Users!A:E,5,FALSE),\"\")","v":""},null,{"$f":"IF(COUNTBLANK(C969)=0,VLOOKUP(C969,Locks!A:D,4,FALSE),\"\")","v":""},{"$f":"IF(COUNTBLANK(C969)=0,VLOOKUP(C969,Locks!A:E,5,FALSE),\"\")","v":""}]
[null,{"$f":"IF(COUNTBLANK(A970)=0,VLOOKUP(A970,Users!A:E,5,FALSE),\"\")","v":""},null,{"$f":"IF(COUNTBLANK(C970)=0,VLOOKUP(C970,Locks!A:D,4,FALSE),\"\")","v":""},{"$f":"IF(COUNTBLANK(C970)=0,VLOOKUP(C970,Locks!A:E,5,FALSE),\"\")","v":""}]
[null,{"$f":"IF(COUNTBLANK(A971)=0,VLOOKUP(A971,Users!A:E,5,FALSE),\"\")","v":""},null,{"$f":"IF(COUNTBLANK(C971)=0,VLOOKUP(C971,Locks!A:D,4,FALSE),\"\")","v":""},{"$f":"IF(COUNTBLANK(C971)=0,VLOOKUP(C971,Locks!A:E,5,FALSE),\"\")","v":""}]
[null,{"$f":"IF(COUNTBLANK(A972)=0,VLOOKUP(A972,Users!A:E,5,FALSE),\"\")","v":""},null,{"$f":"IF(COUNTBLANK(C972)=0,VLOOKUP(C972,Locks!A:D,4,FALSE),\"\")","v":""},{"$f":"IF(COUNTBLANK(C972)=0,VLOOKUP(C972,Locks!A:E,5,FALSE),\"\")","v":""}]
[null,{"$f":"IF(COUNTBLANK(A973)=0,VLOOKUP(A973,Users!A:E,5,FALSE),\"\")","v":""},null,{"$f":"IF(COUNTBLANK(C973)=0,VLOOKUP(C973,Locks!A:D,4,FALSE),\"\")","v":""},{"$f":"IF(COUNTBLANK(C973)=0,VLOOKUP(C973,Locks!A:E,5,FALSE),\"\")","v":""}]
[null,{"$f":"IF(COUNTBLANK(A974)=0,VLOOKUP(A974,Users!A:E,5,FALSE),\"\")","v":""},null,{"$f":"IF(COUNTBLANK(C974)=0,VLOOKUP(C974,Locks!A:D,4,FALSE),\"\")","v":""},{"$f":"IF(COUNTBLANK(C974)=0,VLOOKUP(C974,Locks!A:E,5,FALSE),\"\")","v":""}]
[null,{"$f":"IF(COUNTBLANK(A975)=0,VLOOKUP(A975,Users!A:E,5,FALSE),\"\")","v":""},null,{"$f":"IF(COUNTBLANK(C975)=0,VLOOKUP(C975,Locks!A:D,4,FALSE),\"\")","v":""},{"$f":"IF(COUNTBLANK(C975)=0,VLOOKUP(C975,Locks!A:E,5,FALSE),\"\")","v":""}]
[null,{"$f":"IF(COUNTBLANK(A976)=0,VLOOKUP(A976,Users!A:E,5,FALSE),\"\")","v":""},null,{"$f":"IF(COUNTBLANK(C976)=0,VLOOKUP(C976,Locks!A:D,4,FALSE),\"\")","v":""},{"$f":"IF(COUNTBLANK(C976)=0,VLOOKUP(C976,Locks!A:E,5,FALSE),\"\")","v":""}]
[null,{"$f":"IF(COUNTBLANK(A977)=0,VLOOKUP(A977,Users!A:E,5,FALSE),\"\")","v":""},null,{"$f":"IF(COUNTBLANK(C977)=0,VLOOKUP(C977,Locks!A:D,4,FALSE),\"\")","v":""},{"$f":"IF(COUNTBLANK(C977)=0,VLOOKUP(C977,Locks!A:E,5,FALSE),\"\")","v":""}]
[null,{"$f":"IF(COUNTBLANK(A978)=0,VLOOKUP(A978,Users!A:E,5,FALSE),\"\")","v":""},null,{"$f":"IF(COUNTBLANK(C978)=0,VLOOKUP(C978,Locks!A:D,4,FALSE),\"\")","v":""},{"$f":"IF(COUNTBLANK(C978)=0,VLOOKUP(C978,Locks!A:E,5,FALSE),\"\")","v":""}]
[null,{"$f":"IF(COUNTBLANK(A979)=0,VLOOKUP(A979,Users!A:E,5,FALSE),\"\")","v":""},null,{"$f":"IF(COUNTBLANK(C979)=0,VLOOKUP(C979,Locks!A:D,4,FALSE),\"\")","v":""},{"$f":"IF(COUNTBLANK(C979)=0,VLOOKUP(C979,Locks!A:E,5,FALSE),\"\")","v":""}]
[null,{"$f":"IF(COUNTBLANK(A980)=0,VLOOKUP(A980,Users!A:E,5,FALSE),\"\")","v":""},null,{"$f":"IF(COUNTBLANK(C980)=0,VLOOKUP(C980,Locks!A:D,4,FALSE),\"\")","v":""},{"$f":"IF(COUNTBLANK(C980)=0,VLOOKUP(C980,Locks!A:E,5,FALSE),\"\")","v":""}]
[null,{"$f":"IF(COUNTBLANK(A981)=0,VLOOKUP(A981,Users!A:E,5,FALSE),\"\")","v":""},null,{"$f":"IF(COUNTBLANK(C981)=0,VLOOKUP(C981,Locks!A:D,4,FALSE),\"\")","v":""},{"$f":"IF(COUNTBLANK(C981)=0,VLOOKUP(C981,Locks!A:E,5,FALSE),\"\")","v":""}]
[null,{"$f":"IF(COUNTBLANK(A982)=0,VLOOKUP(A982,Users!A:E,5,FALSE),\"\")","v":""},null,{"$f":"IF(COUNTBLANK(C982)=0,VLOOKUP(C982,Locks!A:D,4,FALSE),\"\")","v":""},{"$f":"IF(COUNTBLANK(C982)=0,VLOOKUP(C982,Locks!A:E,5,FALSE),\"\")","v":""}]
[null,{"$f":"IF(COUNTBLANK(A983)=0,VLOOKUP(A983,Users!A:E,5,FALSE),\"\")","v":""},null,{"$f":"IF(COUNTBLANK(C983)=0,VLOOKUP(C983,Locks!A:D,4,FALSE),\"\")","v":""},{"$f":"IF(COUNTBLANK(C983)=0,VLOOKUP(C983,Locks!A:E,5,FALSE),\"\")","v":""}]
[null,{"$f":"IF(COUNTBLANK(A984)=0,VLOOKUP(A984,Users!A:E,5,FALSE),\"\")","v":""},null,{"$f":"IF(COUNTBLANK(C984)=0,VLOOKUP(C984,Locks!A:D,4,FALSE),\"\")","v":""},{"$f":"IF(COUNTBLANK(C984)=0,VLOOKUP(C984,Locks!A:E,5,FALSE),\"\")","v":""}]
[null,{"$f":"IF(COUNTBLANK(A985)=0,VLOOKUP(A985,Users!A:E,5,FALSE),\"\")","v":""},null,{"$f":"IF(COUNTBLANK(C985)=0,VLOOKUP(C985,Locks!A:D,4,FALSE),\"\")","v":""},{"$f":"IF(COUNTBLANK(C985)=0,VLOOKUP(C985,Locks!A:E,5,FALSE),\"\")","v":""}]
[null,{"$f":"IF(COUNTBLANK(A986)=0,VLOOKUP(A986,Users!A:E,5,FALSE),\"\")","v":""},null,{"$f":"IF(COUNTBLANK(C986)=0,VLOOKUP(C986,Locks!A:D,4,FALSE),\"\")","v":""},{"$f":"IF(COUNTBLANK(C986)=0,VLOOKUP(C986,Locks!A:E,5,FALSE),\"\")","v":""}]
[null,{"$f":"IF(COUNTBLANK(A987)=0,VLOOKUP(A987,Users!A:E,5,FALSE),\"\")","v":""},null,{"$f":"IF(COUNTBLANK(C987)=0,VLOOKUP(C987,Locks!A:D,4,FALSE),\"\")","v":""},{"$f":"IF(COUNTBLANK(C987)=0,VLOOKUP(C987,Locks!A:E,5,FALSE),\"\")","v":""}]
[null,{"$f":"IF(COUNTBLANK(A988)=0,VLOOKUP(A988,Users!A:E,5,FALSE),\"\")","v":""},null,{"$f":"IF(COUNTBLANK(C988)=0,VLOOKUP(C988,Locks!A:D,4,FALSE),\"\")","v":""},{"$f":"IF(COUNTBLANK(C988)=0,VLOOKUP(C988,Locks!A:E,5,FALSE),\"\")","v":""}]
[null,{"$f":"IF(COUNTBLANK(A989)=0,VLOOKUP(A989,Users!A:E,5,FALSE),\"\")","v":""},null,{"$f":"IF(COUNTBLANK(C989)=0,VLOOKUP(C989,Locks!A:D,4,FALSE),\"\")","v":""},{"$f":"IF(COUNTBLANK(C989)=0,VLOOKUP(C989,Locks!A:E,5,FALSE),\"\")","v":""}]
[null,{"$f":"IF(COUNTBLANK(A990)=0,VLOOKUP(A990,Users!A:E,5,FALSE),\"\")","v":""},null,{"$f":"IF(COUNTBLANK(C990)=0,VLOOKUP(C990,Locks!A:D,4,FALSE),\"\")","v":""},{"$f":"IF(COUNTBLANK(C990)=0,VLOOKUP(C990,Locks!A:E,5,FALSE),\"\")","v":""}]
[null,{"$f":"IF(COUNTBLANK(A991)=0,VLOOKUP(A991,Users!A:E,5,FALSE),\"\")","v":""},null,{"$f":"IF(COUNTBLANK(C991)=0,VLOOKUP(C991,Locks!A:D,4,FALSE),\"\")","v":""},{"$f":"IF(COUNTBLANK(C991)=0,VLOOKUP(C991,Locks!A:E,5,FALSE),\"\")","v":""}]
[null,{"$f":"IF(COUNTBLANK(A992)=0,VLOOKUP(A992,Users!A:E,5,FALSE),\"\")","v":""},null,{"$f":"IF(COUNTBLANK(C992)=0,VLOOKUP(C992,Locks!A:D,4,FALSE),\"\")","v":""},{"$f":"IF(COUNTBLANK(C992)=0,VLOOKUP(C992,Locks!A:E,5,FALSE),\"\")","v":""}]
[null,{"$f":"IF(COUNTBLANK(A993)=0,VLOOKUP(A993,Users!A:E,5,FALSE),\"\")","v":""},null,{"$f":"IF(COUNTBLANK(C993)=0,VLOOKUP(C993,Locks!A:D,4,FALSE),\"\")","v":""},{"$f":"IF(COUNTBLANK(C993)=0,VLOOKUP(C993,Locks!A:E,5,FALSE),\"\")","v":""}]
[null,{"$f":"IF(COUNTBLANK(A994)=0,VLOOKUP(A994,Users!A:E,5,FALSE),\"\")","v":""},null,{"$f":"IF(COUNTBLANK(C994)=0,VLOOKUP(C994,Locks!A:D,4,FALSE),\"\")","v":""},{"$f":"IF(COUNTBLANK(C994)=0,VLOOKUP(C994,Locks!A:E,5,FALSE),\"\")","v":""}]
[null,{"$f":"IF(COUNTBLANK(A995)=0,VLOOKUP(A995,Users!A:E,5,FALSE),\"\")","v":""},null,{"$f":"IF(COUNTBLANK(C995)=0,VLOOKUP(C995,Locks!A:D,4,FALSE),\"\")","v":""},{"$f":"IF(COUNTBLANK(C995)=0,VLOOKUP(C995,Locks!A:E,5,FALSE),\"\")","v":""}]
[null,{"$f":"IF(COUNTBLANK(A996)=0,VLOOKUP(A996,Users!A:E,5,FALSE),\"\")","v":""},null,{"$f":"IF(COUNTBLANK(C996)=0,VLOOKUP(C996,Locks!A:D,4,FALSE),\"\")","v":""},{"$f":"IF(COUNTBLANK(C996)=0,VLOOKUP(C996,Locks!A:E,5,FALSE),\"\")","v":""}]
[null,{"$f":"IF(COUNTBLANK(A997)=0,VLOOKUP(A997,Users!A:E,5,FALSE),\"\")","v":""},null,{"$f":"IF(COUNTBLANK(C997)=0,VLOOKUP(C997,Locks!A:D,4,FALSE),\"\")","v":""},{"$f":"IF(COUNTBLANK(C997)=0,VLOOKUP(C997,Locks!A:E,5,FALSE),\"\")","v":""}]
[null,{"$f":"IF(COUNTBLANK(A998)=0,VLOOKUP(A998,Users!A:E,5,FALSE),\"\")","v":""},null,{"$f":"IF(COUNTBLANK(C998)=0,VLOOKUP(C998,Locks!A:D,4,FALSE),\"\")","v":""},{"$f":"IF(COUNTBLANK(C998)=0,VLOOKUP(C998,Locks!A:E,5,FALSE),\"\")","v":""}]
[null,{"$f":"IF(COUNTBLANK(A999)=0,VLOOKUP(A999,Users!A:E,5,FALSE),\"\")","v":""},null,{"$f":"IF(COUNTBLANK(C999)=0,VLOOKUP(C999,Locks!A:D,4,FALSE),\"\")","v":""},{"$f":"IF(COUNTBLANK(C999)=0,VLOOKUP(C999,Locks!A:E,5,FALSE),\"\")","v":""}]
[null,{"$f":"IF(COUNTBLANK(A1000)=0,VLOOKUP(A1000,Users!A:E,5,FALSE),\"\")","v":""},null,{"$f":"IF(COUNTBLANK(C1000)=0,VLOOKUP(C1000,Locks!A:D,4,FALSE),\"\")","v":""},{"$f":"IF(COUNTBLANK(C1000)=0,VLOOKUP(C1000,Locks!A:E,5,FALSE),\"\")","v":""}]
[null,{"$f":"IF(COUNTBLANK(A1001)=0,VLOOKUP(A1001,Users!A:E,5,FALSE),\"\")","v":""},null,{"$f":"IF(COUNTBLANK(C1001)=0,VLOOKUP(C1001,Locks!A:D,4,FALSE),\"\")","v":""},{"$f":"IF(COUNTBLANK(C1001)=0,VLOOKUP(C1001,Locks!A:E,5,FALSE),\"\")","v":""}]
[null,null,null,{"$f":"IF(COUNTBLANK(C1002)=0,VLOOKUP(C1002,Locks!A:D,4,FALSE),\"\")","v":""},{"$f":"IF(COUNTBLANK(C1002)=0,VLOOKUP(C1002,Locks!A:E,5,FALSE),\"\")","v":""}]
[null,null,null,{"$f":"IF(COUNTBLANK(C1003)=0,VLOOKUP(C1003,Locks!A:D,4,FALSE),\"\")","v":""},{"$f":"IF(COUNTBLANK(C1003)=0,VLOOKUP(C1003,Locks!A:E,5,FALSE),\"\")","v":""}]
[null,null,null,{"$f":"IF(COUNTBLANK(C1004)=0,VLOOKUP(C1004,Locks!A:D,4,FALSE),\"\")","v":""},{"$f":"IF(COUNTBLANK(C1004)=0,VLOOKUP(C1004,Locks!A:E,5,FALSE),\"\")","v":""}]
[null,null,null,{"$f":"IF(COUNTBLANK(C1005)=0,VLOOKUP(C1005,Locks!A:D,4,FALSE),\"\")","v":""},{"$f":"IF(COUNTBLANK(C1005)=0,VLOOKUP(C1005,Locks!A:E,5,FALSE),\"\")","v":""}]
[null,null,null,{"$f":"IF(COUNTBLANK(C1006)=0,VLOOKUP(C1006,Locks!A:D,4,FALSE),\"\")","v":""},{"$f":"IF(COUNTBLANK(C1006)=0,VLOOKUP(C1006,Locks!A:E,5,FALSE),\"\")","v":""}]
[null,null,null,{"$f":"IF(COUNTBLANK(C1007)=0,VLOOKUP(C1007,Locks!A:D,4,FALSE),\"\")","v":""},{"$f":"IF(COUNTBLANK(C1007)=0,VLOOKUP(C1007,Locks!A:E,5,FALSE),\"\")","v":""}]
[null,null,null,{"$f":"IF(COUNTBLANK(C1008)=0,VLOOKUP(C1008,Locks!A:D,4,FALSE),\"\")","v":""},{"$f":"IF(COUNTBLANK(C1008)=0,VLOOKUP(C1008,Locks!A:E,5,FALSE),\"\")","v":""}]
[null,null,null,{"$f":"IF(COUNTBLANK(C1009)=0,VLOOKUP(C1009,Locks!A:D,4,FALSE),\"\")","v":""},{"$f":"IF(COUNTBLANK(C1009)=0,VLOOKUP(C1009,Locks!A:E,5,FALSE),\"\")","v":""}]
[null,null,null,{"$f":"IF(COUNTBLANK(C1010)=0,VLOOKUP(C1010,Locks!A:D,4,FALSE),\"\")","v":""},{"$f":"IF(COUNTBLANK(C1010)=0,VLOOKUP(C1010,Locks!A:E,5,FALSE),\"\")","v":""}]
[null,null,null,{"$f":"IF(COUNTBLANK(C1011)=0,VLOOKUP(C1011,Locks!A:D,4,FALSE),\"\")","v":""},{"$f":"IF(COUNTBLANK(C1011)=0,VLOOKUP(C1011,Locks!A:E,5,FALSE),\"\")","v":""}]
[null,null,null,{"$f":"IF(COUNTBLANK(C1012)=0,VLOOKUP(C1012,Locks!A:D,4,FALSE),\"\")","v":""},{"$f":"IF(COUNTBLANK(C1012)=0,VLOOKUP(C1012,Locks!A:E,5,FALSE),\"\")","v":""}]
[null,null,null,{"$f":"IF(COUNTBLANK(C1013)=0,VLOOKUP(C1013,Locks!A:D,4,FALSE),\"\")","v":""},{"$f":"IF(COUNTBLANK(C1013)=0,VLOOKUP(C1013,Locks!A:E,5,FALSE),\"\")","v":""}]
[null,null,null,{"$f":"IF(COUNTBLANK(C1014)=0,VLOOKUP(C1014,Locks!A:D,4,FALSE),\"\")","v":""},{"$f":"IF(COUNTBLANK(C1014)=0,VLOOKUP(C1014,Locks!A:E,5,FALSE),\"\")","v":""}]
[null,null,null,{"$f":"IF(COUNTBLANK(C1015)=0,VLOOKUP(C1015,Locks!A:D,4,FALSE),\"\")","v":""},{"$f":"IF(COUNTBLANK(C1015)=0,VLOOKUP(C1015,Locks!A:E,5,FALSE),\"\")","v":""}]
[null,null,null,{"$f":"IF(COUNTBLANK(C1016)=0,VLOOKUP(C1016,Locks!A:D,4,FALSE),\"\")","v":""},{"$f":"IF(COUNTBLANK(C1016)=0,VLOOKUP(C1016,Locks!A:E,5,FALSE),\"\")","v":""}]
[null,null,null,{"$f":"IF(COUNTBLANK(C1017)=0,VLOOKUP(C1017,Locks!A:D,4,FALSE),\"\")","v":""},{"$f":"IF(COUNTBLANK(C1017)=0,VLOOKUP(C1017,Locks!A:E,5,FALSE),\"\")","v":""}]
[null,null,null,{"$f":"IF(COUNTBLANK(C1018)=0,VLOOKUP(C1018,Locks!A:D,4,FALSE),\"\")","v":""},{"$f":"IF(COUNTBLANK(C1018)=0,VLOOKUP(C1018,Locks!A:E,5,FALSE),\"\")","v":""}]
[null,null,null,{"$f":"IF(COUNTBLANK(C1019)=0,VLOOKUP(C1019,Locks!A:D,4,FALSE),\"\")","v":""},{"$f":"IF(COUNTBLANK(C1019)=0,VLOOKUP(C1019,Locks!A:E,5,FALSE),\"\")","v":""}]
[null,null,null,{"$f":"IF(COUNTBLANK(C1020)=0,VLOOKUP(C1020,Locks!A:D,4,FALSE),\"\")","v":""},{"$f":"IF(COUNTBLANK(C1020)=0,VLOOKUP(C1020,Locks!A:E,5,FALSE),\"\")","v":""}]
[null,null,null,{"$f":"IF(COUNTBLANK(C1021)=0,VLOOKUP(C1021,Locks!A:D,4,FALSE),\"\")","v":""},{"$f":"IF(COUNTBLANK(C1021)=0,VLOOKUP(C1021,Locks!A:E,5,FALSE),\"\")","v":""}]
[null,null,null,{"$f":"IF(COUNTBLANK(C1022)=0,VLOOKUP(C1022,Locks!A:D,4,FALSE),\"\")","v":""},{"$f":"IF(COUNTBLANK(C1022)=0,VLOOKUP(C1022,Locks!A:E,5,FALSE),\"\")","v":""}]
[null,null,null,{"$f":"IF(COUNTBLANK(C1023)=0,VLOOKUP(C1023,Locks!A:D,4,FALSE),\"\")","v":""},{"$f":"IF(COUNTBLANK(C1023)=0,VLOOKUP(C1023,Locks!A:E,5,FALSE),\"\")","v":""}]
[null,null,null,{"$f":"IF(COUNTBLANK(C1024)=0,VLOOKUP(C1024,Locks!A:D,4,FALSE),\"\")","v":""},{"$f":"IF(COUNTBLANK(C1024)=0,VLOOKUP(C1024,Locks!A:E,5,FALSE),\"\")","v":""}]
[null,null,null,{"$f":"IF(COUNTBLANK(C1025)=0,VLOOKUP(C1025,Locks!A:D,4,FALSE),\"\")","v":""},{"$f":"IF(COUNTBLANK(C1025)=0,VLOOKUP(C1025,Locks!A:E,5,FALSE),\"\")","v":""}]
[null,null,null,{"$f":"IF(COUNTBLANK(C1026)=0,VLOOKUP(C1026,Locks!A:D,4,FALSE),\"\")","v":""},{"$f":"IF(COUNTBLANK(C1026)=0,VLOOKUP(C1026,Locks!A:E,5,FALSE),\"\")","v":""}]
[null,null,null,{"$f":"IF(COUNTBLANK(C1027)=0,VLOOKUP(C1027,Locks!A:D,4,FALSE),\"\")","v":""},{"$f":"IF(COUNTBLANK(C1027)=0,VLOOKUP(C1027,Locks!A:E,5,FALSE),\"\")","v":""}]
[null,null,null,{"$f":"IF(COUNTBLANK(C1028)=0,VLOOKUP(C1028,Locks!A:D,4,FALSE),\"\")","v":""},{"$f":"IF(COUNTBLANK(C1028)=0,VLOOKUP(C1028,Locks!A:E,5,FALSE),\"\")","v":""}]
[null,null,null,{"$f":"IF(COUNTBLANK(C1029)=0,VLOOKUP(C1029,Locks!A:D,4,FALSE),\"\")","v":""},{"$f":"IF(COUNTBLANK(C1029)=0,VLOOKUP(C1029,Locks!A:E,5,FALSE),\"\")","v":""}]
[null,null,null,{"$f":"IF(COUNTBLANK(C1030)=0,VLOOKUP(C1030,Locks!A:D,4,FALSE),\"\")","v":""},{"$f":"IF(COUNTBLANK(C1030)=0,VLOOKUP(C1030,Locks!A:E,5,FALSE),\"\")","v":""}]
[null,null,null,{"$f":"IF(COUNTBLANK(C1031)=0,VLOOKUP(C1031,Locks!A:D,4,FALSE),\"\")","v":""},{"$f":"IF(COUNTBLANK(C1031)=0,VLOOKUP(C1031,Locks!A:E,5,FALSE),\"\")","v":""}]
[null,null,null,{"$f":"IF(COUNTBLANK(C1032)=0,VLOOKUP(C1032,Locks!A:D,4,FALSE),\"\")","v":""},{"$f":"IF(COUNTBLANK(C1032)=0,VLOOKUP(C1032,Locks!A:E,5,FALSE),\"\")","v":""}]
[null,null,null,{"$f":"IF(COUNTBLANK(C1033)=0,VLOOKUP(C1033,Locks!A:D,4,FALSE),\"\")","v":""},{"$f":"IF(COUNTBLANK(C1033)=0,VLOOKUP(C1033,Locks!A:E,5,FALSE),\"\")","v":""}]
[null,null,null,{"$f":"IF(COUNTBLANK(C1034)=0,VLOOKUP(C1034,Locks!A:D,4,FALSE),\"\")","v":""},{"$f":"IF(COUNTBLANK(C1034)=0,VLOOKUP(C1034,Locks!A:E,5,FALSE),\"\")","v":""}]
[null,null,null,{"$f":"IF(COUNTBLANK(C1035)=0,VLOOKUP(C1035,Locks!A:D,4,FALSE),\"\")","v":""},{"$f":"IF(COUNTBLANK(C1035)=0,VLOOKUP(C1035,Locks!A:E,5,FALSE),\"\")","v":""}]
[null,null,null,{"$f":"IF(COUNTBLANK(C1036)=0,VLOOKUP(C1036,Locks!A:D,4,FALSE),\"\")","v":""},{"$f":"IF(COUNTBLANK(C1036)=0,VLOOKUP(C1036,Locks!A:E,5,FALSE),\"\")","v":""}]
[null,null,null,{"$f":"IF(COUNTBLANK(C1037)=0,VLOOKUP(C1037,Locks!A:D,4,FALSE),\"\")","v":""},{"$f":"IF(COUNTBLANK(C1037)=0,VLOOKUP(C1037,Locks!A:E,5,FALSE),\"\")","v":""}]
[null,null,null,{"$f":"IF(COUNTBLANK(C1038)=0,VLOOKUP(C1038,Locks!A:D,4,FALSE),\"\")","v":""},{"$f":"IF(COUNTBLANK(C1038)=0,VLOOKUP(C1038,Locks!A:E,5,FALSE),\"\")","v":""}]
[null,null,null,{"$f":"IF(COUNTBLANK(C1039)=0,VLOOKUP(C1039,Locks!A:D,4,FALSE),\"\")","v":""},{"$f":"IF(COUNTBLANK(C1039)=0,VLOOKUP(C1039,Locks!A:E,5,FALSE),\"\")","v":""}]
[null,null,null,{"$f":"IF(COUNTBLANK(C1040)=0,VLOOKUP(C1040,Locks!A:D,4,FALSE),\"\")","v":""},{"$f":"IF(COUNTBLANK(C1040)=0,VLOOKUP(C1040,Locks!A:E,5,FALSE),\"\")","v":""}]
[null,null,null,{"$f":"IF(COUNTBLANK(C1041)=0,VLOOKUP(C1041,Locks!A:D,4,FALSE),\"\")","v":""},{"$f":"IF(COUNTBLANK(C1041)=0,VLOOKUP(C1041,Locks!A:E,5,FALSE),\"\")","v":""}]
[null,null,null,{"$f":"IF(COUNTBLANK(C1042)=0,VLOOKUP(C1042,Locks!A:D,4,FALSE),\"\")","v":""},{"$f":"IF(COUNTBLANK(C1042)=0,VLOOKUP(C1042,Locks!A:E,5,FALSE),\"\")","v":""}]
[null,null,null,{"$f":"IF(COUNTBLANK(C1043)=0,VLOOKUP(C1043,Locks!A:D,4,FALSE),\"\")","v":""},{"$f":"IF(COUNTBLANK(C1043)=0,VLOOKUP(C1043,Locks!A:E,5,FALSE),\"\")","v":""}]
[null,null,null,{"$f":"IF(COUNTBLANK(C1044)=0,VLOOKUP(C1044,Locks!A:D,4,FALSE),\"\")","v":""},{"$f":"IF(COUNTBLANK(C1044)=0,VLOOKUP(C1044,Locks!A:E,5,FALSE),\"\")","v":""}]
[null,null,null,{"$f":"IF(COUNTBLANK(C1045)=0,VLOOKUP(C1045,Locks!A:D,4,FALSE),\"\")","v":""},{"$f":"IF(COUNTBLANK(C1045)=0,VLOOKUP(C1045,Locks!A:E,5,FALSE),\"\")","v":""}]
[null,null,null,{"$f":"IF(COUNTBLANK(C1046)=0,VLOOKUP(C1046,Locks!A:D,4,FALSE),\"\")","v":""},{"$f":"IF(COUNTBLANK(C1046)=0,VLOOKUP(C1046,Locks!A:E,5,FALSE),\"\")","v":""}]
[null,null,null,{"$f":"IF(COUNTBLANK(C1047)=0,VLOOKUP(C1047,Locks!A:D,4,FALSE),\"\")","v":""},{"$f":"IF(COUNTBLANK(C1047)=0,VLOOKUP(C1047,Locks!A:E,5,FALSE),\"\")","v":""}]
[null,null,null,{"$f":"IF(COUNTBLANK(C1048)=0,VLOOKUP(C1048,Locks!A:D,4,FALSE),\"\")","v":""},{"$f":"IF(COUNTBLANK(C1048)=0,VLOOKUP(C1048,Locks!A:E,5,FALSE),\"\")","v":""}]
[null,null,null,{"$f":"IF(COUNTBLANK(C1049)=0,VLOOKUP(C1049,Locks!A:D,4,FALSE),\"\")","v":""},{"$f":"IF(COUNTBLANK(C1049)=0,VLOOKUP(C1049,Locks!A:E,5,FALSE),\"\")","v":""}]
[null,null,null,{"$f":"IF(COUNTBLANK(C1050)=0,VLOOKUP(C1050,Locks!A:D,4,FALSE),\"\")","v":""},{"$f":"IF(COUNTBLANK(C1050)=0,VLOOKUP(C1050,Locks!A:E,5,FALSE),\"\")","v":""}]
[null,null,null,{"$f":"IF(COUNTBLANK(C1051)=0,VLOOKUP(C1051,Locks!A:D,4,FALSE),\"\")","v":""},{"$f":"IF(COUNTBLANK(C1051)=0,VLOOKUP(C1051,Locks!A:E,5,FALSE),\"\")","v":""}]
[null,null,null,{"$f":"IF(COUNTBLANK(C1052)=0,VLOOKUP(C1052,Locks!A:D,4,FALSE),\"\")","v":""},{"$f":"IF(COUNTBLANK(C1052)=0,VLOOKUP(C1052,Locks!A:E,5,FALSE),\"\")","v":""}]
[null,null,null,{"$f":"IF(COUNTBLANK(C1053)=0,VLOOKUP(C1053,Locks!A:D,4,FALSE),\"\")","v":""},{"$f":"IF(COUNTBLANK(C1053)=0,VLOOKUP(C1053,Locks!A:E,5,FALSE),\"\")","v":""}]
[null,null,null,{"$f":"IF(COUNTBLANK(C1054)=0,VLOOKUP(C1054,Locks!A:D,4,FALSE),\"\")","v":""},{"$f":"IF(COUNTBLANK(C1054)=0,VLOOKUP(C1054,Locks!A:E,5,FALSE),\"\")","v":""}]
[null,null,null,{"$f":"IF(COUNTBLANK(C1055)=0,VLOOKUP(C1055,Locks!A:D,4,FALSE),\"\")","v":""},{"$f":"IF(COUNTBLANK(C1055)=0,VLOOKUP(C1055,Locks!A:E,5,FALSE),\"\")","v":""}]
[null,null,null,{"$f":"IF(COUNTBLANK(C1056)=0,VLOOKUP(C1056,Locks!A:D,4,FALSE),\"\")","v":""},{"$f":"IF(COUNTBLANK(C1056)=0,VLOOKUP(C1056,Locks!A:E,5,FALSE),\"\")","v":""}]
[null,null,null,{"$f":"IF(COUNTBLANK(C1057)=0,VLOOKUP(C1057,Locks!A:D,4,FALSE),\"\")","v":""},{"$f":"IF(COUNTBLANK(C1057)=0,VLOOKUP(C1057,Locks!A:E,5,FALSE),\"\")","v":""}]
[null,null,null,{"$f":"IF(COUNTBLANK(C1058)=0,VLOOKUP(C1058,Locks!A:D,4,FALSE),\"\")","v":""},{"$f":"IF(COUNTBLANK(C1058)=0,VLOOKUP(C1058,Locks!A:E,5,FALSE),\"\")","v":""}]
[null,null,null,{"$f":"IF(COUNTBLANK(C1059)=0,VLOOKUP(C1059,Locks!A:D,4,FALSE),\"\")","v":""},{"$f":"IF(COUNTBLANK(C1059)=0,VLOOKUP(C1059,Locks!A:E,5,FALSE),\"\")","v":""}]
[null,null,null,{"$f":"IF(COUNTBLANK(C1060)=0,VLOOKUP(C1060,Locks!A:D,4,FALSE),\"\")","v":""},{"$f":"IF(COUNTBLANK(C1060)=0,VLOOKUP(C1060,Locks!A:E,5,FALSE),\"\")","v":""}]
[null,null,null,{"$f":"IF(COUNTBLANK(C1061)=0,VLOOKUP(C1061,Locks!A:D,4,FALSE),\"\")","v":""},{"$f":"IF(COUNTBLANK(C1061)=0,VLOOKUP(C1061,Locks!A:E,5,FALSE),\"\")","v":""}]
[null,null,null,{"$f":"IF(COUNTBLANK(C1062)=0,VLOOKUP(C1062,Locks!A:D,4,FALSE),\"\")","v":""},{"$f":"IF(COUNTBLANK(C1062)=0,VLOOKUP(C1062,Locks!A:E,5,FALSE),\"\")","v":""}]
[null,null,null,{"$f":"IF(COUNTBLANK(C1063)=0,VLOOKUP(C1063,Locks!A:D,4,FALSE),\"\")","v":""},{"$f":"IF(COUNTBLANK(C1063)=0,VLOOKUP(C1063,Locks!A:E,5,FALSE),\"\")","v":""}]
[null,null,null,{"$f":"IF(COUNTBLANK(C1064)=0,VLOOKUP(C1064,Locks!A:D,4,FALSE),\"\")","v":""},{"$f":"IF(COUNTBLANK(C1064)=0,VLOOKUP(C1064,Locks!A:E,5,FALSE),\"\")","v":""}]
[null,null,null,{"$f":"IF(COUNTBLANK(C1065)=0,VLOOKUP(C1065,Locks!A:D,4,FALSE),\"\")","v":""},{"$f":"IF(COUNTBLANK(C1065)=0,VLOOKUP(C1065,Locks!A:E,5,FALSE),\"\")","v":""}]
[null,null,null,{"$f":"IF(COUNTBLANK(C1066)=0,VLOOKUP(C1066,Locks!A:D,4,FALSE),\"\")","v":""},{"$f":"IF(COUNTBLANK(C1066)=0,VLOOKUP(C1066,Locks!A:E,5,FALSE),\"\")","v":""}]
[null,null,null,{"$f":"IF(COUNTBLANK(C1067)=0,VLOOKUP(C1067,Locks!A:D,4,FALSE),\"\")","v":""},{"$f":"IF(COUNTBLANK(C1067)=0,VLOOKUP(C1067,Locks!A:E,5,FALSE),\"\")","v":""}]
[null,null,null,{"$f":"IF(COUNTBLANK(C1068)=0,VLOOKUP(C1068,Locks!A:D,4,FALSE),\"\")","v":""},{"$f":"IF(COUNTBLANK(C1068)=0,VLOOKUP(C1068,Locks!A:E,5,FALSE),\"\")","v":""}]
[null,null,null,{"$f":"IF(COUNTBLANK(C1069)=0,VLOOKUP(C1069,Locks!A:D,4,FALSE),\"\")","v":""},{"$f":"IF(COUNTBLANK(C1069)=0,VLOOKUP(C1069,Locks!A:E,5,FALSE),\"\")","v":""}]
[null,null,null,{"$f":"IF(COUNTBLANK(C1070)=0,VLOOKUP(C1070,Locks!A:D,4,FALSE),\"\")","v":""},{"$f":"IF(COUNTBLANK(C1070)=0,VLOOKUP(C1070,Locks!A:E,5,FALSE),\"\")","v":""}]
[null,null,null,{"$f":"IF(COUNTBLANK(C1071)=0,VLOOKUP(C1071,Locks!A:D,4,FALSE),\"\")","v":""},{"$f":"IF(COUNTBLANK(C1071)=0,VLOOKUP(C1071,Locks!A:E,5,FALSE),\"\")","v":""}]
[null,null,null,{"$f":"IF(COUNTBLANK(C1072)=0,VLOOKUP(C1072,Locks!A:D,4,FALSE),\"\")","v":""},{"$f":"IF(COUNTBLANK(C1072)=0,VLOOKUP(C1072,Locks!A:E,5,FALSE),\"\")","v":""}]
[null,null,null,{"$f":"IF(COUNTBLANK(C1073)=0,VLOOKUP(C1073,Locks!A:D,4,FALSE),\"\")","v":""},{"$f":"IF(COUNTBLANK(C1073)=0,VLOOKUP(C1073,Locks!A:E,5,FALSE),\"\")","v":""}]
[null,null,null,{"$f":"IF(COUNTBLANK(C1074)=0,VLOOKUP(C1074,Locks!A:D,4,FALSE),\"\")","v":""},{"$f":"IF(COUNTBLANK(C1074)=0,VLOOKUP(C1074,Locks!A:E,5,FALSE),\"\")","v":""}]
[null,null,null,{"$f":"IF(COUNTBLANK(C1075)=0,VLOOKUP(C1075,Locks!A:D,4,FALSE),\"\")","v":""},{"$f":"IF(COUNTBLANK(C1075)=0,VLOOKUP(C1075,Locks!A:E,5,FALSE),\"\")","v":""}]
[null,null,null,{"$f":"IF(COUNTBLANK(C1076)=0,VLOOKUP(C1076,Locks!A:D,4,FALSE),\"\")","v":""},{"$f":"IF(COUNTBLANK(C1076)=0,VLOOKUP(C1076,Locks!A:E,5,FALSE),\"\")","v":""}]
[null,null,null,{"$f":"IF(COUNTBLANK(C1077)=0,VLOOKUP(C1077,Locks!A:D,4,FALSE),\"\")","v":""},{"$f":"IF(COUNTBLANK(C1077)=0,VLOOKUP(C1077,Locks!A:E,5,FALSE),\"\")","v":""}]
[null,null,null,{"$f":"IF(COUNTBLANK(C1078)=0,VLOOKUP(C1078,Locks!A:D,4,FALSE),\"\")","v":""},{"$f":"IF(COUNTBLANK(C1078)=0,VLOOKUP(C1078,Locks!A:E,5,FALSE),\"\")","v":""}]
[null,null,null,{"$f":"IF(COUNTBLANK(C1079)=0,VLOOKUP(C1079,Locks!A:D,4,FALSE),\"\")","v":""},{"$f":"IF(COUNTBLANK(C1079)=0,VLOOKUP(C1079,Locks!A:E,5,FALSE),\"\")","v":""}]
[null,null,null,{"$f":"IF(COUNTBLANK(C1080)=0,VLOOKUP(C1080,Locks!A:D,4,FALSE),\"\")","v":""},{"$f":"IF(COUNTBLANK(C1080)=0,VLOOKUP(C1080,Locks!A:E,5,FALSE),\"\")","v":""}]
[null,null,null,{"$f":"IF(COUNTBLANK(C1081)=0,VLOOKUP(C1081,Locks!A:D,4,FALSE),\"\")","v":""},{"$f":"IF(COUNTBLANK(C1081)=0,VLOOKUP(C1081,Locks!A:E,5,FALSE),\"\")","v":""}]
[null,null,null,{"$f":"IF(COUNTBLANK(C1082)=0,VLOOKUP(C1082,Locks!A:D,4,FALSE),\"\")","v":""},{"$f":"IF(COUNTBLANK(C1082)=0,VLOOKUP(C1082,Locks!A:E,5,FALSE),\"\")","v":""}]
[null,null,null,{"$f":"IF(COUNTBLANK(C1083)=0,VLOOKUP(C1083,Locks!A:D,4,FALSE),\"\")","v":""},{"$f":"IF(COUNTBLANK(C1083)=0,VLOOKUP(C1083,Locks!A:E,5,FALSE),\"\")","v":""}]
[null,null,null,{"$f":"IF(COUNTBLANK(C1084)=0,VLOOKUP(C1084,Locks!A:D,4,FALSE),\"\")","v":""},{"$f":"IF(COUNTBLANK(C1084)=0,VLOOKUP(C1084,Locks!A:E,5,FALSE),\"\")","v":""}]
[null,null,null,{"$f":"IF(COUNTBLANK(C1085)=0,VLOOKUP(C1085,Locks!A:D,4,FALSE),\"\")","v":""},{"$f":"IF(COUNTBLANK(C1085)=0,VLOOKUP(C1085,Locks!A:E,5,FALSE),\"\")","v":""}]
[null,null,null,{"$f":"IF(COUNTBLANK(C1086)=0,VLOOKUP(C1086,Locks!A:D,4,FALSE),\"\")","v":""},{"$f":"IF(COUNTBLANK(C1086)=0,VLOOKUP(C1086,Locks!A:E,5,FALSE),\"\")","v":""}]
[null,null,null,{"$f":"IF(COUNTBLANK(C1087)=0,VLOOKUP(C1087,Locks!A:D,4,FALSE),\"\")","v":""},{"$f":"IF(COUNTBLANK(C1087)=0,VLOOKUP(C1087,Locks!A:E,5,FALSE),\"\")","v":""}]
[null,null,null,{"$f":"IF(COUNTBLANK(C1088)=0,VLOOKUP(C1088,Locks!A:D,4,FALSE),\"\")","v":""},{"$f":"IF(COUNTBLANK(C1088)=0,VLOOKUP(C1088,Locks!A:E,5,FALSE),\"\")","v":""}]
[null,null,null,{"$f":"IF(COUNTBLANK(C1089)=0,VLOOKUP(C1089,Locks!A:D,4,FALSE),\"\")","v":""},{"$f":"IF(COUNTBLANK(C1089)=0,VLOOKUP(C1089,Locks!A:E,5,FALSE),\"\")","v":""}]
[null,null,null,{"$f":"IF(COUNTBLANK(C1090)=0,VLOOKUP(C1090,Locks!A:D,4,FALSE),\"\")","v":""},{"$f":"IF(COUNTBLANK(C1090)=0,VLOOKUP(C1090,Locks!A:E,5,FALSE),\"\")","v":""}]
[null,null,null,{"$f":"IF(COUNTBLANK(C1091)=0,VLOOKUP(C1091,Locks!A:D,4,FALSE),\"\")","v":""},{"$f":"IF(COUNTBLANK(C1091)=0,VLOOKUP(C1091,Locks!A:E,5,FALSE),\"\")","v":""}]
[null,null,null,{"$f":"IF(COUNTBLANK(C1092)=0,VLOOKUP(C1092,Locks!A:D,4,FALSE),\"\")","v":""},{"$f":"IF(COUNTBLANK(C1092)=0,VLOOKUP(C1092,Locks!A:E,5,FALSE),\"\")","v":""}]
[null,null,null,{"$f":"IF(COUNTBLANK(C1093)=0,VLOOKUP(C1093,Locks!A:D,4,FALSE),\"\")","v":""},{"$f":"IF(COUNTBLANK(C1093)=0,VLOOKUP(C1093,Locks!A:E,5,FALSE),\"\")","v":""}]
[null,null,null,{"$f":"IF(COUNTBLANK(C1094)=0,VLOOKUP(C1094,Locks!A:D,4,FALSE),\"\")","v":""},{"$f":"IF(COUNTBLANK(C1094)=0,VLOOKUP(C1094,Locks!A:E,5,FALSE),\"\")","v":""}]
[null,null,null,{"$f":"IF(COUNTBLANK(C1095)=0,VLOOKUP(C1095,Locks!A:D,4,FALSE),\"\")","v":""},{"$f":"IF(COUNTBLANK(C1095)=0,VLOOKUP(C1095,Locks!A:E,5,FALSE),\"\")","v":""}]
[null,null,null,{"$f":"IF(COUNTBLANK(C1096)=0,VLOOKUP(C1096,Locks!A:D,4,FALSE),\"\")","v":""},{"$f":"IF(COUNTBLANK(C1096)=0,VLOOKUP(C1096,Locks!A:E,5,FALSE),\"\")","v":""}]
[null,null,null,{"$f":"IF(COUNTBLANK(C1097)=0,VLOOKUP(C1097,Locks!A:D,4,FALSE),\"\")","v":""},{"$f":"IF(COUNTBLANK(C1097)=0,VLOOKUP(C1097,Locks!A:E,5,FALSE),\"\")","v":""}]
[null,null,null,{"$f":"IF(COUNTBLANK(C1098)=0,VLOOKUP(C1098,Locks!A:D,4,FALSE),\"\")","v":""},{"$f":"IF(COUNTBLANK(C1098)=0,VLOOKUP(C1098,Locks!A:E,5,FALSE),\"\")","v":""}]
[null,null,null,{"$f":"IF(COUNTBLANK(C1099)=0,VLOOKUP(C1099,Locks!A:D,4,FALSE),\"\")","v":""},{"$f":"IF(COUNTBLANK(C1099)=0,VLOOKUP(C1099,Locks!A:E,5,FALSE),\"\")","v":""}]
[null,null,null,{"$f":"IF(COUNTBLANK(C1100)=0,VLOOKUP(C1100,Locks!A:D,4,FALSE),\"\")","v":""},{"$f":"IF(COUNTBLANK(C1100)=0,VLOOKUP(C1100,Locks!A:E,5,FALSE),\"\")","v":""}]
[null,null,null,{"$f":"IF(COUNTBLANK(C1101)=0,VLOOKUP(C1101,Locks!A:D,4,FALSE),\"\")","v":""},{"$f":"IF(COUNTBLANK(C1101)=0,VLOOKUP(C1101,Locks!A:E,5,FALSE),\"\")","v":""}]
[null,null,null,{"$f":"IF(COUNTBLANK(C1102)=0,VLOOKUP(C1102,Locks!A:D,4,FALSE),\"\")","v":""},{"$f":"IF(COUNTBLANK(C1102)=0,VLOOKUP(C1102,Locks!A:E,5,FALSE),\"\")","v":""}]
[null,null,null,{"$f":"IF(COUNTBLANK(C1103)=0,VLOOKUP(C1103,Locks!A:D,4,FALSE),\"\")","v":""},{"$f":"IF(COUNTBLANK(C1103)=0,VLOOKUP(C1103,Locks!A:E,5,FALSE),\"\")","v":""}]
[null,null,null,{"$f":"IF(COUNTBLANK(C1104)=0,VLOOKUP(C1104,Locks!A:D,4,FALSE),\"\")","v":""},{"$f":"IF(COUNTBLANK(C1104)=0,VLOOKUP(C1104,Locks!A:E,5,FALSE),\"\")","v":""}]
[null,null,null,{"$f":"IF(COUNTBLANK(C1105)=0,VLOOKUP(C1105,Locks!A:D,4,FALSE),\"\")","v":""},{"$f":"IF(COUNTBLANK(C1105)=0,VLOOKUP(C1105,Locks!A:E,5,FALSE),\"\")","v":""}]
[null,null,null,{"$f":"IF(COUNTBLANK(C1106)=0,VLOOKUP(C1106,Locks!A:D,4,FALSE),\"\")","v":""},{"$f":"IF(COUNTBLANK(C1106)=0,VLOOKUP(C1106,Locks!A:E,5,FALSE),\"\")","v":""}]
[null,null,null,{"$f":"IF(COUNTBLANK(C1107)=0,VLOOKUP(C1107,Locks!A:D,4,FALSE),\"\")","v":""},{"$f":"IF(COUNTBLANK(C1107)=0,VLOOKUP(C1107,Locks!A:E,5,FALSE),\"\")","v":""}]
[null,null,null,{"$f":"IF(COUNTBLANK(C1108)=0,VLOOKUP(C1108,Locks!A:D,4,FALSE),\"\")","v":""},{"$f":"IF(COUNTBLANK(C1108)=0,VLOOKUP(C1108,Locks!A:E,5,FALSE),\"\")","v":""}]
[null,null,null,{"$f":"IF(COUNTBLANK(C1109)=0,VLOOKUP(C1109,Locks!A:D,4,FALSE),\"\")","v":""},{"$f":"IF(COUNTBLANK(C1109)=0,VLOOKUP(C1109,Locks!A:E,5,FALSE),\"\")","v":""}]
[null,null,null,{"$f":"IF(COUNTBLANK(C1110)=0,VLOOKUP(C1110,Locks!A:D,4,FALSE),\"\")","v":""},{"$f":"IF(COUNTBLANK(C1110)=0,VLOOKUP(C1110,Locks!A:E,5,FALSE),\"\")","v":""}]
[null,null,null,{"$f":"IF(COUNTBLANK(C1111)=0,VLOOKUP(C1111,Locks!A:D,4,FALSE),\"\")","v":""},{"$f":"IF(COUNTBLANK(C1111)=0,VLOOKUP(C1111,Locks!A:E,5,FALSE),\"\")","v":""}]
[null,null,null,{"$f":"IF(COUNTBLANK(C1112)=0,VLOOKUP(C1112,Locks!A:D,4,FALSE),\"\")","v":""},{"$f":"IF(COUNTBLANK(C1112)=0,VLOOKUP(C1112,Locks!A:E,5,FALSE),\"\")","v":""}]
[null,null,null,{"$f":"IF(COUNTBLANK(C1113)=0,VLOOKUP(C1113,Locks!A:D,4,FALSE),\"\")","v":""},{"$f":"IF(COUNTBLANK(C1113)=0,VLOOKUP(C1113,Locks!A:E,5,FALSE),\"\")","v":""}]
[null,null,null,{"$f":"IF(COUNTBLANK(C1114)=0,VLOOKUP(C1114,Locks!A:D,4,FALSE),\"\")","v":""},{"$f":"IF(COUNTBLANK(C1114)=0,VLOOKUP(C1114,Locks!A:E,5,FALSE),\"\")","v":""}]
[null,null,null,{"$f":"IF(COUNTBLANK(C1115)=0,VLOOKUP(C1115,Locks!A:D,4,FALSE),\"\")","v":""},{"$f":"IF(COUNTBLANK(C1115)=0,VLOOKUP(C1115,Locks!A:E,5,FALSE),\"\")","v":""}]
[null,null,null,{"$f":"IF(COUNTBLANK(C1116)=0,VLOOKUP(C1116,Locks!A:D,4,FALSE),\"\")","v":""},{"$f":"IF(COUNTBLANK(C1116)=0,VLOOKUP(C1116,Locks!A:E,5,FALSE),\"\")","v":""}]
[null,null,null,{"$f":"IF(COUNTBLANK(C1117)=0,VLOOKUP(C1117,Locks!A:D,4,FALSE),\"\")","v":""},{"$f":"IF(COUNTBLANK(C1117)=0,VLOOKUP(C1117,Locks!A:E,5,FALSE),\"\")","v":""}]
[null,null,null,{"$f":"IF(COUNTBLANK(C1118)=0,VLOOKUP(C1118,Locks!A:D,4,FALSE),\"\")","v":""},{"$f":"IF(COUNTBLANK(C1118)=0,VLOOKUP(C1118,Locks!A:E,5,FALSE),\"\")","v":""}]
[null,null,null,{"$f":"IF(COUNTBLANK(C1119)=0,VLOOKUP(C1119,Locks!A:D,4,FALSE),\"\")","v":""},{"$f":"IF(COUNTBLANK(C1119)=0,VLOOKUP(C1119,Locks!A:E,5,FALSE),\"\")","v":""}]
[null,null,null,{"$f":"IF(COUNTBLANK(C1120)=0,VLOOKUP(C1120,Locks!A:D,4,FALSE),\"\")","v":""},{"$f":"IF(COUNTBLANK(C1120)=0,VLOOKUP(C1120,Locks!A:E,5,FALSE),\"\")","v":""}]
[null,null,null,{"$f":"IF(COUNTBLANK(C1121)=0,VLOOKUP(C1121,Locks!A:D,4,FALSE),\"\")","v":""},{"$f":"IF(COUNTBLANK(C1121)=0,VLOOKUP(C1121,Locks!A:E,5,FALSE),\"\")","v":""}]
[null,null,null,{"$f":"IF(COUNTBLANK(C1122)=0,VLOOKUP(C1122,Locks!A:D,4,FALSE),\"\")","v":""},{"$f":"IF(COUNTBLANK(C1122)=0,VLOOKUP(C1122,Locks!A:E,5,FALSE),\"\")","v":""}]
[null,null,null,{"$f":"IF(COUNTBLANK(C1123)=0,VLOOKUP(C1123,Locks!A:D,4,FALSE),\"\")","v":""},{"$f":"IF(COUNTBLANK(C1123)=0,VLOOKUP(C1123,Locks!A:E,5,FALSE),\"\")","v":""}]
[null,null,null,{"$f":"IF(COUNTBLANK(C1124)=0,VLOOKUP(C1124,Locks!A:D,4,FALSE),\"\")","v":""},{"$f":"IF(COUNTBLANK(C1124)=0,VLOOKUP(C1124,Locks!A:E,5,FALSE),\"\")","v":""}]
[null,null,null,{"$f":"IF(COUNTBLANK(C1125)=0,VLOOKUP(C1125,Locks!A:D,4,FALSE),\"\")","v":""},{"$f":"IF(COUNTBLANK(C1125)=0,VLOOKUP(C1125,Locks!A:E,5,FALSE),\"\")","v":""}]
[null,null,null,{"$f":"IF(COUNTBLANK(C1126)=0,VLOOKUP(C1126,Locks!A:D,4,FALSE),\"\")","v":""},{"$f":"IF(COUNTBLANK(C1126)=0,VLOOKUP(C1126,Locks!A:E,5,FALSE),\"\")","v":""}]
[null,null,null,{"$f":"IF(COUNTBLANK(C1127)=0,VLOOKUP(C1127,Locks!A:D,4,FALSE),\"\")","v":""},{"$f":"IF(COUNTBLANK(C1127)=0,VLOOKUP(C1127,Locks!A:E,5,FALSE),\"\")","v":""}]
[null,null,null,{"$f":"IF(COUNTBLANK(C1128)=0,VLOOKUP(C1128,Locks!A:D,4,FALSE),\"\")","v":""},{"$f":"IF(COUNTBLANK(C1128)=0,VLOOKUP(C1128,Locks!A:E,5,FALSE),\"\")","v":""}]
[null,null,null,{"$f":"IF(COUNTBLANK(C1129)=0,VLOOKUP(C1129,Locks!A:D,4,FALSE),\"\")","v":""},{"$f":"IF(COUNTBLANK(C1129)=0,VLOOKUP(C1129,Locks!A:E,5,FALSE),\"\")","v":""}]
[null,null,null,{"$f":"IF(COUNTBLANK(C1130)=0,VLOOKUP(C1130,Locks!A:D,4,FALSE),\"\")","v":""},{"$f":"IF(COUNTBLANK(C1130)=0,VLOOKUP(C1130,Locks!A:E,5,FALSE),\"\")","v":""}]
[null,null,null,{"$f":"IF(COUNTBLANK(C1131)=0,VLOOKUP(C1131,Locks!A:D,4,FALSE),\"\")","v":""},{"$f":"IF(COUNTBLANK(C1131)=0,VLOOKUP(C1131,Locks!A:E,5,FALSE),\"\")","v":""}]
[null,null,null,{"$f":"IF(COUNTBLANK(C1132)=0,VLOOKUP(C1132,Locks!A:D,4,FALSE),\"\")","v":""},{"$f":"IF(COUNTBLANK(C1132)=0,VLOOKUP(C1132,Locks!A:E,5,FALSE),\"\")","v":""}]
[null,null,null,{"$f":"IF(COUNTBLANK(C1133)=0,VLOOKUP(C1133,Locks!A:D,4,FALSE),\"\")","v":""},{"$f":"IF(COUNTBLANK(C1133)=0,VLOOKUP(C1133,Locks!A:E,5,FALSE),\"\")","v":""}]
[null,null,null,{"$f":"IF(COUNTBLANK(C1134)=0,VLOOKUP(C1134,Locks!A:D,4,FALSE),\"\")","v":""},{"$f":"IF(COUNTBLANK(C1134)=0,VLOOKUP(C1134,Locks!A:E,5,FALSE),\"\")","v":""}]
[null,null,null,{"$f":"IF(COUNTBLANK(C1135)=0,VLOOKUP(C1135,Locks!A:D,4,FALSE),\"\")","v":""},{"$f":"IF(COUNTBLANK(C1135)=0,VLOOKUP(C1135,Locks!A:E,5,FALSE),\"\")","v":""}]
[null,null,null,{"$f":"IF(COUNTBLANK(C1136)=0,VLOOKUP(C1136,Locks!A:D,4,FALSE),\"\")","v":""},{"$f":"IF(COUNTBLANK(C1136)=0,VLOOKUP(C1136,Locks!A:E,5,FALSE),\"\")","v":""}]
[null,null,null,{"$f":"IF(COUNTBLANK(C1137)=0,VLOOKUP(C1137,Locks!A:D,4,FALSE),\"\")","v":""},{"$f":"IF(COUNTBLANK(C1137)=0,VLOOKUP(C1137,Locks!A:E,5,FALSE),\"\")","v":""}]
[null,null,null,{"$f":"IF(COUNTBLANK(C1138)=0,VLOOKUP(C1138,Locks!A:D,4,FALSE),\"\")","v":""},{"$f":"IF(COUNTBLANK(C1138)=0,VLOOKUP(C1138,Locks!A:E,5,FALSE),\"\")","v":""}]
[null,null,null,{"$f":"IF(COUNTBLANK(C1139)=0,VLOOKUP(C1139,Locks!A:D,4,FALSE),\"\")","v":""},{"$f":"IF(COUNTBLANK(C1139)=0,VLOOKUP(C1139,Locks!A:E,5,FALSE),\"\")","v":""}]
[null,null,null,{"$f":"IF(COUNTBLANK(C1140)=0,VLOOKUP(C1140,Locks!A:D,4,FALSE),\"\")","v":""},{"$f":"IF(COUNTBLANK(C1140)=0,VLOOKUP(C1140,Locks!A:E,5,FALSE),\"\")","v":""}]
[null,null,null,{"$f":"IF(COUNTBLANK(C1141)=0,VLOOKUP(C1141,Locks!A:D,4,FALSE),\"\")","v":""},{"$f":"IF(COUNTBLANK(C1141)=0,VLOOKUP(C1141,Locks!A:E,5,FALSE),\"\")","v":""}]
[null,null,null,{"$f":"IF(COUNTBLANK(C1142)=0,VLOOKUP(C1142,Locks!A:D,4,FALSE),\"\")","v":""},{"$f":"IF(COUNTBLANK(C1142)=0,VLOOKUP(C1142,Locks!A:E,5,FALSE),\"\")","v":""}]
[null,null,null,{"$f":"IF(COUNTBLANK(C1143)=0,VLOOKUP(C1143,Locks!A:D,4,FALSE),\"\")","v":""},{"$f":"IF(COUNTBLANK(C1143)=0,VLOOKUP(C1143,Locks!A:E,5,FALSE),\"\")","v":""}]
[null,null,null,{"$f":"IF(COUNTBLANK(C1144)=0,VLOOKUP(C1144,Locks!A:D,4,FALSE),\"\")","v":""},{"$f":"IF(COUNTBLANK(C1144)=0,VLOOKUP(C1144,Locks!A:E,5,FALSE),\"\")","v":""}]
[null,null,null,{"$f":"IF(COUNTBLANK(C1145)=0,VLOOKUP(C1145,Locks!A:D,4,FALSE),\"\")","v":""},{"$f":"IF(COUNTBLANK(C1145)=0,VLOOKUP(C1145,Locks!A:E,5,FALSE),\"\")","v":""}]
[null,null,null,{"$f":"IF(COUNTBLANK(C1146)=0,VLOOKUP(C1146,Locks!A:D,4,FALSE),\"\")","v":""},{"$f":"IF(COUNTBLANK(C1146)=0,VLOOKUP(C1146,Locks!A:E,5,FALSE),\"\")","v":""}]
[null,null,null,{"$f":"IF(COUNTBLANK(C1147)=0,VLOOKUP(C1147,Locks!A:D,4,FALSE),\"\")","v":""},{"$f":"IF(COUNTBLANK(C1147)=0,VLOOKUP(C1147,Locks!A:E,5,FALSE),\"\")","v":""}]
[null,null,null,{"$f":"IF(COUNTBLANK(C1148)=0,VLOOKUP(C1148,Locks!A:D,4,FALSE),\"\")","v":""},{"$f":"IF(COUNTBLANK(C1148)=0,VLOOKUP(C1148,Locks!A:E,5,FALSE),\"\")","v":""}]
[null,null,null,{"$f":"IF(COUNTBLANK(C1149)=0,VLOOKUP(C1149,Locks!A:D,4,FALSE),\"\")","v":""},{"$f":"IF(COUNTBLANK(C1149)=0,VLOOKUP(C1149,Locks!A:E,5,FALSE),\"\")","v":""}]
[null,null,null,{"$f":"IF(COUNTBLANK(C1150)=0,VLOOKUP(C1150,Locks!A:D,4,FALSE),\"\")","v":""},{"$f":"IF(COUNTBLANK(C1150)=0,VLOOKUP(C1150,Locks!A:E,5,FALSE),\"\")","v":""}]
[null,null,null,{"$f":"IF(COUNTBLANK(C1151)=0,VLOOKUP(C1151,Locks!A:D,4,FALSE),\"\")","v":""},{"$f":"IF(COUNTBLANK(C1151)=0,VLOOKUP(C1151,Locks!A:E,5,FALSE),\"\")","v":""}]
[null,null,null,{"$f":"IF(COUNTBLANK(C1152)=0,VLOOKUP(C1152,Locks!A:D,4,FALSE),\"\")","v":""},{"$f":"IF(COUNTBLANK(C1152)=0,VLOOKUP(C1152,Locks!A:E,5,FALSE),\"\")","v":""}]
[null,null,null,{"$f":"IF(COUNTBLANK(C1153)=0,VLOOKUP(C1153,Locks!A:D,4,FALSE),\"\")","v":""},{"$f":"IF(COUNTBLANK(C1153)=0,VLOOKUP(C1153,Locks!A:E,5,FALSE),\"\")","v":""}]
[null,null,null,{"$f":"IF(COUNTBLANK(C1154)=0,VLOOKUP(C1154,Locks!A:D,4,FALSE),\"\")","v":""},{"$f":"IF(COUNTBLANK(C1154)=0,VLOOKUP(C1154,Locks!A:E,5,FALSE),\"\")","v":""}]
[null,null,null,{"$f":"IF(COUNTBLANK(C1155)=0,VLOOKUP(C1155,Locks!A:D,4,FALSE),\"\")","v":""},{"$f":"IF(COUNTBLANK(C1155)=0,VLOOKUP(C1155,Locks!A:E,5,FALSE),\"\")","v":""}]
[null,null,null,{"$f":"IF(COUNTBLANK(C1156)=0,VLOOKUP(C1156,Locks!A:D,4,FALSE),\"\")","v":""},{"$f":"IF(COUNTBLANK(C1156)=0,VLOOKUP(C1156,Locks!A:E,5,FALSE),\"\")","v":""}]
[null,null,null,{"$f":"IF(COUNTBLANK(C1157)=0,VLOOKUP(C1157,Locks!A:D,4,FALSE),\"\")","v":""},{"$f":"IF(COUNTBLANK(C1157)=0,VLOOKUP(C1157,Locks!A:E,5,FALSE),\"\")","v":""}]
[null,null,null,{"$f":"IF(COUNTBLANK(C1158)=0,VLOOKUP(C1158,Locks!A:D,4,FALSE),\"\")","v":""},{"$f":"IF(COUNTBLANK(C1158)=0,VLOOKUP(C1158,Locks!A:E,5,FALSE),\"\")","v":""}]
[null,null,null,{"$f":"IF(COUNTBLANK(C1159)=0,VLOOKUP(C1159,Locks!A:D,4,FALSE),\"\")","v":""},{"$f":"IF(COUNTBLANK(C1159)=0,VLOOKUP(C1159,Locks!A:E,5,FALSE),\"\")","v":""}]
[null,null,null,{"$f":"IF(COUNTBLANK(C1160)=0,VLOOKUP(C1160,Locks!A:D,4,FALSE),\"\")","v":""},{"$f":"IF(COUNTBLANK(C1160)=0,VLOOKUP(C1160,Locks!A:E,5,FALSE),\"\")","v":""}]
[null,null,null,{"$f":"IF(COUNTBLANK(C1161)=0,VLOOKUP(C1161,Locks!A:D,4,FALSE),\"\")","v":""},{"$f":"IF(COUNTBLANK(C1161)=0,VLOOKUP(C1161,Locks!A:E,5,FALSE),\"\")","v":""}]
[null,null,null,{"$f":"IF(COUNTBLANK(C1162)=0,VLOOKUP(C1162,Locks!A:D,4,FALSE),\"\")","v":""},{"$f":"IF(COUNTBLANK(C1162)=0,VLOOKUP(C1162,Locks!A:E,5,FALSE),\"\")","v":""}]
[null,null,null,{"$f":"IF(COUNTBLANK(C1163)=0,VLOOKUP(C1163,Locks!A:D,4,FALSE),\"\")","v":""},{"$f":"IF(COUNTBLANK(C1163)=0,VLOOKUP(C1163,Locks!A:E,5,FALSE),\"\")","v":""}]
[null,null,null,{"$f":"IF(COUNTBLANK(C1164)=0,VLOOKUP(C1164,Locks!A:D,4,FALSE),\"\")","v":""},{"$f":"IF(COUNTBLANK(C1164)=0,VLOOKUP(C1164,Locks!A:E,5,FALSE),\"\")","v":""}]
[null,null,null,{"$f":"IF(COUNTBLANK(C1165)=0,VLOOKUP(C1165,Locks!A:D,4,FALSE),\"\")","v":""},{"$f":"IF(COUNTBLANK(C1165)=0,VLOOKUP(C1165,Locks!A:E,5,FALSE),\"\")","v":""}]
[null,null,null,{"$f":"IF(COUNTBLANK(C1166)=0,VLOOKUP(C1166,Locks!A:D,4,FALSE),\"\")","v":""},{"$f":"IF(COUNTBLANK(C1166)=0,VLOOKUP(C1166,Locks!A:E,5,FALSE),\"\")","v":""}]
[null,null,null,{"$f":"IF(COUNTBLANK(C1167)=0,VLOOKUP(C1167,Locks!A:D,4,FALSE),\"\")","v":""},{"$f":"IF(COUNTBLANK(C1167)=0,VLOOKUP(C1167,Locks!A:E,5,FALSE),\"\")","v":""}]
[null,null,null,{"$f":"IF(COUNTBLANK(C1168)=0,VLOOKUP(C1168,Locks!A:D,4,FALSE),\"\")","v":""},{"$f":"IF(COUNTBLANK(C1168)=0,VLOOKUP(C1168,Locks!A:E,5,FALSE),\"\")","v":""}]
[null,null,null,{"$f":"IF(COUNTBLANK(C1169)=0,VLOOKUP(C1169,Locks!A:D,4,FALSE),\"\")","v":""},{"$f":"IF(COUNTBLANK(C1169)=0,VLOOKUP(C1169,Locks!A:E,5,FALSE),\"\")","v":""}]
[null,null,null,{"$f":"IF(COUNTBLANK(C1170)=0,VLOOKUP(C1170,Locks!A:D,4,FALSE),\"\")","v":""},{"$f":"IF(COUNTBLANK(C1170)=0,VLOOKUP(C1170,Locks!A:E,5,FALSE),\"\")","v":""}]
[null,null,null,{"$f":"IF(COUNTBLANK(C1171)=0,VLOOKUP(C1171,Locks!A:D,4,FALSE),\"\")","v":""},{"$f":"IF(COUNTBLANK(C1171)=0,VLOOKUP(C1171,Locks!A:E,5,FALSE),\"\")","v":""}]
[null,null,null,{"$f":"IF(COUNTBLANK(C1172)=0,VLOOKUP(C1172,Locks!A:D,4,FALSE),\"\")","v":""},{"$f":"IF(COUNTBLANK(C1172)=0,VLOOKUP(C1172,Locks!A:E,5,FALSE),\"\")","v":""}]
[null,null,null,{"$f":"IF(COUNTBLANK(C1173)=0,VLOOKUP(C1173,Locks!A:D,4,FALSE),\"\")","v":""},{"$f":"IF(COUNTBLANK(C1173)=0,VLOOKUP(C1173,Locks!A:E,5,FALSE),\"\")","v":""}]
[null,null,null,{"$f":"IF(COUNTBLANK(C1174)=0,VLOOKUP(C1174,Locks!A:D,4,FALSE),\"\")","v":""},{"$f":"IF(COUNTBLANK(C1174)=0,VLOOKUP(C1174,Locks!A:E,5,FALSE),\"\")","v":""}]
[null,null,null,{"$f":"IF(COUNTBLANK(C1175)=0,VLOOKUP(C1175,Locks!A:D,4,FALSE),\"\")","v":""},{"$f":"IF(COUNTBLANK(C1175)=0,VLOOKUP(C1175,Locks!A:E,5,FALSE),\"\")","v":""}]
[null,null,null,{"$f":"IF(COUNTBLANK(C1176)=0,VLOOKUP(C1176,Locks!A:D,4,FALSE),\"\")","v":""},{"$f":"IF(COUNTBLANK(C1176)=0,VLOOKUP(C1176,Locks!A:E,5,FALSE),\"\")","v":""}]
[null,null,null,{"$f":"IF(COUNTBLANK(C1177)=0,VLOOKUP(C1177,Locks!A:D,4,FALSE),\"\")","v":""},{"$f":"IF(COUNTBLANK(C1177)=0,VLOOKUP(C1177,Locks!A:E,5,FALSE),\"\")","v":""}]
[null,null,null,{"$f":"IF(COUNTBLANK(C1178)=0,VLOOKUP(C1178,Locks!A:D,4,FALSE),\"\")","v":""},{"$f":"IF(COUNTBLANK(C1178)=0,VLOOKUP(C1178,Locks!A:E,5,FALSE),\"\")","v":""}]
[null,null,null,{"$f":"IF(COUNTBLANK(C1179)=0,VLOOKUP(C1179,Locks!A:D,4,FALSE),\"\")","v":""},{"$f":"IF(COUNTBLANK(C1179)=0,VLOOKUP(C1179,Locks!A:E,5,FALSE),\"\")","v":""}]
[null,null,null,{"$f":"IF(COUNTBLANK(C1180)=0,VLOOKUP(C1180,Locks!A:D,4,FALSE),\"\")","v":""},{"$f":"IF(COUNTBLANK(C1180)=0,VLOOKUP(C1180,Locks!A:E,5,FALSE),\"\")","v":""}]
[null,null,null,{"$f":"IF(COUNTBLANK(C1181)=0,VLOOKUP(C1181,Locks!A:D,4,FALSE),\"\")","v":""},{"$f":"IF(COUNTBLANK(C1181)=0,VLOOKUP(C1181,Locks!A:E,5,FALSE),\"\")","v":""}]
[null,null,null,{"$f":"IF(COUNTBLANK(C1182)=0,VLOOKUP(C1182,Locks!A:D,4,FALSE),\"\")","v":""},{"$f":"IF(COUNTBLANK(C1182)=0,VLOOKUP(C1182,Locks!A:E,5,FALSE),\"\")","v":""}]
[null,null,null,{"$f":"IF(COUNTBLANK(C1183)=0,VLOOKUP(C1183,Locks!A:D,4,FALSE),\"\")","v":""},{"$f":"IF(COUNTBLANK(C1183)=0,VLOOKUP(C1183,Locks!A:E,5,FALSE),\"\")","v":""}]
[null,null,null,{"$f":"IF(COUNTBLANK(C1184)=0,VLOOKUP(C1184,Locks!A:D,4,FALSE),\"\")","v":""},{"$f":"IF(COUNTBLANK(C1184)=0,VLOOKUP(C1184,Locks!A:E,5,FALSE),\"\")","v":""}]
[null,null,null,{"$f":"IF(COUNTBLANK(C1185)=0,VLOOKUP(C1185,Locks!A:D,4,FALSE),\"\")","v":""},{"$f":"IF(COUNTBLANK(C1185)=0,VLOOKUP(C1185,Locks!A:E,5,FALSE),\"\")","v":""}]
[null,null,null,{"$f":"IF(COUNTBLANK(C1186)=0,VLOOKUP(C1186,Locks!A:D,4,FALSE),\"\")","v":""},{"$f":"IF(COUNTBLANK(C1186)=0,VLOOKUP(C1186,Locks!A:E,5,FALSE),\"\")","v":""}]
[null,null,null,{"$f":"IF(COUNTBLANK(C1187)=0,VLOOKUP(C1187,Locks!A:D,4,FALSE),\"\")","v":""},{"$f":"IF(COUNTBLANK(C1187)=0,VLOOKUP(C1187,Locks!A:E,5,FALSE),\"\")","v":""}]
[null,null,null,{"$f":"IF(COUNTBLANK(C1188)=0,VLOOKUP(C1188,Locks!A:D,4,FALSE),\"\")","v":""},{"$f":"IF(COUNTBLANK(C1188)=0,VLOOKUP(C1188,Locks!A:E,5,FALSE),\"\")","v":""}]
[null,null,null,{"$f":"IF(COUNTBLANK(C1189)=0,VLOOKUP(C1189,Locks!A:D,4,FALSE),\"\")","v":""},{"$f":"IF(COUNTBLANK(C1189)=0,VLOOKUP(C1189,Locks!A:E,5,FALSE),\"\")","v":""}]
[null,null,null,{"$f":"IF(COUNTBLANK(C1190)=0,VLOOKUP(C1190,Locks!A:D,4,FALSE),\"\")","v":""},{"$f":"IF(COUNTBLANK(C1190)=0,VLOOKUP(C1190,Locks!A:E,5,FALSE),\"\")","v":""}]
[null,null,null,{"$f":"IF(COUNTBLANK(C1191)=0,VLOOKUP(C1191,Locks!A:D,4,FALSE),\"\")","v":""},{"$f":"IF(COUNTBLANK(C1191)=0,VLOOKUP(C1191,Locks!A:E,5,FALSE),\"\")","v":""}]
[null,null,null,{"$f":"IF(COUNTBLANK(C1192)=0,VLOOKUP(C1192,Locks!A:D,4,FALSE),\"\")","v":""},{"$f":"IF(COUNTBLANK(C1192)=0,VLOOKUP(C1192,Locks!A:E,5,FALSE),\"\")","v":""}]
[null,null,null,{"$f":"IF(COUNTBLANK(C1193)=0,VLOOKUP(C1193,Locks!A:D,4,FALSE),\"\")","v":""},{"$f":"IF(COUNTBLANK(C1193)=0,VLOOKUP(C1193,Locks!A:E,5,FALSE),\"\")","v":""}]
[null,null,null,{"$f":"IF(COUNTBLANK(C1194)=0,VLOOKUP(C1194,Locks!A:D,4,FALSE),\"\")","v":""},{"$f":"IF(COUNTBLANK(C1194)=0,VLOOKUP(C1194,Locks!A:E,5,FALSE),\"\")","v":""}]
[null,null,null,{"$f":"IF(COUNTBLANK(C1195)=0,VLOOKUP(C1195,Locks!A:D,4,FALSE),\"\")","v":""},{"$f":"IF(COUNTBLANK(C1195)=0,VLOOKUP(C1195,Locks!A:E,5,FALSE),\"\")","v":""}]
[null,null,null,{"$f":"IF(COUNTBLANK(C1196)=0,VLOOKUP(C1196,Locks!A:D,4,FALSE),\"\")","v":""},{"$f":"IF(COUNTBLANK(C1196)=0,VLOOKUP(C1196,Locks!A:E,5,FALSE),\"\")","v":""}]
[null,null,null,{"$f":"IF(COUNTBLANK(C1197)=0,VLOOKUP(C1197,Locks!A:D,4,FALSE),\"\")","v":""},{"$f":"IF(COUNTBLANK(C1197)=0,VLOOKUP(C1197,Locks!A:E,5,FALSE),\"\")","v":""}]
[null,null,null,{"$f":"IF(COUNTBLANK(C1198)=0,VLOOKUP(C1198,Locks!A:D,4,FALSE),\"\")","v":""},{"$f":"IF(COUNTBLANK(C1198)=0,VLOOKUP(C1198,Locks!A:E,5,FALSE),\"\")","v":""}]
[null,null,null,{"$f":"IF(COUNTBLANK(C1199)=0,VLOOKUP(C1199,Locks!A:D,4,FALSE),\"\")","v":""},{"$f":"IF(COUNTBLANK(C1199)=0,VLOOKUP(C1199,Locks!A:E,5,FALSE),\"\")","v":""}]
[null,null,null,{"$f":"IF(COUNTBLANK(C1200)=0,VLOOKUP(C1200,Locks!A:D,4,FALSE),\"\")","v":""},{"$f":"IF(COUNTBLANK(C1200)=0,VLOOKUP(C1200,Locks!A:E,5,FALSE),\"\")","v":""}]
[null,null,null,{"$f":"IF(COUNTBLANK(C1201)=0,VLOOKUP(C1201,Locks!A:D,4,FALSE),\"\")","v":""},{"$f":"IF(COUNTBLANK(C1201)=0,VLOOKUP(C1201,Locks!A:E,5,FALSE),\"\")","v":""}]
[null,null,null,{"$f":"IF(COUNTBLANK(C1202)=0,VLOOKUP(C1202,Locks!A:D,4,FALSE),\"\")","v":""},{"$f":"IF(COUNTBLANK(C1202)=0,VLOOKUP(C1202,Locks!A:E,5,FALSE),\"\")","v":""}]
[null,null,null,{"$f":"IF(COUNTBLANK(C1203)=0,VLOOKUP(C1203,Locks!A:D,4,FALSE),\"\")","v":""},{"$f":"IF(COUNTBLANK(C1203)=0,VLOOKUP(C1203,Locks!A:E,5,FALSE),\"\")","v":""}]
[null,null,null,{"$f":"IF(COUNTBLANK(C1204)=0,VLOOKUP(C1204,Locks!A:D,4,FALSE),\"\")","v":""},{"$f":"IF(COUNTBLANK(C1204)=0,VLOOKUP(C1204,Locks!A:E,5,FALSE),\"\")","v":""}]
[null,null,null,{"$f":"IF(COUNTBLANK(C1205)=0,VLOOKUP(C1205,Locks!A:D,4,FALSE),\"\")","v":""},{"$f":"IF(COUNTBLANK(C1205)=0,VLOOKUP(C1205,Locks!A:E,5,FALSE),\"\")","v":""}]
[null,null,null,{"$f":"IF(COUNTBLANK(C1206)=0,VLOOKUP(C1206,Locks!A:D,4,FALSE),\"\")","v":""},{"$f":"IF(COUNTBLANK(C1206)=0,VLOOKUP(C1206,Locks!A:E,5,FALSE),\"\")","v":""}]
[null,null,null,{"$f":"IF(COUNTBLANK(C1207)=0,VLOOKUP(C1207,Locks!A:D,4,FALSE),\"\")","v":""},{"$f":"IF(COUNTBLANK(C1207)=0,VLOOKUP(C1207,Locks!A:E,5,FALSE),\"\")","v":""}]
[null,null,null,{"$f":"IF(COUNTBLANK(C1208)=0,VLOOKUP(C1208,Locks!A:D,4,FALSE),\"\")","v":""},{"$f":"IF(COUNTBLANK(C1208)=0,VLOOKUP(C1208,Locks!A:E,5,FALSE),\"\")","v":""}]
[null,null,null,{"$f":"IF(COUNTBLANK(C1209)=0,VLOOKUP(C1209,Locks!A:D,4,FALSE),\"\")","v":""},{"$f":"IF(COUNTBLANK(C1209)=0,VLOOKUP(C1209,Locks!A:E,5,FALSE),\"\")","v":""}]
[null,null,null,{"$f":"IF(COUNTBLANK(C1210)=0,VLOOKUP(C1210,Locks!A:D,4,FALSE),\"\")","v":""},{"$f":"IF(COUNTBLANK(C1210)=0,VLOOKUP(C1210,Locks!A:E,5,FALSE),\"\")","v":""}]
[null,null,null,{"$f":"IF(COUNTBLANK(C1211)=0,VLOOKUP(C1211,Locks!A:D,4,FALSE),\"\")","v":""},{"$f":"IF(COUNTBLANK(C1211)=0,VLOOKUP(C1211,Locks!A:E,5,FALSE),\"\")","v":""}]
[null,null,null,{"$f":"IF(COUNTBLANK(C1212)=0,VLOOKUP(C1212,Locks!A:D,4,FALSE),\"\")","v":""},{"$f":"IF(COUNTBLANK(C1212)=0,VLOOKUP(C1212,Locks!A:E,5,FALSE),\"\")","v":""}]
[null,null,null,{"$f":"IF(COUNTBLANK(C1213)=0,VLOOKUP(C1213,Locks!A:D,4,FALSE),\"\")","v":""},{"$f":"IF(COUNTBLANK(C1213)=0,VLOOKUP(C1213,Locks!A:E,5,FALSE),\"\")","v":""}]
[null,null,null,{"$f":"IF(COUNTBLANK(C1214)=0,VLOOKUP(C1214,Locks!A:D,4,FALSE),\"\")","v":""},{"$f":"IF(COUNTBLANK(C1214)=0,VLOOKUP(C1214,Locks!A:E,5,FALSE),\"\")","v":""}]
[null,null,null,{"$f":"IF(COUNTBLANK(C1215)=0,VLOOKUP(C1215,Locks!A:D,4,FALSE),\"\")","v":""},{"$f":"IF(COUNTBLANK(C1215)=0,VLOOKUP(C1215,Locks!A:E,5,FALSE),\"\")","v":""}]
[null,null,null,{"$f":"IF(COUNTBLANK(C1216)=0,VLOOKUP(C1216,Locks!A:D,4,FALSE),\"\")","v":""},{"$f":"IF(COUNTBLANK(C1216)=0,VLOOKUP(C1216,Locks!A:E,5,FALSE),\"\")","v":""}]
[null,null,null,{"$f":"IF(COUNTBLANK(C1217)=0,VLOOKUP(C1217,Locks!A:D,4,FALSE),\"\")","v":""},{"$f":"IF(COUNTBLANK(C1217)=0,VLOOKUP(C1217,Locks!A:E,5,FALSE),\"\")","v":""}]
[null,null,null,{"$f":"IF(COUNTBLANK(C1218)=0,VLOOKUP(C1218,Locks!A:D,4,FALSE),\"\")","v":""},{"$f":"IF(COUNTBLANK(C1218)=0,VLOOKUP(C1218,Locks!A:E,5,FALSE),\"\")","v":""}]
[null,null,null,{"$f":"IF(COUNTBLANK(C1219)=0,VLOOKUP(C1219,Locks!A:D,4,FALSE),\"\")","v":""},{"$f":"IF(COUNTBLANK(C1219)=0,VLOOKUP(C1219,Locks!A:E,5,FALSE),\"\")","v":""}]
[null,null,null,{"$f":"IF(COUNTBLANK(C1220)=0,VLOOKUP(C1220,Locks!A:D,4,FALSE),\"\")","v":""},{"$f":"IF(COUNTBLANK(C1220)=0,VLOOKUP(C1220,Locks!A:E,5,FALSE),\"\")","v":""}]
[null,null,null,{"$f":"IF(COUNTBLANK(C1221)=0,VLOOKUP(C1221,Locks!A:D,4,FALSE),\"\")","v":""},{"$f":"IF(COUNTBLANK(C1221)=0,VLOOKUP(C1221,Locks!A:E,5,FALSE),\"\")","v":""}]
[null,null,null,{"$f":"IF(COUNTBLANK(C1222)=0,VLOOKUP(C1222,Locks!A:D,4,FALSE),\"\")","v":""},{"$f":"IF(COUNTBLANK(C1222)=0,VLOOKUP(C1222,Locks!A:E,5,FALSE),\"\")","v":""}]
[null,null,null,{"$f":"IF(COUNTBLANK(C1223)=0,VLOOKUP(C1223,Locks!A:D,4,FALSE),\"\")","v":""},{"$f":"IF(COUNTBLANK(C1223)=0,VLOOKUP(C1223,Locks!A:E,5,FALSE),\"\")","v":""}]
[null,null,null,{"$f":"IF(COUNTBLANK(C1224)=0,VLOOKUP(C1224,Locks!A:D,4,FALSE),\"\")","v":""},{"$f":"IF(COUNTBLANK(C1224)=0,VLOOKUP(C1224,Locks!A:E,5,FALSE),\"\")","v":""}]
[null,null,null,{"$f":"IF(COUNTBLANK(C1225)=0,VLOOKUP(C1225,Locks!A:D,4,FALSE),\"\")","v":""},{"$f":"IF(COUNTBLANK(C1225)=0,VLOOKUP(C1225,Locks!A:E,5,FALSE),\"\")","v":""}]
[null,null,null,{"$f":"IF(COUNTBLANK(C1226)=0,VLOOKUP(C1226,Locks!A:D,4,FALSE),\"\")","v":""},{"$f":"IF(COUNTBLANK(C1226)=0,VLOOKUP(C1226,Locks!A:E,5,FALSE),\"\")","v":""}]
[null,null,null,{"$f":"IF(COUNTBLANK(C1227)=0,VLOOKUP(C1227,Locks!A:D,4,FALSE),\"\")","v":""},{"$f":"IF(COUNTBLANK(C1227)=0,VLOOKUP(C1227,Locks!A:E,5,FALSE),\"\")","v":""}]
[null,null,null,{"$f":"IF(COUNTBLANK(C1228)=0,VLOOKUP(C1228,Locks!A:D,4,FALSE),\"\")","v":""},{"$f":"IF(COUNTBLANK(C1228)=0,VLOOKUP(C1228,Locks!A:E,5,FALSE),\"\")","v":""}]
[null,null,null,{"$f":"IF(COUNTBLANK(C1229)=0,VLOOKUP(C1229,Locks!A:D,4,FALSE),\"\")","v":""},{"$f":"IF(COUNTBLANK(C1229)=0,VLOOKUP(C1229,Locks!A:E,5,FALSE),\"\")","v":""}]
[null,null,null,{"$f":"IF(COUNTBLANK(C1230)=0,VLOOKUP(C1230,Locks!A:D,4,FALSE),\"\")","v":""},{"$f":"IF(COUNTBLANK(C1230)=0,VLOOKUP(C1230,Locks!A:E,5,FALSE),\"\")","v":""}]
[null,null,null,{"$f":"IF(COUNTBLANK(C1231)=0,VLOOKUP(C1231,Locks!A:D,4,FALSE),\"\")","v":""},{"$f":"IF(COUNTBLANK(C1231)=0,VLOOKUP(C1231,Locks!A:E,5,FALSE),\"\")","v":""}]
[null,null,null,{"$f":"IF(COUNTBLANK(C1232)=0,VLOOKUP(C1232,Locks!A:D,4,FALSE),\"\")","v":""},{"$f":"IF(COUNTBLANK(C1232)=0,VLOOKUP(C1232,Locks!A:E,5,FALSE),\"\")","v":""}]
[null,null,null,{"$f":"IF(COUNTBLANK(C1233)=0,VLOOKUP(C1233,Locks!A:D,4,FALSE),\"\")","v":""},{"$f":"IF(COUNTBLANK(C1233)=0,VLOOKUP(C1233,Locks!A:E,5,FALSE),\"\")","v":""}]
[null,null,null,{"$f":"IF(COUNTBLANK(C1234)=0,VLOOKUP(C1234,Locks!A:D,4,FALSE),\"\")","v":""},{"$f":"IF(COUNTBLANK(C1234)=0,VLOOKUP(C1234,Locks!A:E,5,FALSE),\"\")","v":""}]
[null,null,null,{"$f":"IF(COUNTBLANK(C1235)=0,VLOOKUP(C1235,Locks!A:D,4,FALSE),\"\")","v":""},{"$f":"IF(COUNTBLANK(C1235)=0,VLOOKUP(C1235,Locks!A:E,5,FALSE),\"\")","v":""}]
[null,null,null,{"$f":"IF(COUNTBLANK(C1236)=0,VLOOKUP(C1236,Locks!A:D,4,FALSE),\"\")","v":""},{"$f":"IF(COUNTBLANK(C1236)=0,VLOOKUP(C1236,Locks!A:E,5,FALSE),\"\")","v":""}]
[null,null,null,{"$f":"IF(COUNTBLANK(C1237)=0,VLOOKUP(C1237,Locks!A:D,4,FALSE),\"\")","v":""},{"$f":"IF(COUNTBLANK(C1237)=0,VLOOKUP(C1237,Locks!A:E,5,FALSE),\"\")","v":""}]
[null,null,null,{"$f":"IF(COUNTBLANK(C1238)=0,VLOOKUP(C1238,Locks!A:D,4,FALSE),\"\")","v":""},{"$f":"IF(COUNTBLANK(C1238)=0,VLOOKUP(C1238,Locks!A:E,5,FALSE),\"\")","v":""}]
[null,null,null,{"$f":"IF(COUNTBLANK(C1239)=0,VLOOKUP(C1239,Locks!A:D,4,FALSE),\"\")","v":""},{"$f":"IF(COUNTBLANK(C1239)=0,VLOOKUP(C1239,Locks!A:E,5,FALSE),\"\")","v":""}]
[null,null,null,{"$f":"IF(COUNTBLANK(C1240)=0,VLOOKUP(C1240,Locks!A:D,4,FALSE),\"\")","v":""},{"$f":"IF(COUNTBLANK(C1240)=0,VLOOKUP(C1240,Locks!A:E,5,FALSE),\"\")","v":""}]
[null,null,null,{"$f":"IF(COUNTBLANK(C1241)=0,VLOOKUP(C1241,Locks!A:D,4,FALSE),\"\")","v":""},{"$f":"IF(COUNTBLANK(C1241)=0,VLOOKUP(C1241,Locks!A:E,5,FALSE),\"\")","v":""}]
[null,null,null,{"$f":"IF(COUNTBLANK(C1242)=0,VLOOKUP(C1242,Locks!A:D,4,FALSE),\"\")","v":""},{"$f":"IF(COUNTBLANK(C1242)=0,VLOOKUP(C1242,Locks!A:E,5,FALSE),\"\")","v":""}]
[null,null,null,{"$f":"IF(COUNTBLANK(C1243)=0,VLOOKUP(C1243,Locks!A:D,4,FALSE),\"\")","v":""},{"$f":"IF(COUNTBLANK(C1243)=0,VLOOKUP(C1243,Locks!A:E,5,FALSE),\"\")","v":""}]
[null,null,null,{"$f":"IF(COUNTBLANK(C1244)=0,VLOOKUP(C1244,Locks!A:D,4,FALSE),\"\")","v":""},{"$f":"IF(COUNTBLANK(C1244)=0,VLOOKUP(C1244,Locks!A:E,5,FALSE),\"\")","v":""}]
[null,null,null,{"$f":"IF(COUNTBLANK(C1245)=0,VLOOKUP(C1245,Locks!A:D,4,FALSE),\"\")","v":""},{"$f":"IF(COUNTBLANK(C1245)=0,VLOOKUP(C1245,Locks!A:E,5,FALSE),\"\")","v":""}]
[null,null,null,{"$f":"IF(COUNTBLANK(C1246)=0,VLOOKUP(C1246,Locks!A:D,4,FALSE),\"\")","v":""},{"$f":"IF(COUNTBLANK(C1246)=0,VLOOKUP(C1246,Locks!A:E,5,FALSE),\"\")","v":""}]
[null,null,null,{"$f":"IF(COUNTBLANK(C1247)=0,VLOOKUP(C1247,Locks!A:D,4,FALSE),\"\")","v":""},{"$f":"IF(COUNTBLANK(C1247)=0,VLOOKUP(C1247,Locks!A:E,5,FALSE),\"\")","v":""}]
[null,null,null,{"$f":"IF(COUNTBLANK(C1248)=0,VLOOKUP(C1248,Locks!A:D,4,FALSE),\"\")","v":""},{"$f":"IF(COUNTBLANK(C1248)=0,VLOOKUP(C1248,Locks!A:E,5,FALSE),\"\")","v":""}]
[null,null,null,{"$f":"IF(COUNTBLANK(C1249)=0,VLOOKUP(C1249,Locks!A:D,4,FALSE),\"\")","v":""},{"$f":"IF(COUNTBLANK(C1249)=0,VLOOKUP(C1249,Locks!A:E,5,FALSE),\"\")","v":""}]
[null,null,null,{"$f":"IF(COUNTBLANK(C1250)=0,VLOOKUP(C1250,Locks!A:D,4,FALSE),\"\")","v":""},{"$f":"IF(COUNTBLANK(C1250)=0,VLOOKUP(C1250,Locks!A:E,5,FALSE),\"\")","v":""}]
[null,null,null,{"$f":"IF(COUNTBLANK(C1251)=0,VLOOKUP(C1251,Locks!A:D,4,FALSE),\"\")","v":""},{"$f":"IF(COUNTBLANK(C1251)=0,VLOOKUP(C1251,Locks!A:E,5,FALSE),\"\")","v":""}]
[null,null,null,{"$f":"IF(COUNTBLANK(C1252)=0,VLOOKUP(C1252,Locks!A:D,4,FALSE),\"\")","v":""},{"$f":"IF(COUNTBLANK(C1252)=0,VLOOKUP(C1252,Locks!A:E,5,FALSE),\"\")","v":""}]
[null,null,null,{"$f":"IF(COUNTBLANK(C1253)=0,VLOOKUP(C1253,Locks!A:D,4,FALSE),\"\")","v":""},{"$f":"IF(COUNTBLANK(C1253)=0,VLOOKUP(C1253,Locks!A:E,5,FALSE),\"\")","v":""}]
[null,null,null,{"$f":"IF(COUNTBLANK(C1254)=0,VLOOKUP(C1254,Locks!A:D,4,FALSE),\"\")","v":""},{"$f":"IF(COUNTBLANK(C1254)=0,VLOOKUP(C1254,Locks!A:E,5,FALSE),\"\")","v":""}]
[null,null,null,{"$f":"IF(COUNTBLANK(C1255)=0,VLOOKUP(C1255,Locks!A:D,4,FALSE),\"\")","v":""},{"$f":"IF(COUNTBLANK(C1255)=0,VLOOKUP(C1255,Locks!A:E,5,FALSE),\"\")","v":""}]
[null,null,null,{"$f":"IF(COUNTBLANK(C1256)=0,VLOOKUP(C1256,Locks!A:D,4,FALSE),\"\")","v":""},{"$f":"IF(COUNTBLANK(C1256)=0,VLOOKUP(C1256,Locks!A:E,5,FALSE),\"\")","v":""}]
[null,null,null,{"$f":"IF(COUNTBLANK(C1257)=0,VLOOKUP(C1257,Locks!A:D,4,FALSE),\"\")","v":""},{"$f":"IF(COUNTBLANK(C1257)=0,VLOOKUP(C1257,Locks!A:E,5,FALSE),\"\")","v":""}]
[null,null,null,{"$f":"IF(COUNTBLANK(C1258)=0,VLOOKUP(C1258,Locks!A:D,4,FALSE),\"\")","v":""},{"$f":"IF(COUNTBLANK(C1258)=0,VLOOKUP(C1258,Locks!A:E,5,FALSE),\"\")","v":""}]
[null,null,null,{"$f":"IF(COUNTBLANK(C1259)=0,VLOOKUP(C1259,Locks!A:D,4,FALSE),\"\")","v":""},{"$f":"IF(COUNTBLANK(C1259)=0,VLOOKUP(C1259,Locks!A:E,5,FALSE),\"\")","v":""}]
[null,null,null,{"$f":"IF(COUNTBLANK(C1260)=0,VLOOKUP(C1260,Locks!A:D,4,FALSE),\"\")","v":""},{"$f":"IF(COUNTBLANK(C1260)=0,VLOOKUP(C1260,Locks!A:E,5,FALSE),\"\")","v":""}]
[null,null,null,{"$f":"IF(COUNTBLANK(C1261)=0,VLOOKUP(C1261,Locks!A:D,4,FALSE),\"\")","v":""},{"$f":"IF(COUNTBLANK(C1261)=0,VLOOKUP(C1261,Locks!A:E,5,FALSE),\"\")","v":""}]
[null,null,null,{"$f":"IF(COUNTBLANK(C1262)=0,VLOOKUP(C1262,Locks!A:D,4,FALSE),\"\")","v":""},{"$f":"IF(COUNTBLANK(C1262)=0,VLOOKUP(C1262,Locks!A:E,5,FALSE),\"\")","v":""}]
[null,null,null,{"$f":"IF(COUNTBLANK(C1263)=0,VLOOKUP(C1263,Locks!A:D,4,FALSE),\"\")","v":""},{"$f":"IF(COUNTBLANK(C1263)=0,VLOOKUP(C1263,Locks!A:E,5,FALSE),\"\")","v":""}]
[null,null,null,{"$f":"IF(COUNTBLANK(C1264)=0,VLOOKUP(C1264,Locks!A:D,4,FALSE),\"\")","v":""},{"$f":"IF(COUNTBLANK(C1264)=0,VLOOKUP(C1264,Locks!A:E,5,FALSE),\"\")","v":""}]
[null,null,null,{"$f":"IF(COUNTBLANK(C1265)=0,VLOOKUP(C1265,Locks!A:D,4,FALSE),\"\")","v":""},{"$f":"IF(COUNTBLANK(C1265)=0,VLOOKUP(C1265,Locks!A:E,5,FALSE),\"\")","v":""}]
[null,null,null,{"$f":"IF(COUNTBLANK(C1266)=0,VLOOKUP(C1266,Locks!A:D,4,FALSE),\"\")","v":""},{"$f":"IF(COUNTBLANK(C1266)=0,VLOOKUP(C1266,Locks!A:E,5,FALSE),\"\")","v":""}]
[null,null,null,{"$f":"IF(COUNTBLANK(C1267)=0,VLOOKUP(C1267,Locks!A:D,4,FALSE),\"\")","v":""},{"$f":"IF(COUNTBLANK(C1267)=0,VLOOKUP(C1267,Locks!A:E,5,FALSE),\"\")","v":""}]
[null,null,null,{"$f":"IF(COUNTBLANK(C1268)=0,VLOOKUP(C1268,Locks!A:D,4,FALSE),\"\")","v":""},{"$f":"IF(COUNTBLANK(C1268)=0,VLOOKUP(C1268,Locks!A:E,5,FALSE),\"\")","v":""}]
[null,null,null,{"$f":"IF(COUNTBLANK(C1269)=0,VLOOKUP(C1269,Locks!A:D,4,FALSE),\"\")","v":""},{"$f":"IF(COUNTBLANK(C1269)=0,VLOOKUP(C1269,Locks!A:E,5,FALSE),\"\")","v":""}]
[null,null,null,{"$f":"IF(COUNTBLANK(C1270)=0,VLOOKUP(C1270,Locks!A:D,4,FALSE),\"\")","v":""},{"$f":"IF(COUNTBLANK(C1270)=0,VLOOKUP(C1270,Locks!A:E,5,FALSE),\"\")","v":""}]
[null,null,null,{"$f":"IF(COUNTBLANK(C1271)=0,VLOOKUP(C1271,Locks!A:D,4,FALSE),\"\")","v":""},{"$f":"IF(COUNTBLANK(C1271)=0,VLOOKUP(C1271,Locks!A:E,5,FALSE),\"\")","v":""}]
[null,null,null,{"$f":"IF(COUNTBLANK(C1272)=0,VLOOKUP(C1272,Locks!A:D,4,FALSE),\"\")","v":""},{"$f":"IF(COUNTBLANK(C1272)=0,VLOOKUP(C1272,Locks!A:E,5,FALSE),\"\")","v":""}]
[null,null,null,{"$f":"IF(COUNTBLANK(C1273)=0,VLOOKUP(C1273,Locks!A:D,4,FALSE),\"\")","v":""},{"$f":"IF(COUNTBLANK(C1273)=0,VLOOKUP(C1273,Locks!A:E,5,FALSE),\"\")","v":""}]
[null,null,null,{"$f":"IF(COUNTBLANK(C1274)=0,VLOOKUP(C1274,Locks!A:D,4,FALSE),\"\")","v":""},{"$f":"IF(COUNTBLANK(C1274)=0,VLOOKUP(C1274,Locks!A:E,5,FALSE),\"\")","v":""}]
[null,null,null,{"$f":"IF(COUNTBLANK(C1275)=0,VLOOKUP(C1275,Locks!A:D,4,FALSE),\"\")","v":""},{"$f":"IF(COUNTBLANK(C1275)=0,VLOOKUP(C1275,Locks!A:E,5,FALSE),\"\")","v":""}]
[null,null,null,{"$f":"IF(COUNTBLANK(C1276)=0,VLOOKUP(C1276,Locks!A:D,4,FALSE),\"\")","v":""},{"$f":"IF(COUNTBLANK(C1276)=0,VLOOKUP(C1276,Locks!A:E,5,FALSE),\"\")","v":""}]
[null,null,null,{"$f":"IF(COUNTBLANK(C1277)=0,VLOOKUP(C1277,Locks!A:D,4,FALSE),\"\")","v":""},{"$f":"IF(COUNTBLANK(C1277)=0,VLOOKUP(C1277,Locks!A:E,5,FALSE),\"\")","v":""}]
[null,null,null,{"$f":"IF(COUNTBLANK(C1278)=0,VLOOKUP(C1278,Locks!A:D,4,FALSE),\"\")","v":""},{"$f":"IF(COUNTBLANK(C1278)=0,VLOOKUP(C1278,Locks!A:E,5,FALSE),\"\")","v":""}]
[null,null,null,{"$f":"IF(COUNTBLANK(C1279)=0,VLOOKUP(C1279,Locks!A:D,4,FALSE),\"\")","v":""},{"$f":"IF(COUNTBLANK(C1279)=0,VLOOKUP(C1279,Locks!A:E,5,FALSE),\"\")","v":""}]
[null,null,null,{"$f":"IF(COUNTBLANK(C1280)=0,VLOOKUP(C1280,Locks!A:D,4,FALSE),\"\")","v":""},{"$f":"IF(COUNTBLANK(C1280)=0,VLOOKUP(C1280,Locks!A:E,5,FALSE),\"\")","v":""}]
[null,null,null,{"$f":"IF(COUNTBLANK(C1281)=0,VLOOKUP(C1281,Locks!A:D,4,FALSE),\"\")","v":""},{"$f":"IF(COUNTBLANK(C1281)=0,VLOOKUP(C1281,Locks!A:E,5,FALSE),\"\")","v":""}]
[null,null,null,{"$f":"IF(COUNTBLANK(C1282)=0,VLOOKUP(C1282,Locks!A:D,4,FALSE),\"\")","v":""},{"$f":"IF(COUNTBLANK(C1282)=0,VLOOKUP(C1282,Locks!A:E,5,FALSE),\"\")","v":""}]
[null,null,null,{"$f":"IF(COUNTBLANK(C1283)=0,VLOOKUP(C1283,Locks!A:D,4,FALSE),\"\")","v":""},{"$f":"IF(COUNTBLANK(C1283)=0,VLOOKUP(C1283,Locks!A:E,5,FALSE),\"\")","v":""}]
[null,null,null,{"$f":"IF(COUNTBLANK(C1284)=0,VLOOKUP(C1284,Locks!A:D,4,FALSE),\"\")","v":""},{"$f":"IF(COUNTBLANK(C1284)=0,VLOOKUP(C1284,Locks!A:E,5,FALSE),\"\")","v":""}]
[null,null,null,{"$f":"IF(COUNTBLANK(C1285)=0,VLOOKUP(C1285,Locks!A:D,4,FALSE),\"\")","v":""},{"$f":"IF(COUNTBLANK(C1285)=0,VLOOKUP(C1285,Locks!A:E,5,FALSE),\"\")","v":""}]
[null,null,null,{"$f":"IF(COUNTBLANK(C1286)=0,VLOOKUP(C1286,Locks!A:D,4,FALSE),\"\")","v":""},{"$f":"IF(COUNTBLANK(C1286)=0,VLOOKUP(C1286,Locks!A:E,5,FALSE),\"\")","v":""}]
[null,null,null,{"$f":"IF(COUNTBLANK(C1287)=0,VLOOKUP(C1287,Locks!A:D,4,FALSE),\"\")","v":""},{"$f":"IF(COUNTBLANK(C1287)=0,VLOOKUP(C1287,Locks!A:E,5,FALSE),\"\")","v":""}]
[null,null,null,{"$f":"IF(COUNTBLANK(C1288)=0,VLOOKUP(C1288,Locks!A:D,4,FALSE),\"\")","v":""},{"$f":"IF(COUNTBLANK(C1288)=0,VLOOKUP(C1288,Locks!A:E,5,FALSE),\"\")","v":""}]
[null,null,null,{"$f":"IF(COUNTBLANK(C1289)=0,VLOOKUP(C1289,Locks!A:D,4,FALSE),\"\")","v":""},{"$f":"IF(COUNTBLANK(C1289)=0,VLOOKUP(C1289,Locks!A:E,5,FALSE),\"\")","v":""}]
[null,null,null,{"$f":"IF(COUNTBLANK(C1290)=0,VLOOKUP(C1290,Locks!A:D,4,FALSE),\"\")","v":""},{"$f":"IF(COUNTBLANK(C1290)=0,VLOOKUP(C1290,Locks!A:E,5,FALSE),\"\")","v":""}]
[null,null,null,{"$f":"IF(COUNTBLANK(C1291)=0,VLOOKUP(C1291,Locks!A:D,4,FALSE),\"\")","v":""},{"$f":"IF(COUNTBLANK(C1291)=0,VLOOKUP(C1291,Locks!A:E,5,FALSE),\"\")","v":""}]
[null,null,null,{"$f":"IF(COUNTBLANK(C1292)=0,VLOOKUP(C1292,Locks!A:D,4,FALSE),\"\")","v":""},{"$f":"IF(COUNTBLANK(C1292)=0,VLOOKUP(C1292,Locks!A:E,5,FALSE),\"\")","v":""}]
[null,null,null,{"$f":"IF(COUNTBLANK(C1293)=0,VLOOKUP(C1293,Locks!A:D,4,FALSE),\"\")","v":""},{"$f":"IF(COUNTBLANK(C1293)=0,VLOOKUP(C1293,Locks!A:E,5,FALSE),\"\")","v":""}]
[null,null,null,{"$f":"IF(COUNTBLANK(C1294)=0,VLOOKUP(C1294,Locks!A:D,4,FALSE),\"\")","v":""},{"$f":"IF(COUNTBLANK(C1294)=0,VLOOKUP(C1294,Locks!A:E,5,FALSE),\"\")","v":""}]
[null,null,null,{"$f":"IF(COUNTBLANK(C1295)=0,VLOOKUP(C1295,Locks!A:D,4,FALSE),\"\")","v":""},{"$f":"IF(COUNTBLANK(C1295)=0,VLOOKUP(C1295,Locks!A:E,5,FALSE),\"\")","v":""}]
[null,null,null,{"$f":"IF(COUNTBLANK(C1296)=0,VLOOKUP(C1296,Locks!A:D,4,FALSE),\"\")","v":""},{"$f":"IF(COUNTBLANK(C1296)=0,VLOOKUP(C1296,Locks!A:E,5,FALSE),\"\")","v":""}]
[null,null,null,{"$f":"IF(COUNTBLANK(C1297)=0,VLOOKUP(C1297,Locks!A:D,4,FALSE),\"\")","v":""},{"$f":"IF(COUNTBLANK(C1297)=0,VLOOKUP(C1297,Locks!A:E,5,FALSE),\"\")","v":""}]
[null,null,null,{"$f":"IF(COUNTBLANK(C1298)=0,VLOOKUP(C1298,Locks!A:D,4,FALSE),\"\")","v":""},{"$f":"IF(COUNTBLANK(C1298)=0,VLOOKUP(C1298,Locks!A:E,5,FALSE),\"\")","v":""}]
[null,null,null,{"$f":"IF(COUNTBLANK(C1299)=0,VLOOKUP(C1299,Locks!A:D,4,FALSE),\"\")","v":""},{"$f":"IF(COUNTBLANK(C1299)=0,VLOOKUP(C1299,Locks!A:E,5,FALSE),\"\")","v":""}]
[null,null,null,{"$f":"IF(COUNTBLANK(C1300)=0,VLOOKUP(C1300,Locks!A:D,4,FALSE),\"\")","v":""},{"$f":"IF(COUNTBLANK(C1300)=0,VLOOKUP(C1300,Locks!A:E,5,FALSE),\"\")","v":""}]
[null,null,null,{"$f":"IF(COUNTBLANK(C1301)=0,VLOOKUP(C1301,Locks!A:D,4,FALSE),\"\")","v":""},{"$f":"IF(COUNTBLANK(C1301)=0,VLOOKUP(C1301,Locks!A:E,5,FALSE),\"\")","v":""}]
[null,null,null,{"$f":"IF(COUNTBLANK(C1302)=0,VLOOKUP(C1302,Locks!A:D,4,FALSE),\"\")","v":""},{"$f":"IF(COUNTBLANK(C1302)=0,VLOOKUP(C1302,Locks!A:E,5,FALSE),\"\")","v":""}]
[null,null,null,{"$f":"IF(COUNTBLANK(C1303)=0,VLOOKUP(C1303,Locks!A:D,4,FALSE),\"\")","v":""},{"$f":"IF(COUNTBLANK(C1303)=0,VLOOKUP(C1303,Locks!A:E,5,FALSE),\"\")","v":""}]
[null,null,null,{"$f":"IF(COUNTBLANK(C1304)=0,VLOOKUP(C1304,Locks!A:D,4,FALSE),\"\")","v":""},{"$f":"IF(COUNTBLANK(C1304)=0,VLOOKUP(C1304,Locks!A:E,5,FALSE),\"\")","v":""}]
[null,null,null,{"$f":"IF(COUNTBLANK(C1305)=0,VLOOKUP(C1305,Locks!A:D,4,FALSE),\"\")","v":""},{"$f":"IF(COUNTBLANK(C1305)=0,VLOOKUP(C1305,Locks!A:E,5,FALSE),\"\")","v":""}]
[null,null,null,{"$f":"IF(COUNTBLANK(C1306)=0,VLOOKUP(C1306,Locks!A:D,4,FALSE),\"\")","v":""},{"$f":"IF(COUNTBLANK(C1306)=0,VLOOKUP(C1306,Locks!A:E,5,FALSE),\"\")","v":""}]
[null,null,null,{"$f":"IF(COUNTBLANK(C1307)=0,VLOOKUP(C1307,Locks!A:D,4,FALSE),\"\")","v":""},{"$f":"IF(COUNTBLANK(C1307)=0,VLOOKUP(C1307,Locks!A:E,5,FALSE),\"\")","v":""}]
[null,null,null,{"$f":"IF(COUNTBLANK(C1308)=0,VLOOKUP(C1308,Locks!A:D,4,FALSE),\"\")","v":""},{"$f":"IF(COUNTBLANK(C1308)=0,VLOOKUP(C1308,Locks!A:E,5,FALSE),\"\")","v":""}]
[null,null,null,{"$f":"IF(COUNTBLANK(C1309)=0,VLOOKUP(C1309,Locks!A:D,4,FALSE),\"\")","v":""},{"$f":"IF(COUNTBLANK(C1309)=0,VLOOKUP(C1309,Locks!A:E,5,FALSE),\"\")","v":""}]
[null,null,null,{"$f":"IF(COUNTBLANK(C1310)=0,VLOOKUP(C1310,Locks!A:D,4,FALSE),\"\")","v":""},{"$f":"IF(COUNTBLANK(C1310)=0,VLOOKUP(C1310,Locks!A:E,5,FALSE),\"\")","v":""}]
[null,null,null,{"$f":"IF(COUNTBLANK(C1311)=0,VLOOKUP(C1311,Locks!A:D,4,FALSE),\"\")","v":""},{"$f":"IF(COUNTBLANK(C1311)=0,VLOOKUP(C1311,Locks!A:E,5,FALSE),\"\")","v":""}]
[null,null,null,{"$f":"IF(COUNTBLANK(C1312)=0,VLOOKUP(C1312,Locks!A:D,4,FALSE),\"\")","v":""},{"$f":"IF(COUNTBLANK(C1312)=0,VLOOKUP(C1312,Locks!A:E,5,FALSE),\"\")","v":""}]
[null,null,null,{"$f":"IF(COUNTBLANK(C1313)=0,VLOOKUP(C1313,Locks!A:D,4,FALSE),\"\")","v":""},{"$f":"IF(COUNTBLANK(C1313)=0,VLOOKUP(C1313,Locks!A:E,5,FALSE),\"\")","v":""}]
[null,null,null,{"$f":"IF(COUNTBLANK(C1314)=0,VLOOKUP(C1314,Locks!A:D,4,FALSE),\"\")","v":""},{"$f":"IF(COUNTBLANK(C1314)=0,VLOOKUP(C1314,Locks!A:E,5,FALSE),\"\")","v":""}]
[null,null,null,{"$f":"IF(COUNTBLANK(C1315)=0,VLOOKUP(C1315,Locks!A:D,4,FALSE),\"\")","v":""},{"$f":"IF(COUNTBLANK(C1315)=0,VLOOKUP(C1315,Locks!A:E,5,FALSE),\"\")","v":""}]
[null,null,null,{"$f":"IF(COUNTBLANK(C1316)=0,VLOOKUP(C1316,Locks!A:D,4,FALSE),\"\")","v":""},{"$f":"IF(COUNTBLANK(C1316)=0,VLOOKUP(C1316,Locks!A:E,5,FALSE),\"\")","v":""}]
[null,null,null,{"$f":"IF(COUNTBLANK(C1317)=0,VLOOKUP(C1317,Locks!A:D,4,FALSE),\"\")","v":""},{"$f":"IF(COUNTBLANK(C1317)=0,VLOOKUP(C1317,Locks!A:E,5,FALSE),\"\")","v":""}]
[null,null,null,{"$f":"IF(COUNTBLANK(C1318)=0,VLOOKUP(C1318,Locks!A:D,4,FALSE),\"\")","v":""},{"$f":"IF(COUNTBLANK(C1318)=0,VLOOKUP(C1318,Locks!A:E,5,FALSE),\"\")","v":""}]
[null,null,null,{"$f":"IF(COUNTBLANK(C1319)=0,VLOOKUP(C1319,Locks!A:D,4,FALSE),\"\")","v":""},{"$f":"IF(COUNTBLANK(C1319)=0,VLOOKUP(C1319,Locks!A:E,5,FALSE),\"\")","v":""}]
[null,null,null,{"$f":"IF(COUNTBLANK(C1320)=0,VLOOKUP(C1320,Locks!A:D,4,FALSE),\"\")","v":""},{"$f":"IF(COUNTBLANK(C1320)=0,VLOOKUP(C1320,Locks!A:E,5,FALSE),\"\")","v":""}]
[null,null,null,{"$f":"IF(COUNTBLANK(C1321)=0,VLOOKUP(C1321,Locks!A:D,4,FALSE),\"\")","v":""},{"$f":"IF(COUNTBLANK(C1321)=0,VLOOKUP(C1321,Locks!A:E,5,FALSE),\"\")","v":""}]
[null,null,null,{"$f":"IF(COUNTBLANK(C1322)=0,VLOOKUP(C1322,Locks!A:D,4,FALSE),\"\")","v":""},{"$f":"IF(COUNTBLANK(C1322)=0,VLOOKUP(C1322,Locks!A:E,5,FALSE),\"\")","v":""}]
[null,null,null,{"$f":"IF(COUNTBLANK(C1323)=0,VLOOKUP(C1323,Locks!A:D,4,FALSE),\"\")","v":""},{"$f":"IF(COUNTBLANK(C1323)=0,VLOOKUP(C1323,Locks!A:E,5,FALSE),\"\")","v":""}]
[null,null,null,{"$f":"IF(COUNTBLANK(C1324)=0,VLOOKUP(C1324,Locks!A:D,4,FALSE),\"\")","v":""},{"$f":"IF(COUNTBLANK(C1324)=0,VLOOKUP(C1324,Locks!A:E,5,FALSE),\"\")","v":""}]
[null,null,null,{"$f":"IF(COUNTBLANK(C1325)=0,VLOOKUP(C1325,Locks!A:D,4,FALSE),\"\")","v":""},{"$f":"IF(COUNTBLANK(C1325)=0,VLOOKUP(C1325,Locks!A:E,5,FALSE),\"\")","v":""}]
[null,null,null,{"$f":"IF(COUNTBLANK(C1326)=0,VLOOKUP(C1326,Locks!A:D,4,FALSE),\"\")","v":""},{"$f":"IF(COUNTBLANK(C1326)=0,VLOOKUP(C1326,Locks!A:E,5,FALSE),\"\")","v":""}]
[null,null,null,{"$f":"IF(COUNTBLANK(C1327)=0,VLOOKUP(C1327,Locks!A:D,4,FALSE),\"\")","v":""},{"$f":"IF(COUNTBLANK(C1327)=0,VLOOKUP(C1327,Locks!A:E,5,FALSE),\"\")","v":""}]
[null,null,null,{"$f":"IF(COUNTBLANK(C1328)=0,VLOOKUP(C1328,Locks!A:D,4,FALSE),\"\")","v":""},{"$f":"IF(COUNTBLANK(C1328)=0,VLOOKUP(C1328,Locks!A:E,5,FALSE),\"\")","v":""}]
[null,null,null,{"$f":"IF(COUNTBLANK(C1329)=0,VLOOKUP(C1329,Locks!A:D,4,FALSE),\"\")","v":""},{"$f":"IF(COUNTBLANK(C1329)=0,VLOOKUP(C1329,Locks!A:E,5,FALSE),\"\")","v":""}]
[null,null,null,{"$f":"IF(COUNTBLANK(C1330)=0,VLOOKUP(C1330,Locks!A:D,4,FALSE),\"\")","v":""},{"$f":"IF(COUNTBLANK(C1330)=0,VLOOKUP(C1330,Locks!A:E,5,FALSE),\"\")","v":""}]
[null,null,null,{"$f":"IF(COUNTBLANK(C1331)=0,VLOOKUP(C1331,Locks!A:D,4,FALSE),\"\")","v":""},{"$f":"IF(COUNTBLANK(C1331)=0,VLOOKUP(C1331,Locks!A:E,5,FALSE),\"\")","v":""}]
[null,null,null,{"$f":"IF(COUNTBLANK(C1332)=0,VLOOKUP(C1332,Locks!A:D,4,FALSE),\"\")","v":""},{"$f":"IF(COUNTBLANK(C1332)=0,VLOOKUP(C1332,Locks!A:E,5,FALSE),\"\")","v":""}]
[null,null,null,{"$f":"IF(COUNTBLANK(C1333)=0,VLOOKUP(C1333,Locks!A:D,4,FALSE),\"\")","v":""},{"$f":"IF(COUNTBLANK(C1333)=0,VLOOKUP(C1333,Locks!A:E,5,FALSE),\"\")","v":""}]
[null,null,null,{"$f":"IF(COUNTBLANK(C1334)=0,VLOOKUP(C1334,Locks!A:D,4,FALSE),\"\")","v":""},{"$f":"IF(COUNTBLANK(C1334)=0,VLOOKUP(C1334,Locks!A:E,5,FALSE),\"\")","v":""}]
[null,null,null,{"$f":"IF(COUNTBLANK(C1335)=0,VLOOKUP(C1335,Locks!A:D,4,FALSE),\"\")","v":""},{"$f":"IF(COUNTBLANK(C1335)=0,VLOOKUP(C1335,Locks!A:E,5,FALSE),\"\")","v":""}]
[null,null,null,{"$f":"IF(COUNTBLANK(C1336)=0,VLOOKUP(C1336,Locks!A:D,4,FALSE),\"\")","v":""},{"$f":"IF(COUNTBLANK(C1336)=0,VLOOKUP(C1336,Locks!A:E,5,FALSE),\"\")","v":""}]
[null,null,null,{"$f":"IF(COUNTBLANK(C1337)=0,VLOOKUP(C1337,Locks!A:D,4,FALSE),\"\")","v":""},{"$f":"IF(COUNTBLANK(C1337)=0,VLOOKUP(C1337,Locks!A:E,5,FALSE),\"\")","v":""}]
[null,null,null,{"$f":"IF(COUNTBLANK(C1338)=0,VLOOKUP(C1338,Locks!A:D,4,FALSE),\"\")","v":""},{"$f":"IF(COUNTBLANK(C1338)=0,VLOOKUP(C1338,Locks!A:E,5,FALSE),\"\")","v":""}]
[null,null,null,{"$f":"IF(COUNTBLANK(C1339)=0,VLOOKUP(C1339,Locks!A:D,4,FALSE),\"\")","v":""},{"$f":"IF(COUNTBLANK(C1339)=0,VLOOKUP(C1339,Locks!A:E,5,FALSE),\"\")","v":""}]
[null,null,null,{"$f":"IF(COUNTBLANK(C1340)=0,VLOOKUP(C1340,Locks!A:D,4,FALSE),\"\")","v":""},{"$f":"IF(COUNTBLANK(C1340)=0,VLOOKUP(C1340,Locks!A:E,5,FALSE),\"\")","v":""}]
[null,null,null,{"$f":"IF(COUNTBLANK(C1341)=0,VLOOKUP(C1341,Locks!A:D,4,FALSE),\"\")","v":""},{"$f":"IF(COUNTBLANK(C1341)=0,VLOOKUP(C1341,Locks!A:E,5,FALSE),\"\")","v":""}]
[null,null,null,{"$f":"IF(COUNTBLANK(C1342)=0,VLOOKUP(C1342,Locks!A:D,4,FALSE),\"\")","v":""},{"$f":"IF(COUNTBLANK(C1342)=0,VLOOKUP(C1342,Locks!A:E,5,FALSE),\"\")","v":""}]
[null,null,null,{"$f":"IF(COUNTBLANK(C1343)=0,VLOOKUP(C1343,Locks!A:D,4,FALSE),\"\")","v":""},{"$f":"IF(COUNTBLANK(C1343)=0,VLOOKUP(C1343,Locks!A:E,5,FALSE),\"\")","v":""}]
[null,null,null,{"$f":"IF(COUNTBLANK(C1344)=0,VLOOKUP(C1344,Locks!A:D,4,FALSE),\"\")","v":""},{"$f":"IF(COUNTBLANK(C1344)=0,VLOOKUP(C1344,Locks!A:E,5,FALSE),\"\")","v":""}]
[null,null,null,{"$f":"IF(COUNTBLANK(C1345)=0,VLOOKUP(C1345,Locks!A:D,4,FALSE),\"\")","v":""},{"$f":"IF(COUNTBLANK(C1345)=0,VLOOKUP(C1345,Locks!A:E,5,FALSE),\"\")","v":""}]
[null,null,null,{"$f":"IF(COUNTBLANK(C1346)=0,VLOOKUP(C1346,Locks!A:D,4,FALSE),\"\")","v":""},{"$f":"IF(COUNTBLANK(C1346)=0,VLOOKUP(C1346,Locks!A:E,5,FALSE),\"\")","v":""}]
[null,null,null,{"$f":"IF(COUNTBLANK(C1347)=0,VLOOKUP(C1347,Locks!A:D,4,FALSE),\"\")","v":""},{"$f":"IF(COUNTBLANK(C1347)=0,VLOOKUP(C1347,Locks!A:E,5,FALSE),\"\")","v":""}]
[null,null,null,{"$f":"IF(COUNTBLANK(C1348)=0,VLOOKUP(C1348,Locks!A:D,4,FALSE),\"\")","v":""},{"$f":"IF(COUNTBLANK(C1348)=0,VLOOKUP(C1348,Locks!A:E,5,FALSE),\"\")","v":""}]
[null,null,null,{"$f":"IF(COUNTBLANK(C1349)=0,VLOOKUP(C1349,Locks!A:D,4,FALSE),\"\")","v":""},{"$f":"IF(COUNTBLANK(C1349)=0,VLOOKUP(C1349,Locks!A:E,5,FALSE),\"\")","v":""}]
[null,null,null,{"$f":"IF(COUNTBLANK(C1350)=0,VLOOKUP(C1350,Locks!A:D,4,FALSE),\"\")","v":""},{"$f":"IF(COUNTBLANK(C1350)=0,VLOOKUP(C1350,Locks!A:E,5,FALSE),\"\")","v":""}]
[null,null,null,{"$f":"IF(COUNTBLANK(C1351)=0,VLOOKUP(C1351,Locks!A:D,4,FALSE),\"\")","v":""},{"$f":"IF(COUNTBLANK(C1351)=0,VLOOKUP(C1351,Locks!A:E,5,FALSE),\"\")","v":""}]
[null,null,null,{"$f":"IF(COUNTBLANK(C1352)=0,VLOOKUP(C1352,Locks!A:D,4,FALSE),\"\")","v":""},{"$f":"IF(COUNTBLANK(C1352)=0,VLOOKUP(C1352,Locks!A:E,5,FALSE),\"\")","v":""}]
[null,null,null,{"$f":"IF(COUNTBLANK(C1353)=0,VLOOKUP(C1353,Locks!A:D,4,FALSE),\"\")","v":""},{"$f":"IF(COUNTBLANK(C1353)=0,VLOOKUP(C1353,Locks!A:E,5,FALSE),\"\")","v":""}]
[null,null,null,{"$f":"IF(COUNTBLANK(C1354)=0,VLOOKUP(C1354,Locks!A:D,4,FALSE),\"\")","v":""},{"$f":"IF(COUNTBLANK(C1354)=0,VLOOKUP(C1354,Locks!A:E,5,FALSE),\"\")","v":""}]
[null,null,null,{"$f":"IF(COUNTBLANK(C1355)=0,VLOOKUP(C1355,Locks!A:D,4,FALSE),\"\")","v":""},{"$f":"IF(COUNTBLANK(C1355)=0,VLOOKUP(C1355,Locks!A:E,5,FALSE),\"\")","v":""}]
[null,null,null,{"$f":"IF(COUNTBLANK(C1356)=0,VLOOKUP(C1356,Locks!A:D,4,FALSE),\"\")","v":""},{"$f":"IF(COUNTBLANK(C1356)=0,VLOOKUP(C1356,Locks!A:E,5,FALSE),\"\")","v":""}]
[null,null,null,{"$f":"IF(COUNTBLANK(C1357)=0,VLOOKUP(C1357,Locks!A:D,4,FALSE),\"\")","v":""},{"$f":"IF(COUNTBLANK(C1357)=0,VLOOKUP(C1357,Locks!A:E,5,FALSE),\"\")","v":""}]
[null,null,null,{"$f":"IF(COUNTBLANK(C1358)=0,VLOOKUP(C1358,Locks!A:D,4,FALSE),\"\")","v":""},{"$f":"IF(COUNTBLANK(C1358)=0,VLOOKUP(C1358,Locks!A:E,5,FALSE),\"\")","v":""}]
[null,null,null,{"$f":"IF(COUNTBLANK(C1359)=0,VLOOKUP(C1359,Locks!A:D,4,FALSE),\"\")","v":""},{"$f":"IF(COUNTBLANK(C1359)=0,VLOOKUP(C1359,Locks!A:E,5,FALSE),\"\")","v":""}]
[null,null,null,{"$f":"IF(COUNTBLANK(C1360)=0,VLOOKUP(C1360,Locks!A:D,4,FALSE),\"\")","v":""},{"$f":"IF(COUNTBLANK(C1360)=0,VLOOKUP(C1360,Locks!A:E,5,FALSE),\"\")","v":""}]
[null,null,null,{"$f":"IF(COUNTBLANK(C1361)=0,VLOOKUP(C1361,Locks!A:D,4,FALSE),\"\")","v":""},{"$f":"IF(COUNTBLANK(C1361)=0,VLOOKUP(C1361,Locks!A:E,5,FALSE),\"\")","v":""}]
[null,null,null,{"$f":"IF(COUNTBLANK(C1362)=0,VLOOKUP(C1362,Locks!A:D,4,FALSE),\"\")","v":""},{"$f":"IF(COUNTBLANK(C1362)=0,VLOOKUP(C1362,Locks!A:E,5,FALSE),\"\")","v":""}]
[null,null,null,{"$f":"IF(COUNTBLANK(C1363)=0,VLOOKUP(C1363,Locks!A:D,4,FALSE),\"\")","v":""},{"$f":"IF(COUNTBLANK(C1363)=0,VLOOKUP(C1363,Locks!A:E,5,FALSE),\"\")","v":""}]
[null,null,null,{"$f":"IF(COUNTBLANK(C1364)=0,VLOOKUP(C1364,Locks!A:D,4,FALSE),\"\")","v":""},{"$f":"IF(COUNTBLANK(C1364)=0,VLOOKUP(C1364,Locks!A:E,5,FALSE),\"\")","v":""}]
[null,null,null,{"$f":"IF(COUNTBLANK(C1365)=0,VLOOKUP(C1365,Locks!A:D,4,FALSE),\"\")","v":""},{"$f":"IF(COUNTBLANK(C1365)=0,VLOOKUP(C1365,Locks!A:E,5,FALSE),\"\")","v":""}]
[null,null,null,{"$f":"IF(COUNTBLANK(C1366)=0,VLOOKUP(C1366,Locks!A:D,4,FALSE),\"\")","v":""},{"$f":"IF(COUNTBLANK(C1366)=0,VLOOKUP(C1366,Locks!A:E,5,FALSE),\"\")","v":""}]
[null,null,null,{"$f":"IF(COUNTBLANK(C1367)=0,VLOOKUP(C1367,Locks!A:D,4,FALSE),\"\")","v":""},{"$f":"IF(COUNTBLANK(C1367)=0,VLOOKUP(C1367,Locks!A:E,5,FALSE),\"\")","v":""}]
[null,null,null,{"$f":"IF(COUNTBLANK(C1368)=0,VLOOKUP(C1368,Locks!A:D,4,FALSE),\"\")","v":""},{"$f":"IF(COUNTBLANK(C1368)=0,VLOOKUP(C1368,Locks!A:E,5,FALSE),\"\")","v":""}]
[null,null,null,{"$f":"IF(COUNTBLANK(C1369)=0,VLOOKUP(C1369,Locks!A:D,4,FALSE),\"\")","v":""},{"$f":"IF(COUNTBLANK(C1369)=0,VLOOKUP(C1369,Locks!A:E,5,FALSE),\"\")","v":""}]
[null,null,null,{"$f":"IF(COUNTBLANK(C1370)=0,VLOOKUP(C1370,Locks!A:D,4,FALSE),\"\")","v":""},{"$f":"IF(COUNTBLANK(C1370)=0,VLOOKUP(C1370,Locks!A:E,5,FALSE),\"\")","v":""}]
[null,null,null,{"$f":"IF(COUNTBLANK(C1371)=0,VLOOKUP(C1371,Locks!A:D,4,FALSE),\"\")","v":""},{"$f":"IF(COUNTBLANK(C1371)=0,VLOOKUP(C1371,Locks!A:E,5,FALSE),\"\")","v":""}]
[null,null,null,{"$f":"IF(COUNTBLANK(C1372)=0,VLOOKUP(C1372,Locks!A:D,4,FALSE),\"\")","v":""},{"$f":"IF(COUNTBLANK(C1372)=0,VLOOKUP(C1372,Locks!A:E,5,FALSE),\"\")","v":""}]
[null,null,null,{"$f":"IF(COUNTBLANK(C1373)=0,VLOOKUP(C1373,Locks!A:D,4,FALSE),\"\")","v":""},{"$f":"IF(COUNTBLANK(C1373)=0,VLOOKUP(C1373,Locks!A:E,5,FALSE),\"\")","v":""}]
[null,null,null,{"$f":"IF(COUNTBLANK(C1374)=0,VLOOKUP(C1374,Locks!A:D,4,FALSE),\"\")","v":""},{"$f":"IF(COUNTBLANK(C1374)=0,VLOOKUP(C1374,Locks!A:E,5,FALSE),\"\")","v":""}]
[null,null,null,{"$f":"IF(COUNTBLANK(C1375)=0,VLOOKUP(C1375,Locks!A:D,4,FALSE),\"\")","v":""},{"$f":"IF(COUNTBLANK(C1375)=0,VLOOKUP(C1375,Locks!A:E,5,FALSE),\"\")","v":""}]
[null,null,null,{"$f":"IF(COUNTBLANK(C1376)=0,VLOOKUP(C1376,Locks!A:D,4,FALSE),\"\")","v":""},{"$f":"IF(COUNTBLANK(C1376)=0,VLOOKUP(C1376,Locks!A:E,5,FALSE),\"\")","v":""}]
[null,null,null,{"$f":"IF(COUNTBLANK(C1377)=0,VLOOKUP(C1377,Locks!A:D,4,FALSE),\"\")","v":""},{"$f":"IF(COUNTBLANK(C1377)=0,VLOOKUP(C1377,Locks!A:E,5,FALSE),\"\")","v":""}]
[null,null,null,{"$f":"IF(COUNTBLANK(C1378)=0,VLOOKUP(C1378,Locks!A:D,4,FALSE),\"\")","v":""},{"$f":"IF(COUNTBLANK(C1378)=0,VLOOKUP(C1378,Locks!A:E,5,FALSE),\"\")","v":""}]
[null,null,null,{"$f":"IF(COUNTBLANK(C1379)=0,VLOOKUP(C1379,Locks!A:D,4,FALSE),\"\")","v":""},{"$f":"IF(COUNTBLANK(C1379)=0,VLOOKUP(C1379,Locks!A:E,5,FALSE),\"\")","v":""}]
[null,null,null,{"$f":"IF(COUNTBLANK(C1380)=0,VLOOKUP(C1380,Locks!A:D,4,FALSE),\"\")","v":""},{"$f":"IF(COUNTBLANK(C1380)=0,VLOOKUP(C1380,Locks!A:E,5,FALSE),\"\")","v":""}]
[null,null,null,{"$f":"IF(COUNTBLANK(C1381)=0,VLOOKUP(C1381,Locks!A:D,4,FALSE),\"\")","v":""},{"$f":"IF(COUNTBLANK(C1381)=0,VLOOKUP(C1381,Locks!A:E,5,FALSE),\"\")","v":""}]
[null,null,null,{"$f":"IF(COUNTBLANK(C1382)=0,VLOOKUP(C1382,Locks!A:D,4,FALSE),\"\")","v":""},{"$f":"IF(COUNTBLANK(C1382)=0,VLOOKUP(C1382,Locks!A:E,5,FALSE),\"\")","v":""}]
[null,null,null,{"$f":"IF(COUNTBLANK(C1383)=0,VLOOKUP(C1383,Locks!A:D,4,FALSE),\"\")","v":""},{"$f":"IF(COUNTBLANK(C1383)=0,VLOOKUP(C1383,Locks!A:E,5,FALSE),\"\")","v":""}]
[null,null,null,{"$f":"IF(COUNTBLANK(C1384)=0,VLOOKUP(C1384,Locks!A:D,4,FALSE),\"\")","v":""},{"$f":"IF(COUNTBLANK(C1384)=0,VLOOKUP(C1384,Locks!A:E,5,FALSE),\"\")","v":""}]
[null,null,null,{"$f":"IF(COUNTBLANK(C1385)=0,VLOOKUP(C1385,Locks!A:D,4,FALSE),\"\")","v":""},{"$f":"IF(COUNTBLANK(C1385)=0,VLOOKUP(C1385,Locks!A:E,5,FALSE),\"\")","v":""}]
[null,null,null,{"$f":"IF(COUNTBLANK(C1386)=0,VLOOKUP(C1386,Locks!A:D,4,FALSE),\"\")","v":""},{"$f":"IF(COUNTBLANK(C1386)=0,VLOOKUP(C1386,Locks!A:E,5,FALSE),\"\")","v":""}]
[null,null,null,{"$f":"IF(COUNTBLANK(C1387)=0,VLOOKUP(C1387,Locks!A:D,4,FALSE),\"\")","v":""},{"$f":"IF(COUNTBLANK(C1387)=0,VLOOKUP(C1387,Locks!A:E,5,FALSE),\"\")","v":""}]
[null,null,null,{"$f":"IF(COUNTBLANK(C1388)=0,VLOOKUP(C1388,Locks!A:D,4,FALSE),\"\")","v":""},{"$f":"IF(COUNTBLANK(C1388)=0,VLOOKUP(C1388,Locks!A:E,5,FALSE),\"\")","v":""}]
[null,null,null,{"$f":"IF(COUNTBLANK(C1389)=0,VLOOKUP(C1389,Locks!A:D,4,FALSE),\"\")","v":""},{"$f":"IF(COUNTBLANK(C1389)=0,VLOOKUP(C1389,Locks!A:E,5,FALSE),\"\")","v":""}]
[null,null,null,{"$f":"IF(COUNTBLANK(C1390)=0,VLOOKUP(C1390,Locks!A:D,4,FALSE),\"\")","v":""},{"$f":"IF(COUNTBLANK(C1390)=0,VLOOKUP(C1390,Locks!A:E,5,FALSE),\"\")","v":""}]
[null,null,null,{"$f":"IF(COUNTBLANK(C1391)=0,VLOOKUP(C1391,Locks!A:D,4,FALSE),\"\")","v":""},{"$f":"IF(COUNTBLANK(C1391)=0,VLOOKUP(C1391,Locks!A:E,5,FALSE),\"\")","v":""}]
[null,null,null,{"$f":"IF(COUNTBLANK(C1392)=0,VLOOKUP(C1392,Locks!A:D,4,FALSE),\"\")","v":""},{"$f":"IF(COUNTBLANK(C1392)=0,VLOOKUP(C1392,Locks!A:E,5,FALSE),\"\")","v":""}]
[null,null,null,{"$f":"IF(COUNTBLANK(C1393)=0,VLOOKUP(C1393,Locks!A:D,4,FALSE),\"\")","v":""},{"$f":"IF(COUNTBLANK(C1393)=0,VLOOKUP(C1393,Locks!A:E,5,FALSE),\"\")","v":""}]
[null,null,null,{"$f":"IF(COUNTBLANK(C1394)=0,VLOOKUP(C1394,Locks!A:D,4,FALSE),\"\")","v":""},{"$f":"IF(COUNTBLANK(C1394)=0,VLOOKUP(C1394,Locks!A:E,5,FALSE),\"\")","v":""}]
[null,null,null,{"$f":"IF(COUNTBLANK(C1395)=0,VLOOKUP(C1395,Locks!A:D,4,FALSE),\"\")","v":""},{"$f":"IF(COUNTBLANK(C1395)=0,VLOOKUP(C1395,Locks!A:E,5,FALSE),\"\")","v":""}]
[null,null,null,{"$f":"IF(COUNTBLANK(C1396)=0,VLOOKUP(C1396,Locks!A:D,4,FALSE),\"\")","v":""},{"$f":"IF(COUNTBLANK(C1396)=0,VLOOKUP(C1396,Locks!A:E,5,FALSE),\"\")","v":""}]
[null,null,null,{"$f":"IF(COUNTBLANK(C1397)=0,VLOOKUP(C1397,Locks!A:D,4,FALSE),\"\")","v":""},{"$f":"IF(COUNTBLANK(C1397)=0,VLOOKUP(C1397,Locks!A:E,5,FALSE),\"\")","v":""}]
[null,null,null,{"$f":"IF(COUNTBLANK(C1398)=0,VLOOKUP(C1398,Locks!A:D,4,FALSE),\"\")","v":""},{"$f":"IF(COUNTBLANK(C1398)=0,VLOOKUP(C1398,Locks!A:E,5,FALSE),\"\")","v":""}]
[null,null,null,{"$f":"IF(COUNTBLANK(C1399)=0,VLOOKUP(C1399,Locks!A:D,4,FALSE),\"\")","v":""},{"$f":"IF(COUNTBLANK(C1399)=0,VLOOKUP(C1399,Locks!A:E,5,FALSE),\"\")","v":""}]
[null,null,null,{"$f":"IF(COUNTBLANK(C1400)=0,VLOOKUP(C1400,Locks!A:D,4,FALSE),\"\")","v":""},{"$f":"IF(COUNTBLANK(C1400)=0,VLOOKUP(C1400,Locks!A:E,5,FALSE),\"\")","v":""}]
[null,null,null,{"$f":"IF(COUNTBLANK(C1401)=0,VLOOKUP(C1401,Locks!A:D,4,FALSE),\"\")","v":""},{"$f":"IF(COUNTBLANK(C1401)=0,VLOOKUP(C1401,Locks!A:E,5,FALSE),\"\")","v":""}]
[null,null,null,{"$f":"IF(COUNTBLANK(C1402)=0,VLOOKUP(C1402,Locks!A:D,4,FALSE),\"\")","v":""},{"$f":"IF(COUNTBLANK(C1402)=0,VLOOKUP(C1402,Locks!A:E,5,FALSE),\"\")","v":""}]
[null,null,null,{"$f":"IF(COUNTBLANK(C1403)=0,VLOOKUP(C1403,Locks!A:D,4,FALSE),\"\")","v":""},{"$f":"IF(COUNTBLANK(C1403)=0,VLOOKUP(C1403,Locks!A:E,5,FALSE),\"\")","v":""}]
[null,null,null,{"$f":"IF(COUNTBLANK(C1404)=0,VLOOKUP(C1404,Locks!A:D,4,FALSE),\"\")","v":""},{"$f":"IF(COUNTBLANK(C1404)=0,VLOOKUP(C1404,Locks!A:E,5,FALSE),\"\")","v":""}]
[null,null,null,{"$f":"IF(COUNTBLANK(C1405)=0,VLOOKUP(C1405,Locks!A:D,4,FALSE),\"\")","v":""},{"$f":"IF(COUNTBLANK(C1405)=0,VLOOKUP(C1405,Locks!A:E,5,FALSE),\"\")","v":""}]
[null,null,null,{"$f":"IF(COUNTBLANK(C1406)=0,VLOOKUP(C1406,Locks!A:D,4,FALSE),\"\")","v":""},{"$f":"IF(COUNTBLANK(C1406)=0,VLOOKUP(C1406,Locks!A:E,5,FALSE),\"\")","v":""}]
[null,null,null,{"$f":"IF(COUNTBLANK(C1407)=0,VLOOKUP(C1407,Locks!A:D,4,FALSE),\"\")","v":""},{"$f":"IF(COUNTBLANK(C1407)=0,VLOOKUP(C1407,Locks!A:E,5,FALSE),\"\")","v":""}]
[null,null,null,{"$f":"IF(COUNTBLANK(C1408)=0,VLOOKUP(C1408,Locks!A:D,4,FALSE),\"\")","v":""},{"$f":"IF(COUNTBLANK(C1408)=0,VLOOKUP(C1408,Locks!A:E,5,FALSE),\"\")","v":""}]
[null,null,null,{"$f":"IF(COUNTBLANK(C1409)=0,VLOOKUP(C1409,Locks!A:D,4,FALSE),\"\")","v":""},{"$f":"IF(COUNTBLANK(C1409)=0,VLOOKUP(C1409,Locks!A:E,5,FALSE),\"\")","v":""}]
[null,null,null,{"$f":"IF(COUNTBLANK(C1410)=0,VLOOKUP(C1410,Locks!A:D,4,FALSE),\"\")","v":""},{"$f":"IF(COUNTBLANK(C1410)=0,VLOOKUP(C1410,Locks!A:E,5,FALSE),\"\")","v":""}]
[null,null,null,{"$f":"IF(COUNTBLANK(C1411)=0,VLOOKUP(C1411,Locks!A:D,4,FALSE),\"\")","v":""},{"$f":"IF(COUNTBLANK(C1411)=0,VLOOKUP(C1411,Locks!A:E,5,FALSE),\"\")","v":""}]
[null,null,null,{"$f":"IF(COUNTBLANK(C1412)=0,VLOOKUP(C1412,Locks!A:D,4,FALSE),\"\")","v":""},{"$f":"IF(COUNTBLANK(C1412)=0,VLOOKUP(C1412,Locks!A:E,5,FALSE),\"\")","v":""}]
[null,null,null,{"$f":"IF(COUNTBLANK(C1413)=0,VLOOKUP(C1413,Locks!A:D,4,FALSE),\"\")","v":""},{"$f":"IF(COUNTBLANK(C1413)=0,VLOOKUP(C1413,Locks!A:E,5,FALSE),\"\")","v":""}]
[null,null,null,{"$f":"IF(COUNTBLANK(C1414)=0,VLOOKUP(C1414,Locks!A:D,4,FALSE),\"\")","v":""},{"$f":"IF(COUNTBLANK(C1414)=0,VLOOKUP(C1414,Locks!A:E,5,FALSE),\"\")","v":""}]
[null,null,null,{"$f":"IF(COUNTBLANK(C1415)=0,VLOOKUP(C1415,Locks!A:D,4,FALSE),\"\")","v":""},{"$f":"IF(COUNTBLANK(C1415)=0,VLOOKUP(C1415,Locks!A:E,5,FALSE),\"\")","v":""}]
[null,null,null,{"$f":"IF(COUNTBLANK(C1416)=0,VLOOKUP(C1416,Locks!A:D,4,FALSE),\"\")","v":""},{"$f":"IF(COUNTBLANK(C1416)=0,VLOOKUP(C1416,Locks!A:E,5,FALSE),\"\")","v":""}]
[null,null,null,{"$f":"IF(COUNTBLANK(C1417)=0,VLOOKUP(C1417,Locks!A:D,4,FALSE),\"\")","v":""},{"$f":"IF(COUNTBLANK(C1417)=0,VLOOKUP(C1417,Locks!A:E,5,FALSE),\"\")","v":""}]
[null,null,null,{"$f":"IF(COUNTBLANK(C1418)=0,VLOOKUP(C1418,Locks!A:D,4,FALSE),\"\")","v":""},{"$f":"IF(COUNTBLANK(C1418)=0,VLOOKUP(C1418,Locks!A:E,5,FALSE),\"\")","v":""}]
[null,null,null,{"$f":"IF(COUNTBLANK(C1419)=0,VLOOKUP(C1419,Locks!A:D,4,FALSE),\"\")","v":""},{"$f":"IF(COUNTBLANK(C1419)=0,VLOOKUP(C1419,Locks!A:E,5,FALSE),\"\")","v":""}]
[null,null,null,{"$f":"IF(COUNTBLANK(C1420)=0,VLOOKUP(C1420,Locks!A:D,4,FALSE),\"\")","v":""},{"$f":"IF(COUNTBLANK(C1420)=0,VLOOKUP(C1420,Locks!A:E,5,FALSE),\"\")","v":""}]
[null,null,null,{"$f":"IF(COUNTBLANK(C1421)=0,VLOOKUP(C1421,Locks!A:D,4,FALSE),\"\")","v":""},{"$f":"IF(COUNTBLANK(C1421)=0,VLOOKUP(C1421,Locks!A:E,5,FALSE),\"\")","v":""}]
[null,null,null,{"$f":"IF(COUNTBLANK(C1422)=0,VLOOKUP(C1422,Locks!A:D,4,FALSE),\"\")","v":""},{"$f":"IF(COUNTBLANK(C1422)=0,VLOOKUP(C1422,Locks!A:E,5,FALSE),\"\")","v":""}]
[null,null,null,{"$f":"IF(COUNTBLANK(C1423)=0,VLOOKUP(C1423,Locks!A:D,4,FALSE),\"\")","v":""},{"$f":"IF(COUNTBLANK(C1423)=0,VLOOKUP(C1423,Locks!A:E,5,FALSE),\"\")","v":""}]
[null,null,null,{"$f":"IF(COUNTBLANK(C1424)=0,VLOOKUP(C1424,Locks!A:D,4,FALSE),\"\")","v":""},{"$f":"IF(COUNTBLANK(C1424)=0,VLOOKUP(C1424,Locks!A:E,5,FALSE),\"\")","v":""}]
[null,null,null,{"$f":"IF(COUNTBLANK(C1425)=0,VLOOKUP(C1425,Locks!A:D,4,FALSE),\"\")","v":""},{"$f":"IF(COUNTBLANK(C1425)=0,VLOOKUP(C1425,Locks!A:E,5,FALSE),\"\")","v":""}]
[null,null,null,{"$f":"IF(COUNTBLANK(C1426)=0,VLOOKUP(C1426,Locks!A:D,4,FALSE),\"\")","v":""},{"$f":"IF(COUNTBLANK(C1426)=0,VLOOKUP(C1426,Locks!A:E,5,FALSE),\"\")","v":""}]
[null,null,null,{"$f":"IF(COUNTBLANK(C1427)=0,VLOOKUP(C1427,Locks!A:D,4,FALSE),\"\")","v":""},{"$f":"IF(COUNTBLANK(C1427)=0,VLOOKUP(C1427,Locks!A:E,5,FALSE),\"\")","v":""}]
[null,null,null,{"$f":"IF(COUNTBLANK(C1428)=0,VLOOKUP(C1428,Locks!A:D,4,FALSE),\"\")","v":""},{"$f":"IF(COUNTBLANK(C1428)=0,VLOOKUP(C1428,Locks!A:E,5,FALSE),\"\")","v":""}]
[null,null,null,{"$f":"IF(COUNTBLANK(C1429)=0,VLOOKUP(C1429,Locks!A:D,4,FALSE),\"\")","v":""},{"$f":"IF(COUNTBLANK(C1429)=0,VLOOKUP(C1429,Locks!A:E,5,FALSE),\"\")","v":""}]
[null,null,null,{"$f":"IF(COUNTBLANK(C1430)=0,VLOOKUP(C1430,Locks!A:D,4,FALSE),\"\")","v":""},{"$f":"IF(COUNTBLANK(C1430)=0,VLOOKUP(C1430,Locks!A:E,5,FALSE),\"\")","v":""}]
[null,null,null,{"$f":"IF(COUNTBLANK(C1431)=0,VLOOKUP(C1431,Locks!A:D,4,FALSE),\"\")","v":""},{"$f":"IF(COUNTBLANK(C1431)=0,VLOOKUP(C1431,Locks!A:E,5,FALSE),\"\")","v":""}]
[null,null,null,{"$f":"IF(COUNTBLANK(C1432)=0,VLOOKUP(C1432,Locks!A:D,4,FALSE),\"\")","v":""},{"$f":"IF(COUNTBLANK(C1432)=0,VLOOKUP(C1432,Locks!A:E,5,FALSE),\"\")","v":""}]
[null,null,null,{"$f":"IF(COUNTBLANK(C1433)=0,VLOOKUP(C1433,Locks!A:D,4,FALSE),\"\")","v":""},{"$f":"IF(COUNTBLANK(C1433)=0,VLOOKUP(C1433,Locks!A:E,5,FALSE),\"\")","v":""}]
[null,null,null,{"$f":"IF(COUNTBLANK(C1434)=0,VLOOKUP(C1434,Locks!A:D,4,FALSE),\"\")","v":""},{"$f":"IF(COUNTBLANK(C1434)=0,VLOOKUP(C1434,Locks!A:E,5,FALSE),\"\")","v":""}]
[null,null,null,{"$f":"IF(COUNTBLANK(C1435)=0,VLOOKUP(C1435,Locks!A:D,4,FALSE),\"\")","v":""},{"$f":"IF(COUNTBLANK(C1435)=0,VLOOKUP(C1435,Locks!A:E,5,FALSE),\"\")","v":""}]
[null,null,null,{"$f":"IF(COUNTBLANK(C1436)=0,VLOOKUP(C1436,Locks!A:D,4,FALSE),\"\")","v":""},{"$f":"IF(COUNTBLANK(C1436)=0,VLOOKUP(C1436,Locks!A:E,5,FALSE),\"\")","v":""}]
[null,null,null,{"$f":"IF(COUNTBLANK(C1437)=0,VLOOKUP(C1437,Locks!A:D,4,FALSE),\"\")","v":""},{"$f":"IF(COUNTBLANK(C1437)=0,VLOOKUP(C1437,Locks!A:E,5,FALSE),\"\")","v":""}]
[null,null,null,{"$f":"IF(COUNTBLANK(C1438)=0,VLOOKUP(C1438,Locks!A:D,4,FALSE),\"\")","v":""},{"$f":"IF(COUNTBLANK(C1438)=0,VLOOKUP(C1438,Locks!A:E,5,FALSE),\"\")","v":""}]
[null,null,null,{"$f":"IF(COUNTBLANK(C1439)=0,VLOOKUP(C1439,Locks!A:D,4,FALSE),\"\")","v":""},{"$f":"IF(COUNTBLANK(C1439)=0,VLOOKUP(C1439,Locks!A:E,5,FALSE),\"\")","v":""}]
[null,null,null,{"$f":"IF(COUNTBLANK(C1440)=0,VLOOKUP(C1440,Locks!A:D,4,FALSE),\"\")","v":""},{"$f":"IF(COUNTBLANK(C1440)=0,VLOOKUP(C1440,Locks!A:E,5,FALSE),\"\")","v":""}]
[null,null,null,{"$f":"IF(COUNTBLANK(C1441)=0,VLOOKUP(C1441,Locks!A:D,4,FALSE),\"\")","v":""},{"$f":"IF(COUNTBLANK(C1441)=0,VLOOKUP(C1441,Locks!A:E,5,FALSE),\"\")","v":""}]
[null,null,null,{"$f":"IF(COUNTBLANK(C1442)=0,VLOOKUP(C1442,Locks!A:D,4,FALSE),\"\")","v":""},{"$f":"IF(COUNTBLANK(C1442)=0,VLOOKUP(C1442,Locks!A:E,5,FALSE),\"\")","v":""}]
[null,null,null,{"$f":"IF(COUNTBLANK(C1443)=0,VLOOKUP(C1443,Locks!A:D,4,FALSE),\"\")","v":""},{"$f":"IF(COUNTBLANK(C1443)=0,VLOOKUP(C1443,Locks!A:E,5,FALSE),\"\")","v":""}]
[null,null,null,{"$f":"IF(COUNTBLANK(C1444)=0,VLOOKUP(C1444,Locks!A:D,4,FALSE),\"\")","v":""},{"$f":"IF(COUNTBLANK(C1444)=0,VLOOKUP(C1444,Locks!A:E,5,FALSE),\"\")","v":""}]
[null,null,null,{"$f":"IF(COUNTBLANK(C1445)=0,VLOOKUP(C1445,Locks!A:D,4,FALSE),\"\")","v":""},{"$f":"IF(COUNTBLANK(C1445)=0,VLOOKUP(C1445,Locks!A:E,5,FALSE),\"\")","v":""}]
[null,null,null,{"$f":"IF(COUNTBLANK(C1446)=0,VLOOKUP(C1446,Locks!A:D,4,FALSE),\"\")","v":""},{"$f":"IF(COUNTBLANK(C1446)=0,VLOOKUP(C1446,Locks!A:E,5,FALSE),\"\")","v":""}]
[null,null,null,{"$f":"IF(COUNTBLANK(C1447)=0,VLOOKUP(C1447,Locks!A:D,4,FALSE),\"\")","v":""},{"$f":"IF(COUNTBLANK(C1447)=0,VLOOKUP(C1447,Locks!A:E,5,FALSE),\"\")","v":""}]
[null,null,null,{"$f":"IF(COUNTBLANK(C1448)=0,VLOOKUP(C1448,Locks!A:D,4,FALSE),\"\")","v":""},{"$f":"IF(COUNTBLANK(C1448)=0,VLOOKUP(C1448,Locks!A:E,5,FALSE),\"\")","v":""}]
[null,null,null,{"$f":"IF(COUNTBLANK(C1449)=0,VLOOKUP(C1449,Locks!A:D,4,FALSE),\"\")","v":""},{"$f":"IF(COUNTBLANK(C1449)=0,VLOOKUP(C1449,Locks!A:E,5,FALSE),\"\")","v":""}]
[null,null,null,{"$f":"IF(COUNTBLANK(C1450)=0,VLOOKUP(C1450,Locks!A:D,4,FALSE),\"\")","v":""},{"$f":"IF(COUNTBLANK(C1450)=0,VLOOKUP(C1450,Locks!A:E,5,FALSE),\"\")","v":""}]
[null,null,null,{"$f":"IF(COUNTBLANK(C1451)=0,VLOOKUP(C1451,Locks!A:D,4,FALSE),\"\")","v":""},{"$f":"IF(COUNTBLANK(C1451)=0,VLOOKUP(C1451,Locks!A:E,5,FALSE),\"\")","v":""}]
[null,null,null,{"$f":"IF(COUNTBLANK(C1452)=0,VLOOKUP(C1452,Locks!A:D,4,FALSE),\"\")","v":""},{"$f":"IF(COUNTBLANK(C1452)=0,VLOOKUP(C1452,Locks!A:E,5,FALSE),\"\")","v":""}]
[null,null,null,{"$f":"IF(COUNTBLANK(C1453)=0,VLOOKUP(C1453,Locks!A:D,4,FALSE),\"\")","v":""},{"$f":"IF(COUNTBLANK(C1453)=0,VLOOKUP(C1453,Locks!A:E,5,FALSE),\"\")","v":""}]
[null,null,null,{"$f":"IF(COUNTBLANK(C1454)=0,VLOOKUP(C1454,Locks!A:D,4,FALSE),\"\")","v":""},{"$f":"IF(COUNTBLANK(C1454)=0,VLOOKUP(C1454,Locks!A:E,5,FALSE),\"\")","v":""}]
[null,null,null,{"$f":"IF(COUNTBLANK(C1455)=0,VLOOKUP(C1455,Locks!A:D,4,FALSE),\"\")","v":""},{"$f":"IF(COUNTBLANK(C1455)=0,VLOOKUP(C1455,Locks!A:E,5,FALSE),\"\")","v":""}]
[null,null,null,{"$f":"IF(COUNTBLANK(C1456)=0,VLOOKUP(C1456,Locks!A:D,4,FALSE),\"\")","v":""},{"$f":"IF(COUNTBLANK(C1456)=0,VLOOKUP(C1456,Locks!A:E,5,FALSE),\"\")","v":""}]
[null,null,null,{"$f":"IF(COUNTBLANK(C1457)=0,VLOOKUP(C1457,Locks!A:D,4,FALSE),\"\")","v":""},{"$f":"IF(COUNTBLANK(C1457)=0,VLOOKUP(C1457,Locks!A:E,5,FALSE),\"\")","v":""}]
[null,null,null,{"$f":"IF(COUNTBLANK(C1458)=0,VLOOKUP(C1458,Locks!A:D,4,FALSE),\"\")","v":""},{"$f":"IF(COUNTBLANK(C1458)=0,VLOOKUP(C1458,Locks!A:E,5,FALSE),\"\")","v":""}]
[null,null,null,{"$f":"IF(COUNTBLANK(C1459)=0,VLOOKUP(C1459,Locks!A:D,4,FALSE),\"\")","v":""},{"$f":"IF(COUNTBLANK(C1459)=0,VLOOKUP(C1459,Locks!A:E,5,FALSE),\"\")","v":""}]
[null,null,null,{"$f":"IF(COUNTBLANK(C1460)=0,VLOOKUP(C1460,Locks!A:D,4,FALSE),\"\")","v":""},{"$f":"IF(COUNTBLANK(C1460)=0,VLOOKUP(C1460,Locks!A:E,5,FALSE),\"\")","v":""}]
[null,null,null,{"$f":"IF(COUNTBLANK(C1461)=0,VLOOKUP(C1461,Locks!A:D,4,FALSE),\"\")","v":""},{"$f":"IF(COUNTBLANK(C1461)=0,VLOOKUP(C1461,Locks!A:E,5,FALSE),\"\")","v":""}]
[null,null,null,{"$f":"IF(COUNTBLANK(C1462)=0,VLOOKUP(C1462,Locks!A:D,4,FALSE),\"\")","v":""},{"$f":"IF(COUNTBLANK(C1462)=0,VLOOKUP(C1462,Locks!A:E,5,FALSE),\"\")","v":""}]
[null,null,null,{"$f":"IF(COUNTBLANK(C1463)=0,VLOOKUP(C1463,Locks!A:D,4,FALSE),\"\")","v":""},{"$f":"IF(COUNTBLANK(C1463)=0,VLOOKUP(C1463,Locks!A:E,5,FALSE),\"\")","v":""}]
[null,null,null,{"$f":"IF(COUNTBLANK(C1464)=0,VLOOKUP(C1464,Locks!A:D,4,FALSE),\"\")","v":""},{"$f":"IF(COUNTBLANK(C1464)=0,VLOOKUP(C1464,Locks!A:E,5,FALSE),\"\")","v":""}]
[null,null,null,{"$f":"IF(COUNTBLANK(C1465)=0,VLOOKUP(C1465,Locks!A:D,4,FALSE),\"\")","v":""},{"$f":"IF(COUNTBLANK(C1465)=0,VLOOKUP(C1465,Locks!A:E,5,FALSE),\"\")","v":""}]
[null,null,null,{"$f":"IF(COUNTBLANK(C1466)=0,VLOOKUP(C1466,Locks!A:D,4,FALSE),\"\")","v":""},{"$f":"IF(COUNTBLANK(C1466)=0,VLOOKUP(C1466,Locks!A:E,5,FALSE),\"\")","v":""}]
[null,null,null,{"$f":"IF(COUNTBLANK(C1467)=0,VLOOKUP(C1467,Locks!A:D,4,FALSE),\"\")","v":""},{"$f":"IF(COUNTBLANK(C1467)=0,VLOOKUP(C1467,Locks!A:E,5,FALSE),\"\")","v":""}]
[null,null,null,{"$f":"IF(COUNTBLANK(C1468)=0,VLOOKUP(C1468,Locks!A:D,4,FALSE),\"\")","v":""},{"$f":"IF(COUNTBLANK(C1468)=0,VLOOKUP(C1468,Locks!A:E,5,FALSE),\"\")","v":""}]
[null,null,null,{"$f":"IF(COUNTBLANK(C1469)=0,VLOOKUP(C1469,Locks!A:D,4,FALSE),\"\")","v":""},{"$f":"IF(COUNTBLANK(C1469)=0,VLOOKUP(C1469,Locks!A:E,5,FALSE),\"\")","v":""}]
[null,null,null,{"$f":"IF(COUNTBLANK(C1470)=0,VLOOKUP(C1470,Locks!A:D,4,FALSE),\"\")","v":""},{"$f":"IF(COUNTBLANK(C1470)=0,VLOOKUP(C1470,Locks!A:E,5,FALSE),\"\")","v":""}]
[null,null,null,{"$f":"IF(COUNTBLANK(C1471)=0,VLOOKUP(C1471,Locks!A:D,4,FALSE),\"\")","v":""},{"$f":"IF(COUNTBLANK(C1471)=0,VLOOKUP(C1471,Locks!A:E,5,FALSE),\"\")","v":""}]
[null,null,null,{"$f":"IF(COUNTBLANK(C1472)=0,VLOOKUP(C1472,Locks!A:D,4,FALSE),\"\")","v":""},{"$f":"IF(COUNTBLANK(C1472)=0,VLOOKUP(C1472,Locks!A:E,5,FALSE),\"\")","v":""}]
[null,null,null,{"$f":"IF(COUNTBLANK(C1473)=0,VLOOKUP(C1473,Locks!A:D,4,FALSE),\"\")","v":""},{"$f":"IF(COUNTBLANK(C1473)=0,VLOOKUP(C1473,Locks!A:E,5,FALSE),\"\")","v":""}]
[null,null,null,{"$f":"IF(COUNTBLANK(C1474)=0,VLOOKUP(C1474,Locks!A:D,4,FALSE),\"\")","v":""},{"$f":"IF(COUNTBLANK(C1474)=0,VLOOKUP(C1474,Locks!A:E,5,FALSE),\"\")","v":""}]
[null,null,null,{"$f":"IF(COUNTBLANK(C1475)=0,VLOOKUP(C1475,Locks!A:D,4,FALSE),\"\")","v":""},{"$f":"IF(COUNTBLANK(C1475)=0,VLOOKUP(C1475,Locks!A:E,5,FALSE),\"\")","v":""}]
[null,null,null,{"$f":"IF(COUNTBLANK(C1476)=0,VLOOKUP(C1476,Locks!A:D,4,FALSE),\"\")","v":""},{"$f":"IF(COUNTBLANK(C1476)=0,VLOOKUP(C1476,Locks!A:E,5,FALSE),\"\")","v":""}]
[null,null,null,{"$f":"IF(COUNTBLANK(C1477)=0,VLOOKUP(C1477,Locks!A:D,4,FALSE),\"\")","v":""},{"$f":"IF(COUNTBLANK(C1477)=0,VLOOKUP(C1477,Locks!A:E,5,FALSE),\"\")","v":""}]
[null,null,null,{"$f":"IF(COUNTBLANK(C1478)=0,VLOOKUP(C1478,Locks!A:D,4,FALSE),\"\")","v":""},{"$f":"IF(COUNTBLANK(C1478)=0,VLOOKUP(C1478,Locks!A:E,5,FALSE),\"\")","v":""}]
[null,null,null,{"$f":"IF(COUNTBLANK(C1479)=0,VLOOKUP(C1479,Locks!A:D,4,FALSE),\"\")","v":""},{"$f":"IF(COUNTBLANK(C1479)=0,VLOOKUP(C1479,Locks!A:E,5,FALSE),\"\")","v":""}]
[null,null,null,{"$f":"IF(COUNTBLANK(C1480)=0,VLOOKUP(C1480,Locks!A:D,4,FALSE),\"\")","v":""},{"$f":"IF(COUNTBLANK(C1480)=0,VLOOKUP(C1480,Locks!A:E,5,FALSE),\"\")","v":""}]
[null,null,null,{"$f":"IF(COUNTBLANK(C1481)=0,VLOOKUP(C1481,Locks!A:D,4,FALSE),\"\")","v":""},{"$f":"IF(COUNTBLANK(C1481)=0,VLOOKUP(C1481,Locks!A:E,5,FALSE),\"\")","v":""}]
[null,null,null,{"$f":"IF(COUNTBLANK(C1482)=0,VLOOKUP(C1482,Locks!A:D,4,FALSE),\"\")","v":""},{"$f":"IF(COUNTBLANK(C1482)=0,VLOOKUP(C1482,Locks!A:E,5,FALSE),\"\")","v":""}]
[null,null,null,{"$f":"IF(COUNTBLANK(C1483)=0,VLOOKUP(C1483,Locks!A:D,4,FALSE),\"\")","v":""},{"$f":"IF(COUNTBLANK(C1483)=0,VLOOKUP(C1483,Locks!A:E,5,FALSE),\"\")","v":""}]
[null,null,null,{"$f":"IF(COUNTBLANK(C1484)=0,VLOOKUP(C1484,Locks!A:D,4,FALSE),\"\")","v":""},{"$f":"IF(COUNTBLANK(C1484)=0,VLOOKUP(C1484,Locks!A:E,5,FALSE),\"\")","v":""}]
[null,null,null,{"$f":"IF(COUNTBLANK(C1485)=0,VLOOKUP(C1485,Locks!A:D,4,FALSE),\"\")","v":""},{"$f":"IF(COUNTBLANK(C1485)=0,VLOOKUP(C1485,Locks!A:E,5,FALSE),\"\")","v":""}]
[null,null,null,{"$f":"IF(COUNTBLANK(C1486)=0,VLOOKUP(C1486,Locks!A:D,4,FALSE),\"\")","v":""},{"$f":"IF(COUNTBLANK(C1486)=0,VLOOKUP(C1486,Locks!A:E,5,FALSE),\"\")","v":""}]
[null,null,null,{"$f":"IF(COUNTBLANK(C1487)=0,VLOOKUP(C1487,Locks!A:D,4,FALSE),\"\")","v":""},{"$f":"IF(COUNTBLANK(C1487)=0,VLOOKUP(C1487,Locks!A:E,5,FALSE),\"\")","v":""}]
[null,null,null,{"$f":"IF(COUNTBLANK(C1488)=0,VLOOKUP(C1488,Locks!A:D,4,FALSE),\"\")","v":""},{"$f":"IF(COUNTBLANK(C1488)=0,VLOOKUP(C1488,Locks!A:E,5,FALSE),\"\")","v":""}]
[null,null,null,{"$f":"IF(COUNTBLANK(C1489)=0,VLOOKUP(C1489,Locks!A:D,4,FALSE),\"\")","v":""},{"$f":"IF(COUNTBLANK(C1489)=0,VLOOKUP(C1489,Locks!A:E,5,FALSE),\"\")","v":""}]
[null,null,null,{"$f":"IF(COUNTBLANK(C1490)=0,VLOOKUP(C1490,Locks!A:D,4,FALSE),\"\")","v":""},{"$f":"IF(COUNTBLANK(C1490)=0,VLOOKUP(C1490,Locks!A:E,5,FALSE),\"\")","v":""}]
[null,null,null,{"$f":"IF(COUNTBLANK(C1491)=0,VLOOKUP(C1491,Locks!A:D,4,FALSE),\"\")","v":""},{"$f":"IF(COUNTBLANK(C1491)=0,VLOOKUP(C1491,Locks!A:E,5,FALSE),\"\")","v":""}]
[null,null,null,{"$f":"IF(COUNTBLANK(C1492)=0,VLOOKUP(C1492,Locks!A:D,4,FALSE),\"\")","v":""},{"$f":"IF(COUNTBLANK(C1492)=0,VLOOKUP(C1492,Locks!A:E,5,FALSE),\"\")","v":""}]
[null,null,null,{"$f":"IF(COUNTBLANK(C1493)=0,VLOOKUP(C1493,Locks!A:D,4,FALSE),\"\")","v":""},{"$f":"IF(COUNTBLANK(C1493)=0,VLOOKUP(C1493,Locks!A:E,5,FALSE),\"\")","v":""}]
[null,null,null,{"$f":"IF(COUNTBLANK(C1494)=0,VLOOKUP(C1494,Locks!A:D,4,FALSE),\"\")","v":""},{"$f":"IF(COUNTBLANK(C1494)=0,VLOOKUP(C1494,Locks!A:E,5,FALSE),\"\")","v":""}]
[null,null,null,{"$f":"IF(COUNTBLANK(C1495)=0,VLOOKUP(C1495,Locks!A:D,4,FALSE),\"\")","v":""},{"$f":"IF(COUNTBLANK(C1495)=0,VLOOKUP(C1495,Locks!A:E,5,FALSE),\"\")","v":""}]
[null,null,null,{"$f":"IF(COUNTBLANK(C1496)=0,VLOOKUP(C1496,Locks!A:D,4,FALSE),\"\")","v":""},{"$f":"IF(COUNTBLANK(C1496)=0,VLOOKUP(C1496,Locks!A:E,5,FALSE),\"\")","v":""}]
[null,null,null,{"$f":"IF(COUNTBLANK(C1497)=0,VLOOKUP(C1497,Locks!A:D,4,FALSE),\"\")","v":""},{"$f":"IF(COUNTBLANK(C1497)=0,VLOOKUP(C1497,Locks!A:E,5,FALSE),\"\")","v":""}]
[null,null,null,{"$f":"IF(COUNTBLANK(C1498)=0,VLOOKUP(C1498,Locks!A:D,4,FALSE),\"\")","v":""},{"$f":"IF(COUNTBLANK(C1498)=0,VLOOKUP(C1498,Locks!A:E,5,FALSE),\"\")","v":""}]
[null,null,null,{"$f":"IF(COUNTBLANK(C1499)=0,VLOOKUP(C1499,Locks!A:D,4,FALSE),\"\")","v":""},{"$f":"IF(COUNTBLANK(C1499)=0,VLOOKUP(C1499,Locks!A:E,5,FALSE),\"\")","v":""}]
[null,null,null,{"$f":"IF(COUNTBLANK(C1500)=0,VLOOKUP(C1500,Locks!A:D,4,FALSE),\"\")","v":""},{"$f":"IF(COUNTBLANK(C1500)=0,VLOOKUP(C1500,Locks!A:E,5,FALSE),\"\")","v":""}]
[null,null,null,{"$f":"IF(COUNTBLANK(C1501)=0,VLOOKUP(C1501,Locks!A:D,4,FALSE),\"\")","v":""},{"$f":"IF(COUNTBLANK(C1501)=0,VLOOKUP(C1501,Locks!A:E,5,FALSE),\"\")","v":""}]
[null,null,null,{"$f":"IF(COUNTBLANK(C1502)=0,VLOOKUP(C1502,Locks!A:D,4,FALSE),\"\")","v":""},{"$f":"IF(COUNTBLANK(C1502)=0,VLOOKUP(C1502,Locks!A:E,5,FALSE),\"\")","v":""}]
[null,null,null,{"$f":"IF(COUNTBLANK(C1503)=0,VLOOKUP(C1503,Locks!A:D,4,FALSE),\"\")","v":""},{"$f":"IF(COUNTBLANK(C1503)=0,VLOOKUP(C1503,Locks!A:E,5,FALSE),\"\")","v":""}]
[null,null,null,{"$f":"IF(COUNTBLANK(C1504)=0,VLOOKUP(C1504,Locks!A:D,4,FALSE),\"\")","v":""},{"$f":"IF(COUNTBLANK(C1504)=0,VLOOKUP(C1504,Locks!A:E,5,FALSE),\"\")","v":""}]
[null,null,null,{"$f":"IF(COUNTBLANK(C1505)=0,VLOOKUP(C1505,Locks!A:D,4,FALSE),\"\")","v":""},{"$f":"IF(COUNTBLANK(C1505)=0,VLOOKUP(C1505,Locks!A:E,5,FALSE),\"\")","v":""}]
[null,null,null,{"$f":"IF(COUNTBLANK(C1506)=0,VLOOKUP(C1506,Locks!A:D,4,FALSE),\"\")","v":""},{"$f":"IF(COUNTBLANK(C1506)=0,VLOOKUP(C1506,Locks!A:E,5,FALSE),\"\")","v":""}]
[null,null,null,{"$f":"IF(COUNTBLANK(C1507)=0,VLOOKUP(C1507,Locks!A:D,4,FALSE),\"\")","v":""},{"$f":"IF(COUNTBLANK(C1507)=0,VLOOKUP(C1507,Locks!A:E,5,FALSE),\"\")","v":""}]
[null,null,null,{"$f":"IF(COUNTBLANK(C1508)=0,VLOOKUP(C1508,Locks!A:D,4,FALSE),\"\")","v":""},{"$f":"IF(COUNTBLANK(C1508)=0,VLOOKUP(C1508,Locks!A:E,5,FALSE),\"\")","v":""}]
[null,null,null,{"$f":"IF(COUNTBLANK(C1509)=0,VLOOKUP(C1509,Locks!A:D,4,FALSE),\"\")","v":""},{"$f":"IF(COUNTBLANK(C1509)=0,VLOOKUP(C1509,Locks!A:E,5,FALSE),\"\")","v":""}]
[null,null,null,{"$f":"IF(COUNTBLANK(C1510)=0,VLOOKUP(C1510,Locks!A:D,4,FALSE),\"\")","v":""},{"$f":"IF(COUNTBLANK(C1510)=0,VLOOKUP(C1510,Locks!A:E,5,FALSE),\"\")","v":""}]
[null,null,null,{"$f":"IF(COUNTBLANK(C1511)=0,VLOOKUP(C1511,Locks!A:D,4,FALSE),\"\")","v":""},{"$f":"IF(COUNTBLANK(C1511)=0,VLOOKUP(C1511,Locks!A:E,5,FALSE),\"\")","v":""}]
[null,null,null,{"$f":"IF(COUNTBLANK(C1512)=0,VLOOKUP(C1512,Locks!A:D,4,FALSE),\"\")","v":""},{"$f":"IF(COUNTBLANK(C1512)=0,VLOOKUP(C1512,Locks!A:E,5,FALSE),\"\")","v":""}]
[null,null,null,{"$f":"IF(COUNTBLANK(C1513)=0,VLOOKUP(C1513,Locks!A:D,4,FALSE),\"\")","v":""},{"$f":"IF(COUNTBLANK(C1513)=0,VLOOKUP(C1513,Locks!A:E,5,FALSE),\"\")","v":""}]
[null,null,null,{"$f":"IF(COUNTBLANK(C1514)=0,VLOOKUP(C1514,Locks!A:D,4,FALSE),\"\")","v":""},{"$f":"IF(COUNTBLANK(C1514)=0,VLOOKUP(C1514,Locks!A:E,5,FALSE),\"\")","v":""}]
[null,null,null,{"$f":"IF(COUNTBLANK(C1515)=0,VLOOKUP(C1515,Locks!A:D,4,FALSE),\"\")","v":""},{"$f":"IF(COUNTBLANK(C1515)=0,VLOOKUP(C1515,Locks!A:E,5,FALSE),\"\")","v":""}]
[null,null,null,{"$f":"IF(COUNTBLANK(C1516)=0,VLOOKUP(C1516,Locks!A:D,4,FALSE),\"\")","v":""},{"$f":"IF(COUNTBLANK(C1516)=0,VLOOKUP(C1516,Locks!A:E,5,FALSE),\"\")","v":""}]
[null,null,null,{"$f":"IF(COUNTBLANK(C1517)=0,VLOOKUP(C1517,Locks!A:D,4,FALSE),\"\")","v":""},{"$f":"IF(COUNTBLANK(C1517)=0,VLOOKUP(C1517,Locks!A:E,5,FALSE),\"\")","v":""}]
[null,null,null,{"$f":"IF(COUNTBLANK(C1518)=0,VLOOKUP(C1518,Locks!A:D,4,FALSE),\"\")","v":""},{"$f":"IF(COUNTBLANK(C1518)=0,VLOOKUP(C1518,Locks!A:E,5,FALSE),\"\")","v":""}]
[null,null,null,{"$f":"IF(COUNTBLANK(C1519)=0,VLOOKUP(C1519,Locks!A:D,4,FALSE),\"\")","v":""},{"$f":"IF(COUNTBLANK(C1519)=0,VLOOKUP(C1519,Locks!A:E,5,FALSE),\"\")","v":""}]
[null,null,null,{"$f":"IF(COUNTBLANK(C1520)=0,VLOOKUP(C1520,Locks!A:D,4,FALSE),\"\")","v":""},{"$f":"IF(COUNTBLANK(C1520)=0,VLOOKUP(C1520,Locks!A:E,5,FALSE),\"\")","v":""}]
[null,null,null,{"$f":"IF(COUNTBLANK(C1521)=0,VLOOKUP(C1521,Locks!A:D,4,FALSE),\"\")","v":""},{"$f":"IF(COUNTBLANK(C1521)=0,VLOOKUP(C1521,Locks!A:E,5,FALSE),\"\")","v":""}]
[null,null,null,{"$f":"IF(COUNTBLANK(C1522)=0,VLOOKUP(C1522,Locks!A:D,4,FALSE),\"\")","v":""},{"$f":"IF(COUNTBLANK(C1522)=0,VLOOKUP(C1522,Locks!A:E,5,FALSE),\"\")","v":""}]
[null,null,null,{"$f":"IF(COUNTBLANK(C1523)=0,VLOOKUP(C1523,Locks!A:D,4,FALSE),\"\")","v":""},{"$f":"IF(COUNTBLANK(C1523)=0,VLOOKUP(C1523,Locks!A:E,5,FALSE),\"\")","v":""}]
[null,null,null,{"$f":"IF(COUNTBLANK(C1524)=0,VLOOKUP(C1524,Locks!A:D,4,FALSE),\"\")","v":""},{"$f":"IF(COUNTBLANK(C1524)=0,VLOOKUP(C1524,Locks!A:E,5,FALSE),\"\")","v":""}]
[null,null,null,{"$f":"IF(COUNTBLANK(C1525)=0,VLOOKUP(C1525,Locks!A:D,4,FALSE),\"\")","v":""},{"$f":"IF(COUNTBLANK(C1525)=0,VLOOKUP(C1525,Locks!A:E,5,FALSE),\"\")","v":""}]
[null,null,null,{"$f":"IF(COUNTBLANK(C1526)=0,VLOOKUP(C1526,Locks!A:D,4,FALSE),\"\")","v":""},{"$f":"IF(COUNTBLANK(C1526)=0,VLOOKUP(C1526,Locks!A:E,5,FALSE),\"\")","v":""}]
[null,null,null,{"$f":"IF(COUNTBLANK(C1527)=0,VLOOKUP(C1527,Locks!A:D,4,FALSE),\"\")","v":""},{"$f":"IF(COUNTBLANK(C1527)=0,VLOOKUP(C1527,Locks!A:E,5,FALSE),\"\")","v":""}]
[null,null,null,{"$f":"IF(COUNTBLANK(C1528)=0,VLOOKUP(C1528,Locks!A:D,4,FALSE),\"\")","v":""},{"$f":"IF(COUNTBLANK(C1528)=0,VLOOKUP(C1528,Locks!A:E,5,FALSE),\"\")","v":""}]
[null,null,null,{"$f":"IF(COUNTBLANK(C1529)=0,VLOOKUP(C1529,Locks!A:D,4,FALSE),\"\")","v":""},{"$f":"IF(COUNTBLANK(C1529)=0,VLOOKUP(C1529,Locks!A:E,5,FALSE),\"\")","v":""}]
[null,null,null,{"$f":"IF(COUNTBLANK(C1530)=0,VLOOKUP(C1530,Locks!A:D,4,FALSE),\"\")","v":""},{"$f":"IF(COUNTBLANK(C1530)=0,VLOOKUP(C1530,Locks!A:E,5,FALSE),\"\")","v":""}]
[null,null,null,{"$f":"IF(COUNTBLANK(C1531)=0,VLOOKUP(C1531,Locks!A:D,4,FALSE),\"\")","v":""},{"$f":"IF(COUNTBLANK(C1531)=0,VLOOKUP(C1531,Locks!A:E,5,FALSE),\"\")","v":""}]
[null,null,null,{"$f":"IF(COUNTBLANK(C1532)=0,VLOOKUP(C1532,Locks!A:D,4,FALSE),\"\")","v":""},{"$f":"IF(COUNTBLANK(C1532)=0,VLOOKUP(C1532,Locks!A:E,5,FALSE),\"\")","v":""}]
[null,null,null,{"$f":"IF(COUNTBLANK(C1533)=0,VLOOKUP(C1533,Locks!A:D,4,FALSE),\"\")","v":""},{"$f":"IF(COUNTBLANK(C1533)=0,VLOOKUP(C1533,Locks!A:E,5,FALSE),\"\")","v":""}]
[null,null,null,{"$f":"IF(COUNTBLANK(C1534)=0,VLOOKUP(C1534,Locks!A:D,4,FALSE),\"\")","v":""},{"$f":"IF(COUNTBLANK(C1534)=0,VLOOKUP(C1534,Locks!A:E,5,FALSE),\"\")","v":""}]
[null,null,null,{"$f":"IF(COUNTBLANK(C1535)=0,VLOOKUP(C1535,Locks!A:D,4,FALSE),\"\")","v":""},{"$f":"IF(COUNTBLANK(C1535)=0,VLOOKUP(C1535,Locks!A:E,5,FALSE),\"\")","v":""}]
[null,null,null,{"$f":"IF(COUNTBLANK(C1536)=0,VLOOKUP(C1536,Locks!A:D,4,FALSE),\"\")","v":""},{"$f":"IF(COUNTBLANK(C1536)=0,VLOOKUP(C1536,Locks!A:E,5,FALSE),\"\")","v":""}]
[null,null,null,{"$f":"IF(COUNTBLANK(C1537)=0,VLOOKUP(C1537,Locks!A:D,4,FALSE),\"\")","v":""},{"$f":"IF(COUNTBLANK(C1537)=0,VLOOKUP(C1537,Locks!A:E,5,FALSE),\"\")","v":""}]
[null,null,null,{"$f":"IF(COUNTBLANK(C1538)=0,VLOOKUP(C1538,Locks!A:D,4,FALSE),\"\")","v":""},{"$f":"IF(COUNTBLANK(C1538)=0,VLOOKUP(C1538,Locks!A:E,5,FALSE),\"\")","v":""}]
[null,null,null,{"$f":"IF(COUNTBLANK(C1539)=0,VLOOKUP(C1539,Locks!A:D,4,FALSE),\"\")","v":""},{"$f":"IF(COUNTBLANK(C1539)=0,VLOOKUP(C1539,Locks!A:E,5,FALSE),\"\")","v":""}]
[null,null,null,{"$f":"IF(COUNTBLANK(C1540)=0,VLOOKUP(C1540,Locks!A:D,4,FALSE),\"\")","v":""},{"$f":"IF(COUNTBLANK(C1540)=0,VLOOKUP(C1540,Locks!A:E,5,FALSE),\"\")","v":""}]
[null,null,null,{"$f":"IF(COUNTBLANK(C1541)=0,VLOOKUP(C1541,Locks!A:D,4,FALSE),\"\")","v":""},{"$f":"IF(COUNTBLANK(C1541)=0,VLOOKUP(C1541,Locks!A:E,5,FALSE),\"\")","v":""}]
[null,null,null,{"$f":"IF(COUNTBLANK(C1542)=0,VLOOKUP(C1542,Locks!A:D,4,FALSE),\"\")","v":""},{"$f":"IF(COUNTBLANK(C1542)=0,VLOOKUP(C1542,Locks!A:E,5,FALSE),\"\")","v":""}]
[null,null,null,{"$f":"IF(COUNTBLANK(C1543)=0,VLOOKUP(C1543,Locks!A:D,4,FALSE),\"\")","v":""},{"$f":"IF(COUNTBLANK(C1543)=0,VLOOKUP(C1543,Locks!A:E,5,FALSE),\"\")","v":""}]
[null,null,null,{"$f":"IF(COUNTBLANK(C1544)=0,VLOOKUP(C1544,Locks!A:D,4,FALSE),\"\")","v":""},{"$f":"IF(COUNTBLANK(C1544)=0,VLOOKUP(C1544,Locks!A:E,5,FALSE),\"\")","v":""}]
[null,null,null,{"$f":"IF(COUNTBLANK(C1545)=0,VLOOKUP(C1545,Locks!A:D,4,FALSE),\"\")","v":""},{"$f":"IF(COUNTBLANK(C1545)=0,VLOOKUP(C1545,Locks!A:E,5,FALSE),\"\")","v":""}]
[null,null,null,{"$f":"IF(COUNTBLANK(C1546)=0,VLOOKUP(C1546,Locks!A:D,4,FALSE),\"\")","v":""},{"$f":"IF(COUNTBLANK(C1546)=0,VLOOKUP(C1546,Locks!A:E,5,FALSE),\"\")","v":""}]
[null,null,null,{"$f":"IF(COUNTBLANK(C1547)=0,VLOOKUP(C1547,Locks!A:D,4,FALSE),\"\")","v":""},{"$f":"IF(COUNTBLANK(C1547)=0,VLOOKUP(C1547,Locks!A:E,5,FALSE),\"\")","v":""}]
[null,null,null,{"$f":"IF(COUNTBLANK(C1548)=0,VLOOKUP(C1548,Locks!A:D,4,FALSE),\"\")","v":""},{"$f":"IF(COUNTBLANK(C1548)=0,VLOOKUP(C1548,Locks!A:E,5,FALSE),\"\")","v":""}]
[null,null,null,{"$f":"IF(COUNTBLANK(C1549)=0,VLOOKUP(C1549,Locks!A:D,4,FALSE),\"\")","v":""},{"$f":"IF(COUNTBLANK(C1549)=0,VLOOKUP(C1549,Locks!A:E,5,FALSE),\"\")","v":""}]
[null,null,null,{"$f":"IF(COUNTBLANK(C1550)=0,VLOOKUP(C1550,Locks!A:D,4,FALSE),\"\")","v":""},{"$f":"IF(COUNTBLANK(C1550)=0,VLOOKUP(C1550,Locks!A:E,5,FALSE),\"\")","v":""}]
[null,null,null,{"$f":"IF(COUNTBLANK(C1551)=0,VLOOKUP(C1551,Locks!A:D,4,FALSE),\"\")","v":""},{"$f":"IF(COUNTBLANK(C1551)=0,VLOOKUP(C1551,Locks!A:E,5,FALSE),\"\")","v":""}]
[null,null,null,{"$f":"IF(COUNTBLANK(C1552)=0,VLOOKUP(C1552,Locks!A:D,4,FALSE),\"\")","v":""},{"$f":"IF(COUNTBLANK(C1552)=0,VLOOKUP(C1552,Locks!A:E,5,FALSE),\"\")","v":""}]
[null,null,null,{"$f":"IF(COUNTBLANK(C1553)=0,VLOOKUP(C1553,Locks!A:D,4,FALSE),\"\")","v":""},{"$f":"IF(COUNTBLANK(C1553)=0,VLOOKUP(C1553,Locks!A:E,5,FALSE),\"\")","v":""}]
[null,null,null,{"$f":"IF(COUNTBLANK(C1554)=0,VLOOKUP(C1554,Locks!A:D,4,FALSE),\"\")","v":""},{"$f":"IF(COUNTBLANK(C1554)=0,VLOOKUP(C1554,Locks!A:E,5,FALSE),\"\")","v":""}]
[null,null,null,{"$f":"IF(COUNTBLANK(C1555)=0,VLOOKUP(C1555,Locks!A:D,4,FALSE),\"\")","v":""},{"$f":"IF(COUNTBLANK(C1555)=0,VLOOKUP(C1555,Locks!A:E,5,FALSE),\"\")","v":""}]
[null,null,null,{"$f":"IF(COUNTBLANK(C1556)=0,VLOOKUP(C1556,Locks!A:D,4,FALSE),\"\")","v":""},{"$f":"IF(COUNTBLANK(C1556)=0,VLOOKUP(C1556,Locks!A:E,5,FALSE),\"\")","v":""}]
[null,null,null,{"$f":"IF(COUNTBLANK(C1557)=0,VLOOKUP(C1557,Locks!A:D,4,FALSE),\"\")","v":""},{"$f":"IF(COUNTBLANK(C1557)=0,VLOOKUP(C1557,Locks!A:E,5,FALSE),\"\")","v":""}]
[null,null,null,{"$f":"IF(COUNTBLANK(C1558)=0,VLOOKUP(C1558,Locks!A:D,4,FALSE),\"\")","v":""},{"$f":"IF(COUNTBLANK(C1558)=0,VLOOKUP(C1558,Locks!A:E,5,FALSE),\"\")","v":""}]
[null,null,null,{"$f":"IF(COUNTBLANK(C1559)=0,VLOOKUP(C1559,Locks!A:D,4,FALSE),\"\")","v":""},{"$f":"IF(COUNTBLANK(C1559)=0,VLOOKUP(C1559,Locks!A:E,5,FALSE),\"\")","v":""}]
[null,null,null,{"$f":"IF(COUNTBLANK(C1560)=0,VLOOKUP(C1560,Locks!A:D,4,FALSE),\"\")","v":""},{"$f":"IF(COUNTBLANK(C1560)=0,VLOOKUP(C1560,Locks!A:E,5,FALSE),\"\")","v":""}]
[null,null,null,{"$f":"IF(COUNTBLANK(C1561)=0,VLOOKUP(C1561,Locks!A:D,4,FALSE),\"\")","v":""},{"$f":"IF(COUNTBLANK(C1561)=0,VLOOKUP(C1561,Locks!A:E,5,FALSE),\"\")","v":""}]
[null,null,null,{"$f":"IF(COUNTBLANK(C1562)=0,VLOOKUP(C1562,Locks!A:D,4,FALSE),\"\")","v":""},{"$f":"IF(COUNTBLANK(C1562)=0,VLOOKUP(C1562,Locks!A:E,5,FALSE),\"\")","v":""}]
[null,null,null,{"$f":"IF(COUNTBLANK(C1563)=0,VLOOKUP(C1563,Locks!A:D,4,FALSE),\"\")","v":""},{"$f":"IF(COUNTBLANK(C1563)=0,VLOOKUP(C1563,Locks!A:E,5,FALSE),\"\")","v":""}]
[null,null,null,{"$f":"IF(COUNTBLANK(C1564)=0,VLOOKUP(C1564,Locks!A:D,4,FALSE),\"\")","v":""},{"$f":"IF(COUNTBLANK(C1564)=0,VLOOKUP(C1564,Locks!A:E,5,FALSE),\"\")","v":""}]
[null,null,null,{"$f":"IF(COUNTBLANK(C1565)=0,VLOOKUP(C1565,Locks!A:D,4,FALSE),\"\")","v":""},{"$f":"IF(COUNTBLANK(C1565)=0,VLOOKUP(C1565,Locks!A:E,5,FALSE),\"\")","v":""}]
[null,null,null,{"$f":"IF(COUNTBLANK(C1566)=0,VLOOKUP(C1566,Locks!A:D,4,FALSE),\"\")","v":""},{"$f":"IF(COUNTBLANK(C1566)=0,VLOOKUP(C1566,Locks!A:E,5,FALSE),\"\")","v":""}]
[null,null,null,{"$f":"IF(COUNTBLANK(C1567)=0,VLOOKUP(C1567,Locks!A:D,4,FALSE),\"\")","v":""},{"$f":"IF(COUNTBLANK(C1567)=0,VLOOKUP(C1567,Locks!A:E,5,FALSE),\"\")","v":""}]
[null,null,null,{"$f":"IF(COUNTBLANK(C1568)=0,VLOOKUP(C1568,Locks!A:D,4,FALSE),\"\")","v":""},{"$f":"IF(COUNTBLANK(C1568)=0,VLOOKUP(C1568,Locks!A:E,5,FALSE),\"\")","v":""}]
[null,null,null,{"$f":"IF(COUNTBLANK(C1569)=0,VLOOKUP(C1569,Locks!A:D,4,FALSE),\"\")","v":""},{"$f":"IF(COUNTBLANK(C1569)=0,VLOOKUP(C1569,Locks!A:E,5,FALSE),\"\")","v":""}]
[null,null,null,{"$f":"IF(COUNTBLANK(C1570)=0,VLOOKUP(C1570,Locks!A:D,4,FALSE),\"\")","v":""},{"$f":"IF(COUNTBLANK(C1570)=0,VLOOKUP(C1570,Locks!A:E,5,FALSE),\"\")","v":""}]
[null,null,null,{"$f":"IF(COUNTBLANK(C1571)=0,VLOOKUP(C1571,Locks!A:D,4,FALSE),\"\")","v":""},{"$f":"IF(COUNTBLANK(C1571)=0,VLOOKUP(C1571,Locks!A:E,5,FALSE),\"\")","v":""}]
[null,null,null,{"$f":"IF(COUNTBLANK(C1572)=0,VLOOKUP(C1572,Locks!A:D,4,FALSE),\"\")","v":""},{"$f":"IF(COUNTBLANK(C1572)=0,VLOOKUP(C1572,Locks!A:E,5,FALSE),\"\")","v":""}]
[null,null,null,{"$f":"IF(COUNTBLANK(C1573)=0,VLOOKUP(C1573,Locks!A:D,4,FALSE),\"\")","v":""},{"$f":"IF(COUNTBLANK(C1573)=0,VLOOKUP(C1573,Locks!A:E,5,FALSE),\"\")","v":""}]
[null,null,null,{"$f":"IF(COUNTBLANK(C1574)=0,VLOOKUP(C1574,Locks!A:D,4,FALSE),\"\")","v":""},{"$f":"IF(COUNTBLANK(C1574)=0,VLOOKUP(C1574,Locks!A:E,5,FALSE),\"\")","v":""}]
[null,null,null,{"$f":"IF(COUNTBLANK(C1575)=0,VLOOKUP(C1575,Locks!A:D,4,FALSE),\"\")","v":""},{"$f":"IF(COUNTBLANK(C1575)=0,VLOOKUP(C1575,Locks!A:E,5,FALSE),\"\")","v":""}]
[null,null,null,{"$f":"IF(COUNTBLANK(C1576)=0,VLOOKUP(C1576,Locks!A:D,4,FALSE),\"\")","v":""},{"$f":"IF(COUNTBLANK(C1576)=0,VLOOKUP(C1576,Locks!A:E,5,FALSE),\"\")","v":""}]
[null,null,null,{"$f":"IF(COUNTBLANK(C1577)=0,VLOOKUP(C1577,Locks!A:D,4,FALSE),\"\")","v":""},{"$f":"IF(COUNTBLANK(C1577)=0,VLOOKUP(C1577,Locks!A:E,5,FALSE),\"\")","v":""}]
[null,null,null,{"$f":"IF(COUNTBLANK(C1578)=0,VLOOKUP(C1578,Locks!A:D,4,FALSE),\"\")","v":""},{"$f":"IF(COUNTBLANK(C1578)=0,VLOOKUP(C1578,Locks!A:E,5,FALSE),\"\")","v":""}]
[null,null,null,{"$f":"IF(COUNTBLANK(C1579)=0,VLOOKUP(C1579,Locks!A:D,4,FALSE),\"\")","v":""},{"$f":"IF(COUNTBLANK(C1579)=0,VLOOKUP(C1579,Locks!A:E,5,FALSE),\"\")","v":""}]
[null,null,null,{"$f":"IF(COUNTBLANK(C1580)=0,VLOOKUP(C1580,Locks!A:D,4,FALSE),\"\")","v":""},{"$f":"IF(COUNTBLANK(C1580)=0,VLOOKUP(C1580,Locks!A:E,5,FALSE),\"\")","v":""}]
[null,null,null,{"$f":"IF(COUNTBLANK(C1581)=0,VLOOKUP(C1581,Locks!A:D,4,FALSE),\"\")","v":""},{"$f":"IF(COUNTBLANK(C1581)=0,VLOOKUP(C1581,Locks!A:E,5,FALSE),\"\")","v":""}]
[null,null,null,{"$f":"IF(COUNTBLANK(C1582)=0,VLOOKUP(C1582,Locks!A:D,4,FALSE),\"\")","v":""},{"$f":"IF(COUNTBLANK(C1582)=0,VLOOKUP(C1582,Locks!A:E,5,FALSE),\"\")","v":""}]
[null,null,null,{"$f":"IF(COUNTBLANK(C1583)=0,VLOOKUP(C1583,Locks!A:D,4,FALSE),\"\")","v":""},{"$f":"IF(COUNTBLANK(C1583)=0,VLOOKUP(C1583,Locks!A:E,5,FALSE),\"\")","v":""}]
[null,null,null,{"$f":"IF(COUNTBLANK(C1584)=0,VLOOKUP(C1584,Locks!A:D,4,FALSE),\"\")","v":""},{"$f":"IF(COUNTBLANK(C1584)=0,VLOOKUP(C1584,Locks!A:E,5,FALSE),\"\")","v":""}]
[null,null,null,{"$f":"IF(COUNTBLANK(C1585)=0,VLOOKUP(C1585,Locks!A:D,4,FALSE),\"\")","v":""},{"$f":"IF(COUNTBLANK(C1585)=0,VLOOKUP(C1585,Locks!A:E,5,FALSE),\"\")","v":""}]
[null,null,null,{"$f":"IF(COUNTBLANK(C1586)=0,VLOOKUP(C1586,Locks!A:D,4,FALSE),\"\")","v":""},{"$f":"IF(COUNTBLANK(C1586)=0,VLOOKUP(C1586,Locks!A:E,5,FALSE),\"\")","v":""}]
[null,null,null,{"$f":"IF(COUNTBLANK(C1587)=0,VLOOKUP(C1587,Locks!A:D,4,FALSE),\"\")","v":""},{"$f":"IF(COUNTBLANK(C1587)=0,VLOOKUP(C1587,Locks!A:E,5,FALSE),\"\")","v":""}]
[null,null,null,{"$f":"IF(COUNTBLANK(C1588)=0,VLOOKUP(C1588,Locks!A:D,4,FALSE),\"\")","v":""},{"$f":"IF(COUNTBLANK(C1588)=0,VLOOKUP(C1588,Locks!A:E,5,FALSE),\"\")","v":""}]
[null,null,null,{"$f":"IF(COUNTBLANK(C1589)=0,VLOOKUP(C1589,Locks!A:D,4,FALSE),\"\")","v":""},{"$f":"IF(COUNTBLANK(C1589)=0,VLOOKUP(C1589,Locks!A:E,5,FALSE),\"\")","v":""}]
[null,null,null,{"$f":"IF(COUNTBLANK(C1590)=0,VLOOKUP(C1590,Locks!A:D,4,FALSE),\"\")","v":""},{"$f":"IF(COUNTBLANK(C1590)=0,VLOOKUP(C1590,Locks!A:E,5,FALSE),\"\")","v":""}]
[null,null,null,{"$f":"IF(COUNTBLANK(C1591)=0,VLOOKUP(C1591,Locks!A:D,4,FALSE),\"\")","v":""},{"$f":"IF(COUNTBLANK(C1591)=0,VLOOKUP(C1591,Locks!A:E,5,FALSE),\"\")","v":""}]
[null,null,null,{"$f":"IF(COUNTBLANK(C1592)=0,VLOOKUP(C1592,Locks!A:D,4,FALSE),\"\")","v":""},{"$f":"IF(COUNTBLANK(C1592)=0,VLOOKUP(C1592,Locks!A:E,5,FALSE),\"\")","v":""}]
[null,null,null,{"$f":"IF(COUNTBLANK(C1593)=0,VLOOKUP(C1593,Locks!A:D,4,FALSE),\"\")","v":""},{"$f":"IF(COUNTBLANK(C1593)=0,VLOOKUP(C1593,Locks!A:E,5,FALSE),\"\")","v":""}]
[null,null,null,{"$f":"IF(COUNTBLANK(C1594)=0,VLOOKUP(C1594,Locks!A:D,4,FALSE),\"\")","v":""},{"$f":"IF(COUNTBLANK(C1594)=0,VLOOKUP(C1594,Locks!A:E,5,FALSE),\"\")","v":""}]
[null,null,null,{"$f":"IF(COUNTBLANK(C1595)=0,VLOOKUP(C1595,Locks!A:D,4,FALSE),\"\")","v":""},{"$f":"IF(COUNTBLANK(C1595)=0,VLOOKUP(C1595,Locks!A:E,5,FALSE),\"\")","v":""}]
[null,null,null,{"$f":"IF(COUNTBLANK(C1596)=0,VLOOKUP(C1596,Locks!A:D,4,FALSE),\"\")","v":""},{"$f":"IF(COUNTBLANK(C1596)=0,VLOOKUP(C1596,Locks!A:E,5,FALSE),\"\")","v":""}]
[null,null,null,{"$f":"IF(COUNTBLANK(C1597)=0,VLOOKUP(C1597,Locks!A:D,4,FALSE),\"\")","v":""},{"$f":"IF(COUNTBLANK(C1597)=0,VLOOKUP(C1597,Locks!A:E,5,FALSE),\"\")","v":""}]
[null,null,null,{"$f":"IF(COUNTBLANK(C1598)=0,VLOOKUP(C1598,Locks!A:D,4,FALSE),\"\")","v":""},{"$f":"IF(COUNTBLANK(C1598)=0,VLOOKUP(C1598,Locks!A:E,5,FALSE),\"\")","v":""}]
[null,null,null,{"$f":"IF(COUNTBLANK(C1599)=0,VLOOKUP(C1599,Locks!A:D,4,FALSE),\"\")","v":""},{"$f":"IF(COUNTBLANK(C1599)=0,VLOOKUP(C1599,Locks!A:E,5,FALSE),\"\")","v":""}]
[null,null,null,{"$f":"IF(COUNTBLANK(C1600)=0,VLOOKUP(C1600,Locks!A:D,4,FALSE),\"\")","v":""},{"$f":"IF(COUNTBLANK(C1600)=0,VLOOKUP(C1600,Locks!A:E,5,FALSE),\"\")","v":""}]
[null,null,null,{"$f":"IF(COUNTBLANK(C1601)=0,VLOOKUP(C1601,Locks!A:D,4,FALSE),\"\")","v":""},{"$f":"IF(COUNTBLANK(C1601)=0,VLOOKUP(C1601,Locks!A:E,5,FALSE),\"\")","v":""}]
[null,null,null,{"$f":"IF(COUNTBLANK(C1602)=0,VLOOKUP(C1602,Locks!A:D,4,FALSE),\"\")","v":""},{"$f":"IF(COUNTBLANK(C1602)=0,VLOOKUP(C1602,Locks!A:E,5,FALSE),\"\")","v":""}]
[null,null,null,{"$f":"IF(COUNTBLANK(C1603)=0,VLOOKUP(C1603,Locks!A:D,4,FALSE),\"\")","v":""},{"$f":"IF(COUNTBLANK(C1603)=0,VLOOKUP(C1603,Locks!A:E,5,FALSE),\"\")","v":""}]
[null,null,null,{"$f":"IF(COUNTBLANK(C1604)=0,VLOOKUP(C1604,Locks!A:D,4,FALSE),\"\")","v":""},{"$f":"IF(COUNTBLANK(C1604)=0,VLOOKUP(C1604,Locks!A:E,5,FALSE),\"\")","v":""}]
[null,null,null,{"$f":"IF(COUNTBLANK(C1605)=0,VLOOKUP(C1605,Locks!A:D,4,FALSE),\"\")","v":""},{"$f":"IF(COUNTBLANK(C1605)=0,VLOOKUP(C1605,Locks!A:E,5,FALSE),\"\")","v":""}]
[null,null,null,{"$f":"IF(COUNTBLANK(C1606)=0,VLOOKUP(C1606,Locks!A:D,4,FALSE),\"\")","v":""},{"$f":"IF(COUNTBLANK(C1606)=0,VLOOKUP(C1606,Locks!A:E,5,FALSE),\"\")","v":""}]
[null,null,null,{"$f":"IF(COUNTBLANK(C1607)=0,VLOOKUP(C1607,Locks!A:D,4,FALSE),\"\")","v":""},{"$f":"IF(COUNTBLANK(C1607)=0,VLOOKUP(C1607,Locks!A:E,5,FALSE),\"\")","v":""}]
[null,null,null,{"$f":"IF(COUNTBLANK(C1608)=0,VLOOKUP(C1608,Locks!A:D,4,FALSE),\"\")","v":""},{"$f":"IF(COUNTBLANK(C1608)=0,VLOOKUP(C1608,Locks!A:E,5,FALSE),\"\")","v":""}]
[null,null,null,{"$f":"IF(COUNTBLANK(C1609)=0,VLOOKUP(C1609,Locks!A:D,4,FALSE),\"\")","v":""},{"$f":"IF(COUNTBLANK(C1609)=0,VLOOKUP(C1609,Locks!A:E,5,FALSE),\"\")","v":""}]
[null,null,null,{"$f":"IF(COUNTBLANK(C1610)=0,VLOOKUP(C1610,Locks!A:D,4,FALSE),\"\")","v":""},{"$f":"IF(COUNTBLANK(C1610)=0,VLOOKUP(C1610,Locks!A:E,5,FALSE),\"\")","v":""}]
[null,null,null,{"$f":"IF(COUNTBLANK(C1611)=0,VLOOKUP(C1611,Locks!A:D,4,FALSE),\"\")","v":""},{"$f":"IF(COUNTBLANK(C1611)=0,VLOOKUP(C1611,Locks!A:E,5,FALSE),\"\")","v":""}]
[null,null,null,{"$f":"IF(COUNTBLANK(C1612)=0,VLOOKUP(C1612,Locks!A:D,4,FALSE),\"\")","v":""},{"$f":"IF(COUNTBLANK(C1612)=0,VLOOKUP(C1612,Locks!A:E,5,FALSE),\"\")","v":""}]
[null,null,null,{"$f":"IF(COUNTBLANK(C1613)=0,VLOOKUP(C1613,Locks!A:D,4,FALSE),\"\")","v":""},{"$f":"IF(COUNTBLANK(C1613)=0,VLOOKUP(C1613,Locks!A:E,5,FALSE),\"\")","v":""}]
[null,null,null,{"$f":"IF(COUNTBLANK(C1614)=0,VLOOKUP(C1614,Locks!A:D,4,FALSE),\"\")","v":""},{"$f":"IF(COUNTBLANK(C1614)=0,VLOOKUP(C1614,Locks!A:E,5,FALSE),\"\")","v":""}]
[null,null,null,{"$f":"IF(COUNTBLANK(C1615)=0,VLOOKUP(C1615,Locks!A:D,4,FALSE),\"\")","v":""},{"$f":"IF(COUNTBLANK(C1615)=0,VLOOKUP(C1615,Locks!A:E,5,FALSE),\"\")","v":""}]
[null,null,null,{"$f":"IF(COUNTBLANK(C1616)=0,VLOOKUP(C1616,Locks!A:D,4,FALSE),\"\")","v":""},{"$f":"IF(COUNTBLANK(C1616)=0,VLOOKUP(C1616,Locks!A:E,5,FALSE),\"\")","v":""}]
[null,null,null,{"$f":"IF(COUNTBLANK(C1617)=0,VLOOKUP(C1617,Locks!A:D,4,FALSE),\"\")","v":""},{"$f":"IF(COUNTBLANK(C1617)=0,VLOOKUP(C1617,Locks!A:E,5,FALSE),\"\")","v":""}]
[null,null,null,{"$f":"IF(COUNTBLANK(C1618)=0,VLOOKUP(C1618,Locks!A:D,4,FALSE),\"\")","v":""},{"$f":"IF(COUNTBLANK(C1618)=0,VLOOKUP(C1618,Locks!A:E,5,FALSE),\"\")","v":""}]
[null,null,null,{"$f":"IF(COUNTBLANK(C1619)=0,VLOOKUP(C1619,Locks!A:D,4,FALSE),\"\")","v":""},{"$f":"IF(COUNTBLANK(C1619)=0,VLOOKUP(C1619,Locks!A:E,5,FALSE),\"\")","v":""}]
[null,null,null,{"$f":"IF(COUNTBLANK(C1620)=0,VLOOKUP(C1620,Locks!A:D,4,FALSE),\"\")","v":""},{"$f":"IF(COUNTBLANK(C1620)=0,VLOOKUP(C1620,Locks!A:E,5,FALSE),\"\")","v":""}]
[null,null,null,{"$f":"IF(COUNTBLANK(C1621)=0,VLOOKUP(C1621,Locks!A:D,4,FALSE),\"\")","v":""},{"$f":"IF(COUNTBLANK(C1621)=0,VLOOKUP(C1621,Locks!A:E,5,FALSE),\"\")","v":""}]
[null,null,null,{"$f":"IF(COUNTBLANK(C1622)=0,VLOOKUP(C1622,Locks!A:D,4,FALSE),\"\")","v":""},{"$f":"IF(COUNTBLANK(C1622)=0,VLOOKUP(C1622,Locks!A:E,5,FALSE),\"\")","v":""}]
[null,null,null,{"$f":"IF(COUNTBLANK(C1623)=0,VLOOKUP(C1623,Locks!A:D,4,FALSE),\"\")","v":""},{"$f":"IF(COUNTBLANK(C1623)=0,VLOOKUP(C1623,Locks!A:E,5,FALSE),\"\")","v":""}]
[null,null,null,{"$f":"IF(COUNTBLANK(C1624)=0,VLOOKUP(C1624,Locks!A:D,4,FALSE),\"\")","v":""},{"$f":"IF(COUNTBLANK(C1624)=0,VLOOKUP(C1624,Locks!A:E,5,FALSE),\"\")","v":""}]
[null,null,null,{"$f":"IF(COUNTBLANK(C1625)=0,VLOOKUP(C1625,Locks!A:D,4,FALSE),\"\")","v":""},{"$f":"IF(COUNTBLANK(C1625)=0,VLOOKUP(C1625,Locks!A:E,5,FALSE),\"\")","v":""}]
[null,null,null,{"$f":"IF(COUNTBLANK(C1626)=0,VLOOKUP(C1626,Locks!A:D,4,FALSE),\"\")","v":""},{"$f":"IF(COUNTBLANK(C1626)=0,VLOOKUP(C1626,Locks!A:E,5,FALSE),\"\")","v":""}]
[null,null,null,{"$f":"IF(COUNTBLANK(C1627)=0,VLOOKUP(C1627,Locks!A:D,4,FALSE),\"\")","v":""},{"$f":"IF(COUNTBLANK(C1627)=0,VLOOKUP(C1627,Locks!A:E,5,FALSE),\"\")","v":""}]
[null,null,null,{"$f":"IF(COUNTBLANK(C1628)=0,VLOOKUP(C1628,Locks!A:D,4,FALSE),\"\")","v":""},{"$f":"IF(COUNTBLANK(C1628)=0,VLOOKUP(C1628,Locks!A:E,5,FALSE),\"\")","v":""}]
[null,null,null,{"$f":"IF(COUNTBLANK(C1629)=0,VLOOKUP(C1629,Locks!A:D,4,FALSE),\"\")","v":""},{"$f":"IF(COUNTBLANK(C1629)=0,VLOOKUP(C1629,Locks!A:E,5,FALSE),\"\")","v":""}]
[null,null,null,{"$f":"IF(COUNTBLANK(C1630)=0,VLOOKUP(C1630,Locks!A:D,4,FALSE),\"\")","v":""},{"$f":"IF(COUNTBLANK(C1630)=0,VLOOKUP(C1630,Locks!A:E,5,FALSE),\"\")","v":""}]
[null,null,null,{"$f":"IF(COUNTBLANK(C1631)=0,VLOOKUP(C1631,Locks!A:D,4,FALSE),\"\")","v":""},{"$f":"IF(COUNTBLANK(C1631)=0,VLOOKUP(C1631,Locks!A:E,5,FALSE),\"\")","v":""}]
[null,null,null,{"$f":"IF(COUNTBLANK(C1632)=0,VLOOKUP(C1632,Locks!A:D,4,FALSE),\"\")","v":""},{"$f":"IF(COUNTBLANK(C1632)=0,VLOOKUP(C1632,Locks!A:E,5,FALSE),\"\")","v":""}]
[null,null,null,{"$f":"IF(COUNTBLANK(C1633)=0,VLOOKUP(C1633,Locks!A:D,4,FALSE),\"\")","v":""},{"$f":"IF(COUNTBLANK(C1633)=0,VLOOKUP(C1633,Locks!A:E,5,FALSE),\"\")","v":""}]
[null,null,null,{"$f":"IF(COUNTBLANK(C1634)=0,VLOOKUP(C1634,Locks!A:D,4,FALSE),\"\")","v":""},{"$f":"IF(COUNTBLANK(C1634)=0,VLOOKUP(C1634,Locks!A:E,5,FALSE),\"\")","v":""}]
[null,null,null,{"$f":"IF(COUNTBLANK(C1635)=0,VLOOKUP(C1635,Locks!A:D,4,FALSE),\"\")","v":""},{"$f":"IF(COUNTBLANK(C1635)=0,VLOOKUP(C1635,Locks!A:E,5,FALSE),\"\")","v":""}]
[null,null,null,{"$f":"IF(COUNTBLANK(C1636)=0,VLOOKUP(C1636,Locks!A:D,4,FALSE),\"\")","v":""},{"$f":"IF(COUNTBLANK(C1636)=0,VLOOKUP(C1636,Locks!A:E,5,FALSE),\"\")","v":""}]
[null,null,null,{"$f":"IF(COUNTBLANK(C1637)=0,VLOOKUP(C1637,Locks!A:D,4,FALSE),\"\")","v":""},{"$f":"IF(COUNTBLANK(C1637)=0,VLOOKUP(C1637,Locks!A:E,5,FALSE),\"\")","v":""}]
[null,null,null,{"$f":"IF(COUNTBLANK(C1638)=0,VLOOKUP(C1638,Locks!A:D,4,FALSE),\"\")","v":""},{"$f":"IF(COUNTBLANK(C1638)=0,VLOOKUP(C1638,Locks!A:E,5,FALSE),\"\")","v":""}]
[null,null,null,{"$f":"IF(COUNTBLANK(C1639)=0,VLOOKUP(C1639,Locks!A:D,4,FALSE),\"\")","v":""},{"$f":"IF(COUNTBLANK(C1639)=0,VLOOKUP(C1639,Locks!A:E,5,FALSE),\"\")","v":""}]
[null,null,null,{"$f":"IF(COUNTBLANK(C1640)=0,VLOOKUP(C1640,Locks!A:D,4,FALSE),\"\")","v":""},{"$f":"IF(COUNTBLANK(C1640)=0,VLOOKUP(C1640,Locks!A:E,5,FALSE),\"\")","v":""}]
[null,null,null,{"$f":"IF(COUNTBLANK(C1641)=0,VLOOKUP(C1641,Locks!A:D,4,FALSE),\"\")","v":""},{"$f":"IF(COUNTBLANK(C1641)=0,VLOOKUP(C1641,Locks!A:E,5,FALSE),\"\")","v":""}]
[null,null,null,{"$f":"IF(COUNTBLANK(C1642)=0,VLOOKUP(C1642,Locks!A:D,4,FALSE),\"\")","v":""},{"$f":"IF(COUNTBLANK(C1642)=0,VLOOKUP(C1642,Locks!A:E,5,FALSE),\"\")","v":""}]
[null,null,null,{"$f":"IF(COUNTBLANK(C1643)=0,VLOOKUP(C1643,Locks!A:D,4,FALSE),\"\")","v":""},{"$f":"IF(COUNTBLANK(C1643)=0,VLOOKUP(C1643,Locks!A:E,5,FALSE),\"\")","v":""}]
[null,null,null,{"$f":"IF(COUNTBLANK(C1644)=0,VLOOKUP(C1644,Locks!A:D,4,FALSE),\"\")","v":""},{"$f":"IF(COUNTBLANK(C1644)=0,VLOOKUP(C1644,Locks!A:E,5,FALSE),\"\")","v":""}]
[null,null,null,{"$f":"IF(COUNTBLANK(C1645)=0,VLOOKUP(C1645,Locks!A:D,4,FALSE),\"\")","v":""},{"$f":"IF(COUNTBLANK(C1645)=0,VLOOKUP(C1645,Locks!A:E,5,FALSE),\"\")","v":""}]
[null,null,null,{"$f":"IF(COUNTBLANK(C1646)=0,VLOOKUP(C1646,Locks!A:D,4,FALSE),\"\")","v":""},{"$f":"IF(COUNTBLANK(C1646)=0,VLOOKUP(C1646,Locks!A:E,5,FALSE),\"\")","v":""}]
[null,null,null,{"$f":"IF(COUNTBLANK(C1647)=0,VLOOKUP(C1647,Locks!A:D,4,FALSE),\"\")","v":""},{"$f":"IF(COUNTBLANK(C1647)=0,VLOOKUP(C1647,Locks!A:E,5,FALSE),\"\")","v":""}]
[null,null,null,{"$f":"IF(COUNTBLANK(C1648)=0,VLOOKUP(C1648,Locks!A:D,4,FALSE),\"\")","v":""},{"$f":"IF(COUNTBLANK(C1648)=0,VLOOKUP(C1648,Locks!A:E,5,FALSE),\"\")","v":""}]
[null,null,null,{"$f":"IF(COUNTBLANK(C1649)=0,VLOOKUP(C1649,Locks!A:D,4,FALSE),\"\")","v":""},{"$f":"IF(COUNTBLANK(C1649)=0,VLOOKUP(C1649,Locks!A:E,5,FALSE),\"\")","v":""}]
[null,null,null,{"$f":"IF(COUNTBLANK(C1650)=0,VLOOKUP(C1650,Locks!A:D,4,FALSE),\"\")","v":""},{"$f":"IF(COUNTBLANK(C1650)=0,VLOOKUP(C1650,Locks!A:E,5,FALSE),\"\")","v":""}]
[null,null,null,{"$f":"IF(COUNTBLANK(C1651)=0,VLOOKUP(C1651,Locks!A:D,4,FALSE),\"\")","v":""},{"$f":"IF(COUNTBLANK(C1651)=0,VLOOKUP(C1651,Locks!A:E,5,FALSE),\"\")","v":""}]
[null,null,null,{"$f":"IF(COUNTBLANK(C1652)=0,VLOOKUP(C1652,Locks!A:D,4,FALSE),\"\")","v":""},{"$f":"IF(COUNTBLANK(C1652)=0,VLOOKUP(C1652,Locks!A:E,5,FALSE),\"\")","v":""}]
[null,null,null,{"$f":"IF(COUNTBLANK(C1653)=0,VLOOKUP(C1653,Locks!A:D,4,FALSE),\"\")","v":""},{"$f":"IF(COUNTBLANK(C1653)=0,VLOOKUP(C1653,Locks!A:E,5,FALSE),\"\")","v":""}]
[null,null,null,{"$f":"IF(COUNTBLANK(C1654)=0,VLOOKUP(C1654,Locks!A:D,4,FALSE),\"\")","v":""},{"$f":"IF(COUNTBLANK(C1654)=0,VLOOKUP(C1654,Locks!A:E,5,FALSE),\"\")","v":""}]
[null,null,null,{"$f":"IF(COUNTBLANK(C1655)=0,VLOOKUP(C1655,Locks!A:D,4,FALSE),\"\")","v":""},{"$f":"IF(COUNTBLANK(C1655)=0,VLOOKUP(C1655,Locks!A:E,5,FALSE),\"\")","v":""}]
[null,null,null,{"$f":"IF(COUNTBLANK(C1656)=0,VLOOKUP(C1656,Locks!A:D,4,FALSE),\"\")","v":""},{"$f":"IF(COUNTBLANK(C1656)=0,VLOOKUP(C1656,Locks!A:E,5,FALSE),\"\")","v":""}]
[null,null,null,{"$f":"IF(COUNTBLANK(C1657)=0,VLOOKUP(C1657,Locks!A:D,4,FALSE),\"\")","v":""},{"$f":"IF(COUNTBLANK(C1657)=0,VLOOKUP(C1657,Locks!A:E,5,FALSE),\"\")","v":""}]
[null,null,null,{"$f":"IF(COUNTBLANK(C1658)=0,VLOOKUP(C1658,Locks!A:D,4,FALSE),\"\")","v":""},{"$f":"IF(COUNTBLANK(C1658)=0,VLOOKUP(C1658,Locks!A:E,5,FALSE),\"\")","v":""}]
[null,null,null,{"$f":"IF(COUNTBLANK(C1659)=0,VLOOKUP(C1659,Locks!A:D,4,FALSE),\"\")","v":""},{"$f":"IF(COUNTBLANK(C1659)=0,VLOOKUP(C1659,Locks!A:E,5,FALSE),\"\")","v":""}]
[null,null,null,{"$f":"IF(COUNTBLANK(C1660)=0,VLOOKUP(C1660,Locks!A:D,4,FALSE),\"\")","v":""},{"$f":"IF(COUNTBLANK(C1660)=0,VLOOKUP(C1660,Locks!A:E,5,FALSE),\"\")","v":""}]
[null,null,null,{"$f":"IF(COUNTBLANK(C1661)=0,VLOOKUP(C1661,Locks!A:D,4,FALSE),\"\")","v":""},{"$f":"IF(COUNTBLANK(C1661)=0,VLOOKUP(C1661,Locks!A:E,5,FALSE),\"\")","v":""}]
[null,null,null,{"$f":"IF(COUNTBLANK(C1662)=0,VLOOKUP(C1662,Locks!A:D,4,FALSE),\"\")","v":""},{"$f":"IF(COUNTBLANK(C1662)=0,VLOOKUP(C1662,Locks!A:E,5,FALSE),\"\")","v":""}]
[null,null,null,{"$f":"IF(COUNTBLANK(C1663)=0,VLOOKUP(C1663,Locks!A:D,4,FALSE),\"\")","v":""},{"$f":"IF(COUNTBLANK(C1663)=0,VLOOKUP(C1663,Locks!A:E,5,FALSE),\"\")","v":""}]
[null,null,null,{"$f":"IF(COUNTBLANK(C1664)=0,VLOOKUP(C1664,Locks!A:D,4,FALSE),\"\")","v":""},{"$f":"IF(COUNTBLANK(C1664)=0,VLOOKUP(C1664,Locks!A:E,5,FALSE),\"\")","v":""}]
[null,null,null,{"$f":"IF(COUNTBLANK(C1665)=0,VLOOKUP(C1665,Locks!A:D,4,FALSE),\"\")","v":""},{"$f":"IF(COUNTBLANK(C1665)=0,VLOOKUP(C1665,Locks!A:E,5,FALSE),\"\")","v":""}]
[null,null,null,{"$f":"IF(COUNTBLANK(C1666)=0,VLOOKUP(C1666,Locks!A:D,4,FALSE),\"\")","v":""},{"$f":"IF(COUNTBLANK(C1666)=0,VLOOKUP(C1666,Locks!A:E,5,FALSE),\"\")","v":""}]
[null,null,null,{"$f":"IF(COUNTBLANK(C1667)=0,VLOOKUP(C1667,Locks!A:D,4,FALSE),\"\")","v":""},{"$f":"IF(COUNTBLANK(C1667)=0,VLOOKUP(C1667,Locks!A:E,5,FALSE),\"\")","v":""}]
[null,null,null,{"$f":"IF(COUNTBLANK(C1668)=0,VLOOKUP(C1668,Locks!A:D,4,FALSE),\"\")","v":""},{"$f":"IF(COUNTBLANK(C1668)=0,VLOOKUP(C1668,Locks!A:E,5,FALSE),\"\")","v":""}]
[null,null,null,{"$f":"IF(COUNTBLANK(C1669)=0,VLOOKUP(C1669,Locks!A:D,4,FALSE),\"\")","v":""},{"$f":"IF(COUNTBLANK(C1669)=0,VLOOKUP(C1669,Locks!A:E,5,FALSE),\"\")","v":""}]
[null,null,null,{"$f":"IF(COUNTBLANK(C1670)=0,VLOOKUP(C1670,Locks!A:D,4,FALSE),\"\")","v":""},{"$f":"IF(COUNTBLANK(C1670)=0,VLOOKUP(C1670,Locks!A:E,5,FALSE),\"\")","v":""}]
[null,null,null,{"$f":"IF(COUNTBLANK(C1671)=0,VLOOKUP(C1671,Locks!A:D,4,FALSE),\"\")","v":""},{"$f":"IF(COUNTBLANK(C1671)=0,VLOOKUP(C1671,Locks!A:E,5,FALSE),\"\")","v":""}]
[null,null,null,{"$f":"IF(COUNTBLANK(C1672)=0,VLOOKUP(C1672,Locks!A:D,4,FALSE),\"\")","v":""},{"$f":"IF(COUNTBLANK(C1672)=0,VLOOKUP(C1672,Locks!A:E,5,FALSE),\"\")","v":""}]
[null,null,null,{"$f":"IF(COUNTBLANK(C1673)=0,VLOOKUP(C1673,Locks!A:D,4,FALSE),\"\")","v":""},{"$f":"IF(COUNTBLANK(C1673)=0,VLOOKUP(C1673,Locks!A:E,5,FALSE),\"\")","v":""}]
[null,null,null,{"$f":"IF(COUNTBLANK(C1674)=0,VLOOKUP(C1674,Locks!A:D,4,FALSE),\"\")","v":""},{"$f":"IF(COUNTBLANK(C1674)=0,VLOOKUP(C1674,Locks!A:E,5,FALSE),\"\")","v":""}]
[null,null,null,{"$f":"IF(COUNTBLANK(C1675)=0,VLOOKUP(C1675,Locks!A:D,4,FALSE),\"\")","v":""},{"$f":"IF(COUNTBLANK(C1675)=0,VLOOKUP(C1675,Locks!A:E,5,FALSE),\"\")","v":""}]
[null,null,null,{"$f":"IF(COUNTBLANK(C1676)=0,VLOOKUP(C1676,Locks!A:D,4,FALSE),\"\")","v":""},{"$f":"IF(COUNTBLANK(C1676)=0,VLOOKUP(C1676,Locks!A:E,5,FALSE),\"\")","v":""}]
[null,null,null,{"$f":"IF(COUNTBLANK(C1677)=0,VLOOKUP(C1677,Locks!A:D,4,FALSE),\"\")","v":""},{"$f":"IF(COUNTBLANK(C1677)=0,VLOOKUP(C1677,Locks!A:E,5,FALSE),\"\")","v":""}]
[null,null,null,{"$f":"IF(COUNTBLANK(C1678)=0,VLOOKUP(C1678,Locks!A:D,4,FALSE),\"\")","v":""},{"$f":"IF(COUNTBLANK(C1678)=0,VLOOKUP(C1678,Locks!A:E,5,FALSE),\"\")","v":""}]
[null,null,null,{"$f":"IF(COUNTBLANK(C1679)=0,VLOOKUP(C1679,Locks!A:D,4,FALSE),\"\")","v":""},{"$f":"IF(COUNTBLANK(C1679)=0,VLOOKUP(C1679,Locks!A:E,5,FALSE),\"\")","v":""}]
[null,null,null,{"$f":"IF(COUNTBLANK(C1680)=0,VLOOKUP(C1680,Locks!A:D,4,FALSE),\"\")","v":""},{"$f":"IF(COUNTBLANK(C1680)=0,VLOOKUP(C1680,Locks!A:E,5,FALSE),\"\")","v":""}]
[null,null,null,{"$f":"IF(COUNTBLANK(C1681)=0,VLOOKUP(C1681,Locks!A:D,4,FALSE),\"\")","v":""},{"$f":"IF(COUNTBLANK(C1681)=0,VLOOKUP(C1681,Locks!A:E,5,FALSE),\"\")","v":""}]
[null,null,null,{"$f":"IF(COUNTBLANK(C1682)=0,VLOOKUP(C1682,Locks!A:D,4,FALSE),\"\")","v":""},{"$f":"IF(COUNTBLANK(C1682)=0,VLOOKUP(C1682,Locks!A:E,5,FALSE),\"\")","v":""}]
[null,null,null,{"$f":"IF(COUNTBLANK(C1683)=0,VLOOKUP(C1683,Locks!A:D,4,FALSE),\"\")","v":""},{"$f":"IF(COUNTBLANK(C1683)=0,VLOOKUP(C1683,Locks!A:E,5,FALSE),\"\")","v":""}]
[null,null,null,{"$f":"IF(COUNTBLANK(C1684)=0,VLOOKUP(C1684,Locks!A:D,4,FALSE),\"\")","v":""},{"$f":"IF(COUNTBLANK(C1684)=0,VLOOKUP(C1684,Locks!A:E,5,FALSE),\"\")","v":""}]
[null,null,null,{"$f":"IF(COUNTBLANK(C1685)=0,VLOOKUP(C1685,Locks!A:D,4,FALSE),\"\")","v":""},{"$f":"IF(COUNTBLANK(C1685)=0,VLOOKUP(C1685,Locks!A:E,5,FALSE),\"\")","v":""}]
[null,null,null,{"$f":"IF(COUNTBLANK(C1686)=0,VLOOKUP(C1686,Locks!A:D,4,FALSE),\"\")","v":""},{"$f":"IF(COUNTBLANK(C1686)=0,VLOOKUP(C1686,Locks!A:E,5,FALSE),\"\")","v":""}]
[null,null,null,{"$f":"IF(COUNTBLANK(C1687)=0,VLOOKUP(C1687,Locks!A:D,4,FALSE),\"\")","v":""},{"$f":"IF(COUNTBLANK(C1687)=0,VLOOKUP(C1687,Locks!A:E,5,FALSE),\"\")","v":""}]
[null,null,null,{"$f":"IF(COUNTBLANK(C1688)=0,VLOOKUP(C1688,Locks!A:D,4,FALSE),\"\")","v":""},{"$f":"IF(COUNTBLANK(C1688)=0,VLOOKUP(C1688,Locks!A:E,5,FALSE),\"\")","v":""}]
[null,null,null,{"$f":"IF(COUNTBLANK(C1689)=0,VLOOKUP(C1689,Locks!A:D,4,FALSE),\"\")","v":""},{"$f":"IF(COUNTBLANK(C1689)=0,VLOOKUP(C1689,Locks!A:E,5,FALSE),\"\")","v":""}]
[null,null,null,{"$f":"IF(COUNTBLANK(C1690)=0,VLOOKUP(C1690,Locks!A:D,4,FALSE),\"\")","v":""},{"$f":"IF(COUNTBLANK(C1690)=0,VLOOKUP(C1690,Locks!A:E,5,FALSE),\"\")","v":""}]
[null,null,null,{"$f":"IF(COUNTBLANK(C1691)=0,VLOOKUP(C1691,Locks!A:D,4,FALSE),\"\")","v":""},{"$f":"IF(COUNTBLANK(C1691)=0,VLOOKUP(C1691,Locks!A:E,5,FALSE),\"\")","v":""}]
[null,null,null,{"$f":"IF(COUNTBLANK(C1692)=0,VLOOKUP(C1692,Locks!A:D,4,FALSE),\"\")","v":""},{"$f":"IF(COUNTBLANK(C1692)=0,VLOOKUP(C1692,Locks!A:E,5,FALSE),\"\")","v":""}]
[null,null,null,{"$f":"IF(COUNTBLANK(C1693)=0,VLOOKUP(C1693,Locks!A:D,4,FALSE),\"\")","v":""},{"$f":"IF(COUNTBLANK(C1693)=0,VLOOKUP(C1693,Locks!A:E,5,FALSE),\"\")","v":""}]
[null,null,null,{"$f":"IF(COUNTBLANK(C1694)=0,VLOOKUP(C1694,Locks!A:D,4,FALSE),\"\")","v":""},{"$f":"IF(COUNTBLANK(C1694)=0,VLOOKUP(C1694,Locks!A:E,5,FALSE),\"\")","v":""}]
[null,null,null,{"$f":"IF(COUNTBLANK(C1695)=0,VLOOKUP(C1695,Locks!A:D,4,FALSE),\"\")","v":""},{"$f":"IF(COUNTBLANK(C1695)=0,VLOOKUP(C1695,Locks!A:E,5,FALSE),\"\")","v":""}]
[null,null,null,{"$f":"IF(COUNTBLANK(C1696)=0,VLOOKUP(C1696,Locks!A:D,4,FALSE),\"\")","v":""},{"$f":"IF(COUNTBLANK(C1696)=0,VLOOKUP(C1696,Locks!A:E,5,FALSE),\"\")","v":""}]
[null,null,null,{"$f":"IF(COUNTBLANK(C1697)=0,VLOOKUP(C1697,Locks!A:D,4,FALSE),\"\")","v":""},{"$f":"IF(COUNTBLANK(C1697)=0,VLOOKUP(C1697,Locks!A:E,5,FALSE),\"\")","v":""}]
[null,null,null,{"$f":"IF(COUNTBLANK(C1698)=0,VLOOKUP(C1698,Locks!A:D,4,FALSE),\"\")","v":""},{"$f":"IF(COUNTBLANK(C1698)=0,VLOOKUP(C1698,Locks!A:E,5,FALSE),\"\")","v":""}]
[null,null,null,{"$f":"IF(COUNTBLANK(C1699)=0,VLOOKUP(C1699,Locks!A:D,4,FALSE),\"\")","v":""},{"$f":"IF(COUNTBLANK(C1699)=0,VLOOKUP(C1699,Locks!A:E,5,FALSE),\"\")","v":""}]
[null,null,null,{"$f":"IF(COUNTBLANK(C1700)=0,VLOOKUP(C1700,Locks!A:D,4,FALSE),\"\")","v":""},{"$f":"IF(COUNTBLANK(C1700)=0,VLOOKUP(C1700,Locks!A:E,5,FALSE),\"\")","v":""}]
[null,null,null,{"$f":"IF(COUNTBLANK(C1701)=0,VLOOKUP(C1701,Locks!A:D,4,FALSE),\"\")","v":""},{"$f":"IF(COUNTBLANK(C1701)=0,VLOOKUP(C1701,Locks!A:E,5,FALSE),\"\")","v":""}]
[null,null,null,{"$f":"IF(COUNTBLANK(C1702)=0,VLOOKUP(C1702,Locks!A:D,4,FALSE),\"\")","v":""},{"$f":"IF(COUNTBLANK(C1702)=0,VLOOKUP(C1702,Locks!A:E,5,FALSE),\"\")","v":""}]
[null,null,null,{"$f":"IF(COUNTBLANK(C1703)=0,VLOOKUP(C1703,Locks!A:D,4,FALSE),\"\")","v":""},{"$f":"IF(COUNTBLANK(C1703)=0,VLOOKUP(C1703,Locks!A:E,5,FALSE),\"\")","v":""}]
[null,null,null,{"$f":"IF(COUNTBLANK(C1704)=0,VLOOKUP(C1704,Locks!A:D,4,FALSE),\"\")","v":""},{"$f":"IF(COUNTBLANK(C1704)=0,VLOOKUP(C1704,Locks!A:E,5,FALSE),\"\")","v":""}]
[null,null,null,{"$f":"IF(COUNTBLANK(C1705)=0,VLOOKUP(C1705,Locks!A:D,4,FALSE),\"\")","v":""},{"$f":"IF(COUNTBLANK(C1705)=0,VLOOKUP(C1705,Locks!A:E,5,FALSE),\"\")","v":""}]
[null,null,null,{"$f":"IF(COUNTBLANK(C1706)=0,VLOOKUP(C1706,Locks!A:D,4,FALSE),\"\")","v":""},{"$f":"IF(COUNTBLANK(C1706)=0,VLOOKUP(C1706,Locks!A:E,5,FALSE),\"\")","v":""}]
[null,null,null,{"$f":"IF(COUNTBLANK(C1707)=0,VLOOKUP(C1707,Locks!A:D,4,FALSE),\"\")","v":""},{"$f":"IF(COUNTBLANK(C1707)=0,VLOOKUP(C1707,Locks!A:E,5,FALSE),\"\")","v":""}]
[null,null,null,{"$f":"IF(COUNTBLANK(C1708)=0,VLOOKUP(C1708,Locks!A:D,4,FALSE),\"\")","v":""},{"$f":"IF(COUNTBLANK(C1708)=0,VLOOKUP(C1708,Locks!A:E,5,FALSE),\"\")","v":""}]
[null,null,null,{"$f":"IF(COUNTBLANK(C1709)=0,VLOOKUP(C1709,Locks!A:D,4,FALSE),\"\")","v":""},{"$f":"IF(COUNTBLANK(C1709)=0,VLOOKUP(C1709,Locks!A:E,5,FALSE),\"\")","v":""}]
[null,null,null,{"$f":"IF(COUNTBLANK(C1710)=0,VLOOKUP(C1710,Locks!A:D,4,FALSE),\"\")","v":""},{"$f":"IF(COUNTBLANK(C1710)=0,VLOOKUP(C1710,Locks!A:E,5,FALSE),\"\")","v":""}]
[null,null,null,{"$f":"IF(COUNTBLANK(C1711)=0,VLOOKUP(C1711,Locks!A:D,4,FALSE),\"\")","v":""},{"$f":"IF(COUNTBLANK(C1711)=0,VLOOKUP(C1711,Locks!A:E,5,FALSE),\"\")","v":""}]
[null,null,null,{"$f":"IF(COUNTBLANK(C1712)=0,VLOOKUP(C1712,Locks!A:D,4,FALSE),\"\")","v":""},{"$f":"IF(COUNTBLANK(C1712)=0,VLOOKUP(C1712,Locks!A:E,5,FALSE),\"\")","v":""}]
[null,null,null,{"$f":"IF(COUNTBLANK(C1713)=0,VLOOKUP(C1713,Locks!A:D,4,FALSE),\"\")","v":""},{"$f":"IF(COUNTBLANK(C1713)=0,VLOOKUP(C1713,Locks!A:E,5,FALSE),\"\")","v":""}]
[null,null,null,{"$f":"IF(COUNTBLANK(C1714)=0,VLOOKUP(C1714,Locks!A:D,4,FALSE),\"\")","v":""},{"$f":"IF(COUNTBLANK(C1714)=0,VLOOKUP(C1714,Locks!A:E,5,FALSE),\"\")","v":""}]
[null,null,null,{"$f":"IF(COUNTBLANK(C1715)=0,VLOOKUP(C1715,Locks!A:D,4,FALSE),\"\")","v":""},{"$f":"IF(COUNTBLANK(C1715)=0,VLOOKUP(C1715,Locks!A:E,5,FALSE),\"\")","v":""}]
[null,null,null,{"$f":"IF(COUNTBLANK(C1716)=0,VLOOKUP(C1716,Locks!A:D,4,FALSE),\"\")","v":""},{"$f":"IF(COUNTBLANK(C1716)=0,VLOOKUP(C1716,Locks!A:E,5,FALSE),\"\")","v":""}]
[null,null,null,{"$f":"IF(COUNTBLANK(C1717)=0,VLOOKUP(C1717,Locks!A:D,4,FALSE),\"\")","v":""},{"$f":"IF(COUNTBLANK(C1717)=0,VLOOKUP(C1717,Locks!A:E,5,FALSE),\"\")","v":""}]
[null,null,null,{"$f":"IF(COUNTBLANK(C1718)=0,VLOOKUP(C1718,Locks!A:D,4,FALSE),\"\")","v":""},{"$f":"IF(COUNTBLANK(C1718)=0,VLOOKUP(C1718,Locks!A:E,5,FALSE),\"\")","v":""}]
[null,null,null,{"$f":"IF(COUNTBLANK(C1719)=0,VLOOKUP(C1719,Locks!A:D,4,FALSE),\"\")","v":""},{"$f":"IF(COUNTBLANK(C1719)=0,VLOOKUP(C1719,Locks!A:E,5,FALSE),\"\")","v":""}]
[null,null,null,{"$f":"IF(COUNTBLANK(C1720)=0,VLOOKUP(C1720,Locks!A:D,4,FALSE),\"\")","v":""},{"$f":"IF(COUNTBLANK(C1720)=0,VLOOKUP(C1720,Locks!A:E,5,FALSE),\"\")","v":""}]
[null,null,null,{"$f":"IF(COUNTBLANK(C1721)=0,VLOOKUP(C1721,Locks!A:D,4,FALSE),\"\")","v":""},{"$f":"IF(COUNTBLANK(C1721)=0,VLOOKUP(C1721,Locks!A:E,5,FALSE),\"\")","v":""}]
[null,null,null,{"$f":"IF(COUNTBLANK(C1722)=0,VLOOKUP(C1722,Locks!A:D,4,FALSE),\"\")","v":""},{"$f":"IF(COUNTBLANK(C1722)=0,VLOOKUP(C1722,Locks!A:E,5,FALSE),\"\")","v":""}]
[null,null,null,{"$f":"IF(COUNTBLANK(C1723)=0,VLOOKUP(C1723,Locks!A:D,4,FALSE),\"\")","v":""},{"$f":"IF(COUNTBLANK(C1723)=0,VLOOKUP(C1723,Locks!A:E,5,FALSE),\"\")","v":""}]
[null,null,null,{"$f":"IF(COUNTBLANK(C1724)=0,VLOOKUP(C1724,Locks!A:D,4,FALSE),\"\")","v":""},{"$f":"IF(COUNTBLANK(C1724)=0,VLOOKUP(C1724,Locks!A:E,5,FALSE),\"\")","v":""}]
[null,null,null,{"$f":"IF(COUNTBLANK(C1725)=0,VLOOKUP(C1725,Locks!A:D,4,FALSE),\"\")","v":""},{"$f":"IF(COUNTBLANK(C1725)=0,VLOOKUP(C1725,Locks!A:E,5,FALSE),\"\")","v":""}]
[null,null,null,{"$f":"IF(COUNTBLANK(C1726)=0,VLOOKUP(C1726,Locks!A:D,4,FALSE),\"\")","v":""},{"$f":"IF(COUNTBLANK(C1726)=0,VLOOKUP(C1726,Locks!A:E,5,FALSE),\"\")","v":""}]
[null,null,null,{"$f":"IF(COUNTBLANK(C1727)=0,VLOOKUP(C1727,Locks!A:D,4,FALSE),\"\")","v":""},{"$f":"IF(COUNTBLANK(C1727)=0,VLOOKUP(C1727,Locks!A:E,5,FALSE),\"\")","v":""}]
[null,null,null,{"$f":"IF(COUNTBLANK(C1728)=0,VLOOKUP(C1728,Locks!A:D,4,FALSE),\"\")","v":""},{"$f":"IF(COUNTBLANK(C1728)=0,VLOOKUP(C1728,Locks!A:E,5,FALSE),\"\")","v":""}]
[null,null,null,{"$f":"IF(COUNTBLANK(C1729)=0,VLOOKUP(C1729,Locks!A:D,4,FALSE),\"\")","v":""},{"$f":"IF(COUNTBLANK(C1729)=0,VLOOKUP(C1729,Locks!A:E,5,FALSE),\"\")","v":""}]
[null,null,null,{"$f":"IF(COUNTBLANK(C1730)=0,VLOOKUP(C1730,Locks!A:D,4,FALSE),\"\")","v":""},{"$f":"IF(COUNTBLANK(C1730)=0,VLOOKUP(C1730,Locks!A:E,5,FALSE),\"\")","v":""}]
[null,null,null,{"$f":"IF(COUNTBLANK(C1731)=0,VLOOKUP(C1731,Locks!A:D,4,FALSE),\"\")","v":""},{"$f":"IF(COUNTBLANK(C1731)=0,VLOOKUP(C1731,Locks!A:E,5,FALSE),\"\")","v":""}]
[null,null,null,{"$f":"IF(COUNTBLANK(C1732)=0,VLOOKUP(C1732,Locks!A:D,4,FALSE),\"\")","v":""},{"$f":"IF(COUNTBLANK(C1732)=0,VLOOKUP(C1732,Locks!A:E,5,FALSE),\"\")","v":""}]
[null,null,null,{"$f":"IF(COUNTBLANK(C1733)=0,VLOOKUP(C1733,Locks!A:D,4,FALSE),\"\")","v":""},{"$f":"IF(COUNTBLANK(C1733)=0,VLOOKUP(C1733,Locks!A:E,5,FALSE),\"\")","v":""}]
[null,null,null,{"$f":"IF(COUNTBLANK(C1734)=0,VLOOKUP(C1734,Locks!A:D,4,FALSE),\"\")","v":""},{"$f":"IF(COUNTBLANK(C1734)=0,VLOOKUP(C1734,Locks!A:E,5,FALSE),\"\")","v":""}]
[null,null,null,{"$f":"IF(COUNTBLANK(C1735)=0,VLOOKUP(C1735,Locks!A:D,4,FALSE),\"\")","v":""},{"$f":"IF(COUNTBLANK(C1735)=0,VLOOKUP(C1735,Locks!A:E,5,FALSE),\"\")","v":""}]
[null,null,null,{"$f":"IF(COUNTBLANK(C1736)=0,VLOOKUP(C1736,Locks!A:D,4,FALSE),\"\")","v":""},{"$f":"IF(COUNTBLANK(C1736)=0,VLOOKUP(C1736,Locks!A:E,5,FALSE),\"\")","v":""}]
[null,null,null,{"$f":"IF(COUNTBLANK(C1737)=0,VLOOKUP(C1737,Locks!A:D,4,FALSE),\"\")","v":""},{"$f":"IF(COUNTBLANK(C1737)=0,VLOOKUP(C1737,Locks!A:E,5,FALSE),\"\")","v":""}]
[null,null,null,{"$f":"IF(COUNTBLANK(C1738)=0,VLOOKUP(C1738,Locks!A:D,4,FALSE),\"\")","v":""},{"$f":"IF(COUNTBLANK(C1738)=0,VLOOKUP(C1738,Locks!A:E,5,FALSE),\"\")","v":""}]
[null,null,null,{"$f":"IF(COUNTBLANK(C1739)=0,VLOOKUP(C1739,Locks!A:D,4,FALSE),\"\")","v":""},{"$f":"IF(COUNTBLANK(C1739)=0,VLOOKUP(C1739,Locks!A:E,5,FALSE),\"\")","v":""}]
[null,null,null,{"$f":"IF(COUNTBLANK(C1740)=0,VLOOKUP(C1740,Locks!A:D,4,FALSE),\"\")","v":""},{"$f":"IF(COUNTBLANK(C1740)=0,VLOOKUP(C1740,Locks!A:E,5,FALSE),\"\")","v":""}]
[null,null,null,{"$f":"IF(COUNTBLANK(C1741)=0,VLOOKUP(C1741,Locks!A:D,4,FALSE),\"\")","v":""},{"$f":"IF(COUNTBLANK(C1741)=0,VLOOKUP(C1741,Locks!A:E,5,FALSE),\"\")","v":""}]
[null,null,null,{"$f":"IF(COUNTBLANK(C1742)=0,VLOOKUP(C1742,Locks!A:D,4,FALSE),\"\")","v":""},{"$f":"IF(COUNTBLANK(C1742)=0,VLOOKUP(C1742,Locks!A:E,5,FALSE),\"\")","v":""}]
[null,null,null,{"$f":"IF(COUNTBLANK(C1743)=0,VLOOKUP(C1743,Locks!A:D,4,FALSE),\"\")","v":""},{"$f":"IF(COUNTBLANK(C1743)=0,VLOOKUP(C1743,Locks!A:E,5,FALSE),\"\")","v":""}]
[null,null,null,{"$f":"IF(COUNTBLANK(C1744)=0,VLOOKUP(C1744,Locks!A:D,4,FALSE),\"\")","v":""},{"$f":"IF(COUNTBLANK(C1744)=0,VLOOKUP(C1744,Locks!A:E,5,FALSE),\"\")","v":""}]
[null,null,null,{"$f":"IF(COUNTBLANK(C1745)=0,VLOOKUP(C1745,Locks!A:D,4,FALSE),\"\")","v":""},{"$f":"IF(COUNTBLANK(C1745)=0,VLOOKUP(C1745,Locks!A:E,5,FALSE),\"\")","v":""}]
[null,null,null,{"$f":"IF(COUNTBLANK(C1746)=0,VLOOKUP(C1746,Locks!A:D,4,FALSE),\"\")","v":""},{"$f":"IF(COUNTBLANK(C1746)=0,VLOOKUP(C1746,Locks!A:E,5,FALSE),\"\")","v":""}]
[null,null,null,{"$f":"IF(COUNTBLANK(C1747)=0,VLOOKUP(C1747,Locks!A:D,4,FALSE),\"\")","v":""},{"$f":"IF(COUNTBLANK(C1747)=0,VLOOKUP(C1747,Locks!A:E,5,FALSE),\"\")","v":""}]
[null,null,null,{"$f":"IF(COUNTBLANK(C1748)=0,VLOOKUP(C1748,Locks!A:D,4,FALSE),\"\")","v":""},{"$f":"IF(COUNTBLANK(C1748)=0,VLOOKUP(C1748,Locks!A:E,5,FALSE),\"\")","v":""}]
[null,null,null,{"$f":"IF(COUNTBLANK(C1749)=0,VLOOKUP(C1749,Locks!A:D,4,FALSE),\"\")","v":""},{"$f":"IF(COUNTBLANK(C1749)=0,VLOOKUP(C1749,Locks!A:E,5,FALSE),\"\")","v":""}]
[null,null,null,{"$f":"IF(COUNTBLANK(C1750)=0,VLOOKUP(C1750,Locks!A:D,4,FALSE),\"\")","v":""},{"$f":"IF(COUNTBLANK(C1750)=0,VLOOKUP(C1750,Locks!A:E,5,FALSE),\"\")","v":""}]
[null,null,null,{"$f":"IF(COUNTBLANK(C1751)=0,VLOOKUP(C1751,Locks!A:D,4,FALSE),\"\")","v":""},{"$f":"IF(COUNTBLANK(C1751)=0,VLOOKUP(C1751,Locks!A:E,5,FALSE),\"\")","v":""}]
[null,null,null,{"$f":"IF(COUNTBLANK(C1752)=0,VLOOKUP(C1752,Locks!A:D,4,FALSE),\"\")","v":""},{"$f":"IF(COUNTBLANK(C1752)=0,VLOOKUP(C1752,Locks!A:E,5,FALSE),\"\")","v":""}]
[null,null,null,{"$f":"IF(COUNTBLANK(C1753)=0,VLOOKUP(C1753,Locks!A:D,4,FALSE),\"\")","v":""},{"$f":"IF(COUNTBLANK(C1753)=0,VLOOKUP(C1753,Locks!A:E,5,FALSE),\"\")","v":""}]
[null,null,null,{"$f":"IF(COUNTBLANK(C1754)=0,VLOOKUP(C1754,Locks!A:D,4,FALSE),\"\")","v":""},{"$f":"IF(COUNTBLANK(C1754)=0,VLOOKUP(C1754,Locks!A:E,5,FALSE),\"\")","v":""}]
[null,null,null,{"$f":"IF(COUNTBLANK(C1755)=0,VLOOKUP(C1755,Locks!A:D,4,FALSE),\"\")","v":""},{"$f":"IF(COUNTBLANK(C1755)=0,VLOOKUP(C1755,Locks!A:E,5,FALSE),\"\")","v":""}]
[null,null,null,{"$f":"IF(COUNTBLANK(C1756)=0,VLOOKUP(C1756,Locks!A:D,4,FALSE),\"\")","v":""},{"$f":"IF(COUNTBLANK(C1756)=0,VLOOKUP(C1756,Locks!A:E,5,FALSE),\"\")","v":""}]
[null,null,null,{"$f":"IF(COUNTBLANK(C1757)=0,VLOOKUP(C1757,Locks!A:D,4,FALSE),\"\")","v":""},{"$f":"IF(COUNTBLANK(C1757)=0,VLOOKUP(C1757,Locks!A:E,5,FALSE),\"\")","v":""}]
[null,null,null,{"$f":"IF(COUNTBLANK(C1758)=0,VLOOKUP(C1758,Locks!A:D,4,FALSE),\"\")","v":""},{"$f":"IF(COUNTBLANK(C1758)=0,VLOOKUP(C1758,Locks!A:E,5,FALSE),\"\")","v":""}]
[null,null,null,{"$f":"IF(COUNTBLANK(C1759)=0,VLOOKUP(C1759,Locks!A:D,4,FALSE),\"\")","v":""},{"$f":"IF(COUNTBLANK(C1759)=0,VLOOKUP(C1759,Locks!A:E,5,FALSE),\"\")","v":""}]
[null,null,null,{"$f":"IF(COUNTBLANK(C1760)=0,VLOOKUP(C1760,Locks!A:D,4,FALSE),\"\")","v":""},{"$f":"IF(COUNTBLANK(C1760)=0,VLOOKUP(C1760,Locks!A:E,5,FALSE),\"\")","v":""}]
[null,null,null,{"$f":"IF(COUNTBLANK(C1761)=0,VLOOKUP(C1761,Locks!A:D,4,FALSE),\"\")","v":""},{"$f":"IF(COUNTBLANK(C1761)=0,VLOOKUP(C1761,Locks!A:E,5,FALSE),\"\")","v":""}]
[null,null,null,{"$f":"IF(COUNTBLANK(C1762)=0,VLOOKUP(C1762,Locks!A:D,4,FALSE),\"\")","v":""},{"$f":"IF(COUNTBLANK(C1762)=0,VLOOKUP(C1762,Locks!A:E,5,FALSE),\"\")","v":""}]
[null,null,null,{"$f":"IF(COUNTBLANK(C1763)=0,VLOOKUP(C1763,Locks!A:D,4,FALSE),\"\")","v":""},{"$f":"IF(COUNTBLANK(C1763)=0,VLOOKUP(C1763,Locks!A:E,5,FALSE),\"\")","v":""}]
[null,null,null,{"$f":"IF(COUNTBLANK(C1764)=0,VLOOKUP(C1764,Locks!A:D,4,FALSE),\"\")","v":""},{"$f":"IF(COUNTBLANK(C1764)=0,VLOOKUP(C1764,Locks!A:E,5,FALSE),\"\")","v":""}]
[null,null,null,{"$f":"IF(COUNTBLANK(C1765)=0,VLOOKUP(C1765,Locks!A:D,4,FALSE),\"\")","v":""},{"$f":"IF(COUNTBLANK(C1765)=0,VLOOKUP(C1765,Locks!A:E,5,FALSE),\"\")","v":""}]
[null,null,null,{"$f":"IF(COUNTBLANK(C1766)=0,VLOOKUP(C1766,Locks!A:D,4,FALSE),\"\")","v":""},{"$f":"IF(COUNTBLANK(C1766)=0,VLOOKUP(C1766,Locks!A:E,5,FALSE),\"\")","v":""}]
[null,null,null,{"$f":"IF(COUNTBLANK(C1767)=0,VLOOKUP(C1767,Locks!A:D,4,FALSE),\"\")","v":""},{"$f":"IF(COUNTBLANK(C1767)=0,VLOOKUP(C1767,Locks!A:E,5,FALSE),\"\")","v":""}]
[null,null,null,{"$f":"IF(COUNTBLANK(C1768)=0,VLOOKUP(C1768,Locks!A:D,4,FALSE),\"\")","v":""},{"$f":"IF(COUNTBLANK(C1768)=0,VLOOKUP(C1768,Locks!A:E,5,FALSE),\"\")","v":""}]
[null,null,null,{"$f":"IF(COUNTBLANK(C1769)=0,VLOOKUP(C1769,Locks!A:D,4,FALSE),\"\")","v":""},{"$f":"IF(COUNTBLANK(C1769)=0,VLOOKUP(C1769,Locks!A:E,5,FALSE),\"\")","v":""}]
[null,null,null,{"$f":"IF(COUNTBLANK(C1770)=0,VLOOKUP(C1770,Locks!A:D,4,FALSE),\"\")","v":""},{"$f":"IF(COUNTBLANK(C1770)=0,VLOOKUP(C1770,Locks!A:E,5,FALSE),\"\")","v":""}]
[null,null,null,{"$f":"IF(COUNTBLANK(C1771)=0,VLOOKUP(C1771,Locks!A:D,4,FALSE),\"\")","v":""},{"$f":"IF(COUNTBLANK(C1771)=0,VLOOKUP(C1771,Locks!A:E,5,FALSE),\"\")","v":""}]
[null,null,null,{"$f":"IF(COUNTBLANK(C1772)=0,VLOOKUP(C1772,Locks!A:D,4,FALSE),\"\")","v":""},{"$f":"IF(COUNTBLANK(C1772)=0,VLOOKUP(C1772,Locks!A:E,5,FALSE),\"\")","v":""}]
[null,null,null,{"$f":"IF(COUNTBLANK(C1773)=0,VLOOKUP(C1773,Locks!A:D,4,FALSE),\"\")","v":""},{"$f":"IF(COUNTBLANK(C1773)=0,VLOOKUP(C1773,Locks!A:E,5,FALSE),\"\")","v":""}]
[null,null,null,{"$f":"IF(COUNTBLANK(C1774)=0,VLOOKUP(C1774,Locks!A:D,4,FALSE),\"\")","v":""},{"$f":"IF(COUNTBLANK(C1774)=0,VLOOKUP(C1774,Locks!A:E,5,FALSE),\"\")","v":""}]
[null,null,null,{"$f":"IF(COUNTBLANK(C1775)=0,VLOOKUP(C1775,Locks!A:D,4,FALSE),\"\")","v":""},{"$f":"IF(COUNTBLANK(C1775)=0,VLOOKUP(C1775,Locks!A:E,5,FALSE),\"\")","v":""}]
[null,null,null,{"$f":"IF(COUNTBLANK(C1776)=0,VLOOKUP(C1776,Locks!A:D,4,FALSE),\"\")","v":""},{"$f":"IF(COUNTBLANK(C1776)=0,VLOOKUP(C1776,Locks!A:E,5,FALSE),\"\")","v":""}]
[null,null,null,{"$f":"IF(COUNTBLANK(C1777)=0,VLOOKUP(C1777,Locks!A:D,4,FALSE),\"\")","v":""},{"$f":"IF(COUNTBLANK(C1777)=0,VLOOKUP(C1777,Locks!A:E,5,FALSE),\"\")","v":""}]
[null,null,null,{"$f":"IF(COUNTBLANK(C1778)=0,VLOOKUP(C1778,Locks!A:D,4,FALSE),\"\")","v":""},{"$f":"IF(COUNTBLANK(C1778)=0,VLOOKUP(C1778,Locks!A:E,5,FALSE),\"\")","v":""}]
[null,null,null,{"$f":"IF(COUNTBLANK(C1779)=0,VLOOKUP(C1779,Locks!A:D,4,FALSE),\"\")","v":""},{"$f":"IF(COUNTBLANK(C1779)=0,VLOOKUP(C1779,Locks!A:E,5,FALSE),\"\")","v":""}]
[null,null,null,{"$f":"IF(COUNTBLANK(C1780)=0,VLOOKUP(C1780,Locks!A:D,4,FALSE),\"\")","v":""},{"$f":"IF(COUNTBLANK(C1780)=0,VLOOKUP(C1780,Locks!A:E,5,FALSE),\"\")","v":""}]
[null,null,null,{"$f":"IF(COUNTBLANK(C1781)=0,VLOOKUP(C1781,Locks!A:D,4,FALSE),\"\")","v":""},{"$f":"IF(COUNTBLANK(C1781)=0,VLOOKUP(C1781,Locks!A:E,5,FALSE),\"\")","v":""}]
[null,null,null,{"$f":"IF(COUNTBLANK(C1782)=0,VLOOKUP(C1782,Locks!A:D,4,FALSE),\"\")","v":""},{"$f":"IF(COUNTBLANK(C1782)=0,VLOOKUP(C1782,Locks!A:E,5,FALSE),\"\")","v":""}]
[null,null,null,{"$f":"IF(COUNTBLANK(C1783)=0,VLOOKUP(C1783,Locks!A:D,4,FALSE),\"\")","v":""},{"$f":"IF(COUNTBLANK(C1783)=0,VLOOKUP(C1783,Locks!A:E,5,FALSE),\"\")","v":""}]
[null,null,null,{"$f":"IF(COUNTBLANK(C1784)=0,VLOOKUP(C1784,Locks!A:D,4,FALSE),\"\")","v":""},{"$f":"IF(COUNTBLANK(C1784)=0,VLOOKUP(C1784,Locks!A:E,5,FALSE),\"\")","v":""}]
[null,null,null,{"$f":"IF(COUNTBLANK(C1785)=0,VLOOKUP(C1785,Locks!A:D,4,FALSE),\"\")","v":""},{"$f":"IF(COUNTBLANK(C1785)=0,VLOOKUP(C1785,Locks!A:E,5,FALSE),\"\")","v":""}]
[null,null,null,{"$f":"IF(COUNTBLANK(C1786)=0,VLOOKUP(C1786,Locks!A:D,4,FALSE),\"\")","v":""},{"$f":"IF(COUNTBLANK(C1786)=0,VLOOKUP(C1786,Locks!A:E,5,FALSE),\"\")","v":""}]
[null,null,null,{"$f":"IF(COUNTBLANK(C1787)=0,VLOOKUP(C1787,Locks!A:D,4,FALSE),\"\")","v":""},{"$f":"IF(COUNTBLANK(C1787)=0,VLOOKUP(C1787,Locks!A:E,5,FALSE),\"\")","v":""}]
[null,null,null,{"$f":"IF(COUNTBLANK(C1788)=0,VLOOKUP(C1788,Locks!A:D,4,FALSE),\"\")","v":""},{"$f":"IF(COUNTBLANK(C1788)=0,VLOOKUP(C1788,Locks!A:E,5,FALSE),\"\")","v":""}]
[null,null,null,{"$f":"IF(COUNTBLANK(C1789)=0,VLOOKUP(C1789,Locks!A:D,4,FALSE),\"\")","v":""},{"$f":"IF(COUNTBLANK(C1789)=0,VLOOKUP(C1789,Locks!A:E,5,FALSE),\"\")","v":""}]
[null,null,null,{"$f":"IF(COUNTBLANK(C1790)=0,VLOOKUP(C1790,Locks!A:D,4,FALSE),\"\")","v":""},{"$f":"IF(COUNTBLANK(C1790)=0,VLOOKUP(C1790,Locks!A:E,5,FALSE),\"\")","v":""}]
[null,null,null,{"$f":"IF(COUNTBLANK(C1791)=0,VLOOKUP(C1791,Locks!A:D,4,FALSE),\"\")","v":""},{"$f":"IF(COUNTBLANK(C1791)=0,VLOOKUP(C1791,Locks!A:E,5,FALSE),\"\")","v":""}]
[null,null,null,{"$f":"IF(COUNTBLANK(C1792)=0,VLOOKUP(C1792,Locks!A:D,4,FALSE),\"\")","v":""},{"$f":"IF(COUNTBLANK(C1792)=0,VLOOKUP(C1792,Locks!A:E,5,FALSE),\"\")","v":""}]
[null,null,null,{"$f":"IF(COUNTBLANK(C1793)=0,VLOOKUP(C1793,Locks!A:D,4,FALSE),\"\")","v":""},{"$f":"IF(COUNTBLANK(C1793)=0,VLOOKUP(C1793,Locks!A:E,5,FALSE),\"\")","v":""}]
[null,null,null,{"$f":"IF(COUNTBLANK(C1794)=0,VLOOKUP(C1794,Locks!A:D,4,FALSE),\"\")","v":""},{"$f":"IF(COUNTBLANK(C1794)=0,VLOOKUP(C1794,Locks!A:E,5,FALSE),\"\")","v":""}]
[null,null,null,{"$f":"IF(COUNTBLANK(C1795)=0,VLOOKUP(C1795,Locks!A:D,4,FALSE),\"\")","v":""},{"$f":"IF(COUNTBLANK(C1795)=0,VLOOKUP(C1795,Locks!A:E,5,FALSE),\"\")","v":""}]
[null,null,null,{"$f":"IF(COUNTBLANK(C1796)=0,VLOOKUP(C1796,Locks!A:D,4,FALSE),\"\")","v":""},{"$f":"IF(COUNTBLANK(C1796)=0,VLOOKUP(C1796,Locks!A:E,5,FALSE),\"\")","v":""}]
[null,null,null,{"$f":"IF(COUNTBLANK(C1797)=0,VLOOKUP(C1797,Locks!A:D,4,FALSE),\"\")","v":""},{"$f":"IF(COUNTBLANK(C1797)=0,VLOOKUP(C1797,Locks!A:E,5,FALSE),\"\")","v":""}]
[null,null,null,{"$f":"IF(COUNTBLANK(C1798)=0,VLOOKUP(C1798,Locks!A:D,4,FALSE),\"\")","v":""},{"$f":"IF(COUNTBLANK(C1798)=0,VLOOKUP(C1798,Locks!A:E,5,FALSE),\"\")","v":""}]
[null,null,null,{"$f":"IF(COUNTBLANK(C1799)=0,VLOOKUP(C1799,Locks!A:D,4,FALSE),\"\")","v":""},{"$f":"IF(COUNTBLANK(C1799)=0,VLOOKUP(C1799,Locks!A:E,5,FALSE),\"\")","v":""}]
[null,null,null,{"$f":"IF(COUNTBLANK(C1800)=0,VLOOKUP(C1800,Locks!A:D,4,FALSE),\"\")","v":""},{"$f":"IF(COUNTBLANK(C1800)=0,VLOOKUP(C1800,Locks!A:E,5,FALSE),\"\")","v":""}]
[null,null,null,{"$f":"IF(COUNTBLANK(C1801)=0,VLOOKUP(C1801,Locks!A:D,4,FALSE),\"\")","v":""},{"$f":"IF(COUNTBLANK(C1801)=0,VLOOKUP(C1801,Locks!A:E,5,FALSE),\"\")","v":""}]
[null,null,null,{"$f":"IF(COUNTBLANK(C1802)=0,VLOOKUP(C1802,Locks!A:D,4,FALSE),\"\")","v":""},{"$f":"IF(COUNTBLANK(C1802)=0,VLOOKUP(C1802,Locks!A:E,5,FALSE),\"\")","v":""}]
[null,null,null,{"$f":"IF(COUNTBLANK(C1803)=0,VLOOKUP(C1803,Locks!A:D,4,FALSE),\"\")","v":""},{"$f":"IF(COUNTBLANK(C1803)=0,VLOOKUP(C1803,Locks!A:E,5,FALSE),\"\")","v":""}]
[null,null,null,{"$f":"IF(COUNTBLANK(C1804)=0,VLOOKUP(C1804,Locks!A:D,4,FALSE),\"\")","v":""},{"$f":"IF(COUNTBLANK(C1804)=0,VLOOKUP(C1804,Locks!A:E,5,FALSE),\"\")","v":""}]
[null,null,null,{"$f":"IF(COUNTBLANK(C1805)=0,VLOOKUP(C1805,Locks!A:D,4,FALSE),\"\")","v":""},{"$f":"IF(COUNTBLANK(C1805)=0,VLOOKUP(C1805,Locks!A:E,5,FALSE),\"\")","v":""}]
[null,null,null,{"$f":"IF(COUNTBLANK(C1806)=0,VLOOKUP(C1806,Locks!A:D,4,FALSE),\"\")","v":""},{"$f":"IF(COUNTBLANK(C1806)=0,VLOOKUP(C1806,Locks!A:E,5,FALSE),\"\")","v":""}]
[null,null,null,{"$f":"IF(COUNTBLANK(C1807)=0,VLOOKUP(C1807,Locks!A:D,4,FALSE),\"\")","v":""},{"$f":"IF(COUNTBLANK(C1807)=0,VLOOKUP(C1807,Locks!A:E,5,FALSE),\"\")","v":""}]
[null,null,null,{"$f":"IF(COUNTBLANK(C1808)=0,VLOOKUP(C1808,Locks!A:D,4,FALSE),\"\")","v":""},{"$f":"IF(COUNTBLANK(C1808)=0,VLOOKUP(C1808,Locks!A:E,5,FALSE),\"\")","v":""}]
[null,null,null,{"$f":"IF(COUNTBLANK(C1809)=0,VLOOKUP(C1809,Locks!A:D,4,FALSE),\"\")","v":""},{"$f":"IF(COUNTBLANK(C1809)=0,VLOOKUP(C1809,Locks!A:E,5,FALSE),\"\")","v":""}]
[null,null,null,{"$f":"IF(COUNTBLANK(C1810)=0,VLOOKUP(C1810,Locks!A:D,4,FALSE),\"\")","v":""},{"$f":"IF(COUNTBLANK(C1810)=0,VLOOKUP(C1810,Locks!A:E,5,FALSE),\"\")","v":""}]
[null,null,null,{"$f":"IF(COUNTBLANK(C1811)=0,VLOOKUP(C1811,Locks!A:D,4,FALSE),\"\")","v":""},{"$f":"IF(COUNTBLANK(C1811)=0,VLOOKUP(C1811,Locks!A:E,5,FALSE),\"\")","v":""}]
[null,null,null,{"$f":"IF(COUNTBLANK(C1812)=0,VLOOKUP(C1812,Locks!A:D,4,FALSE),\"\")","v":""},{"$f":"IF(COUNTBLANK(C1812)=0,VLOOKUP(C1812,Locks!A:E,5,FALSE),\"\")","v":""}]
[null,null,null,{"$f":"IF(COUNTBLANK(C1813)=0,VLOOKUP(C1813,Locks!A:D,4,FALSE),\"\")","v":""},{"$f":"IF(COUNTBLANK(C1813)=0,VLOOKUP(C1813,Locks!A:E,5,FALSE),\"\")","v":""}]
[null,null,null,{"$f":"IF(COUNTBLANK(C1814)=0,VLOOKUP(C1814,Locks!A:D,4,FALSE),\"\")","v":""},{"$f":"IF(COUNTBLANK(C1814)=0,VLOOKUP(C1814,Locks!A:E,5,FALSE),\"\")","v":""}]
[null,null,null,{"$f":"IF(COUNTBLANK(C1815)=0,VLOOKUP(C1815,Locks!A:D,4,FALSE),\"\")","v":""},{"$f":"IF(COUNTBLANK(C1815)=0,VLOOKUP(C1815,Locks!A:E,5,FALSE),\"\")","v":""}]
[null,null,null,{"$f":"IF(COUNTBLANK(C1816)=0,VLOOKUP(C1816,Locks!A:D,4,FALSE),\"\")","v":""},{"$f":"IF(COUNTBLANK(C1816)=0,VLOOKUP(C1816,Locks!A:E,5,FALSE),\"\")","v":""}]
[null,null,null,{"$f":"IF(COUNTBLANK(C1817)=0,VLOOKUP(C1817,Locks!A:D,4,FALSE),\"\")","v":""},{"$f":"IF(COUNTBLANK(C1817)=0,VLOOKUP(C1817,Locks!A:E,5,FALSE),\"\")","v":""}]
[null,null,null,{"$f":"IF(COUNTBLANK(C1818)=0,VLOOKUP(C1818,Locks!A:D,4,FALSE),\"\")","v":""},{"$f":"IF(COUNTBLANK(C1818)=0,VLOOKUP(C1818,Locks!A:E,5,FALSE),\"\")","v":""}]
[null,null,null,{"$f":"IF(COUNTBLANK(C1819)=0,VLOOKUP(C1819,Locks!A:D,4,FALSE),\"\")","v":""},{"$f":"IF(COUNTBLANK(C1819)=0,VLOOKUP(C1819,Locks!A:E,5,FALSE),\"\")","v":""}]
[null,null,null,{"$f":"IF(COUNTBLANK(C1820)=0,VLOOKUP(C1820,Locks!A:D,4,FALSE),\"\")","v":""},{"$f":"IF(COUNTBLANK(C1820)=0,VLOOKUP(C1820,Locks!A:E,5,FALSE),\"\")","v":""}]
[null,null,null,{"$f":"IF(COUNTBLANK(C1821)=0,VLOOKUP(C1821,Locks!A:D,4,FALSE),\"\")","v":""},{"$f":"IF(COUNTBLANK(C1821)=0,VLOOKUP(C1821,Locks!A:E,5,FALSE),\"\")","v":""}]
[null,null,null,{"$f":"IF(COUNTBLANK(C1822)=0,VLOOKUP(C1822,Locks!A:D,4,FALSE),\"\")","v":""},{"$f":"IF(COUNTBLANK(C1822)=0,VLOOKUP(C1822,Locks!A:E,5,FALSE),\"\")","v":""}]
[null,null,null,{"$f":"IF(COUNTBLANK(C1823)=0,VLOOKUP(C1823,Locks!A:D,4,FALSE),\"\")","v":""},{"$f":"IF(COUNTBLANK(C1823)=0,VLOOKUP(C1823,Locks!A:E,5,FALSE),\"\")","v":""}]
[null,null,null,{"$f":"IF(COUNTBLANK(C1824)=0,VLOOKUP(C1824,Locks!A:D,4,FALSE),\"\")","v":""},{"$f":"IF(COUNTBLANK(C1824)=0,VLOOKUP(C1824,Locks!A:E,5,FALSE),\"\")","v":""}]
[null,null,null,{"$f":"IF(COUNTBLANK(C1825)=0,VLOOKUP(C1825,Locks!A:D,4,FALSE),\"\")","v":""},{"$f":"IF(COUNTBLANK(C1825)=0,VLOOKUP(C1825,Locks!A:E,5,FALSE),\"\")","v":""}]
[null,null,null,{"$f":"IF(COUNTBLANK(C1826)=0,VLOOKUP(C1826,Locks!A:D,4,FALSE),\"\")","v":""},{"$f":"IF(COUNTBLANK(C1826)=0,VLOOKUP(C1826,Locks!A:E,5,FALSE),\"\")","v":""}]
[null,null,null,{"$f":"IF(COUNTBLANK(C1827)=0,VLOOKUP(C1827,Locks!A:D,4,FALSE),\"\")","v":""},{"$f":"IF(COUNTBLANK(C1827)=0,VLOOKUP(C1827,Locks!A:E,5,FALSE),\"\")","v":""}]
[null,null,null,{"$f":"IF(COUNTBLANK(C1828)=0,VLOOKUP(C1828,Locks!A:D,4,FALSE),\"\")","v":""},{"$f":"IF(COUNTBLANK(C1828)=0,VLOOKUP(C1828,Locks!A:E,5,FALSE),\"\")","v":""}]
[null,null,null,{"$f":"IF(COUNTBLANK(C1829)=0,VLOOKUP(C1829,Locks!A:D,4,FALSE),\"\")","v":""},{"$f":"IF(COUNTBLANK(C1829)=0,VLOOKUP(C1829,Locks!A:E,5,FALSE),\"\")","v":""}]
[null,null,null,{"$f":"IF(COUNTBLANK(C1830)=0,VLOOKUP(C1830,Locks!A:D,4,FALSE),\"\")","v":""},{"$f":"IF(COUNTBLANK(C1830)=0,VLOOKUP(C1830,Locks!A:E,5,FALSE),\"\")","v":""}]
[null,null,null,{"$f":"IF(COUNTBLANK(C1831)=0,VLOOKUP(C1831,Locks!A:D,4,FALSE),\"\")","v":""},{"$f":"IF(COUNTBLANK(C1831)=0,VLOOKUP(C1831,Locks!A:E,5,FALSE),\"\")","v":""}]
[null,null,null,{"$f":"IF(COUNTBLANK(C1832)=0,VLOOKUP(C1832,Locks!A:D,4,FALSE),\"\")","v":""},{"$f":"IF(COUNTBLANK(C1832)=0,VLOOKUP(C1832,Locks!A:E,5,FALSE),\"\")","v":""}]
[null,null,null,{"$f":"IF(COUNTBLANK(C1833)=0,VLOOKUP(C1833,Locks!A:D,4,FALSE),\"\")","v":""},{"$f":"IF(COUNTBLANK(C1833)=0,VLOOKUP(C1833,Locks!A:E,5,FALSE),\"\")","v":""}]
[null,null,null,{"$f":"IF(COUNTBLANK(C1834)=0,VLOOKUP(C1834,Locks!A:D,4,FALSE),\"\")","v":""},{"$f":"IF(COUNTBLANK(C1834)=0,VLOOKUP(C1834,Locks!A:E,5,FALSE),\"\")","v":""}]
[null,null,null,{"$f":"IF(COUNTBLANK(C1835)=0,VLOOKUP(C1835,Locks!A:D,4,FALSE),\"\")","v":""},{"$f":"IF(COUNTBLANK(C1835)=0,VLOOKUP(C1835,Locks!A:E,5,FALSE),\"\")","v":""}]
[null,null,null,{"$f":"IF(COUNTBLANK(C1836)=0,VLOOKUP(C1836,Locks!A:D,4,FALSE),\"\")","v":""},{"$f":"IF(COUNTBLANK(C1836)=0,VLOOKUP(C1836,Locks!A:E,5,FALSE),\"\")","v":""}]
[null,null,null,{"$f":"IF(COUNTBLANK(C1837)=0,VLOOKUP(C1837,Locks!A:D,4,FALSE),\"\")","v":""},{"$f":"IF(COUNTBLANK(C1837)=0,VLOOKUP(C1837,Locks!A:E,5,FALSE),\"\")","v":""}]
[null,null,null,{"$f":"IF(COUNTBLANK(C1838)=0,VLOOKUP(C1838,Locks!A:D,4,FALSE),\"\")","v":""},{"$f":"IF(COUNTBLANK(C1838)=0,VLOOKUP(C1838,Locks!A:E,5,FALSE),\"\")","v":""}]
[null,null,null,{"$f":"IF(COUNTBLANK(C1839)=0,VLOOKUP(C1839,Locks!A:D,4,FALSE),\"\")","v":""},{"$f":"IF(COUNTBLANK(C1839)=0,VLOOKUP(C1839,Locks!A:E,5,FALSE),\"\")","v":""}]
[null,null,null,{"$f":"IF(COUNTBLANK(C1840)=0,VLOOKUP(C1840,Locks!A:D,4,FALSE),\"\")","v":""},{"$f":"IF(COUNTBLANK(C1840)=0,VLOOKUP(C1840,Locks!A:E,5,FALSE),\"\")","v":""}]
[null,null,null,{"$f":"IF(COUNTBLANK(C1841)=0,VLOOKUP(C1841,Locks!A:D,4,FALSE),\"\")","v":""},{"$f":"IF(COUNTBLANK(C1841)=0,VLOOKUP(C1841,Locks!A:E,5,FALSE),\"\")","v":""}]
[null,null,null,{"$f":"IF(COUNTBLANK(C1842)=0,VLOOKUP(C1842,Locks!A:D,4,FALSE),\"\")","v":""},{"$f":"IF(COUNTBLANK(C1842)=0,VLOOKUP(C1842,Locks!A:E,5,FALSE),\"\")","v":""}]
[null,null,null,{"$f":"IF(COUNTBLANK(C1843)=0,VLOOKUP(C1843,Locks!A:D,4,FALSE),\"\")","v":""},{"$f":"IF(COUNTBLANK(C1843)=0,VLOOKUP(C1843,Locks!A:E,5,FALSE),\"\")","v":""}]
[null,null,null,{"$f":"IF(COUNTBLANK(C1844)=0,VLOOKUP(C1844,Locks!A:D,4,FALSE),\"\")","v":""},{"$f":"IF(COUNTBLANK(C1844)=0,VLOOKUP(C1844,Locks!A:E,5,FALSE),\"\")","v":""}]
[null,null,null,{"$f":"IF(COUNTBLANK(C1845)=0,VLOOKUP(C1845,Locks!A:D,4,FALSE),\"\")","v":""},{"$f":"IF(COUNTBLANK(C1845)=0,VLOOKUP(C1845,Locks!A:E,5,FALSE),\"\")","v":""}]
[null,null,null,{"$f":"IF(COUNTBLANK(C1846)=0,VLOOKUP(C1846,Locks!A:D,4,FALSE),\"\")","v":""},{"$f":"IF(COUNTBLANK(C1846)=0,VLOOKUP(C1846,Locks!A:E,5,FALSE),\"\")","v":""}]
[null,null,null,{"$f":"IF(COUNTBLANK(C1847)=0,VLOOKUP(C1847,Locks!A:D,4,FALSE),\"\")","v":""},{"$f":"IF(COUNTBLANK(C1847)=0,VLOOKUP(C1847,Locks!A:E,5,FALSE),\"\")","v":""}]
[null,null,null,{"$f":"IF(COUNTBLANK(C1848)=0,VLOOKUP(C1848,Locks!A:D,4,FALSE),\"\")","v":""},{"$f":"IF(COUNTBLANK(C1848)=0,VLOOKUP(C1848,Locks!A:E,5,FALSE),\"\")","v":""}]
[null,null,null,{"$f":"IF(COUNTBLANK(C1849)=0,VLOOKUP(C1849,Locks!A:D,4,FALSE),\"\")","v":""},{"$f":"IF(COUNTBLANK(C1849)=0,VLOOKUP(C1849,Locks!A:E,5,FALSE),\"\")","v":""}]
[null,null,null,{"$f":"IF(COUNTBLANK(C1850)=0,VLOOKUP(C1850,Locks!A:D,4,FALSE),\"\")","v":""},{"$f":"IF(COUNTBLANK(C1850)=0,VLOOKUP(C1850,Locks!A:E,5,FALSE),\"\")","v":""}]
[null,null,null,{"$f":"IF(COUNTBLANK(C1851)=0,VLOOKUP(C1851,Locks!A:D,4,FALSE),\"\")","v":""},{"$f":"IF(COUNTBLANK(C1851)=0,VLOOKUP(C1851,Locks!A:E,5,FALSE),\"\")","v":""}]
[null,null,null,{"$f":"IF(COUNTBLANK(C1852)=0,VLOOKUP(C1852,Locks!A:D,4,FALSE),\"\")","v":""},{"$f":"IF(COUNTBLANK(C1852)=0,VLOOKUP(C1852,Locks!A:E,5,FALSE),\"\")","v":""}]
[null,null,null,{"$f":"IF(COUNTBLANK(C1853)=0,VLOOKUP(C1853,Locks!A:D,4,FALSE),\"\")","v":""},{"$f":"IF(COUNTBLANK(C1853)=0,VLOOKUP(C1853,Locks!A:E,5,FALSE),\"\")","v":""}]
[null,null,null,{"$f":"IF(COUNTBLANK(C1854)=0,VLOOKUP(C1854,Locks!A:D,4,FALSE),\"\")","v":""},{"$f":"IF(COUNTBLANK(C1854)=0,VLOOKUP(C1854,Locks!A:E,5,FALSE),\"\")","v":""}]
[null,null,null,{"$f":"IF(COUNTBLANK(C1855)=0,VLOOKUP(C1855,Locks!A:D,4,FALSE),\"\")","v":""},{"$f":"IF(COUNTBLANK(C1855)=0,VLOOKUP(C1855,Locks!A:E,5,FALSE),\"\")","v":""}]
[null,null,null,{"$f":"IF(COUNTBLANK(C1856)=0,VLOOKUP(C1856,Locks!A:D,4,FALSE),\"\")","v":""},{"$f":"IF(COUNTBLANK(C1856)=0,VLOOKUP(C1856,Locks!A:E,5,FALSE),\"\")","v":""}]
[null,null,null,{"$f":"IF(COUNTBLANK(C1857)=0,VLOOKUP(C1857,Locks!A:D,4,FALSE),\"\")","v":""},{"$f":"IF(COUNTBLANK(C1857)=0,VLOOKUP(C1857,Locks!A:E,5,FALSE),\"\")","v":""}]
[null,null,null,{"$f":"IF(COUNTBLANK(C1858)=0,VLOOKUP(C1858,Locks!A:D,4,FALSE),\"\")","v":""},{"$f":"IF(COUNTBLANK(C1858)=0,VLOOKUP(C1858,Locks!A:E,5,FALSE),\"\")","v":""}]
[null,null,null,{"$f":"IF(COUNTBLANK(C1859)=0,VLOOKUP(C1859,Locks!A:D,4,FALSE),\"\")","v":""},{"$f":"IF(COUNTBLANK(C1859)=0,VLOOKUP(C1859,Locks!A:E,5,FALSE),\"\")","v":""}]
[null,null,null,{"$f":"IF(COUNTBLANK(C1860)=0,VLOOKUP(C1860,Locks!A:D,4,FALSE),\"\")","v":""},{"$f":"IF(COUNTBLANK(C1860)=0,VLOOKUP(C1860,Locks!A:E,5,FALSE),\"\")","v":""}]
[null,null,null,{"$f":"IF(COUNTBLANK(C1861)=0,VLOOKUP(C1861,Locks!A:D,4,FALSE),\"\")","v":""},{"$f":"IF(COUNTBLANK(C1861)=0,VLOOKUP(C1861,Locks!A:E,5,FALSE),\"\")","v":""}]
[null,null,null,{"$f":"IF(COUNTBLANK(C1862)=0,VLOOKUP(C1862,Locks!A:D,4,FALSE),\"\")","v":""},{"$f":"IF(COUNTBLANK(C1862)=0,VLOOKUP(C1862,Locks!A:E,5,FALSE),\"\")","v":""}]
[null,null,null,{"$f":"IF(COUNTBLANK(C1863)=0,VLOOKUP(C1863,Locks!A:D,4,FALSE),\"\")","v":""},{"$f":"IF(COUNTBLANK(C1863)=0,VLOOKUP(C1863,Locks!A:E,5,FALSE),\"\")","v":""}]
[null,null,null,{"$f":"IF(COUNTBLANK(C1864)=0,VLOOKUP(C1864,Locks!A:D,4,FALSE),\"\")","v":""},{"$f":"IF(COUNTBLANK(C1864)=0,VLOOKUP(C1864,Locks!A:E,5,FALSE),\"\")","v":""}]
[null,null,null,{"$f":"IF(COUNTBLANK(C1865)=0,VLOOKUP(C1865,Locks!A:D,4,FALSE),\"\")","v":""},{"$f":"IF(COUNTBLANK(C1865)=0,VLOOKUP(C1865,Locks!A:E,5,FALSE),\"\")","v":""}]
[null,null,null,{"$f":"IF(COUNTBLANK(C1866)=0,VLOOKUP(C1866,Locks!A:D,4,FALSE),\"\")","v":""},{"$f":"IF(COUNTBLANK(C1866)=0,VLOOKUP(C1866,Locks!A:E,5,FALSE),\"\")","v":""}]
[null,null,null,{"$f":"IF(COUNTBLANK(C1867)=0,VLOOKUP(C1867,Locks!A:D,4,FALSE),\"\")","v":""},{"$f":"IF(COUNTBLANK(C1867)=0,VLOOKUP(C1867,Locks!A:E,5,FALSE),\"\")","v":""}]
[null,null,null,{"$f":"IF(COUNTBLANK(C1868)=0,VLOOKUP(C1868,Locks!A:D,4,FALSE),\"\")","v":""},{"$f":"IF(COUNTBLANK(C1868)=0,VLOOKUP(C1868,Locks!A:E,5,FALSE),\"\")","v":""}]
[null,null,null,{"$f":"IF(COUNTBLANK(C1869)=0,VLOOKUP(C1869,Locks!A:D,4,FALSE),\"\")","v":""},{"$f":"IF(COUNTBLANK(C1869)=0,VLOOKUP(C1869,Locks!A:E,5,FALSE),\"\")","v":""}]
[null,null,null,{"$f":"IF(COUNTBLANK(C1870)=0,VLOOKUP(C1870,Locks!A:D,4,FALSE),\"\")","v":""},{"$f":"IF(COUNTBLANK(C1870)=0,VLOOKUP(C1870,Locks!A:E,5,FALSE),\"\")","v":""}]
[null,null,null,{"$f":"IF(COUNTBLANK(C1871)=0,VLOOKUP(C1871,Locks!A:D,4,FALSE),\"\")","v":""},{"$f":"IF(COUNTBLANK(C1871)=0,VLOOKUP(C1871,Locks!A:E,5,FALSE),\"\")","v":""}]
[null,null,null,{"$f":"IF(COUNTBLANK(C1872)=0,VLOOKUP(C1872,Locks!A:D,4,FALSE),\"\")","v":""},{"$f":"IF(COUNTBLANK(C1872)=0,VLOOKUP(C1872,Locks!A:E,5,FALSE),\"\")","v":""}]
[null,null,null,{"$f":"IF(COUNTBLANK(C1873)=0,VLOOKUP(C1873,Locks!A:D,4,FALSE),\"\")","v":""},{"$f":"IF(COUNTBLANK(C1873)=0,VLOOKUP(C1873,Locks!A:E,5,FALSE),\"\")","v":""}]
[null,null,null,{"$f":"IF(COUNTBLANK(C1874)=0,VLOOKUP(C1874,Locks!A:D,4,FALSE),\"\")","v":""},{"$f":"IF(COUNTBLANK(C1874)=0,VLOOKUP(C1874,Locks!A:E,5,FALSE),\"\")","v":""}]
[null,null,null,{"$f":"IF(COUNTBLANK(C1875)=0,VLOOKUP(C1875,Locks!A:D,4,FALSE),\"\")","v":""},{"$f":"IF(COUNTBLANK(C1875)=0,VLOOKUP(C1875,Locks!A:E,5,FALSE),\"\")","v":""}]
[null,null,null,{"$f":"IF(COUNTBLANK(C1876)=0,VLOOKUP(C1876,Locks!A:D,4,FALSE),\"\")","v":""},{"$f":"IF(COUNTBLANK(C1876)=0,VLOOKUP(C1876,Locks!A:E,5,FALSE),\"\")","v":""}]
[null,null,null,{"$f":"IF(COUNTBLANK(C1877)=0,VLOOKUP(C1877,Locks!A:D,4,FALSE),\"\")","v":""},{"$f":"IF(COUNTBLANK(C1877)=0,VLOOKUP(C1877,Locks!A:E,5,FALSE),\"\")","v":""}]
[null,null,null,{"$f":"IF(COUNTBLANK(C1878)=0,VLOOKUP(C1878,Locks!A:D,4,FALSE),\"\")","v":""},{"$f":"IF(COUNTBLANK(C1878)=0,VLOOKUP(C1878,Locks!A:E,5,FALSE),\"\")","v":""}]
[null,null,null,{"$f":"IF(COUNTBLANK(C1879)=0,VLOOKUP(C1879,Locks!A:D,4,FALSE),\"\")","v":""},{"$f":"IF(COUNTBLANK(C1879)=0,VLOOKUP(C1879,Locks!A:E,5,FALSE),\"\")","v":""}]
[null,null,null,{"$f":"IF(COUNTBLANK(C1880)=0,VLOOKUP(C1880,Locks!A:D,4,FALSE),\"\")","v":""},{"$f":"IF(COUNTBLANK(C1880)=0,VLOOKUP(C1880,Locks!A:E,5,FALSE),\"\")","v":""}]
[null,null,null,{"$f":"IF(COUNTBLANK(C1881)=0,VLOOKUP(C1881,Locks!A:D,4,FALSE),\"\")","v":""},{"$f":"IF(COUNTBLANK(C1881)=0,VLOOKUP(C1881,Locks!A:E,5,FALSE),\"\")","v":""}]
[null,null,null,{"$f":"IF(COUNTBLANK(C1882)=0,VLOOKUP(C1882,Locks!A:D,4,FALSE),\"\")","v":""},{"$f":"IF(COUNTBLANK(C1882)=0,VLOOKUP(C1882,Locks!A:E,5,FALSE),\"\")","v":""}]
[null,null,null,{"$f":"IF(COUNTBLANK(C1883)=0,VLOOKUP(C1883,Locks!A:D,4,FALSE),\"\")","v":""},{"$f":"IF(COUNTBLANK(C1883)=0,VLOOKUP(C1883,Locks!A:E,5,FALSE),\"\")","v":""}]
[null,null,null,{"$f":"IF(COUNTBLANK(C1884)=0,VLOOKUP(C1884,Locks!A:D,4,FALSE),\"\")","v":""},{"$f":"IF(COUNTBLANK(C1884)=0,VLOOKUP(C1884,Locks!A:E,5,FALSE),\"\")","v":""}]
[null,null,null,{"$f":"IF(COUNTBLANK(C1885)=0,VLOOKUP(C1885,Locks!A:D,4,FALSE),\"\")","v":""},{"$f":"IF(COUNTBLANK(C1885)=0,VLOOKUP(C1885,Locks!A:E,5,FALSE),\"\")","v":""}]
[null,null,null,{"$f":"IF(COUNTBLANK(C1886)=0,VLOOKUP(C1886,Locks!A:D,4,FALSE),\"\")","v":""},{"$f":"IF(COUNTBLANK(C1886)=0,VLOOKUP(C1886,Locks!A:E,5,FALSE),\"\")","v":""}]
[null,null,null,{"$f":"IF(COUNTBLANK(C1887)=0,VLOOKUP(C1887,Locks!A:D,4,FALSE),\"\")","v":""},{"$f":"IF(COUNTBLANK(C1887)=0,VLOOKUP(C1887,Locks!A:E,5,FALSE),\"\")","v":""}]
[null,null,null,{"$f":"IF(COUNTBLANK(C1888)=0,VLOOKUP(C1888,Locks!A:D,4,FALSE),\"\")","v":""},{"$f":"IF(COUNTBLANK(C1888)=0,VLOOKUP(C1888,Locks!A:E,5,FALSE),\"\")","v":""}]
[null,null,null,{"$f":"IF(COUNTBLANK(C1889)=0,VLOOKUP(C1889,Locks!A:D,4,FALSE),\"\")","v":""},{"$f":"IF(COUNTBLANK(C1889)=0,VLOOKUP(C1889,Locks!A:E,5,FALSE),\"\")","v":""}]
[null,null,null,{"$f":"IF(COUNTBLANK(C1890)=0,VLOOKUP(C1890,Locks!A:D,4,FALSE),\"\")","v":""},{"$f":"IF(COUNTBLANK(C1890)=0,VLOOKUP(C1890,Locks!A:E,5,FALSE),\"\")","v":""}]
[null,null,null,{"$f":"IF(COUNTBLANK(C1891)=0,VLOOKUP(C1891,Locks!A:D,4,FALSE),\"\")","v":""},{"$f":"IF(COUNTBLANK(C1891)=0,VLOOKUP(C1891,Locks!A:E,5,FALSE),\"\")","v":""}]
[null,null,null,{"$f":"IF(COUNTBLANK(C1892)=0,VLOOKUP(C1892,Locks!A:D,4,FALSE),\"\")","v":""},{"$f":"IF(COUNTBLANK(C1892)=0,VLOOKUP(C1892,Locks!A:E,5,FALSE),\"\")","v":""}]
[null,null,null,{"$f":"IF(COUNTBLANK(C1893)=0,VLOOKUP(C1893,Locks!A:D,4,FALSE),\"\")","v":""},{"$f":"IF(COUNTBLANK(C1893)=0,VLOOKUP(C1893,Locks!A:E,5,FALSE),\"\")","v":""}]
[null,null,null,{"$f":"IF(COUNTBLANK(C1894)=0,VLOOKUP(C1894,Locks!A:D,4,FALSE),\"\")","v":""},{"$f":"IF(COUNTBLANK(C1894)=0,VLOOKUP(C1894,Locks!A:E,5,FALSE),\"\")","v":""}]
[null,null,null,{"$f":"IF(COUNTBLANK(C1895)=0,VLOOKUP(C1895,Locks!A:D,4,FALSE),\"\")","v":""},{"$f":"IF(COUNTBLANK(C1895)=0,VLOOKUP(C1895,Locks!A:E,5,FALSE),\"\")","v":""}]
[null,null,null,{"$f":"IF(COUNTBLANK(C1896)=0,VLOOKUP(C1896,Locks!A:D,4,FALSE),\"\")","v":""},{"$f":"IF(COUNTBLANK(C1896)=0,VLOOKUP(C1896,Locks!A:E,5,FALSE),\"\")","v":""}]
[null,null,null,{"$f":"IF(COUNTBLANK(C1897)=0,VLOOKUP(C1897,Locks!A:D,4,FALSE),\"\")","v":""},{"$f":"IF(COUNTBLANK(C1897)=0,VLOOKUP(C1897,Locks!A:E,5,FALSE),\"\")","v":""}]
[null,null,null,{"$f":"IF(COUNTBLANK(C1898)=0,VLOOKUP(C1898,Locks!A:D,4,FALSE),\"\")","v":""},{"$f":"IF(COUNTBLANK(C1898)=0,VLOOKUP(C1898,Locks!A:E,5,FALSE),\"\")","v":""}]
[null,null,null,{"$f":"IF(COUNTBLANK(C1899)=0,VLOOKUP(C1899,Locks!A:D,4,FALSE),\"\")","v":""},{"$f":"IF(COUNTBLANK(C1899)=0,VLOOKUP(C1899,Locks!A:E,5,FALSE),\"\")","v":""}]
[null,null,null,{"$f":"IF(COUNTBLANK(C1900)=0,VLOOKUP(C1900,Locks!A:D,4,FALSE),\"\")","v":""},{"$f":"IF(COUNTBLANK(C1900)=0,VLOOKUP(C1900,Locks!A:E,5,FALSE),\"\")","v":""}]
[null,null,null,{"$f":"IF(COUNTBLANK(C1901)=0,VLOOKUP(C1901,Locks!A:D,4,FALSE),\"\")","v":""},{"$f":"IF(COUNTBLANK(C1901)=0,VLOOKUP(C1901,Locks!A:E,5,FALSE),\"\")","v":""}]
[null,null,null,{"$f":"IF(COUNTBLANK(C1902)=0,VLOOKUP(C1902,Locks!A:D,4,FALSE),\"\")","v":""},{"$f":"IF(COUNTBLANK(C1902)=0,VLOOKUP(C1902,Locks!A:E,5,FALSE),\"\")","v":""}]
[null,null,null,{"$f":"IF(COUNTBLANK(C1903)=0,VLOOKUP(C1903,Locks!A:D,4,FALSE),\"\")","v":""},{"$f":"IF(COUNTBLANK(C1903)=0,VLOOKUP(C1903,Locks!A:E,5,FALSE),\"\")","v":""}]
[null,null,null,{"$f":"IF(COUNTBLANK(C1904)=0,VLOOKUP(C1904,Locks!A:D,4,FALSE),\"\")","v":""},{"$f":"IF(COUNTBLANK(C1904)=0,VLOOKUP(C1904,Locks!A:E,5,FALSE),\"\")","v":""}]
[null,null,null,{"$f":"IF(COUNTBLANK(C1905)=0,VLOOKUP(C1905,Locks!A:D,4,FALSE),\"\")","v":""},{"$f":"IF(COUNTBLANK(C1905)=0,VLOOKUP(C1905,Locks!A:E,5,FALSE),\"\")","v":""}]
[null,null,null,{"$f":"IF(COUNTBLANK(C1906)=0,VLOOKUP(C1906,Locks!A:D,4,FALSE),\"\")","v":""},{"$f":"IF(COUNTBLANK(C1906)=0,VLOOKUP(C1906,Locks!A:E,5,FALSE),\"\")","v":""}]
[null,null,null,{"$f":"IF(COUNTBLANK(C1907)=0,VLOOKUP(C1907,Locks!A:D,4,FALSE),\"\")","v":""},{"$f":"IF(COUNTBLANK(C1907)=0,VLOOKUP(C1907,Locks!A:E,5,FALSE),\"\")","v":""}]
[null,null,null,{"$f":"IF(COUNTBLANK(C1908)=0,VLOOKUP(C1908,Locks!A:D,4,FALSE),\"\")","v":""},{"$f":"IF(COUNTBLANK(C1908)=0,VLOOKUP(C1908,Locks!A:E,5,FALSE),\"\")","v":""}]
[null,null,null,{"$f":"IF(COUNTBLANK(C1909)=0,VLOOKUP(C1909,Locks!A:D,4,FALSE),\"\")","v":""},{"$f":"IF(COUNTBLANK(C1909)=0,VLOOKUP(C1909,Locks!A:E,5,FALSE),\"\")","v":""}]
[null,null,null,{"$f":"IF(COUNTBLANK(C1910)=0,VLOOKUP(C1910,Locks!A:D,4,FALSE),\"\")","v":""},{"$f":"IF(COUNTBLANK(C1910)=0,VLOOKUP(C1910,Locks!A:E,5,FALSE),\"\")","v":""}]
[null,null,null,{"$f":"IF(COUNTBLANK(C1911)=0,VLOOKUP(C1911,Locks!A:D,4,FALSE),\"\")","v":""},{"$f":"IF(COUNTBLANK(C1911)=0,VLOOKUP(C1911,Locks!A:E,5,FALSE),\"\")","v":""}]
[null,null,null,{"$f":"IF(COUNTBLANK(C1912)=0,VLOOKUP(C1912,Locks!A:D,4,FALSE),\"\")","v":""},{"$f":"IF(COUNTBLANK(C1912)=0,VLOOKUP(C1912,Locks!A:E,5,FALSE),\"\")","v":""}]
[null,null,null,{"$f":"IF(COUNTBLANK(C1913)=0,VLOOKUP(C1913,Locks!A:D,4,FALSE),\"\")","v":""},{"$f":"IF(COUNTBLANK(C1913)=0,VLOOKUP(C1913,Locks!A:E,5,FALSE),\"\")","v":""}]
[null,null,null,{"$f":"IF(COUNTBLANK(C1914)=0,VLOOKUP(C1914,Locks!A:D,4,FALSE),\"\")","v":""},{"$f":"IF(COUNTBLANK(C1914)=0,VLOOKUP(C1914,Locks!A:E,5,FALSE),\"\")","v":""}]
[null,null,null,{"$f":"IF(COUNTBLANK(C1915)=0,VLOOKUP(C1915,Locks!A:D,4,FALSE),\"\")","v":""},{"$f":"IF(COUNTBLANK(C1915)=0,VLOOKUP(C1915,Locks!A:E,5,FALSE),\"\")","v":""}]
[null,null,null,{"$f":"IF(COUNTBLANK(C1916)=0,VLOOKUP(C1916,Locks!A:D,4,FALSE),\"\")","v":""},{"$f":"IF(COUNTBLANK(C1916)=0,VLOOKUP(C1916,Locks!A:E,5,FALSE),\"\")","v":""}]
[null,null,null,{"$f":"IF(COUNTBLANK(C1917)=0,VLOOKUP(C1917,Locks!A:D,4,FALSE),\"\")","v":""},{"$f":"IF(COUNTBLANK(C1917)=0,VLOOKUP(C1917,Locks!A:E,5,FALSE),\"\")","v":""}]
[null,null,null,{"$f":"IF(COUNTBLANK(C1918)=0,VLOOKUP(C1918,Locks!A:D,4,FALSE),\"\")","v":""},{"$f":"IF(COUNTBLANK(C1918)=0,VLOOKUP(C1918,Locks!A:E,5,FALSE),\"\")","v":""}]
[null,null,null,{"$f":"IF(COUNTBLANK(C1919)=0,VLOOKUP(C1919,Locks!A:D,4,FALSE),\"\")","v":""},{"$f":"IF(COUNTBLANK(C1919)=0,VLOOKUP(C1919,Locks!A:E,5,FALSE),\"\")","v":""}]
[null,null,null,{"$f":"IF(COUNTBLANK(C1920)=0,VLOOKUP(C1920,Locks!A:D,4,FALSE),\"\")","v":""},{"$f":"IF(COUNTBLANK(C1920)=0,VLOOKUP(C1920,Locks!A:E,5,FALSE),\"\")","v":""}]
[null,null,null,{"$f":"IF(COUNTBLANK(C1921)=0,VLOOKUP(C1921,Locks!A:D,4,FALSE),\"\")","v":""},{"$f":"IF(COUNTBLANK(C1921)=0,VLOOKUP(C1921,Locks!A:E,5,FALSE),\"\")","v":""}]
[null,null,null,{"$f":"IF(COUNTBLANK(C1922)=0,VLOOKUP(C1922,Locks!A:D,4,FALSE),\"\")","v":""},{"$f":"IF(COUNTBLANK(C1922)=0,VLOOKUP(C1922,Locks!A:E,5,FALSE),\"\")","v":""}]
[null,null,null,{"$f":"IF(COUNTBLANK(C1923)=0,VLOOKUP(C1923,Locks!A:D,4,FALSE),\"\")","v":""},{"$f":"IF(COUNTBLANK(C1923)=0,VLOOKUP(C1923,Locks!A:E,5,FALSE),\"\")","v":""}]
[null,null,null,{"$f":"IF(COUNTBLANK(C1924)=0,VLOOKUP(C1924,Locks!A:D,4,FALSE),\"\")","v":""},{"$f":"IF(COUNTBLANK(C1924)=0,VLOOKUP(C1924,Locks!A:E,5,FALSE),\"\")","v":""}]
[null,null,null,{"$f":"IF(COUNTBLANK(C1925)=0,VLOOKUP(C1925,Locks!A:D,4,FALSE),\"\")","v":""},{"$f":"IF(COUNTBLANK(C1925)=0,VLOOKUP(C1925,Locks!A:E,5,FALSE),\"\")","v":""}]
[null,null,null,{"$f":"IF(COUNTBLANK(C1926)=0,VLOOKUP(C1926,Locks!A:D,4,FALSE),\"\")","v":""},{"$f":"IF(COUNTBLANK(C1926)=0,VLOOKUP(C1926,Locks!A:E,5,FALSE),\"\")","v":""}]
[null,null,null,{"$f":"IF(COUNTBLANK(C1927)=0,VLOOKUP(C1927,Locks!A:D,4,FALSE),\"\")","v":""},{"$f":"IF(COUNTBLANK(C1927)=0,VLOOKUP(C1927,Locks!A:E,5,FALSE),\"\")","v":""}]
[null,null,null,{"$f":"IF(COUNTBLANK(C1928)=0,VLOOKUP(C1928,Locks!A:D,4,FALSE),\"\")","v":""},{"$f":"IF(COUNTBLANK(C1928)=0,VLOOKUP(C1928,Locks!A:E,5,FALSE),\"\")","v":""}]
[null,null,null,{"$f":"IF(COUNTBLANK(C1929)=0,VLOOKUP(C1929,Locks!A:D,4,FALSE),\"\")","v":""},{"$f":"IF(COUNTBLANK(C1929)=0,VLOOKUP(C1929,Locks!A:E,5,FALSE),\"\")","v":""}]
[null,null,null,{"$f":"IF(COUNTBLANK(C1930)=0,VLOOKUP(C1930,Locks!A:D,4,FALSE),\"\")","v":""},{"$f":"IF(COUNTBLANK(C1930)=0,VLOOKUP(C1930,Locks!A:E,5,FALSE),\"\")","v":""}]
[null,null,null,{"$f":"IF(COUNTBLANK(C1931)=0,VLOOKUP(C1931,Locks!A:D,4,FALSE),\"\")","v":""},{"$f":"IF(COUNTBLANK(C1931)=0,VLOOKUP(C1931,Locks!A:E,5,FALSE),\"\")","v":""}]
[null,null,null,{"$f":"IF(COUNTBLANK(C1932)=0,VLOOKUP(C1932,Locks!A:D,4,FALSE),\"\")","v":""},{"$f":"IF(COUNTBLANK(C1932)=0,VLOOKUP(C1932,Locks!A:E,5,FALSE),\"\")","v":""}]
[null,null,null,{"$f":"IF(COUNTBLANK(C1933)=0,VLOOKUP(C1933,Locks!A:D,4,FALSE),\"\")","v":""},{"$f":"IF(COUNTBLANK(C1933)=0,VLOOKUP(C1933,Locks!A:E,5,FALSE),\"\")","v":""}]
[null,null,null,{"$f":"IF(COUNTBLANK(C1934)=0,VLOOKUP(C1934,Locks!A:D,4,FALSE),\"\")","v":""},{"$f":"IF(COUNTBLANK(C1934)=0,VLOOKUP(C1934,Locks!A:E,5,FALSE),\"\")","v":""}]
[null,null,null,{"$f":"IF(COUNTBLANK(C1935)=0,VLOOKUP(C1935,Locks!A:D,4,FALSE),\"\")","v":""},{"$f":"IF(COUNTBLANK(C1935)=0,VLOOKUP(C1935,Locks!A:E,5,FALSE),\"\")","v":""}]
[null,null,null,{"$f":"IF(COUNTBLANK(C1936)=0,VLOOKUP(C1936,Locks!A:D,4,FALSE),\"\")","v":""},{"$f":"IF(COUNTBLANK(C1936)=0,VLOOKUP(C1936,Locks!A:E,5,FALSE),\"\")","v":""}]
[null,null,null,{"$f":"IF(COUNTBLANK(C1937)=0,VLOOKUP(C1937,Locks!A:D,4,FALSE),\"\")","v":""},{"$f":"IF(COUNTBLANK(C1937)=0,VLOOKUP(C1937,Locks!A:E,5,FALSE),\"\")","v":""}]
[null,null,null,{"$f":"IF(COUNTBLANK(C1938)=0,VLOOKUP(C1938,Locks!A:D,4,FALSE),\"\")","v":""},{"$f":"IF(COUNTBLANK(C1938)=0,VLOOKUP(C1938,Locks!A:E,5,FALSE),\"\")","v":""}]
[null,null,null,{"$f":"IF(COUNTBLANK(C1939)=0,VLOOKUP(C1939,Locks!A:D,4,FALSE),\"\")","v":""},{"$f":"IF(COUNTBLANK(C1939)=0,VLOOKUP(C1939,Locks!A:E,5,FALSE),\"\")","v":""}]
[null,null,null,{"$f":"IF(COUNTBLANK(C1940)=0,VLOOKUP(C1940,Locks!A:D,4,FALSE),\"\")","v":""},{"$f":"IF(COUNTBLANK(C1940)=0,VLOOKUP(C1940,Locks!A:E,5,FALSE),\"\")","v":""}]
[null,null,null,{"$f":"IF(COUNTBLANK(C1941)=0,VLOOKUP(C1941,Locks!A:D,4,FALSE),\"\")","v":""},{"$f":"IF(COUNTBLANK(C1941)=0,VLOOKUP(C1941,Locks!A:E,5,FALSE),\"\")","v":""}]
[null,null,null,{"$f":"IF(COUNTBLANK(C1942)=0,VLOOKUP(C1942,Locks!A:D,4,FALSE),\"\")","v":""},{"$f":"IF(COUNTBLANK(C1942)=0,VLOOKUP(C1942,Locks!A:E,5,FALSE),\"\")","v":""}]
[null,null,null,{"$f":"IF(COUNTBLANK(C1943)=0,VLOOKUP(C1943,Locks!A:D,4,FALSE),\"\")","v":""},{"$f":"IF(COUNTBLANK(C1943)=0,VLOOKUP(C1943,Locks!A:E,5,FALSE),\"\")","v":""}]
[null,null,null,{"$f":"IF(COUNTBLANK(C1944)=0,VLOOKUP(C1944,Locks!A:D,4,FALSE),\"\")","v":""},{"$f":"IF(COUNTBLANK(C1944)=0,VLOOKUP(C1944,Locks!A:E,5,FALSE),\"\")","v":""}]
[null,null,null,{"$f":"IF(COUNTBLANK(C1945)=0,VLOOKUP(C1945,Locks!A:D,4,FALSE),\"\")","v":""},{"$f":"IF(COUNTBLANK(C1945)=0,VLOOKUP(C1945,Locks!A:E,5,FALSE),\"\")","v":""}]
[null,null,null,{"$f":"IF(COUNTBLANK(C1946)=0,VLOOKUP(C1946,Locks!A:D,4,FALSE),\"\")","v":""},{"$f":"IF(COUNTBLANK(C1946)=0,VLOOKUP(C1946,Locks!A:E,5,FALSE),\"\")","v":""}]
[null,null,null,{"$f":"IF(COUNTBLANK(C1947)=0,VLOOKUP(C1947,Locks!A:D,4,FALSE),\"\")","v":""},{"$f":"IF(COUNTBLANK(C1947)=0,VLOOKUP(C1947,Locks!A:E,5,FALSE),\"\")","v":""}]
[null,null,null,{"$f":"IF(COUNTBLANK(C1948)=0,VLOOKUP(C1948,Locks!A:D,4,FALSE),\"\")","v":""},{"$f":"IF(COUNTBLANK(C1948)=0,VLOOKUP(C1948,Locks!A:E,5,FALSE),\"\")","v":""}]
[null,null,null,{"$f":"IF(COUNTBLANK(C1949)=0,VLOOKUP(C1949,Locks!A:D,4,FALSE),\"\")","v":""},{"$f":"IF(COUNTBLANK(C1949)=0,VLOOKUP(C1949,Locks!A:E,5,FALSE),\"\")","v":""}]
[null,null,null,{"$f":"IF(COUNTBLANK(C1950)=0,VLOOKUP(C1950,Locks!A:D,4,FALSE),\"\")","v":""},{"$f":"IF(COUNTBLANK(C1950)=0,VLOOKUP(C1950,Locks!A:E,5,FALSE),\"\")","v":""}]
[null,null,null,{"$f":"IF(COUNTBLANK(C1951)=0,VLOOKUP(C1951,Locks!A:D,4,FALSE),\"\")","v":""},{"$f":"IF(COUNTBLANK(C1951)=0,VLOOKUP(C1951,Locks!A:E,5,FALSE),\"\")","v":""}]
[null,null,null,{"$f":"IF(COUNTBLANK(C1952)=0,VLOOKUP(C1952,Locks!A:D,4,FALSE),\"\")","v":""},{"$f":"IF(COUNTBLANK(C1952)=0,VLOOKUP(C1952,Locks!A:E,5,FALSE),\"\")","v":""}]
[null,null,null,{"$f":"IF(COUNTBLANK(C1953)=0,VLOOKUP(C1953,Locks!A:D,4,FALSE),\"\")","v":""},{"$f":"IF(COUNTBLANK(C1953)=0,VLOOKUP(C1953,Locks!A:E,5,FALSE),\"\")","v":""}]
[null,null,null,{"$f":"IF(COUNTBLANK(C1954)=0,VLOOKUP(C1954,Locks!A:D,4,FALSE),\"\")","v":""},{"$f":"IF(COUNTBLANK(C1954)=0,VLOOKUP(C1954,Locks!A:E,5,FALSE),\"\")","v":""}]
[null,null,null,{"$f":"IF(COUNTBLANK(C1955)=0,VLOOKUP(C1955,Locks!A:D,4,FALSE),\"\")","v":""},{"$f":"IF(COUNTBLANK(C1955)=0,VLOOKUP(C1955,Locks!A:E,5,FALSE),\"\")","v":""}]
[null,null,null,{"$f":"IF(COUNTBLANK(C1956)=0,VLOOKUP(C1956,Locks!A:D,4,FALSE),\"\")","v":""},{"$f":"IF(COUNTBLANK(C1956)=0,VLOOKUP(C1956,Locks!A:E,5,FALSE),\"\")","v":""}]
[null,null,null,{"$f":"IF(COUNTBLANK(C1957)=0,VLOOKUP(C1957,Locks!A:D,4,FALSE),\"\")","v":""},{"$f":"IF(COUNTBLANK(C1957)=0,VLOOKUP(C1957,Locks!A:E,5,FALSE),\"\")","v":""}]
[null,null,null,{"$f":"IF(COUNTBLANK(C1958)=0,VLOOKUP(C1958,Locks!A:D,4,FALSE),\"\")","v":""},{"$f":"IF(COUNTBLANK(C1958)=0,VLOOKUP(C1958,Locks!A:E,5,FALSE),\"\")","v":""}]
[null,null,null,{"$f":"IF(COUNTBLANK(C1959)=0,VLOOKUP(C1959,Locks!A:D,4,FALSE),\"\")","v":""},{"$f":"IF(COUNTBLANK(C1959)=0,VLOOKUP(C1959,Locks!A:E,5,FALSE),\"\")","v":""}]
[null,null,null,{"$f":"IF(COUNTBLANK(C1960)=0,VLOOKUP(C1960,Locks!A:D,4,FALSE),\"\")","v":""},{"$f":"IF(COUNTBLANK(C1960)=0,VLOOKUP(C1960,Locks!A:E,5,FALSE),\"\")","v":""}]
[null,null,null,{"$f":"IF(COUNTBLANK(C1961)=0,VLOOKUP(C1961,Locks!A:D,4,FALSE),\"\")","v":""},{"$f":"IF(COUNTBLANK(C1961)=0,VLOOKUP(C1961,Locks!A:E,5,FALSE),\"\")","v":""}]
[null,null,null,{"$f":"IF(COUNTBLANK(C1962)=0,VLOOKUP(C1962,Locks!A:D,4,FALSE),\"\")","v":""},{"$f":"IF(COUNTBLANK(C1962)=0,VLOOKUP(C1962,Locks!A:E,5,FALSE),\"\")","v":""}]
[null,null,null,{"$f":"IF(COUNTBLANK(C1963)=0,VLOOKUP(C1963,Locks!A:D,4,FALSE),\"\")","v":""},{"$f":"IF(COUNTBLANK(C1963)=0,VLOOKUP(C1963,Locks!A:E,5,FALSE),\"\")","v":""}]
[null,null,null,{"$f":"IF(COUNTBLANK(C1964)=0,VLOOKUP(C1964,Locks!A:D,4,FALSE),\"\")","v":""},{"$f":"IF(COUNTBLANK(C1964)=0,VLOOKUP(C1964,Locks!A:E,5,FALSE),\"\")","v":""}]
[null,null,null,{"$f":"IF(COUNTBLANK(C1965)=0,VLOOKUP(C1965,Locks!A:D,4,FALSE),\"\")","v":""},{"$f":"IF(COUNTBLANK(C1965)=0,VLOOKUP(C1965,Locks!A:E,5,FALSE),\"\")","v":""}]
[null,null,null,{"$f":"IF(COUNTBLANK(C1966)=0,VLOOKUP(C1966,Locks!A:D,4,FALSE),\"\")","v":""},{"$f":"IF(COUNTBLANK(C1966)=0,VLOOKUP(C1966,Locks!A:E,5,FALSE),\"\")","v":""}]
[null,null,null,{"$f":"IF(COUNTBLANK(C1967)=0,VLOOKUP(C1967,Locks!A:D,4,FALSE),\"\")","v":""},{"$f":"IF(COUNTBLANK(C1967)=0,VLOOKUP(C1967,Locks!A:E,5,FALSE),\"\")","v":""}]
[null,null,null,{"$f":"IF(COUNTBLANK(C1968)=0,VLOOKUP(C1968,Locks!A:D,4,FALSE),\"\")","v":""},{"$f":"IF(COUNTBLANK(C1968)=0,VLOOKUP(C1968,Locks!A:E,5,FALSE),\"\")","v":""}]
[null,null,null,{"$f":"IF(COUNTBLANK(C1969)=0,VLOOKUP(C1969,Locks!A:D,4,FALSE),\"\")","v":""},{"$f":"IF(COUNTBLANK(C1969)=0,VLOOKUP(C1969,Locks!A:E,5,FALSE),\"\")","v":""}]
[null,null,null,{"$f":"IF(COUNTBLANK(C1970)=0,VLOOKUP(C1970,Locks!A:D,4,FALSE),\"\")","v":""},{"$f":"IF(COUNTBLANK(C1970)=0,VLOOKUP(C1970,Locks!A:E,5,FALSE),\"\")","v":""}]
[null,null,null,{"$f":"IF(COUNTBLANK(C1971)=0,VLOOKUP(C1971,Locks!A:D,4,FALSE),\"\")","v":""},{"$f":"IF(COUNTBLANK(C1971)=0,VLOOKUP(C1971,Locks!A:E,5,FALSE),\"\")","v":""}]
[null,null,null,{"$f":"IF(COUNTBLANK(C1972)=0,VLOOKUP(C1972,Locks!A:D,4,FALSE),\"\")","v":""},{"$f":"IF(COUNTBLANK(C1972)=0,VLOOKUP(C1972,Locks!A:E,5,FALSE),\"\")","v":""}]
[null,null,null,{"$f":"IF(COUNTBLANK(C1973)=0,VLOOKUP(C1973,Locks!A:D,4,FALSE),\"\")","v":""},{"$f":"IF(COUNTBLANK(C1973)=0,VLOOKUP(C1973,Locks!A:E,5,FALSE),\"\")","v":""}]
[null,null,null,{"$f":"IF(COUNTBLANK(C1974)=0,VLOOKUP(C1974,Locks!A:D,4,FALSE),\"\")","v":""},{"$f":"IF(COUNTBLANK(C1974)=0,VLOOKUP(C1974,Locks!A:E,5,FALSE),\"\")","v":""}]
[null,null,null,{"$f":"IF(COUNTBLANK(C1975)=0,VLOOKUP(C1975,Locks!A:D,4,FALSE),\"\")","v":""},{"$f":"IF(COUNTBLANK(C1975)=0,VLOOKUP(C1975,Locks!A:E,5,FALSE),\"\")","v":""}]
[null,null,null,{"$f":"IF(COUNTBLANK(C1976)=0,VLOOKUP(C1976,Locks!A:D,4,FALSE),\"\")","v":""},{"$f":"IF(COUNTBLANK(C1976)=0,VLOOKUP(C1976,Locks!A:E,5,FALSE),\"\")","v":""}]
[null,null,null,{"$f":"IF(COUNTBLANK(C1977)=0,VLOOKUP(C1977,Locks!A:D,4,FALSE),\"\")","v":""},{"$f":"IF(COUNTBLANK(C1977)=0,VLOOKUP(C1977,Locks!A:E,5,FALSE),\"\")","v":""}]
[null,null,null,{"$f":"IF(COUNTBLANK(C1978)=0,VLOOKUP(C1978,Locks!A:D,4,FALSE),\"\")","v":""},{"$f":"IF(COUNTBLANK(C1978)=0,VLOOKUP(C1978,Locks!A:E,5,FALSE),\"\")","v":""}]
[null,null,null,{"$f":"IF(COUNTBLANK(C1979)=0,VLOOKUP(C1979,Locks!A:D,4,FALSE),\"\")","v":""},{"$f":"IF(COUNTBLANK(C1979)=0,VLOOKUP(C1979,Locks!A:E,5,FALSE),\"\")","v":""}]
[null,null,null,{"$f":"IF(COUNTBLANK(C1980)=0,VLOOKUP(C1980,Locks!A:D,4,FALSE),\"\")","v":""},{"$f":"IF(COUNTBLANK(C1980)=0,VLOOKUP(C1980,Locks!A:E,5,FALSE),\"\")","v":""}]
[null,null,null,{"$f":"IF(COUNTBLANK(C1981)=0,VLOOKUP(C1981,Locks!A:D,4,FALSE),\"\")","v":""},{"$f":"IF(COUNTBLANK(C1981)=0,VLOOKUP(C1981,Locks!A:E,5,FALSE),\"\")","v":""}]
[null,null,null,{"$f":"IF(COUNTBLANK(C1982)=0,VLOOKUP(C1982,Locks!A:D,4,FALSE),\"\")","v":""},{"$f":"IF(COUNTBLANK(C1982)=0,VLOOKUP(C1982,Locks!A:E,5,FALSE),\"\")","v":""}]
[null,null,null,{"$f":"IF(COUNTBLANK(C1983)=0,VLOOKUP(C1983,Locks!A:D,4,FALSE),\"\")","v":""},{"$f":"IF(COUNTBLANK(C1983)=0,VLOOKUP(C1983,Locks!A:E,5,FALSE),\"\")","v":""}]
[null,null,null,{"$f":"IF(COUNTBLANK(C1984)=0,VLOOKUP(C1984,Locks!A:D,4,FALSE),\"\")","v":""},{"$f":"IF(COUNTBLANK(C1984)=0,VLOOKUP(C1984,Locks!A:E,5,FALSE),\"\")","v":""}]
[null,null,null,{"$f":"IF(COUNTBLANK(C1985)=0,VLOOKUP(C1985,Locks!A:D,4,FALSE),\"\")","v":""},{"$f":"IF(COUNTBLANK(C1985)=0,VLOOKUP(C1985,Locks!A:E,5,FALSE),\"\")","v":""}]
[null,null,null,{"$f":"IF(COUNTBLANK(C1986)=0,VLOOKUP(C1986,Locks!A:D,4,FALSE),\"\")","v":""},{"$f":"IF(COUNTBLANK(C1986)=0,VLOOKUP(C1986,Locks!A:E,5,FALSE),\"\")","v":""}]
[null,null,null,{"$f":"IF(COUNTBLANK(C1987)=0,VLOOKUP(C1987,Locks!A:D,4,FALSE),\"\")","v":""},{"$f":"IF(COUNTBLANK(C1987)=0,VLOOKUP(C1987,Locks!A:E,5,FALSE),\"\")","v":""}]
[null,null,null,{"$f":"IF(COUNTBLANK(C1988)=0,VLOOKUP(C1988,Locks!A:D,4,FALSE),\"\")","v":""},{"$f":"IF(COUNTBLANK(C1988)=0,VLOOKUP(C1988,Locks!A:E,5,FALSE),\"\")","v":""}]
[null,null,null,{"$f":"IF(COUNTBLANK(C1989)=0,VLOOKUP(C1989,Locks!A:D,4,FALSE),\"\")","v":""},{"$f":"IF(COUNTBLANK(C1989)=0,VLOOKUP(C1989,Locks!A:E,5,FALSE),\"\")","v":""}]
[null,null,null,{"$f":"IF(COUNTBLANK(C1990)=0,VLOOKUP(C1990,Locks!A:D,4,FALSE),\"\")","v":""},{"$f":"IF(COUNTBLANK(C1990)=0,VLOOKUP(C1990,Locks!A:E,5,FALSE),\"\")","v":""}]
[null,null,null,{"$f":"IF(COUNTBLANK(C1991)=0,VLOOKUP(C1991,Locks!A:D,4,FALSE),\"\")","v":""},{"$f":"IF(COUNTBLANK(C1991)=0,VLOOKUP(C1991,Locks!A:E,5,FALSE),\"\")","v":""}]
[null,null,null,{"$f":"IF(COUNTBLANK(C1992)=0,VLOOKUP(C1992,Locks!A:D,4,FALSE),\"\")","v":""},{"$f":"IF(COUNTBLANK(C1992)=0,VLOOKUP(C1992,Locks!A:E,5,FALSE),\"\")","v":""}]
[null,null,null,{"$f":"IF(COUNTBLANK(C1993)=0,VLOOKUP(C1993,Locks!A:D,4,FALSE),\"\")","v":""},{"$f":"IF(COUNTBLANK(C1993)=0,VLOOKUP(C1993,Locks!A:E,5,FALSE),\"\")","v":""}]
[null,null,null,{"$f":"IF(COUNTBLANK(C1994)=0,VLOOKUP(C1994,Locks!A:D,4,FALSE),\"\")","v":""},{"$f":"IF(COUNTBLANK(C1994)=0,VLOOKUP(C1994,Locks!A:E,5,FALSE),\"\")","v":""}]
[null,null,null,{"$f":"IF(COUNTBLANK(C1995)=0,VLOOKUP(C1995,Locks!A:D,4,FALSE),\"\")","v":""},{"$f":"IF(COUNTBLANK(C1995)=0,VLOOKUP(C1995,Locks!A:E,5,FALSE),\"\")","v":""}]
[null,null,null,{"$f":"IF(COUNTBLANK(C1996)=0,VLOOKUP(C1996,Locks!A:D,4,FALSE),\"\")","v":""},{"$f":"IF(COUNTBLANK(C1996)=0,VLOOKUP(C1996,Locks!A:E,5,FALSE),\"\")","v":""}]
[null,null,null,{"$f":"IF(COUNTBLANK(C1997)=0,VLOOKUP(C1997,Locks!A:D,4,FALSE),\"\")","v":""},{"$f":"IF(COUNTBLANK(C1997)=0,VLOOKUP(C1997,Locks!A:E,5,FALSE),\"\")","v":""}]
[null,null,null,{"$f":"IF(COUNTBLANK(C1998)=0,VLOOKUP(C1998,Locks!A:D,4,FALSE),\"\")","v":""},{"$f":"IF(COUNTBLANK(C1998)=0,VLOOKUP(C1998,Locks!A:E,5,FALSE),\"\")","v":""}]
[null,null,null,{"$f":"IF(COUNTBLANK(C1999)=0,VLOOKUP(C1999,Locks!A:D,4,FALSE),\"\")","v":""},{"$f":"IF(COUNTBLANK(C1999)=0,VLOOKUP(C1999,Locks!A:E,5,FALSE),\"\")","v":""}]
[null,null,null,{"$f":"IF(COUNTBLANK(C2000)=0,VLOOKUP(C2000,Locks!A:D,4,FALSE),\"\")","v":""},{"$f":"IF(COUNTBLANK(C2000)=0,VLOOKUP(C2000,Locks!A:E,5,FALSE),\"\")","v":""}]
[null,null,null,{"$f":"IF(COUNTBLANK(C2001)=0,VLOOKUP(C2001,Locks!A:D,4,FALSE),\"\")","v":""},{"$f":"IF(COUNTBLANK(C2001)=0,VLOOKUP(C2001,Locks!A:E,5,FALSE),\"\")","v":""}]

{"sheet":"Locks","index":3,"n_rows":7,"n_cols":5,"rows_kept":7,"cut":false,"hidden":false,"merged":[]}
["Lock display name","Property","Lock name","Lock ID","Timezone"]
["Storage rooms:Store room 1:IGB4-12345","Storage rooms","Store room 1","IGB4-12345","UTC+8"]
["Storage rooms:Store room 2:IGB4-12346","Storage rooms","Store room 2","IGB4-12346","UTC+8"]
["Meeting rooms:Meeting room 1:IGB4-12347","Meeting rooms","Meeting room 1","IGB4-12347","UTC+8"]
["Meeting rooms:Meeting room 2:IGB4-12348","Meeting rooms","Meeting room 2","IGB4-12348","UTC+8"]
["Meeting rooms:Meeting room 3:IGB4-12349","Meeting rooms","Meeting room 3","IGB4-12349","UTC+8"]
["Meeting rooms:Meeting room 4:IGB4-12350","Meeting rooms","Meeting room 4","IGB4-12350","UTC+8"]

{"sheet":"Users","index":4,"n_rows":7,"n_cols":5,"rows_kept":7,"cut":false,"hidden":false,"merged":[]}
["User display name","User name","User email","User phone","User ID"]
["Alex:alex@email.com:+1234567","Alex","alex@email.com","+1234567","00001"]
["Brandy:brandy@email.com:+1234568","Brandy","brandy@email.com","+1234568","00002"]
["Cassie:cassie@email.com:+1234569","Cassie","cassie@email.com","+1234569","00003"]
["Dylan:dylan@email.com:+1234570","Dylan","dylan@email.com","+1234570","00004"]
["Ellen:ellen@email.com:+1234571","Ellen","ellen@email.com","+1234571","00005"]
["Frances:frances@email.com:+1234572","Frances","frances@email.com","+1234572","00006"]